{"text_format":"3","workbook":"xlsx","n_sheets":21,"sheets":["Sage Upload","Instructions","Error Message Meaning","Order Form","Proposal","Order Type","Dealer Install Calc","Install Calc","Install Bid","Order Specifications","Items","Modifications and Fees","Accessories","Color","Species","Door Style","Dealer Support Items","Drawer Head","Custom Finish","Misc Dropdowns","CONCAT"],"not_rendered":{"images":61,"external_links":1,"defined_names":47,"comments":7},"read":"whole","date_system":"1900"}

{"sheet":"Sage Upload","index":0,"n_rows":139,"n_cols":29,"rows_kept":139,"hidden":true}
[null,null,"Customer #","Item Code","QTY","Comment","Unit Price","Item Type","Color","Species","Door Style","Drawer Head","Custom Finish","Order Form","Number of cabinets",{"$f":"SUM(P2:P155)","v":0},"Customer PO","Comment",null,"Factor","Multiplier","Email","Contact Person","Ship Via","Salesperson","Freight"]
["Custom Color Comment",null,{"$f":"UPPER(IF(AND('Order Form'!$M$4=\"\",D2=\"\"),\"\",IF(D2=\"\",\"\",'Order Form'!$M$4)))","v":""},{"$f":"IF(OR(Color!B3=15,Color!B3=16,Color!B3=20,Color!B3=21),\"/C\",\"\")","v":""},{"$f":"IF(D2=\"\",\"\",IF(D2=\"/C\",\"\",'Order Form'!D22))","v":""},{"$f":"UPPER(IF(D2=\"\",\"\",'Order Form'!L17 & \" Custom Color\"))","v":""},{"$f":"IF(D2=\"\",\"\",IF(D2=\"/C\",\"\",IF('Order Form'!L22=0,IF('Order Form'!N22=0,\"\",'Order Form'!N22/'Order Form'!D22),'Order Form'!L22+('Order Form'!N22/'Order Form'!D22))))","v":""},{"$f":"IF(D2=\"/C\",4,IF(D2=\"\",\"\",IF(LEFT(D2,1)=\"/\",5,1)))","v":""},{"$f":"UPPER(IF(D2=\"\",\"\",CONCAT!$G$3))","v":""},{"$f":"UPPER(IF(D2=\"\",\"\",CONCAT!$G$4))","v":""},{"$f":"UPPER(IF(D2=\"\",\"\",CONCAT!$G$5))","v":""},{"$f":"UPPER(IF(D2=\"\",\"\",CONCAT!$G$6))","v":""},{"$f":"UPPER(IF(D2=\"\",\"\",CONCAT!$G$7))","v":""},{"$f":"UPPER(IF(D2=\"\",\"\",CONCAT!$G$2))","v":""},{"$f":"UPPER(IF(D2=\"\",\"\",CONCAT!$G$8))","v":""},{"$f":"IFERROR(E2*G2,\"\")","v":""},{"$f":"UPPER(IF(D2=\"\",\"\",'Order Form'!$J$4))","v":""},{"$f":"UPPER(IF(D2=\"\",\"\",(UPPER(IF(CONCAT!$G$2=\"SELECT\",\"SELECT \"&CONCAT!$G$3,CONCAT!$G$1&Species!$G$6&'Door Style'!$I$6&Color!$Q$6&'Drawer Head'!$H$6&'Custom Finish'!$G$6)))))","v":""},null,{"$f":"IF(D2=\"\",\"\",CONCAT!$J$2)","v":""},{"$f":"IF(D2=\"\",\"\",CONCAT!$J$3)","v":""},{"$f":"IF(D2=\"\",\"\",'Order Form'!$J$6)","v":""},{"$f":"UPPER(IF(D2=\"\",\"\",'Order Form'!$J$3&\" - \"&LEFT('Order Form'!$J$5,3)&\"-\"&MID('Order Form'!$J$5,4,3)&\"-\"&RIGHT('Order Form'!$J$5,4)))","v":""},{"$f":"UPPER(IF(D2=\"\",\"\",VLOOKUP('Misc Dropdowns'!$B$3,'Misc Dropdowns'!$B$7:$C$20,2,FALSE)))","v":""},{"$f":"IF(D2=\"\",\"\",'Order Form'!$M$3)","v":""},{"$f":"IF(D2=\"\",\"\",IF('Order Form'!$K$132=\"Delivery:\",'Order Form'!$M$132,'Order Form'!$M$131))","v":""}]
["Custom Door Comment",null,{"$f":"UPPER(IF(AND('Order Form'!$M$4=\"\",D3=\"\"),\"\",IF(D3=\"\",\"\",'Order Form'!$M$4)))","v":""},{"$f":"IF(OR('Door Style'!B3=15,'Door Style'!B3=16),\"/C\",\"\")","v":""},{"$f":"IF(D3=\"\",\"\",IF(D3=\"/C\",\"\",'Order Form'!D23))","v":""},{"$f":"UPPER(IF(D3=\"\",\"\",'Order Form'!L19))","v":""},{"$f":"IF(D3=\"\",\"\",IF(D3=\"/C\",\"\",IF('Order Form'!L23=0,IF('Order Form'!#REF!=0,\"\",'Order Form'!#REF!/'Order Form'!D23),'Order Form'!L23+('Order Form'!#REF!/'Order Form'!D23))))","v":""},"",{"$f":"UPPER(IF(D3=\"\",\"\",CONCAT!$G$3))","v":""},{"$f":"UPPER(IF(D3=\"\",\"\",CONCAT!$G$4))","v":""},{"$f":"UPPER(IF(D3=\"\",\"\",CONCAT!$G$5))","v":""},{"$f":"UPPER(IF(D3=\"\",\"\",CONCAT!$G$6))","v":""},{"$f":"UPPER(IF(D3=\"\",\"\",CONCAT!$G$7))","v":""},{"$f":"UPPER(IF(D3=\"\",\"\",CONCAT!$G$2))","v":""},{"$f":"UPPER(IF(D3=\"\",\"\",CONCAT!$G$8))","v":""},"",{"$f":"UPPER(IF(D3=\"\",\"\",'Order Form'!$J$4))","v":""},{"$f":"UPPER(IF(D3=\"\",\"\",(UPPER(IF(CONCAT!$G$2=\"SELECT\",\"SELECT \"&CONCAT!$G$3,CONCAT!$G$1&Species!$G$6&'Door Style'!$I$6&Color!$Q$6&'Drawer Head'!$H$6&'Custom Finish'!$G$6)))))","v":""},null,{"$f":"IF(D3=\"\",\"\",CONCAT!$J$2)","v":""},{"$f":"IF(D3=\"\",\"\",CONCAT!$J$3)","v":""},{"$f":"IF(D3=\"\",\"\",'Order Form'!$J$6)","v":""},{"$f":"UPPER(IF(D3=\"\",\"\",'Order Form'!$J$3&\" - \"&LEFT('Order Form'!$J$5,3)&\"-\"&MID('Order Form'!$J$5,4,3)&\"-\"&RIGHT('Order Form'!$J$5,4)))","v":""},{"$f":"UPPER(IF(D3=\"\",\"\",VLOOKUP('Misc Dropdowns'!$B$3,'Misc Dropdowns'!$B$7:$C$20,2,FALSE)))","v":""},{"$f":"IF(D3=\"\",\"\",'Order Form'!$M$3)","v":""},{"$f":"IF(D3=\"\",\"\",IF('Order Form'!$K$132=\"Delivery:\",'Order Form'!$M$132,'Order Form'!$M$131))","v":""}]
["Screw Line",null,{"$f":"UPPER(IF(AND('Order Form'!$M$4=\"\",D4=\"\"),\"\",IF(D4=\"\",\"\",'Order Form'!$M$4)))","v":""},{"$f":"UPPER(IFERROR(CONCATENATE(CONCAT!B12,CONCAT!C12)&(CONCAT!D12),\"\"))","v":""},{"$f":"IF(D4=\"\",\"\",IF(D4=\"/C\",\"\",'Order Form'!D24))","v":""},{"$f":"UPPER(IF(D4=\"\",\"\",'Order Form'!J24&'Order Form'!AO24&'Order Form'!AP24&'Order Form'!AQ24))","v":""},{"$f":"IF(D4=\"\",\"\",IF(D4=\"/C\",\"\",IF('Order Form'!L24=0,IF('Order Form'!K24=0,\"\",'Order Form'!K24/'Order Form'!D24),'Order Form'!L24+('Order Form'!K24/'Order Form'!D24))))","v":""},{"$f":"IF(D4=\"/C\",4,IF(D4=\"\",\"\",IF(LEFT(D4,1)=\"/\",5,1)))","v":""},{"$f":"UPPER(IF(D4=\"\",\"\",CONCAT!$G$3))","v":""},{"$f":"UPPER(IF(D4=\"\",\"\",CONCAT!$G$4))","v":""},{"$f":"UPPER(IF(D4=\"\",\"\",CONCAT!$G$5))","v":""},{"$f":"UPPER(IF(D4=\"\",\"\",CONCAT!$G$6))","v":""},{"$f":"UPPER(IF(D4=\"\",\"\",CONCAT!$G$7))","v":""},{"$f":"UPPER(IF(D4=\"\",\"\",CONCAT!$G$2))","v":""},{"$f":"UPPER(IF(D4=\"\",\"\",CONCAT!$G$8))","v":""},{"$f":"IFERROR(E4*G4,\"\")","v":""},{"$f":"UPPER(IF(D4=\"\",\"\",'Order Form'!$J$4))","v":""},{"$f":"UPPER(IF(D4=\"\",\"\",(UPPER(IF(CONCAT!$G$2=\"SELECT\",\"SELECT \"&CONCAT!$G$3,CONCAT!$G$1&Species!$G$6&'Door Style'!$I$6&Color!$Q$6&'Drawer Head'!$H$6&'Custom Finish'!$G$6)))))","v":""},null,{"$f":"IF(D4=\"\",\"\",CONCAT!$J$2)","v":""},{"$f":"IF(D4=\"\",\"\",CONCAT!$J$3)","v":""},{"$f":"IF(D4=\"\",\"\",'Order Form'!$J$6)","v":""},{"$f":"UPPER(IF(D4=\"\",\"\",'Order Form'!$J$3&\" - \"&LEFT('Order Form'!$J$5,3)&\"-\"&MID('Order Form'!$J$5,4,3)&\"-\"&RIGHT('Order Form'!$J$5,4)))","v":""},{"$f":"UPPER(IF(D4=\"\",\"\",VLOOKUP('Misc Dropdowns'!$B$3,'Misc Dropdowns'!$B$7:$C$20,2,FALSE)))","v":""},{"$f":"IF(D4=\"\",\"\",'Order Form'!$M$3)","v":""},{"$f":"IF(D4=\"\",\"\",IF('Order Form'!$K$132=\"Delivery:\",'Order Form'!$M$132,'Order Form'!$M$131))","v":""}]
["Touch up",null,{"$f":"UPPER(IF(AND('Order Form'!$M$4=\"\",D5=\"\"),\"\",IF(D5=\"\",\"\",'Order Form'!$M$4)))","v":""},{"$f":"UPPER(IF('Order Form'!D25=0,\"\",IFERROR(CONCATENATE(CONCAT!B13,CONCAT!C13)&(CONCAT!D13),\"\")))","v":"13-TOUCH UP"},{"$f":"IF(D5=\"\",\"\",IF(D5=\"/C\",\"\",'Order Form'!D25))","v":1},{"$f":"UPPER(IF(D5=\"\",\"\",IF('Order Form'!H25=\"\",\"\",\" \"&'Order Form'!H25)&IF('Order Form'!J25=\"\",\"\",\" \"&'Order Form'!J25)&'Order Form'!AO25&'Order Form'!AP25&'Order Form'!AQ25))","v":""},{"$f":"IF(D5=\"\",\"\",IF(D5=\"/C\",\"\",IF('Order Form'!L25=0,IF('Order Form'!K25=0,\"\",'Order Form'!K25/'Order Form'!D25),'Order Form'!L25+('Order Form'!K25/'Order Form'!D25))))","v":""},{"$f":"IF(D5=\"/C\",4,IF(D5=\"\",\"\",IF(LEFT(D5,1)=\"/\",5,1)))","v":1},{"$f":"UPPER(IF(D5=\"\",\"\",CONCAT!$G$3))","v":""},{"$f":"UPPER(IF(D5=\"\",\"\",CONCAT!$G$4))","v":""},{"$f":"UPPER(IF(D5=\"\",\"\",CONCAT!$G$5))","v":""},{"$f":"UPPER(IF(D5=\"\",\"\",CONCAT!$G$6))","v":""},{"$f":"UPPER(IF(D5=\"\",\"\",CONCAT!$G$7))","v":""},{"$f":"UPPER(IF(D5=\"\",\"\",CONCAT!$G$2))","v":"CRAFTSMAN"},{"$f":"UPPER(IF(D5=\"\",\"\",CONCAT!$G$8))","v":"0"},{"$f":"IFERROR(E5*G5,\"\")","v":""},{"$f":"UPPER(IF(D5=\"\",\"\",'Order Form'!$J$4))","v":""},{"$f":"UPPER(IF(D5=\"\",\"\",(UPPER(IF(CONCAT!$G$2=\"SELECT\",\"SELECT \"&CONCAT!$G$3,CONCAT!$G$1&Species!$G$6&'Door Style'!$I$6&Color!$Q$6&'Drawer Head'!$H$6&'Custom Finish'!$G$6)))))","v":"CR0000"},null,{"$f":"IF(D5=\"\",\"\",CONCAT!$J$2)","v":1},{"$f":"IF(D5=\"\",\"\",CONCAT!$J$3)","v":1.1},{"$f":"IF(D5=\"\",\"\",'Order Form'!$J$6)","v":0},{"$f":"UPPER(IF(D5=\"\",\"\",'Order Form'!$J$3&\" - \"&LEFT('Order Form'!$J$5,3)&\"-\"&MID('Order Form'!$J$5,4,3)&\"-\"&RIGHT('Order Form'!$J$5,4)))","v":" - --"},{"$f":"UPPER(IF(D5=\"\",\"\",VLOOKUP('Misc Dropdowns'!$B$3,'Misc Dropdowns'!$B$7:$C$20,2,FALSE)))","v":""},{"$f":"IF(D5=\"\",\"\",'Order Form'!$M$3)","v":0},{"$f":"IF(D5=\"\",\"\",IF('Order Form'!$K$132=\"Delivery:\",'Order Form'!$M$132,'Order Form'!$M$131))","v":0},null,null,{"$f":"LEN(R5)","v":6}]
["Item List",null,{"$f":"UPPER(IF(AND('Order Form'!$M$4=\"\",D6=\"\"),\"\",IF(D6=\"\",\"\",'Order Form'!$M$4)))","v":""},{"$f":"IF(AND('Order Form'!C26=\"\",'Order Form'!J26<>\"\"),\"/C\",UPPER(IF('Order Form'!D26=0,\"\",IFERROR(CONCATENATE(CONCAT!B14,CONCAT!C14)&(CONCAT!D14),\"\"))))","v":""},{"$f":"IF(D6=\"\",\"\",IF(D6=\"/C\",\"\",'Order Form'!D26))","v":""},{"$f":"UPPER(IF(D6=\"\",\"\",IF('Order Form'!H26=\"\",\"\",\" \"&'Order Form'!H26)&IF('Order Form'!J26=\"\",\"\",\" \"&'Order Form'!J26)&'Order Form'!AO26&'Order Form'!AP26&'Order Form'!AQ26))","v":""},{"$f":"IF(D6=\"\",\"\",IF(D6=\"/C\",\"\",IF('Order Form'!L26=0,IF('Order Form'!K26=0,\"\",'Order Form'!K26/'Order Form'!D26),'Order Form'!L26+('Order Form'!K26/'Order Form'!D26))))","v":""},"",{"$f":"UPPER(IF(D6=\"\",\"\",CONCAT!$G$3))","v":""},{"$f":"UPPER(IF(D6=\"\",\"\",CONCAT!$G$4))","v":""},{"$f":"UPPER(IF(D6=\"\",\"\",CONCAT!$G$5))","v":""},{"$f":"UPPER(IF(D6=\"\",\"\",CONCAT!$G$6))","v":""},{"$f":"UPPER(IF(D6=\"\",\"\",CONCAT!$G$7))","v":""},{"$f":"UPPER(IF(D6=\"\",\"\",CONCAT!$G$2))","v":""},{"$f":"UPPER(IF(D6=\"\",\"\",CONCAT!$G$8))","v":""},"",{"$f":"UPPER(IF(D6=\"\",\"\",'Order Form'!$J$4))","v":""},{"$f":"UPPER(IF(D6=\"\",\"\",(UPPER(IF(CONCAT!$G$2=\"SELECT\",\"SELECT \"&CONCAT!$G$3,CONCAT!$G$1&Species!$G$6&'Door Style'!$I$6&Color!$Q$6&'Drawer Head'!$H$6&'Custom Finish'!$G$6)))))","v":""},null,{"$f":"IF(D6=\"\",\"\",CONCAT!$J$2)","v":""},{"$f":"IF(D6=\"\",\"\",CONCAT!$J$3)","v":""},{"$f":"IF(D6=\"\",\"\",'Order Form'!$J$6)","v":""},{"$f":"UPPER(IF(D6=\"\",\"\",'Order Form'!$J$3&\" - \"&LEFT('Order Form'!$J$5,3)&\"-\"&MID('Order Form'!$J$5,4,3)&\"-\"&RIGHT('Order Form'!$J$5,4)))","v":""},{"$f":"UPPER(IF(D6=\"\",\"\",VLOOKUP('Misc Dropdowns'!$B$3,'Misc Dropdowns'!$B$7:$C$20,2,FALSE)))","v":""},{"$f":"IF(D6=\"\",\"\",'Order Form'!$M$3)","v":""},{"$f":"IF(D6=\"\",\"\",IF('Order Form'!$K$132=\"Delivery:\",'Order Form'!$M$132,'Order Form'!$M$131))","v":""}]
["Item List",null,{"$f":"UPPER(IF(AND('Order Form'!$M$4=\"\",D7=\"\"),\"\",IF(D7=\"\",\"\",'Order Form'!$M$4)))","v":""},{"$f":"IF(AND('Order Form'!C27=\"\",'Order Form'!J27<>\"\"),\"/C\",UPPER(IF('Order Form'!D27=0,\"\",IFERROR(CONCATENATE(CONCAT!B15,CONCAT!C15)&(CONCAT!D15),\"\"))))","v":""},{"$f":"IF(D7=\"\",\"\",IF(D7=\"/C\",\"\",'Order Form'!D27))","v":""},{"$f":"UPPER(IF(D7=\"\",\"\",IF('Order Form'!H27=\"\",\"\",\" \"&'Order Form'!H27)&IF('Order Form'!J27=\"\",\"\",\" \"&'Order Form'!J27)&'Order Form'!AO27&'Order Form'!AP27&'Order Form'!AQ27))","v":""},{"$f":"IF(D7=\"\",\"\",IF(D7=\"/C\",\"\",IF('Order Form'!L27=0,IF('Order Form'!K27=0,\"\",'Order Form'!K27/'Order Form'!D27),'Order Form'!L27+('Order Form'!K27/'Order Form'!D27))))","v":""},{"$f":"IF(D7=\"/C\",4,IF(D7=\"\",\"\",IF(LEFT(D7,1)=\"/\",5,1)))","v":""},{"$f":"UPPER(IF(D7=\"\",\"\",CONCAT!$G$3))","v":""},{"$f":"UPPER(IF(D7=\"\",\"\",CONCAT!$G$4))","v":""},{"$f":"UPPER(IF(D7=\"\",\"\",CONCAT!$G$5))","v":""},{"$f":"UPPER(IF(D7=\"\",\"\",CONCAT!$G$6))","v":""},{"$f":"UPPER(IF(D7=\"\",\"\",CONCAT!$G$7))","v":""},{"$f":"UPPER(IF(D7=\"\",\"\",CONCAT!$G$2))","v":""},{"$f":"UPPER(IF(D7=\"\",\"\",CONCAT!$G$8))","v":""},{"$f":"IFERROR(E7*G7,\"\")","v":""},{"$f":"UPPER(IF(D7=\"\",\"\",'Order Form'!$J$4))","v":""},{"$f":"UPPER(IF(D7=\"\",\"\",(UPPER(IF(CONCAT!$G$2=\"SELECT\",\"SELECT \"&CONCAT!$G$3,CONCAT!$G$1&Species!$G$6&'Door Style'!$I$6&Color!$Q$6&'Drawer Head'!$H$6&'Custom Finish'!$G$6)))))","v":""},null,{"$f":"IF(D7=\"\",\"\",CONCAT!$J$2)","v":""},{"$f":"IF(D7=\"\",\"\",CONCAT!$J$3)","v":""},{"$f":"IF(D7=\"\",\"\",'Order Form'!$J$6)","v":""},{"$f":"UPPER(IF(D7=\"\",\"\",'Order Form'!$J$3&\" - \"&LEFT('Order Form'!$J$5,3)&\"-\"&MID('Order Form'!$J$5,4,3)&\"-\"&RIGHT('Order Form'!$J$5,4)))","v":""},{"$f":"UPPER(IF(D7=\"\",\"\",VLOOKUP('Misc Dropdowns'!$B$3,'Misc Dropdowns'!$B$7:$C$20,2,FALSE)))","v":""},{"$f":"IF(D7=\"\",\"\",'Order Form'!$M$3)","v":""},{"$f":"IF(D7=\"\",\"\",IF('Order Form'!$K$132=\"Delivery:\",'Order Form'!$M$132,'Order Form'!$M$131))","v":""}]
["Item List",null,{"$f":"UPPER(IF(AND('Order Form'!$M$4=\"\",D8=\"\"),\"\",IF(D8=\"\",\"\",'Order Form'!$M$4)))","v":""},{"$f":"IF(AND('Order Form'!C28=\"\",'Order Form'!J28<>\"\"),\"/C\",UPPER(IF('Order Form'!D28=0,\"\",IFERROR(CONCATENATE(CONCAT!B16,CONCAT!C16)&(CONCAT!D16),\"\"))))","v":""},{"$f":"IF(D8=\"\",\"\",IF(D8=\"/C\",\"\",'Order Form'!D28))","v":""},{"$f":"UPPER(IF(D8=\"\",\"\",IF('Order Form'!H28=\"\",\"\",\" \"&'Order Form'!H28)&IF('Order Form'!J28=\"\",\"\",\" \"&'Order Form'!J28)&'Order Form'!AO28&'Order Form'!AP28&'Order Form'!AQ28))","v":""},{"$f":"IF(D8=\"\",\"\",IF(D8=\"/C\",\"\",IF('Order Form'!L28=0,IF('Order Form'!K28=0,\"\",'Order Form'!K28/'Order Form'!D28),'Order Form'!L28+('Order Form'!K28/'Order Form'!D28))))","v":""},"",{"$f":"UPPER(IF(D8=\"\",\"\",CONCAT!$G$3))","v":""},{"$f":"UPPER(IF(D8=\"\",\"\",CONCAT!$G$4))","v":""},{"$f":"UPPER(IF(D8=\"\",\"\",CONCAT!$G$5))","v":""},{"$f":"UPPER(IF(D8=\"\",\"\",CONCAT!$G$6))","v":""},{"$f":"UPPER(IF(D8=\"\",\"\",CONCAT!$G$7))","v":""},{"$f":"UPPER(IF(D8=\"\",\"\",CONCAT!$G$2))","v":""},{"$f":"UPPER(IF(D8=\"\",\"\",CONCAT!$G$8))","v":""},"",{"$f":"UPPER(IF(D8=\"\",\"\",'Order Form'!$J$4))","v":""},{"$f":"UPPER(IF(D8=\"\",\"\",(UPPER(IF(CONCAT!$G$2=\"SELECT\",\"SELECT \"&CONCAT!$G$3,CONCAT!$G$1&Species!$G$6&'Door Style'!$I$6&Color!$Q$6&'Drawer Head'!$H$6&'Custom Finish'!$G$6)))))","v":""},null,{"$f":"IF(D8=\"\",\"\",CONCAT!$J$2)","v":""},{"$f":"IF(D8=\"\",\"\",CONCAT!$J$3)","v":""},{"$f":"IF(D8=\"\",\"\",'Order Form'!$J$6)","v":""},{"$f":"UPPER(IF(D8=\"\",\"\",'Order Form'!$J$3&\" - \"&LEFT('Order Form'!$J$5,3)&\"-\"&MID('Order Form'!$J$5,4,3)&\"-\"&RIGHT('Order Form'!$J$5,4)))","v":""},{"$f":"UPPER(IF(D8=\"\",\"\",VLOOKUP('Misc Dropdowns'!$B$3,'Misc Dropdowns'!$B$7:$C$20,2,FALSE)))","v":""},{"$f":"IF(D8=\"\",\"\",'Order Form'!$M$3)","v":""},{"$f":"IF(D8=\"\",\"\",IF('Order Form'!$K$132=\"Delivery:\",'Order Form'!$M$132,'Order Form'!$M$131))","v":""}]
["Item List",null,{"$f":"UPPER(IF(AND('Order Form'!$M$4=\"\",D9=\"\"),\"\",IF(D9=\"\",\"\",'Order Form'!$M$4)))","v":""},{"$f":"IF(AND('Order Form'!C29=\"\",'Order Form'!J29<>\"\"),\"/C\",UPPER(IF('Order Form'!D29=0,\"\",IFERROR(CONCATENATE(CONCAT!B17,CONCAT!C17)&(CONCAT!D17),\"\"))))","v":""},{"$f":"IF(D9=\"\",\"\",IF(D9=\"/C\",\"\",'Order Form'!D29))","v":""},{"$f":"UPPER(IF(D9=\"\",\"\",IF('Order Form'!H29=\"\",\"\",\" \"&'Order Form'!H29)&IF('Order Form'!J29=\"\",\"\",\" \"&'Order Form'!J29)&'Order Form'!AO29&'Order Form'!AP29&'Order Form'!AQ29))","v":""},{"$f":"IF(D9=\"\",\"\",IF(D9=\"/C\",\"\",IF('Order Form'!L29=0,IF('Order Form'!K29=0,\"\",'Order Form'!K29/'Order Form'!D29),'Order Form'!L29+('Order Form'!K29/'Order Form'!D29))))","v":""},"",{"$f":"UPPER(IF(D9=\"\",\"\",CONCAT!$G$3))","v":""},{"$f":"UPPER(IF(D9=\"\",\"\",CONCAT!$G$4))","v":""},{"$f":"UPPER(IF(D9=\"\",\"\",CONCAT!$G$5))","v":""},{"$f":"UPPER(IF(D9=\"\",\"\",CONCAT!$G$6))","v":""},{"$f":"UPPER(IF(D9=\"\",\"\",CONCAT!$G$7))","v":""},{"$f":"UPPER(IF(D9=\"\",\"\",CONCAT!$G$2))","v":""},{"$f":"UPPER(IF(D9=\"\",\"\",CONCAT!$G$8))","v":""},"",{"$f":"UPPER(IF(D9=\"\",\"\",'Order Form'!$J$4))","v":""},{"$f":"UPPER(IF(D9=\"\",\"\",(UPPER(IF(CONCAT!$G$2=\"SELECT\",\"SELECT \"&CONCAT!$G$3,CONCAT!$G$1&Species!$G$6&'Door Style'!$I$6&Color!$Q$6&'Drawer Head'!$H$6&'Custom Finish'!$G$6)))))","v":""},null,{"$f":"IF(D9=\"\",\"\",CONCAT!$J$2)","v":""},{"$f":"IF(D9=\"\",\"\",CONCAT!$J$3)","v":""},{"$f":"IF(D9=\"\",\"\",'Order Form'!$J$6)","v":""},{"$f":"UPPER(IF(D9=\"\",\"\",'Order Form'!$J$3&\" - \"&LEFT('Order Form'!$J$5,3)&\"-\"&MID('Order Form'!$J$5,4,3)&\"-\"&RIGHT('Order Form'!$J$5,4)))","v":""},{"$f":"UPPER(IF(D9=\"\",\"\",VLOOKUP('Misc Dropdowns'!$B$3,'Misc Dropdowns'!$B$7:$C$20,2,FALSE)))","v":""},{"$f":"IF(D9=\"\",\"\",'Order Form'!$M$3)","v":""},{"$f":"IF(D9=\"\",\"\",IF('Order Form'!$K$132=\"Delivery:\",'Order Form'!$M$132,'Order Form'!$M$131))","v":""}]
["Item List",null,{"$f":"UPPER(IF(AND('Order Form'!$M$4=\"\",D10=\"\"),\"\",IF(D10=\"\",\"\",'Order Form'!$M$4)))","v":""},{"$f":"IF(AND('Order Form'!C30=\"\",'Order Form'!J30<>\"\"),\"/C\",UPPER(IF('Order Form'!D30=0,\"\",IFERROR(CONCATENATE(CONCAT!B18,CONCAT!C18)&(CONCAT!D18),\"\"))))","v":""},{"$f":"IF(D10=\"\",\"\",IF(D10=\"/C\",\"\",'Order Form'!D30))","v":""},{"$f":"UPPER(IF(D10=\"\",\"\",IF('Order Form'!H30=\"\",\"\",\" \"&'Order Form'!H30)&IF('Order Form'!J30=\"\",\"\",\" \"&'Order Form'!J30)&'Order Form'!AO30&'Order Form'!AP30&'Order Form'!AQ30))","v":""},{"$f":"IF(D10=\"\",\"\",IF(D10=\"/C\",\"\",IF('Order Form'!L30=0,IF('Order Form'!K30=0,\"\",'Order Form'!K30/'Order Form'!D30),'Order Form'!L30+('Order Form'!K30/'Order Form'!D30))))","v":""},"",{"$f":"UPPER(IF(D10=\"\",\"\",CONCAT!$G$3))","v":""},{"$f":"UPPER(IF(D10=\"\",\"\",CONCAT!$G$4))","v":""},{"$f":"UPPER(IF(D10=\"\",\"\",CONCAT!$G$5))","v":""},{"$f":"UPPER(IF(D10=\"\",\"\",CONCAT!$G$6))","v":""},{"$f":"UPPER(IF(D10=\"\",\"\",CONCAT!$G$7))","v":""},{"$f":"UPPER(IF(D10=\"\",\"\",CONCAT!$G$2))","v":""},{"$f":"UPPER(IF(D10=\"\",\"\",CONCAT!$G$8))","v":""},"",{"$f":"UPPER(IF(D10=\"\",\"\",'Order Form'!$J$4))","v":""},{"$f":"UPPER(IF(D10=\"\",\"\",(UPPER(IF(CONCAT!$G$2=\"SELECT\",\"SELECT \"&CONCAT!$G$3,CONCAT!$G$1&Species!$G$6&'Door Style'!$I$6&Color!$Q$6&'Drawer Head'!$H$6&'Custom Finish'!$G$6)))))","v":""},null,{"$f":"IF(D10=\"\",\"\",CONCAT!$J$2)","v":""},{"$f":"IF(D10=\"\",\"\",CONCAT!$J$3)","v":""},{"$f":"IF(D10=\"\",\"\",'Order Form'!$J$6)","v":""},{"$f":"UPPER(IF(D10=\"\",\"\",'Order Form'!$J$3&\" - \"&LEFT('Order Form'!$J$5,3)&\"-\"&MID('Order Form'!$J$5,4,3)&\"-\"&RIGHT('Order Form'!$J$5,4)))","v":""},{"$f":"UPPER(IF(D10=\"\",\"\",VLOOKUP('Misc Dropdowns'!$B$3,'Misc Dropdowns'!$B$7:$C$20,2,FALSE)))","v":""},{"$f":"IF(D10=\"\",\"\",'Order Form'!$M$3)","v":""},{"$f":"IF(D10=\"\",\"\",IF('Order Form'!$K$132=\"Delivery:\",'Order Form'!$M$132,'Order Form'!$M$131))","v":""}]
["Item List",null,{"$f":"UPPER(IF(AND('Order Form'!$M$4=\"\",D11=\"\"),\"\",IF(D11=\"\",\"\",'Order Form'!$M$4)))","v":""},{"$f":"IF(AND('Order Form'!C31=\"\",'Order Form'!J31<>\"\"),\"/C\",UPPER(IF('Order Form'!D31=0,\"\",IFERROR(CONCATENATE(CONCAT!B19,CONCAT!C19)&(CONCAT!D19),\"\"))))","v":""},{"$f":"IF(D11=\"\",\"\",IF(D11=\"/C\",\"\",'Order Form'!D31))","v":""},{"$f":"UPPER(IF(D11=\"\",\"\",IF('Order Form'!H31=\"\",\"\",\" \"&'Order Form'!H31)&IF('Order Form'!J31=\"\",\"\",\" \"&'Order Form'!J31)&'Order Form'!AO31&'Order Form'!AP31&'Order Form'!AQ31))","v":""},{"$f":"IF(D11=\"\",\"\",IF(D11=\"/C\",\"\",IF('Order Form'!L31=0,IF('Order Form'!K31=0,\"\",'Order Form'!K31/'Order Form'!D31),'Order Form'!L31+('Order Form'!K31/'Order Form'!D31))))","v":""},"",{"$f":"UPPER(IF(D11=\"\",\"\",CONCAT!$G$3))","v":""},{"$f":"UPPER(IF(D11=\"\",\"\",CONCAT!$G$4))","v":""},{"$f":"UPPER(IF(D11=\"\",\"\",CONCAT!$G$5))","v":""},{"$f":"UPPER(IF(D11=\"\",\"\",CONCAT!$G$6))","v":""},{"$f":"UPPER(IF(D11=\"\",\"\",CONCAT!$G$7))","v":""},{"$f":"UPPER(IF(D11=\"\",\"\",CONCAT!$G$2))","v":""},{"$f":"UPPER(IF(D11=\"\",\"\",CONCAT!$G$8))","v":""},"",{"$f":"UPPER(IF(D11=\"\",\"\",'Order Form'!$J$4))","v":""},{"$f":"UPPER(IF(D11=\"\",\"\",(UPPER(IF(CONCAT!$G$2=\"SELECT\",\"SELECT \"&CONCAT!$G$3,CONCAT!$G$1&Species!$G$6&'Door Style'!$I$6&Color!$Q$6&'Drawer Head'!$H$6&'Custom Finish'!$G$6)))))","v":""},null,{"$f":"IF(D11=\"\",\"\",CONCAT!$J$2)","v":""},{"$f":"IF(D11=\"\",\"\",CONCAT!$J$3)","v":""},{"$f":"IF(D11=\"\",\"\",'Order Form'!$J$6)","v":""},{"$f":"UPPER(IF(D11=\"\",\"\",'Order Form'!$J$3&\" - \"&LEFT('Order Form'!$J$5,3)&\"-\"&MID('Order Form'!$J$5,4,3)&\"-\"&RIGHT('Order Form'!$J$5,4)))","v":""},{"$f":"UPPER(IF(D11=\"\",\"\",VLOOKUP('Misc Dropdowns'!$B$3,'Misc Dropdowns'!$B$7:$C$20,2,FALSE)))","v":""},{"$f":"IF(D11=\"\",\"\",'Order Form'!$M$3)","v":""},{"$f":"IF(D11=\"\",\"\",IF('Order Form'!$K$132=\"Delivery:\",'Order Form'!$M$132,'Order Form'!$M$131))","v":""}]
["Item List",null,{"$f":"UPPER(IF(AND('Order Form'!$M$4=\"\",D12=\"\"),\"\",IF(D12=\"\",\"\",'Order Form'!$M$4)))","v":""},{"$f":"IF(AND('Order Form'!C32=\"\",'Order Form'!J32<>\"\"),\"/C\",UPPER(IF('Order Form'!D32=0,\"\",IFERROR(CONCATENATE(CONCAT!B20,CONCAT!C20)&(CONCAT!D20),\"\"))))","v":""},{"$f":"IF(D12=\"\",\"\",IF(D12=\"/C\",\"\",'Order Form'!D32))","v":""},{"$f":"UPPER(IF(D12=\"\",\"\",IF('Order Form'!H32=\"\",\"\",\" \"&'Order Form'!H32)&IF('Order Form'!J32=\"\",\"\",\" \"&'Order Form'!J32)&'Order Form'!AO32&'Order Form'!AP32&'Order Form'!AQ32))","v":""},{"$f":"IF(D12=\"\",\"\",IF(D12=\"/C\",\"\",IF('Order Form'!L32=0,IF('Order Form'!K32=0,\"\",'Order Form'!K32/'Order Form'!D32),'Order Form'!L32+('Order Form'!K32/'Order Form'!D32))))","v":""},"",{"$f":"UPPER(IF(D12=\"\",\"\",CONCAT!$G$3))","v":""},{"$f":"UPPER(IF(D12=\"\",\"\",CONCAT!$G$4))","v":""},{"$f":"UPPER(IF(D12=\"\",\"\",CONCAT!$G$5))","v":""},{"$f":"UPPER(IF(D12=\"\",\"\",CONCAT!$G$6))","v":""},{"$f":"UPPER(IF(D12=\"\",\"\",CONCAT!$G$7))","v":""},{"$f":"UPPER(IF(D12=\"\",\"\",CONCAT!$G$2))","v":""},{"$f":"UPPER(IF(D12=\"\",\"\",CONCAT!$G$8))","v":""},"",{"$f":"UPPER(IF(D12=\"\",\"\",'Order Form'!$J$4))","v":""},{"$f":"UPPER(IF(D12=\"\",\"\",(UPPER(IF(CONCAT!$G$2=\"SELECT\",\"SELECT \"&CONCAT!$G$3,CONCAT!$G$1&Species!$G$6&'Door Style'!$I$6&Color!$Q$6&'Drawer Head'!$H$6&'Custom Finish'!$G$6)))))","v":""},null,{"$f":"IF(D12=\"\",\"\",CONCAT!$J$2)","v":""},{"$f":"IF(D12=\"\",\"\",CONCAT!$J$3)","v":""},{"$f":"IF(D12=\"\",\"\",'Order Form'!$J$6)","v":""},{"$f":"UPPER(IF(D12=\"\",\"\",'Order Form'!$J$3&\" - \"&LEFT('Order Form'!$J$5,3)&\"-\"&MID('Order Form'!$J$5,4,3)&\"-\"&RIGHT('Order Form'!$J$5,4)))","v":""},{"$f":"UPPER(IF(D12=\"\",\"\",VLOOKUP('Misc Dropdowns'!$B$3,'Misc Dropdowns'!$B$7:$C$20,2,FALSE)))","v":""},{"$f":"IF(D12=\"\",\"\",'Order Form'!$M$3)","v":""},{"$f":"IF(D12=\"\",\"\",IF('Order Form'!$K$132=\"Delivery:\",'Order Form'!$M$132,'Order Form'!$M$131))","v":""}]
["Item List",null,{"$f":"UPPER(IF(AND('Order Form'!$M$4=\"\",D13=\"\"),\"\",IF(D13=\"\",\"\",'Order Form'!$M$4)))","v":""},{"$f":"IF(AND('Order Form'!C33=\"\",'Order Form'!J33<>\"\"),\"/C\",UPPER(IF('Order Form'!D33=0,\"\",IFERROR(CONCATENATE(CONCAT!B21,CONCAT!C21)&(CONCAT!D21),\"\"))))","v":""},{"$f":"IF(D13=\"\",\"\",IF(D13=\"/C\",\"\",'Order Form'!D33))","v":""},{"$f":"UPPER(IF(D13=\"\",\"\",IF('Order Form'!H33=\"\",\"\",\" \"&'Order Form'!H33)&IF('Order Form'!J33=\"\",\"\",\" \"&'Order Form'!J33)&'Order Form'!AO33&'Order Form'!AP33&'Order Form'!AQ33))","v":""},{"$f":"IF(D13=\"\",\"\",IF(D13=\"/C\",\"\",IF('Order Form'!L33=0,IF('Order Form'!K33=0,\"\",'Order Form'!K33/'Order Form'!D33),'Order Form'!L33+('Order Form'!K33/'Order Form'!D33))))","v":""},"",{"$f":"UPPER(IF(D13=\"\",\"\",CONCAT!$G$3))","v":""},{"$f":"UPPER(IF(D13=\"\",\"\",CONCAT!$G$4))","v":""},{"$f":"UPPER(IF(D13=\"\",\"\",CONCAT!$G$5))","v":""},{"$f":"UPPER(IF(D13=\"\",\"\",CONCAT!$G$6))","v":""},{"$f":"UPPER(IF(D13=\"\",\"\",CONCAT!$G$7))","v":""},{"$f":"UPPER(IF(D13=\"\",\"\",CONCAT!$G$2))","v":""},{"$f":"UPPER(IF(D13=\"\",\"\",CONCAT!$G$8))","v":""},"",{"$f":"UPPER(IF(D13=\"\",\"\",'Order Form'!$J$4))","v":""},{"$f":"UPPER(IF(D13=\"\",\"\",(UPPER(IF(CONCAT!$G$2=\"SELECT\",\"SELECT \"&CONCAT!$G$3,CONCAT!$G$1&Species!$G$6&'Door Style'!$I$6&Color!$Q$6&'Drawer Head'!$H$6&'Custom Finish'!$G$6)))))","v":""},null,{"$f":"IF(D13=\"\",\"\",CONCAT!$J$2)","v":""},{"$f":"IF(D13=\"\",\"\",CONCAT!$J$3)","v":""},{"$f":"IF(D13=\"\",\"\",'Order Form'!$J$6)","v":""},{"$f":"UPPER(IF(D13=\"\",\"\",'Order Form'!$J$3&\" - \"&LEFT('Order Form'!$J$5,3)&\"-\"&MID('Order Form'!$J$5,4,3)&\"-\"&RIGHT('Order Form'!$J$5,4)))","v":""},{"$f":"UPPER(IF(D13=\"\",\"\",VLOOKUP('Misc Dropdowns'!$B$3,'Misc Dropdowns'!$B$7:$C$20,2,FALSE)))","v":""},{"$f":"IF(D13=\"\",\"\",'Order Form'!$M$3)","v":""},{"$f":"IF(D13=\"\",\"\",IF('Order Form'!$K$132=\"Delivery:\",'Order Form'!$M$132,'Order Form'!$M$131))","v":""}]
["Item List",null,{"$f":"UPPER(IF(AND('Order Form'!$M$4=\"\",D14=\"\"),\"\",IF(D14=\"\",\"\",'Order Form'!$M$4)))","v":""},{"$f":"IF(AND('Order Form'!C34=\"\",'Order Form'!J34<>\"\"),\"/C\",UPPER(IF('Order Form'!D34=0,\"\",IFERROR(CONCATENATE(CONCAT!B22,CONCAT!C22)&(CONCAT!D22),\"\"))))","v":""},{"$f":"IF(D14=\"\",\"\",IF(D14=\"/C\",\"\",'Order Form'!D34))","v":""},{"$f":"UPPER(IF(D14=\"\",\"\",IF('Order Form'!H34=\"\",\"\",\" \"&'Order Form'!H34)&IF('Order Form'!J34=\"\",\"\",\" \"&'Order Form'!J34)&'Order Form'!AO34&'Order Form'!AP34&'Order Form'!AQ34))","v":""},{"$f":"IF(D14=\"\",\"\",IF(D14=\"/C\",\"\",IF('Order Form'!L34=0,IF('Order Form'!K34=0,\"\",'Order Form'!K34/'Order Form'!D34),'Order Form'!L34+('Order Form'!K34/'Order Form'!D34))))","v":""},"",{"$f":"UPPER(IF(D14=\"\",\"\",CONCAT!$G$3))","v":""},{"$f":"UPPER(IF(D14=\"\",\"\",CONCAT!$G$4))","v":""},{"$f":"UPPER(IF(D14=\"\",\"\",CONCAT!$G$5))","v":""},{"$f":"UPPER(IF(D14=\"\",\"\",CONCAT!$G$6))","v":""},{"$f":"UPPER(IF(D14=\"\",\"\",CONCAT!$G$7))","v":""},{"$f":"UPPER(IF(D14=\"\",\"\",CONCAT!$G$2))","v":""},{"$f":"UPPER(IF(D14=\"\",\"\",CONCAT!$G$8))","v":""},"",{"$f":"UPPER(IF(D14=\"\",\"\",'Order Form'!$J$4))","v":""},{"$f":"UPPER(IF(D14=\"\",\"\",(UPPER(IF(CONCAT!$G$2=\"SELECT\",\"SELECT \"&CONCAT!$G$3,CONCAT!$G$1&Species!$G$6&'Door Style'!$I$6&Color!$Q$6&'Drawer Head'!$H$6&'Custom Finish'!$G$6)))))","v":""},null,{"$f":"IF(D14=\"\",\"\",CONCAT!$J$2)","v":""},{"$f":"IF(D14=\"\",\"\",CONCAT!$J$3)","v":""},{"$f":"IF(D14=\"\",\"\",'Order Form'!$J$6)","v":""},{"$f":"UPPER(IF(D14=\"\",\"\",'Order Form'!$J$3&\" - \"&LEFT('Order Form'!$J$5,3)&\"-\"&MID('Order Form'!$J$5,4,3)&\"-\"&RIGHT('Order Form'!$J$5,4)))","v":""},{"$f":"UPPER(IF(D14=\"\",\"\",VLOOKUP('Misc Dropdowns'!$B$3,'Misc Dropdowns'!$B$7:$C$20,2,FALSE)))","v":""},{"$f":"IF(D14=\"\",\"\",'Order Form'!$M$3)","v":""},{"$f":"IF(D14=\"\",\"\",IF('Order Form'!$K$132=\"Delivery:\",'Order Form'!$M$132,'Order Form'!$M$131))","v":""}]
["Item List",null,{"$f":"UPPER(IF(AND('Order Form'!$M$4=\"\",D15=\"\"),\"\",IF(D15=\"\",\"\",'Order Form'!$M$4)))","v":""},{"$f":"IF(AND('Order Form'!C35=\"\",'Order Form'!J35<>\"\"),\"/C\",UPPER(IF('Order Form'!D35=0,\"\",IFERROR(CONCATENATE(CONCAT!B23,CONCAT!C23)&(CONCAT!D23),\"\"))))","v":""},{"$f":"IF(D15=\"\",\"\",IF(D15=\"/C\",\"\",'Order Form'!D35))","v":""},{"$f":"UPPER(IF(D15=\"\",\"\",IF('Order Form'!H35=\"\",\"\",\" \"&'Order Form'!H35)&IF('Order Form'!J35=\"\",\"\",\" \"&'Order Form'!J35)&'Order Form'!AO35&'Order Form'!AP35&'Order Form'!AQ35))","v":""},{"$f":"IF(D15=\"\",\"\",IF(D15=\"/C\",\"\",IF('Order Form'!L35=0,IF('Order Form'!K35=0,\"\",'Order Form'!K35/'Order Form'!D35),'Order Form'!L35+('Order Form'!K35/'Order Form'!D35))))","v":""},"",{"$f":"UPPER(IF(D15=\"\",\"\",CONCAT!$G$3))","v":""},{"$f":"UPPER(IF(D15=\"\",\"\",CONCAT!$G$4))","v":""},{"$f":"UPPER(IF(D15=\"\",\"\",CONCAT!$G$5))","v":""},{"$f":"UPPER(IF(D15=\"\",\"\",CONCAT!$G$6))","v":""},{"$f":"UPPER(IF(D15=\"\",\"\",CONCAT!$G$7))","v":""},{"$f":"UPPER(IF(D15=\"\",\"\",CONCAT!$G$2))","v":""},{"$f":"UPPER(IF(D15=\"\",\"\",CONCAT!$G$8))","v":""},"",{"$f":"UPPER(IF(D15=\"\",\"\",'Order Form'!$J$4))","v":""},{"$f":"UPPER(IF(D15=\"\",\"\",(UPPER(IF(CONCAT!$G$2=\"SELECT\",\"SELECT \"&CONCAT!$G$3,CONCAT!$G$1&Species!$G$6&'Door Style'!$I$6&Color!$Q$6&'Drawer Head'!$H$6&'Custom Finish'!$G$6)))))","v":""},null,{"$f":"IF(D15=\"\",\"\",CONCAT!$J$2)","v":""},{"$f":"IF(D15=\"\",\"\",CONCAT!$J$3)","v":""},{"$f":"IF(D15=\"\",\"\",'Order Form'!$J$6)","v":""},{"$f":"UPPER(IF(D15=\"\",\"\",'Order Form'!$J$3&\" - \"&LEFT('Order Form'!$J$5,3)&\"-\"&MID('Order Form'!$J$5,4,3)&\"-\"&RIGHT('Order Form'!$J$5,4)))","v":""},{"$f":"UPPER(IF(D15=\"\",\"\",VLOOKUP('Misc Dropdowns'!$B$3,'Misc Dropdowns'!$B$7:$C$20,2,FALSE)))","v":""},{"$f":"IF(D15=\"\",\"\",'Order Form'!$M$3)","v":""},{"$f":"IF(D15=\"\",\"\",IF('Order Form'!$K$132=\"Delivery:\",'Order Form'!$M$132,'Order Form'!$M$131))","v":""}]
["Item List",null,{"$f":"UPPER(IF(AND('Order Form'!$M$4=\"\",D16=\"\"),\"\",IF(D16=\"\",\"\",'Order Form'!$M$4)))","v":""},{"$f":"IF(AND('Order Form'!C36=\"\",'Order Form'!J36<>\"\"),\"/C\",UPPER(IF('Order Form'!D36=0,\"\",IFERROR(CONCATENATE(CONCAT!B24,CONCAT!C24)&(CONCAT!D24),\"\"))))","v":""},{"$f":"IF(D16=\"\",\"\",IF(D16=\"/C\",\"\",'Order Form'!D36))","v":""},{"$f":"UPPER(IF(D16=\"\",\"\",IF('Order Form'!H36=\"\",\"\",\" \"&'Order Form'!H36)&IF('Order Form'!J36=\"\",\"\",\" \"&'Order Form'!J36)&'Order Form'!AO36&'Order Form'!AP36&'Order Form'!AQ36))","v":""},{"$f":"IF(D16=\"\",\"\",IF(D16=\"/C\",\"\",IF('Order Form'!L36=0,IF('Order Form'!K36=0,\"\",'Order Form'!K36/'Order Form'!D36),'Order Form'!L36+('Order Form'!K36/'Order Form'!D36))))","v":""},"",{"$f":"UPPER(IF(D16=\"\",\"\",CONCAT!$G$3))","v":""},{"$f":"UPPER(IF(D16=\"\",\"\",CONCAT!$G$4))","v":""},{"$f":"UPPER(IF(D16=\"\",\"\",CONCAT!$G$5))","v":""},{"$f":"UPPER(IF(D16=\"\",\"\",CONCAT!$G$6))","v":""},{"$f":"UPPER(IF(D16=\"\",\"\",CONCAT!$G$7))","v":""},{"$f":"UPPER(IF(D16=\"\",\"\",CONCAT!$G$2))","v":""},{"$f":"UPPER(IF(D16=\"\",\"\",CONCAT!$G$8))","v":""},"",{"$f":"UPPER(IF(D16=\"\",\"\",'Order Form'!$J$4))","v":""},{"$f":"UPPER(IF(D16=\"\",\"\",(UPPER(IF(CONCAT!$G$2=\"SELECT\",\"SELECT \"&CONCAT!$G$3,CONCAT!$G$1&Species!$G$6&'Door Style'!$I$6&Color!$Q$6&'Drawer Head'!$H$6&'Custom Finish'!$G$6)))))","v":""},null,{"$f":"IF(D16=\"\",\"\",CONCAT!$J$2)","v":""},{"$f":"IF(D16=\"\",\"\",CONCAT!$J$3)","v":""},{"$f":"IF(D16=\"\",\"\",'Order Form'!$J$6)","v":""},{"$f":"UPPER(IF(D16=\"\",\"\",'Order Form'!$J$3&\" - \"&LEFT('Order Form'!$J$5,3)&\"-\"&MID('Order Form'!$J$5,4,3)&\"-\"&RIGHT('Order Form'!$J$5,4)))","v":""},{"$f":"UPPER(IF(D16=\"\",\"\",VLOOKUP('Misc Dropdowns'!$B$3,'Misc Dropdowns'!$B$7:$C$20,2,FALSE)))","v":""},{"$f":"IF(D16=\"\",\"\",'Order Form'!$M$3)","v":""},{"$f":"IF(D16=\"\",\"\",IF('Order Form'!$K$132=\"Delivery:\",'Order Form'!$M$132,'Order Form'!$M$131))","v":""}]
["Item List",null,{"$f":"UPPER(IF(AND('Order Form'!$M$4=\"\",D17=\"\"),\"\",IF(D17=\"\",\"\",'Order Form'!$M$4)))","v":""},{"$f":"IF(AND('Order Form'!C37=\"\",'Order Form'!J37<>\"\"),\"/C\",UPPER(IF('Order Form'!D37=0,\"\",IFERROR(CONCATENATE(CONCAT!B25,CONCAT!C25)&(CONCAT!D25),\"\"))))","v":""},{"$f":"IF(D17=\"\",\"\",IF(D17=\"/C\",\"\",'Order Form'!D37))","v":""},{"$f":"UPPER(IF(D17=\"\",\"\",IF('Order Form'!H37=\"\",\"\",\" \"&'Order Form'!H37)&IF('Order Form'!J37=\"\",\"\",\" \"&'Order Form'!J37)&'Order Form'!AO37&'Order Form'!AP37&'Order Form'!AQ37))","v":""},{"$f":"IF(D17=\"\",\"\",IF(D17=\"/C\",\"\",IF('Order Form'!L37=0,IF('Order Form'!K37=0,\"\",'Order Form'!K37/'Order Form'!D37),'Order Form'!L37+('Order Form'!K37/'Order Form'!D37))))","v":""},"",{"$f":"UPPER(IF(D17=\"\",\"\",CONCAT!$G$3))","v":""},{"$f":"UPPER(IF(D17=\"\",\"\",CONCAT!$G$4))","v":""},{"$f":"UPPER(IF(D17=\"\",\"\",CONCAT!$G$5))","v":""},{"$f":"UPPER(IF(D17=\"\",\"\",CONCAT!$G$6))","v":""},{"$f":"UPPER(IF(D17=\"\",\"\",CONCAT!$G$7))","v":""},{"$f":"UPPER(IF(D17=\"\",\"\",CONCAT!$G$2))","v":""},{"$f":"UPPER(IF(D17=\"\",\"\",CONCAT!$G$8))","v":""},"",{"$f":"UPPER(IF(D17=\"\",\"\",'Order Form'!$J$4))","v":""},{"$f":"UPPER(IF(D17=\"\",\"\",(UPPER(IF(CONCAT!$G$2=\"SELECT\",\"SELECT \"&CONCAT!$G$3,CONCAT!$G$1&Species!$G$6&'Door Style'!$I$6&Color!$Q$6&'Drawer Head'!$H$6&'Custom Finish'!$G$6)))))","v":""},null,{"$f":"IF(D17=\"\",\"\",CONCAT!$J$2)","v":""},{"$f":"IF(D17=\"\",\"\",CONCAT!$J$3)","v":""},{"$f":"IF(D17=\"\",\"\",'Order Form'!$J$6)","v":""},{"$f":"UPPER(IF(D17=\"\",\"\",'Order Form'!$J$3&\" - \"&LEFT('Order Form'!$J$5,3)&\"-\"&MID('Order Form'!$J$5,4,3)&\"-\"&RIGHT('Order Form'!$J$5,4)))","v":""},{"$f":"UPPER(IF(D17=\"\",\"\",VLOOKUP('Misc Dropdowns'!$B$3,'Misc Dropdowns'!$B$7:$C$20,2,FALSE)))","v":""},{"$f":"IF(D17=\"\",\"\",'Order Form'!$M$3)","v":""},{"$f":"IF(D17=\"\",\"\",IF('Order Form'!$K$132=\"Delivery:\",'Order Form'!$M$132,'Order Form'!$M$131))","v":""}]
["Item List",null,{"$f":"UPPER(IF(AND('Order Form'!$M$4=\"\",D18=\"\"),\"\",IF(D18=\"\",\"\",'Order Form'!$M$4)))","v":""},{"$f":"IF(AND('Order Form'!C38=\"\",'Order Form'!J38<>\"\"),\"/C\",UPPER(IF('Order Form'!D38=0,\"\",IFERROR(CONCATENATE(CONCAT!B26,CONCAT!C26)&(CONCAT!D26),\"\"))))","v":""},{"$f":"IF(D18=\"\",\"\",IF(D18=\"/C\",\"\",'Order Form'!D38))","v":""},{"$f":"UPPER(IF(D18=\"\",\"\",IF('Order Form'!H38=\"\",\"\",\" \"&'Order Form'!H38)&IF('Order Form'!J38=\"\",\"\",\" \"&'Order Form'!J38)&'Order Form'!AO38&'Order Form'!AP38&'Order Form'!AQ38))","v":""},{"$f":"IF(D18=\"\",\"\",IF(D18=\"/C\",\"\",IF('Order Form'!L38=0,IF('Order Form'!K38=0,\"\",'Order Form'!K38/'Order Form'!D38),'Order Form'!L38+('Order Form'!K38/'Order Form'!D38))))","v":""},"",{"$f":"UPPER(IF(D18=\"\",\"\",CONCAT!$G$3))","v":""},{"$f":"UPPER(IF(D18=\"\",\"\",CONCAT!$G$4))","v":""},{"$f":"UPPER(IF(D18=\"\",\"\",CONCAT!$G$5))","v":""},{"$f":"UPPER(IF(D18=\"\",\"\",CONCAT!$G$6))","v":""},{"$f":"UPPER(IF(D18=\"\",\"\",CONCAT!$G$7))","v":""},{"$f":"UPPER(IF(D18=\"\",\"\",CONCAT!$G$2))","v":""},{"$f":"UPPER(IF(D18=\"\",\"\",CONCAT!$G$8))","v":""},"",{"$f":"UPPER(IF(D18=\"\",\"\",'Order Form'!$J$4))","v":""},{"$f":"UPPER(IF(D18=\"\",\"\",(UPPER(IF(CONCAT!$G$2=\"SELECT\",\"SELECT \"&CONCAT!$G$3,CONCAT!$G$1&Species!$G$6&'Door Style'!$I$6&Color!$Q$6&'Drawer Head'!$H$6&'Custom Finish'!$G$6)))))","v":""},null,{"$f":"IF(D18=\"\",\"\",CONCAT!$J$2)","v":""},{"$f":"IF(D18=\"\",\"\",CONCAT!$J$3)","v":""},{"$f":"IF(D18=\"\",\"\",'Order Form'!$J$6)","v":""},{"$f":"UPPER(IF(D18=\"\",\"\",'Order Form'!$J$3&\" - \"&LEFT('Order Form'!$J$5,3)&\"-\"&MID('Order Form'!$J$5,4,3)&\"-\"&RIGHT('Order Form'!$J$5,4)))","v":""},{"$f":"UPPER(IF(D18=\"\",\"\",VLOOKUP('Misc Dropdowns'!$B$3,'Misc Dropdowns'!$B$7:$C$20,2,FALSE)))","v":""},{"$f":"IF(D18=\"\",\"\",'Order Form'!$M$3)","v":""},{"$f":"IF(D18=\"\",\"\",IF('Order Form'!$K$132=\"Delivery:\",'Order Form'!$M$132,'Order Form'!$M$131))","v":""}]
["Item List",null,{"$f":"UPPER(IF(AND('Order Form'!$M$4=\"\",D19=\"\"),\"\",IF(D19=\"\",\"\",'Order Form'!$M$4)))","v":""},{"$f":"IF(AND('Order Form'!C39=\"\",'Order Form'!J39<>\"\"),\"/C\",UPPER(IF('Order Form'!D39=0,\"\",IFERROR(CONCATENATE(CONCAT!B27,CONCAT!C27)&(CONCAT!D27),\"\"))))","v":""},{"$f":"IF(D19=\"\",\"\",IF(D19=\"/C\",\"\",'Order Form'!D39))","v":""},{"$f":"UPPER(IF(D19=\"\",\"\",IF('Order Form'!H39=\"\",\"\",\" \"&'Order Form'!H39)&IF('Order Form'!J39=\"\",\"\",\" \"&'Order Form'!J39)&'Order Form'!AO39&'Order Form'!AP39&'Order Form'!AQ39))","v":""},{"$f":"IF(D19=\"\",\"\",IF(D19=\"/C\",\"\",IF('Order Form'!L39=0,IF('Order Form'!K39=0,\"\",'Order Form'!K39/'Order Form'!D39),'Order Form'!L39+('Order Form'!K39/'Order Form'!D39))))","v":""},"",{"$f":"UPPER(IF(D19=\"\",\"\",CONCAT!$G$3))","v":""},{"$f":"UPPER(IF(D19=\"\",\"\",CONCAT!$G$4))","v":""},{"$f":"UPPER(IF(D19=\"\",\"\",CONCAT!$G$5))","v":""},{"$f":"UPPER(IF(D19=\"\",\"\",CONCAT!$G$6))","v":""},{"$f":"UPPER(IF(D19=\"\",\"\",CONCAT!$G$7))","v":""},{"$f":"UPPER(IF(D19=\"\",\"\",CONCAT!$G$2))","v":""},{"$f":"UPPER(IF(D19=\"\",\"\",CONCAT!$G$8))","v":""},"",{"$f":"UPPER(IF(D19=\"\",\"\",'Order Form'!$J$4))","v":""},{"$f":"UPPER(IF(D19=\"\",\"\",(UPPER(IF(CONCAT!$G$2=\"SELECT\",\"SELECT \"&CONCAT!$G$3,CONCAT!$G$1&Species!$G$6&'Door Style'!$I$6&Color!$Q$6&'Drawer Head'!$H$6&'Custom Finish'!$G$6)))))","v":""},null,{"$f":"IF(D19=\"\",\"\",CONCAT!$J$2)","v":""},{"$f":"IF(D19=\"\",\"\",CONCAT!$J$3)","v":""},{"$f":"IF(D19=\"\",\"\",'Order Form'!$J$6)","v":""},{"$f":"UPPER(IF(D19=\"\",\"\",'Order Form'!$J$3&\" - \"&LEFT('Order Form'!$J$5,3)&\"-\"&MID('Order Form'!$J$5,4,3)&\"-\"&RIGHT('Order Form'!$J$5,4)))","v":""},{"$f":"UPPER(IF(D19=\"\",\"\",VLOOKUP('Misc Dropdowns'!$B$3,'Misc Dropdowns'!$B$7:$C$20,2,FALSE)))","v":""},{"$f":"IF(D19=\"\",\"\",'Order Form'!$M$3)","v":""},{"$f":"IF(D19=\"\",\"\",IF('Order Form'!$K$132=\"Delivery:\",'Order Form'!$M$132,'Order Form'!$M$131))","v":""}]
["Item List",null,{"$f":"UPPER(IF(AND('Order Form'!$M$4=\"\",D20=\"\"),\"\",IF(D20=\"\",\"\",'Order Form'!$M$4)))","v":""},{"$f":"IF(AND('Order Form'!C40=\"\",'Order Form'!J40<>\"\"),\"/C\",UPPER(IF('Order Form'!D40=0,\"\",IFERROR(CONCATENATE(CONCAT!B28,CONCAT!C28)&(CONCAT!D28),\"\"))))","v":""},{"$f":"IF(D20=\"\",\"\",IF(D20=\"/C\",\"\",'Order Form'!D40))","v":""},{"$f":"UPPER(IF(D20=\"\",\"\",IF('Order Form'!H40=\"\",\"\",\" \"&'Order Form'!H40)&IF('Order Form'!J40=\"\",\"\",\" \"&'Order Form'!J40)&'Order Form'!AO40&'Order Form'!AP40&'Order Form'!AQ40))","v":""},{"$f":"IF(D20=\"\",\"\",IF(D20=\"/C\",\"\",IF('Order Form'!L40=0,IF('Order Form'!K40=0,\"\",'Order Form'!K40/'Order Form'!D40),'Order Form'!L40+('Order Form'!K40/'Order Form'!D40))))","v":""},"",{"$f":"UPPER(IF(D20=\"\",\"\",CONCAT!$G$3))","v":""},{"$f":"UPPER(IF(D20=\"\",\"\",CONCAT!$G$4))","v":""},{"$f":"UPPER(IF(D20=\"\",\"\",CONCAT!$G$5))","v":""},{"$f":"UPPER(IF(D20=\"\",\"\",CONCAT!$G$6))","v":""},{"$f":"UPPER(IF(D20=\"\",\"\",CONCAT!$G$7))","v":""},{"$f":"UPPER(IF(D20=\"\",\"\",CONCAT!$G$2))","v":""},{"$f":"UPPER(IF(D20=\"\",\"\",CONCAT!$G$8))","v":""},"",{"$f":"UPPER(IF(D20=\"\",\"\",'Order Form'!$J$4))","v":""},{"$f":"UPPER(IF(D20=\"\",\"\",(UPPER(IF(CONCAT!$G$2=\"SELECT\",\"SELECT \"&CONCAT!$G$3,CONCAT!$G$1&Species!$G$6&'Door Style'!$I$6&Color!$Q$6&'Drawer Head'!$H$6&'Custom Finish'!$G$6)))))","v":""},null,{"$f":"IF(D20=\"\",\"\",CONCAT!$J$2)","v":""},{"$f":"IF(D20=\"\",\"\",CONCAT!$J$3)","v":""},{"$f":"IF(D20=\"\",\"\",'Order Form'!$J$6)","v":""},{"$f":"UPPER(IF(D20=\"\",\"\",'Order Form'!$J$3&\" - \"&LEFT('Order Form'!$J$5,3)&\"-\"&MID('Order Form'!$J$5,4,3)&\"-\"&RIGHT('Order Form'!$J$5,4)))","v":""},{"$f":"UPPER(IF(D20=\"\",\"\",VLOOKUP('Misc Dropdowns'!$B$3,'Misc Dropdowns'!$B$7:$C$20,2,FALSE)))","v":""},{"$f":"IF(D20=\"\",\"\",'Order Form'!$M$3)","v":""},{"$f":"IF(D20=\"\",\"\",IF('Order Form'!$K$132=\"Delivery:\",'Order Form'!$M$132,'Order Form'!$M$131))","v":""}]
["Item List",null,{"$f":"UPPER(IF(AND('Order Form'!$M$4=\"\",D21=\"\"),\"\",IF(D21=\"\",\"\",'Order Form'!$M$4)))","v":""},{"$f":"IF(AND('Order Form'!C41=\"\",'Order Form'!J41<>\"\"),\"/C\",UPPER(IF('Order Form'!D41=0,\"\",IFERROR(CONCATENATE(CONCAT!B29,CONCAT!C29)&(CONCAT!D29),\"\"))))","v":""},{"$f":"IF(D21=\"\",\"\",IF(D21=\"/C\",\"\",'Order Form'!D41))","v":""},{"$f":"UPPER(IF(D21=\"\",\"\",IF('Order Form'!H41=\"\",\"\",\" \"&'Order Form'!H41)&IF('Order Form'!J41=\"\",\"\",\" \"&'Order Form'!J41)&'Order Form'!AO41&'Order Form'!AP41&'Order Form'!AQ41))","v":""},{"$f":"IF(D21=\"\",\"\",IF(D21=\"/C\",\"\",IF('Order Form'!L41=0,IF('Order Form'!K41=0,\"\",'Order Form'!K41/'Order Form'!D41),'Order Form'!L41+('Order Form'!K41/'Order Form'!D41))))","v":""},"",{"$f":"UPPER(IF(D21=\"\",\"\",CONCAT!$G$3))","v":""},{"$f":"UPPER(IF(D21=\"\",\"\",CONCAT!$G$4))","v":""},{"$f":"UPPER(IF(D21=\"\",\"\",CONCAT!$G$5))","v":""},{"$f":"UPPER(IF(D21=\"\",\"\",CONCAT!$G$6))","v":""},{"$f":"UPPER(IF(D21=\"\",\"\",CONCAT!$G$7))","v":""},{"$f":"UPPER(IF(D21=\"\",\"\",CONCAT!$G$2))","v":""},{"$f":"UPPER(IF(D21=\"\",\"\",CONCAT!$G$8))","v":""},"",{"$f":"UPPER(IF(D21=\"\",\"\",'Order Form'!$J$4))","v":""},{"$f":"UPPER(IF(D21=\"\",\"\",(UPPER(IF(CONCAT!$G$2=\"SELECT\",\"SELECT \"&CONCAT!$G$3,CONCAT!$G$1&Species!$G$6&'Door Style'!$I$6&Color!$Q$6&'Drawer Head'!$H$6&'Custom Finish'!$G$6)))))","v":""},null,{"$f":"IF(D21=\"\",\"\",CONCAT!$J$2)","v":""},{"$f":"IF(D21=\"\",\"\",CONCAT!$J$3)","v":""},{"$f":"IF(D21=\"\",\"\",'Order Form'!$J$6)","v":""},{"$f":"UPPER(IF(D21=\"\",\"\",'Order Form'!$J$3&\" - \"&LEFT('Order Form'!$J$5,3)&\"-\"&MID('Order Form'!$J$5,4,3)&\"-\"&RIGHT('Order Form'!$J$5,4)))","v":""},{"$f":"UPPER(IF(D21=\"\",\"\",VLOOKUP('Misc Dropdowns'!$B$3,'Misc Dropdowns'!$B$7:$C$20,2,FALSE)))","v":""},{"$f":"IF(D21=\"\",\"\",'Order Form'!$M$3)","v":""},{"$f":"IF(D21=\"\",\"\",IF('Order Form'!$K$132=\"Delivery:\",'Order Form'!$M$132,'Order Form'!$M$131))","v":""}]
["Item List",null,{"$f":"UPPER(IF(AND('Order Form'!$M$4=\"\",D22=\"\"),\"\",IF(D22=\"\",\"\",'Order Form'!$M$4)))","v":""},{"$f":"IF(AND('Order Form'!C42=\"\",'Order Form'!J42<>\"\"),\"/C\",UPPER(IF('Order Form'!D42=0,\"\",IFERROR(CONCATENATE(CONCAT!B30,CONCAT!C30)&(CONCAT!D30),\"\"))))","v":""},{"$f":"IF(D22=\"\",\"\",IF(D22=\"/C\",\"\",'Order Form'!D42))","v":""},{"$f":"UPPER(IF(D22=\"\",\"\",IF('Order Form'!H42=\"\",\"\",\" \"&'Order Form'!H42)&IF('Order Form'!J42=\"\",\"\",\" \"&'Order Form'!J42)&'Order Form'!AO42&'Order Form'!AP42&'Order Form'!AQ42))","v":""},{"$f":"IF(D22=\"\",\"\",IF(D22=\"/C\",\"\",IF('Order Form'!L42=0,IF('Order Form'!K42=0,\"\",'Order Form'!K42/'Order Form'!D42),'Order Form'!L42+('Order Form'!K42/'Order Form'!D42))))","v":""},"",{"$f":"UPPER(IF(D22=\"\",\"\",CONCAT!$G$3))","v":""},{"$f":"UPPER(IF(D22=\"\",\"\",CONCAT!$G$4))","v":""},{"$f":"UPPER(IF(D22=\"\",\"\",CONCAT!$G$5))","v":""},{"$f":"UPPER(IF(D22=\"\",\"\",CONCAT!$G$6))","v":""},{"$f":"UPPER(IF(D22=\"\",\"\",CONCAT!$G$7))","v":""},{"$f":"UPPER(IF(D22=\"\",\"\",CONCAT!$G$2))","v":""},{"$f":"UPPER(IF(D22=\"\",\"\",CONCAT!$G$8))","v":""},"",{"$f":"UPPER(IF(D22=\"\",\"\",'Order Form'!$J$4))","v":""},{"$f":"UPPER(IF(D22=\"\",\"\",(UPPER(IF(CONCAT!$G$2=\"SELECT\",\"SELECT \"&CONCAT!$G$3,CONCAT!$G$1&Species!$G$6&'Door Style'!$I$6&Color!$Q$6&'Drawer Head'!$H$6&'Custom Finish'!$G$6)))))","v":""},null,{"$f":"IF(D22=\"\",\"\",CONCAT!$J$2)","v":""},{"$f":"IF(D22=\"\",\"\",CONCAT!$J$3)","v":""},{"$f":"IF(D22=\"\",\"\",'Order Form'!$J$6)","v":""},{"$f":"UPPER(IF(D22=\"\",\"\",'Order Form'!$J$3&\" - \"&LEFT('Order Form'!$J$5,3)&\"-\"&MID('Order Form'!$J$5,4,3)&\"-\"&RIGHT('Order Form'!$J$5,4)))","v":""},{"$f":"UPPER(IF(D22=\"\",\"\",VLOOKUP('Misc Dropdowns'!$B$3,'Misc Dropdowns'!$B$7:$C$20,2,FALSE)))","v":""},{"$f":"IF(D22=\"\",\"\",'Order Form'!$M$3)","v":""},{"$f":"IF(D22=\"\",\"\",IF('Order Form'!$K$132=\"Delivery:\",'Order Form'!$M$132,'Order Form'!$M$131))","v":""}]
["Item List",null,{"$f":"UPPER(IF(AND('Order Form'!$M$4=\"\",D23=\"\"),\"\",IF(D23=\"\",\"\",'Order Form'!$M$4)))","v":""},{"$f":"IF(AND('Order Form'!C43=\"\",'Order Form'!J43<>\"\"),\"/C\",UPPER(IF('Order Form'!D43=0,\"\",IFERROR(CONCATENATE(CONCAT!B31,CONCAT!C31)&(CONCAT!D31),\"\"))))","v":""},{"$f":"IF(D23=\"\",\"\",IF(D23=\"/C\",\"\",'Order Form'!D43))","v":""},{"$f":"UPPER(IF(D23=\"\",\"\",IF('Order Form'!H43=\"\",\"\",\" \"&'Order Form'!H43)&IF('Order Form'!J43=\"\",\"\",\" \"&'Order Form'!J43)&'Order Form'!AO43&'Order Form'!AP43&'Order Form'!AQ43))","v":""},{"$f":"IF(D23=\"\",\"\",IF(D23=\"/C\",\"\",IF('Order Form'!L43=0,IF('Order Form'!K43=0,\"\",'Order Form'!K43/'Order Form'!D43),'Order Form'!L43+('Order Form'!K43/'Order Form'!D43))))","v":""},"",{"$f":"UPPER(IF(D23=\"\",\"\",CONCAT!$G$3))","v":""},{"$f":"UPPER(IF(D23=\"\",\"\",CONCAT!$G$4))","v":""},{"$f":"UPPER(IF(D23=\"\",\"\",CONCAT!$G$5))","v":""},{"$f":"UPPER(IF(D23=\"\",\"\",CONCAT!$G$6))","v":""},{"$f":"UPPER(IF(D23=\"\",\"\",CONCAT!$G$7))","v":""},{"$f":"UPPER(IF(D23=\"\",\"\",CONCAT!$G$2))","v":""},{"$f":"UPPER(IF(D23=\"\",\"\",CONCAT!$G$8))","v":""},"",{"$f":"UPPER(IF(D23=\"\",\"\",'Order Form'!$J$4))","v":""},{"$f":"UPPER(IF(D23=\"\",\"\",(UPPER(IF(CONCAT!$G$2=\"SELECT\",\"SELECT \"&CONCAT!$G$3,CONCAT!$G$1&Species!$G$6&'Door Style'!$I$6&Color!$Q$6&'Drawer Head'!$H$6&'Custom Finish'!$G$6)))))","v":""},null,{"$f":"IF(D23=\"\",\"\",CONCAT!$J$2)","v":""},{"$f":"IF(D23=\"\",\"\",CONCAT!$J$3)","v":""},{"$f":"IF(D23=\"\",\"\",'Order Form'!$J$6)","v":""},{"$f":"UPPER(IF(D23=\"\",\"\",'Order Form'!$J$3&\" - \"&LEFT('Order Form'!$J$5,3)&\"-\"&MID('Order Form'!$J$5,4,3)&\"-\"&RIGHT('Order Form'!$J$5,4)))","v":""},{"$f":"UPPER(IF(D23=\"\",\"\",VLOOKUP('Misc Dropdowns'!$B$3,'Misc Dropdowns'!$B$7:$C$20,2,FALSE)))","v":""},{"$f":"IF(D23=\"\",\"\",'Order Form'!$M$3)","v":""},{"$f":"IF(D23=\"\",\"\",IF('Order Form'!$K$132=\"Delivery:\",'Order Form'!$M$132,'Order Form'!$M$131))","v":""}]
["Item List",null,{"$f":"UPPER(IF(AND('Order Form'!$M$4=\"\",D24=\"\"),\"\",IF(D24=\"\",\"\",'Order Form'!$M$4)))","v":""},{"$f":"IF(AND('Order Form'!C44=\"\",'Order Form'!J44<>\"\"),\"/C\",UPPER(IF('Order Form'!D44=0,\"\",IFERROR(CONCATENATE(CONCAT!B32,CONCAT!C32)&(CONCAT!D32),\"\"))))","v":""},{"$f":"IF(D24=\"\",\"\",IF(D24=\"/C\",\"\",'Order Form'!D44))","v":""},{"$f":"UPPER(IF(D24=\"\",\"\",IF('Order Form'!H44=\"\",\"\",\" \"&'Order Form'!H44)&IF('Order Form'!J44=\"\",\"\",\" \"&'Order Form'!J44)&'Order Form'!AO44&'Order Form'!AP44&'Order Form'!AQ44))","v":""},{"$f":"IF(D24=\"\",\"\",IF(D24=\"/C\",\"\",IF('Order Form'!L44=0,IF('Order Form'!K44=0,\"\",'Order Form'!K44/'Order Form'!D44),'Order Form'!L44+('Order Form'!K44/'Order Form'!D44))))","v":""},"",{"$f":"UPPER(IF(D24=\"\",\"\",CONCAT!$G$3))","v":""},{"$f":"UPPER(IF(D24=\"\",\"\",CONCAT!$G$4))","v":""},{"$f":"UPPER(IF(D24=\"\",\"\",CONCAT!$G$5))","v":""},{"$f":"UPPER(IF(D24=\"\",\"\",CONCAT!$G$6))","v":""},{"$f":"UPPER(IF(D24=\"\",\"\",CONCAT!$G$7))","v":""},{"$f":"UPPER(IF(D24=\"\",\"\",CONCAT!$G$2))","v":""},{"$f":"UPPER(IF(D24=\"\",\"\",CONCAT!$G$8))","v":""},"",{"$f":"UPPER(IF(D24=\"\",\"\",'Order Form'!$J$4))","v":""},{"$f":"UPPER(IF(D24=\"\",\"\",(UPPER(IF(CONCAT!$G$2=\"SELECT\",\"SELECT \"&CONCAT!$G$3,CONCAT!$G$1&Species!$G$6&'Door Style'!$I$6&Color!$Q$6&'Drawer Head'!$H$6&'Custom Finish'!$G$6)))))","v":""},null,{"$f":"IF(D24=\"\",\"\",CONCAT!$J$2)","v":""},{"$f":"IF(D24=\"\",\"\",CONCAT!$J$3)","v":""},{"$f":"IF(D24=\"\",\"\",'Order Form'!$J$6)","v":""},{"$f":"UPPER(IF(D24=\"\",\"\",'Order Form'!$J$3&\" - \"&LEFT('Order Form'!$J$5,3)&\"-\"&MID('Order Form'!$J$5,4,3)&\"-\"&RIGHT('Order Form'!$J$5,4)))","v":""},{"$f":"UPPER(IF(D24=\"\",\"\",VLOOKUP('Misc Dropdowns'!$B$3,'Misc Dropdowns'!$B$7:$C$20,2,FALSE)))","v":""},{"$f":"IF(D24=\"\",\"\",'Order Form'!$M$3)","v":""},{"$f":"IF(D24=\"\",\"\",IF('Order Form'!$K$132=\"Delivery:\",'Order Form'!$M$132,'Order Form'!$M$131))","v":""}]
["Item List",null,{"$f":"UPPER(IF(AND('Order Form'!$M$4=\"\",D25=\"\"),\"\",IF(D25=\"\",\"\",'Order Form'!$M$4)))","v":""},{"$f":"IF(AND('Order Form'!C45=\"\",'Order Form'!J45<>\"\"),\"/C\",UPPER(IF('Order Form'!D45=0,\"\",IFERROR(CONCATENATE(CONCAT!B33,CONCAT!C33)&(CONCAT!D33),\"\"))))","v":""},{"$f":"IF(D25=\"\",\"\",IF(D25=\"/C\",\"\",'Order Form'!D45))","v":""},{"$f":"UPPER(IF(D25=\"\",\"\",IF('Order Form'!H45=\"\",\"\",\" \"&'Order Form'!H45)&IF('Order Form'!J45=\"\",\"\",\" \"&'Order Form'!J45)&'Order Form'!AO45&'Order Form'!AP45&'Order Form'!AQ45))","v":""},{"$f":"IF(D25=\"\",\"\",IF(D25=\"/C\",\"\",IF('Order Form'!L45=0,IF('Order Form'!K45=0,\"\",'Order Form'!K45/'Order Form'!D45),'Order Form'!L45+('Order Form'!K45/'Order Form'!D45))))","v":""},"",{"$f":"UPPER(IF(D25=\"\",\"\",CONCAT!$G$3))","v":""},{"$f":"UPPER(IF(D25=\"\",\"\",CONCAT!$G$4))","v":""},{"$f":"UPPER(IF(D25=\"\",\"\",CONCAT!$G$5))","v":""},{"$f":"UPPER(IF(D25=\"\",\"\",CONCAT!$G$6))","v":""},{"$f":"UPPER(IF(D25=\"\",\"\",CONCAT!$G$7))","v":""},{"$f":"UPPER(IF(D25=\"\",\"\",CONCAT!$G$2))","v":""},{"$f":"UPPER(IF(D25=\"\",\"\",CONCAT!$G$8))","v":""},"",{"$f":"UPPER(IF(D25=\"\",\"\",'Order Form'!$J$4))","v":""},{"$f":"UPPER(IF(D25=\"\",\"\",(UPPER(IF(CONCAT!$G$2=\"SELECT\",\"SELECT \"&CONCAT!$G$3,CONCAT!$G$1&Species!$G$6&'Door Style'!$I$6&Color!$Q$6&'Drawer Head'!$H$6&'Custom Finish'!$G$6)))))","v":""},null,{"$f":"IF(D25=\"\",\"\",CONCAT!$J$2)","v":""},{"$f":"IF(D25=\"\",\"\",CONCAT!$J$3)","v":""},{"$f":"IF(D25=\"\",\"\",'Order Form'!$J$6)","v":""},{"$f":"UPPER(IF(D25=\"\",\"\",'Order Form'!$J$3&\" - \"&LEFT('Order Form'!$J$5,3)&\"-\"&MID('Order Form'!$J$5,4,3)&\"-\"&RIGHT('Order Form'!$J$5,4)))","v":""},{"$f":"UPPER(IF(D25=\"\",\"\",VLOOKUP('Misc Dropdowns'!$B$3,'Misc Dropdowns'!$B$7:$C$20,2,FALSE)))","v":""},{"$f":"IF(D25=\"\",\"\",'Order Form'!$M$3)","v":""},{"$f":"IF(D25=\"\",\"\",IF('Order Form'!$K$132=\"Delivery:\",'Order Form'!$M$132,'Order Form'!$M$131))","v":""}]
["Item List",null,{"$f":"UPPER(IF(AND('Order Form'!$M$4=\"\",D26=\"\"),\"\",IF(D26=\"\",\"\",'Order Form'!$M$4)))","v":""},{"$f":"IF(AND('Order Form'!C46=\"\",'Order Form'!J46<>\"\"),\"/C\",UPPER(IF('Order Form'!D46=0,\"\",IFERROR(CONCATENATE(CONCAT!B34,CONCAT!C34)&(CONCAT!D34),\"\"))))","v":""},{"$f":"IF(D26=\"\",\"\",IF(D26=\"/C\",\"\",'Order Form'!D46))","v":""},{"$f":"UPPER(IF(D26=\"\",\"\",IF('Order Form'!H46=\"\",\"\",\" \"&'Order Form'!H46)&IF('Order Form'!J46=\"\",\"\",\" \"&'Order Form'!J46)&'Order Form'!AO46&'Order Form'!AP46&'Order Form'!AQ46))","v":""},{"$f":"IF(D26=\"\",\"\",IF(D26=\"/C\",\"\",IF('Order Form'!L46=0,IF('Order Form'!K46=0,\"\",'Order Form'!K46/'Order Form'!D46),'Order Form'!L46+('Order Form'!K46/'Order Form'!D46))))","v":""},"",{"$f":"UPPER(IF(D26=\"\",\"\",CONCAT!$G$3))","v":""},{"$f":"UPPER(IF(D26=\"\",\"\",CONCAT!$G$4))","v":""},{"$f":"UPPER(IF(D26=\"\",\"\",CONCAT!$G$5))","v":""},{"$f":"UPPER(IF(D26=\"\",\"\",CONCAT!$G$6))","v":""},{"$f":"UPPER(IF(D26=\"\",\"\",CONCAT!$G$7))","v":""},{"$f":"UPPER(IF(D26=\"\",\"\",CONCAT!$G$2))","v":""},{"$f":"UPPER(IF(D26=\"\",\"\",CONCAT!$G$8))","v":""},"",{"$f":"UPPER(IF(D26=\"\",\"\",'Order Form'!$J$4))","v":""},{"$f":"UPPER(IF(D26=\"\",\"\",(UPPER(IF(CONCAT!$G$2=\"SELECT\",\"SELECT \"&CONCAT!$G$3,CONCAT!$G$1&Species!$G$6&'Door Style'!$I$6&Color!$Q$6&'Drawer Head'!$H$6&'Custom Finish'!$G$6)))))","v":""},null,{"$f":"IF(D26=\"\",\"\",CONCAT!$J$2)","v":""},{"$f":"IF(D26=\"\",\"\",CONCAT!$J$3)","v":""},{"$f":"IF(D26=\"\",\"\",'Order Form'!$J$6)","v":""},{"$f":"UPPER(IF(D26=\"\",\"\",'Order Form'!$J$3&\" - \"&LEFT('Order Form'!$J$5,3)&\"-\"&MID('Order Form'!$J$5,4,3)&\"-\"&RIGHT('Order Form'!$J$5,4)))","v":""},{"$f":"UPPER(IF(D26=\"\",\"\",VLOOKUP('Misc Dropdowns'!$B$3,'Misc Dropdowns'!$B$7:$C$20,2,FALSE)))","v":""},{"$f":"IF(D26=\"\",\"\",'Order Form'!$M$3)","v":""},{"$f":"IF(D26=\"\",\"\",IF('Order Form'!$K$132=\"Delivery:\",'Order Form'!$M$132,'Order Form'!$M$131))","v":""}]
["Item List",null,{"$f":"UPPER(IF(AND('Order Form'!$M$4=\"\",D27=\"\"),\"\",IF(D27=\"\",\"\",'Order Form'!$M$4)))","v":""},{"$f":"IF(AND('Order Form'!C47=\"\",'Order Form'!J47<>\"\"),\"/C\",UPPER(IF('Order Form'!D47=0,\"\",IFERROR(CONCATENATE(CONCAT!B35,CONCAT!C35)&(CONCAT!D35),\"\"))))","v":""},{"$f":"IF(D27=\"\",\"\",IF(D27=\"/C\",\"\",'Order Form'!D47))","v":""},{"$f":"UPPER(IF(D27=\"\",\"\",IF('Order Form'!H47=\"\",\"\",\" \"&'Order Form'!H47)&IF('Order Form'!J47=\"\",\"\",\" \"&'Order Form'!J47)&'Order Form'!AO47&'Order Form'!AP47&'Order Form'!AQ47))","v":""},{"$f":"IF(D27=\"\",\"\",IF(D27=\"/C\",\"\",IF('Order Form'!L47=0,IF('Order Form'!K47=0,\"\",'Order Form'!K47/'Order Form'!D47),'Order Form'!L47+('Order Form'!K47/'Order Form'!D47))))","v":""},"",{"$f":"UPPER(IF(D27=\"\",\"\",CONCAT!$G$3))","v":""},{"$f":"UPPER(IF(D27=\"\",\"\",CONCAT!$G$4))","v":""},{"$f":"UPPER(IF(D27=\"\",\"\",CONCAT!$G$5))","v":""},{"$f":"UPPER(IF(D27=\"\",\"\",CONCAT!$G$6))","v":""},{"$f":"UPPER(IF(D27=\"\",\"\",CONCAT!$G$7))","v":""},{"$f":"UPPER(IF(D27=\"\",\"\",CONCAT!$G$2))","v":""},{"$f":"UPPER(IF(D27=\"\",\"\",CONCAT!$G$8))","v":""},"",{"$f":"UPPER(IF(D27=\"\",\"\",'Order Form'!$J$4))","v":""},{"$f":"UPPER(IF(D27=\"\",\"\",(UPPER(IF(CONCAT!$G$2=\"SELECT\",\"SELECT \"&CONCAT!$G$3,CONCAT!$G$1&Species!$G$6&'Door Style'!$I$6&Color!$Q$6&'Drawer Head'!$H$6&'Custom Finish'!$G$6)))))","v":""},null,{"$f":"IF(D27=\"\",\"\",CONCAT!$J$2)","v":""},{"$f":"IF(D27=\"\",\"\",CONCAT!$J$3)","v":""},{"$f":"IF(D27=\"\",\"\",'Order Form'!$J$6)","v":""},{"$f":"UPPER(IF(D27=\"\",\"\",'Order Form'!$J$3&\" - \"&LEFT('Order Form'!$J$5,3)&\"-\"&MID('Order Form'!$J$5,4,3)&\"-\"&RIGHT('Order Form'!$J$5,4)))","v":""},{"$f":"UPPER(IF(D27=\"\",\"\",VLOOKUP('Misc Dropdowns'!$B$3,'Misc Dropdowns'!$B$7:$C$20,2,FALSE)))","v":""},{"$f":"IF(D27=\"\",\"\",'Order Form'!$M$3)","v":""},{"$f":"IF(D27=\"\",\"\",IF('Order Form'!$K$132=\"Delivery:\",'Order Form'!$M$132,'Order Form'!$M$131))","v":""}]
["Item List",null,{"$f":"UPPER(IF(AND('Order Form'!$M$4=\"\",D28=\"\"),\"\",IF(D28=\"\",\"\",'Order Form'!$M$4)))","v":""},{"$f":"IF(AND('Order Form'!C48=\"\",'Order Form'!J48<>\"\"),\"/C\",UPPER(IF('Order Form'!D48=0,\"\",IFERROR(CONCATENATE(CONCAT!B36,CONCAT!C36)&(CONCAT!D36),\"\"))))","v":""},{"$f":"IF(D28=\"\",\"\",IF(D28=\"/C\",\"\",'Order Form'!D48))","v":""},{"$f":"UPPER(IF(D28=\"\",\"\",IF('Order Form'!H48=\"\",\"\",\" \"&'Order Form'!H48)&IF('Order Form'!J48=\"\",\"\",\" \"&'Order Form'!J48)&'Order Form'!AO48&'Order Form'!AP48&'Order Form'!AQ48))","v":""},{"$f":"IF(D28=\"\",\"\",IF(D28=\"/C\",\"\",IF('Order Form'!L48=0,IF('Order Form'!K48=0,\"\",'Order Form'!K48/'Order Form'!D48),'Order Form'!L48+('Order Form'!K48/'Order Form'!D48))))","v":""},"",{"$f":"UPPER(IF(D28=\"\",\"\",CONCAT!$G$3))","v":""},{"$f":"UPPER(IF(D28=\"\",\"\",CONCAT!$G$4))","v":""},{"$f":"UPPER(IF(D28=\"\",\"\",CONCAT!$G$5))","v":""},{"$f":"UPPER(IF(D28=\"\",\"\",CONCAT!$G$6))","v":""},{"$f":"UPPER(IF(D28=\"\",\"\",CONCAT!$G$7))","v":""},{"$f":"UPPER(IF(D28=\"\",\"\",CONCAT!$G$2))","v":""},{"$f":"UPPER(IF(D28=\"\",\"\",CONCAT!$G$8))","v":""},"",{"$f":"UPPER(IF(D28=\"\",\"\",'Order Form'!$J$4))","v":""},{"$f":"UPPER(IF(D28=\"\",\"\",(UPPER(IF(CONCAT!$G$2=\"SELECT\",\"SELECT \"&CONCAT!$G$3,CONCAT!$G$1&Species!$G$6&'Door Style'!$I$6&Color!$Q$6&'Drawer Head'!$H$6&'Custom Finish'!$G$6)))))","v":""},null,{"$f":"IF(D28=\"\",\"\",CONCAT!$J$2)","v":""},{"$f":"IF(D28=\"\",\"\",CONCAT!$J$3)","v":""},{"$f":"IF(D28=\"\",\"\",'Order Form'!$J$6)","v":""},{"$f":"UPPER(IF(D28=\"\",\"\",'Order Form'!$J$3&\" - \"&LEFT('Order Form'!$J$5,3)&\"-\"&MID('Order Form'!$J$5,4,3)&\"-\"&RIGHT('Order Form'!$J$5,4)))","v":""},{"$f":"UPPER(IF(D28=\"\",\"\",VLOOKUP('Misc Dropdowns'!$B$3,'Misc Dropdowns'!$B$7:$C$20,2,FALSE)))","v":""},{"$f":"IF(D28=\"\",\"\",'Order Form'!$M$3)","v":""},{"$f":"IF(D28=\"\",\"\",IF('Order Form'!$K$132=\"Delivery:\",'Order Form'!$M$132,'Order Form'!$M$131))","v":""}]
["Item List",null,{"$f":"UPPER(IF(AND('Order Form'!$M$4=\"\",D29=\"\"),\"\",IF(D29=\"\",\"\",'Order Form'!$M$4)))","v":""},{"$f":"IF(AND('Order Form'!C49=\"\",'Order Form'!J49<>\"\"),\"/C\",UPPER(IF('Order Form'!D49=0,\"\",IFERROR(CONCATENATE(CONCAT!B37,CONCAT!C37)&(CONCAT!D37),\"\"))))","v":""},{"$f":"IF(D29=\"\",\"\",IF(D29=\"/C\",\"\",'Order Form'!D49))","v":""},{"$f":"UPPER(IF(D29=\"\",\"\",IF('Order Form'!H49=\"\",\"\",\" \"&'Order Form'!H49)&IF('Order Form'!J49=\"\",\"\",\" \"&'Order Form'!J49)&'Order Form'!AO49&'Order Form'!AP49&'Order Form'!AQ49))","v":""},{"$f":"IF(D29=\"\",\"\",IF(D29=\"/C\",\"\",IF('Order Form'!L49=0,IF('Order Form'!K49=0,\"\",'Order Form'!K49/'Order Form'!D49),'Order Form'!L49+('Order Form'!K49/'Order Form'!D49))))","v":""},"",{"$f":"UPPER(IF(D29=\"\",\"\",CONCAT!$G$3))","v":""},{"$f":"UPPER(IF(D29=\"\",\"\",CONCAT!$G$4))","v":""},{"$f":"UPPER(IF(D29=\"\",\"\",CONCAT!$G$5))","v":""},{"$f":"UPPER(IF(D29=\"\",\"\",CONCAT!$G$6))","v":""},{"$f":"UPPER(IF(D29=\"\",\"\",CONCAT!$G$7))","v":""},{"$f":"UPPER(IF(D29=\"\",\"\",CONCAT!$G$2))","v":""},{"$f":"UPPER(IF(D29=\"\",\"\",CONCAT!$G$8))","v":""},"",{"$f":"UPPER(IF(D29=\"\",\"\",'Order Form'!$J$4))","v":""},{"$f":"UPPER(IF(D29=\"\",\"\",(UPPER(IF(CONCAT!$G$2=\"SELECT\",\"SELECT \"&CONCAT!$G$3,CONCAT!$G$1&Species!$G$6&'Door Style'!$I$6&Color!$Q$6&'Drawer Head'!$H$6&'Custom Finish'!$G$6)))))","v":""},null,{"$f":"IF(D29=\"\",\"\",CONCAT!$J$2)","v":""},{"$f":"IF(D29=\"\",\"\",CONCAT!$J$3)","v":""},{"$f":"IF(D29=\"\",\"\",'Order Form'!$J$6)","v":""},{"$f":"UPPER(IF(D29=\"\",\"\",'Order Form'!$J$3&\" - \"&LEFT('Order Form'!$J$5,3)&\"-\"&MID('Order Form'!$J$5,4,3)&\"-\"&RIGHT('Order Form'!$J$5,4)))","v":""},{"$f":"UPPER(IF(D29=\"\",\"\",VLOOKUP('Misc Dropdowns'!$B$3,'Misc Dropdowns'!$B$7:$C$20,2,FALSE)))","v":""},{"$f":"IF(D29=\"\",\"\",'Order Form'!$M$3)","v":""},{"$f":"IF(D29=\"\",\"\",IF('Order Form'!$K$132=\"Delivery:\",'Order Form'!$M$132,'Order Form'!$M$131))","v":""}]
["Item List",null,{"$f":"UPPER(IF(AND('Order Form'!$M$4=\"\",D30=\"\"),\"\",IF(D30=\"\",\"\",'Order Form'!$M$4)))","v":""},{"$f":"IF(AND('Order Form'!C50=\"\",'Order Form'!J50<>\"\"),\"/C\",UPPER(IF('Order Form'!D50=0,\"\",IFERROR(CONCATENATE(CONCAT!B38,CONCAT!C38)&(CONCAT!D38),\"\"))))","v":""},{"$f":"IF(D30=\"\",\"\",IF(D30=\"/C\",\"\",'Order Form'!D50))","v":""},{"$f":"UPPER(IF(D30=\"\",\"\",IF('Order Form'!H50=\"\",\"\",\" \"&'Order Form'!H50)&IF('Order Form'!J50=\"\",\"\",\" \"&'Order Form'!J50)&'Order Form'!AO50&'Order Form'!AP50&'Order Form'!AQ50))","v":""},{"$f":"IF(D30=\"\",\"\",IF(D30=\"/C\",\"\",IF('Order Form'!L50=0,IF('Order Form'!K50=0,\"\",'Order Form'!K50/'Order Form'!D50),'Order Form'!L50+('Order Form'!K50/'Order Form'!D50))))","v":""},"",{"$f":"UPPER(IF(D30=\"\",\"\",CONCAT!$G$3))","v":""},{"$f":"UPPER(IF(D30=\"\",\"\",CONCAT!$G$4))","v":""},{"$f":"UPPER(IF(D30=\"\",\"\",CONCAT!$G$5))","v":""},{"$f":"UPPER(IF(D30=\"\",\"\",CONCAT!$G$6))","v":""},{"$f":"UPPER(IF(D30=\"\",\"\",CONCAT!$G$7))","v":""},{"$f":"UPPER(IF(D30=\"\",\"\",CONCAT!$G$2))","v":""},{"$f":"UPPER(IF(D30=\"\",\"\",CONCAT!$G$8))","v":""},"",{"$f":"UPPER(IF(D30=\"\",\"\",'Order Form'!$J$4))","v":""},{"$f":"UPPER(IF(D30=\"\",\"\",(UPPER(IF(CONCAT!$G$2=\"SELECT\",\"SELECT \"&CONCAT!$G$3,CONCAT!$G$1&Species!$G$6&'Door Style'!$I$6&Color!$Q$6&'Drawer Head'!$H$6&'Custom Finish'!$G$6)))))","v":""},null,{"$f":"IF(D30=\"\",\"\",CONCAT!$J$2)","v":""},{"$f":"IF(D30=\"\",\"\",CONCAT!$J$3)","v":""},{"$f":"IF(D30=\"\",\"\",'Order Form'!$J$6)","v":""},{"$f":"UPPER(IF(D30=\"\",\"\",'Order Form'!$J$3&\" - \"&LEFT('Order Form'!$J$5,3)&\"-\"&MID('Order Form'!$J$5,4,3)&\"-\"&RIGHT('Order Form'!$J$5,4)))","v":""},{"$f":"UPPER(IF(D30=\"\",\"\",VLOOKUP('Misc Dropdowns'!$B$3,'Misc Dropdowns'!$B$7:$C$20,2,FALSE)))","v":""},{"$f":"IF(D30=\"\",\"\",'Order Form'!$M$3)","v":""},{"$f":"IF(D30=\"\",\"\",IF('Order Form'!$K$132=\"Delivery:\",'Order Form'!$M$132,'Order Form'!$M$131))","v":""}]
["Item List",null,{"$f":"UPPER(IF(AND('Order Form'!$M$4=\"\",D31=\"\"),\"\",IF(D31=\"\",\"\",'Order Form'!$M$4)))","v":""},{"$f":"IF(AND('Order Form'!C51=\"\",'Order Form'!J51<>\"\"),\"/C\",UPPER(IF('Order Form'!D51=0,\"\",IFERROR(CONCATENATE(CONCAT!B39,CONCAT!C39)&(CONCAT!D39),\"\"))))","v":""},{"$f":"IF(D31=\"\",\"\",IF(D31=\"/C\",\"\",'Order Form'!D51))","v":""},{"$f":"UPPER(IF(D31=\"\",\"\",IF('Order Form'!H51=\"\",\"\",\" \"&'Order Form'!H51)&IF('Order Form'!J51=\"\",\"\",\" \"&'Order Form'!J51)&'Order Form'!AO51&'Order Form'!AP51&'Order Form'!AQ51))","v":""},{"$f":"IF(D31=\"\",\"\",IF(D31=\"/C\",\"\",IF('Order Form'!L51=0,IF('Order Form'!K51=0,\"\",'Order Form'!K51/'Order Form'!D51),'Order Form'!L51+('Order Form'!K51/'Order Form'!D51))))","v":""},"",{"$f":"UPPER(IF(D31=\"\",\"\",CONCAT!$G$3))","v":""},{"$f":"UPPER(IF(D31=\"\",\"\",CONCAT!$G$4))","v":""},{"$f":"UPPER(IF(D31=\"\",\"\",CONCAT!$G$5))","v":""},{"$f":"UPPER(IF(D31=\"\",\"\",CONCAT!$G$6))","v":""},{"$f":"UPPER(IF(D31=\"\",\"\",CONCAT!$G$7))","v":""},{"$f":"UPPER(IF(D31=\"\",\"\",CONCAT!$G$2))","v":""},{"$f":"UPPER(IF(D31=\"\",\"\",CONCAT!$G$8))","v":""},"",{"$f":"UPPER(IF(D31=\"\",\"\",'Order Form'!$J$4))","v":""},{"$f":"UPPER(IF(D31=\"\",\"\",(UPPER(IF(CONCAT!$G$2=\"SELECT\",\"SELECT \"&CONCAT!$G$3,CONCAT!$G$1&Species!$G$6&'Door Style'!$I$6&Color!$Q$6&'Drawer Head'!$H$6&'Custom Finish'!$G$6)))))","v":""},null,{"$f":"IF(D31=\"\",\"\",CONCAT!$J$2)","v":""},{"$f":"IF(D31=\"\",\"\",CONCAT!$J$3)","v":""},{"$f":"IF(D31=\"\",\"\",'Order Form'!$J$6)","v":""},{"$f":"UPPER(IF(D31=\"\",\"\",'Order Form'!$J$3&\" - \"&LEFT('Order Form'!$J$5,3)&\"-\"&MID('Order Form'!$J$5,4,3)&\"-\"&RIGHT('Order Form'!$J$5,4)))","v":""},{"$f":"UPPER(IF(D31=\"\",\"\",VLOOKUP('Misc Dropdowns'!$B$3,'Misc Dropdowns'!$B$7:$C$20,2,FALSE)))","v":""},{"$f":"IF(D31=\"\",\"\",'Order Form'!$M$3)","v":""},{"$f":"IF(D31=\"\",\"\",IF('Order Form'!$K$132=\"Delivery:\",'Order Form'!$M$132,'Order Form'!$M$131))","v":""}]
["Item List",null,{"$f":"UPPER(IF(AND('Order Form'!$M$4=\"\",D32=\"\"),\"\",IF(D32=\"\",\"\",'Order Form'!$M$4)))","v":""},{"$f":"IF(AND('Order Form'!C52=\"\",'Order Form'!J52<>\"\"),\"/C\",UPPER(IF('Order Form'!D52=0,\"\",IFERROR(CONCATENATE(CONCAT!B40,CONCAT!C40)&(CONCAT!D40),\"\"))))","v":""},{"$f":"IF(D32=\"\",\"\",IF(D32=\"/C\",\"\",'Order Form'!D52))","v":""},{"$f":"UPPER(IF(D32=\"\",\"\",IF('Order Form'!H52=\"\",\"\",\" \"&'Order Form'!H52)&IF('Order Form'!J52=\"\",\"\",\" \"&'Order Form'!J52)&'Order Form'!AO52&'Order Form'!AP52&'Order Form'!AQ52))","v":""},{"$f":"IF(D32=\"\",\"\",IF(D32=\"/C\",\"\",IF('Order Form'!L52=0,IF('Order Form'!K52=0,\"\",'Order Form'!K52/'Order Form'!D52),'Order Form'!L52+('Order Form'!K52/'Order Form'!D52))))","v":""},"",{"$f":"UPPER(IF(D32=\"\",\"\",CONCAT!$G$3))","v":""},{"$f":"UPPER(IF(D32=\"\",\"\",CONCAT!$G$4))","v":""},{"$f":"UPPER(IF(D32=\"\",\"\",CONCAT!$G$5))","v":""},{"$f":"UPPER(IF(D32=\"\",\"\",CONCAT!$G$6))","v":""},{"$f":"UPPER(IF(D32=\"\",\"\",CONCAT!$G$7))","v":""},{"$f":"UPPER(IF(D32=\"\",\"\",CONCAT!$G$2))","v":""},{"$f":"UPPER(IF(D32=\"\",\"\",CONCAT!$G$8))","v":""},"",{"$f":"UPPER(IF(D32=\"\",\"\",'Order Form'!$J$4))","v":""},{"$f":"UPPER(IF(D32=\"\",\"\",(UPPER(IF(CONCAT!$G$2=\"SELECT\",\"SELECT \"&CONCAT!$G$3,CONCAT!$G$1&Species!$G$6&'Door Style'!$I$6&Color!$Q$6&'Drawer Head'!$H$6&'Custom Finish'!$G$6)))))","v":""},null,{"$f":"IF(D32=\"\",\"\",CONCAT!$J$2)","v":""},{"$f":"IF(D32=\"\",\"\",CONCAT!$J$3)","v":""},{"$f":"IF(D32=\"\",\"\",'Order Form'!$J$6)","v":""},{"$f":"UPPER(IF(D32=\"\",\"\",'Order Form'!$J$3&\" - \"&LEFT('Order Form'!$J$5,3)&\"-\"&MID('Order Form'!$J$5,4,3)&\"-\"&RIGHT('Order Form'!$J$5,4)))","v":""},{"$f":"UPPER(IF(D32=\"\",\"\",VLOOKUP('Misc Dropdowns'!$B$3,'Misc Dropdowns'!$B$7:$C$20,2,FALSE)))","v":""},{"$f":"IF(D32=\"\",\"\",'Order Form'!$M$3)","v":""},{"$f":"IF(D32=\"\",\"\",IF('Order Form'!$K$132=\"Delivery:\",'Order Form'!$M$132,'Order Form'!$M$131))","v":""}]
["Item List",null,{"$f":"UPPER(IF(AND('Order Form'!$M$4=\"\",D33=\"\"),\"\",IF(D33=\"\",\"\",'Order Form'!$M$4)))","v":""},{"$f":"IF(AND('Order Form'!C53=\"\",'Order Form'!J53<>\"\"),\"/C\",UPPER(IF('Order Form'!D53=0,\"\",IFERROR(CONCATENATE(CONCAT!B41,CONCAT!C41)&(CONCAT!D41),\"\"))))","v":""},{"$f":"IF(D33=\"\",\"\",IF(D33=\"/C\",\"\",'Order Form'!D53))","v":""},{"$f":"UPPER(IF(D33=\"\",\"\",IF('Order Form'!H53=\"\",\"\",\" \"&'Order Form'!H53)&IF('Order Form'!J53=\"\",\"\",\" \"&'Order Form'!J53)&'Order Form'!AO53&'Order Form'!AP53&'Order Form'!AQ53))","v":""},{"$f":"IF(D33=\"\",\"\",IF(D33=\"/C\",\"\",IF('Order Form'!L53=0,IF('Order Form'!K53=0,\"\",'Order Form'!K53/'Order Form'!D53),'Order Form'!L53+('Order Form'!K53/'Order Form'!D53))))","v":""},"",{"$f":"UPPER(IF(D33=\"\",\"\",CONCAT!$G$3))","v":""},{"$f":"UPPER(IF(D33=\"\",\"\",CONCAT!$G$4))","v":""},{"$f":"UPPER(IF(D33=\"\",\"\",CONCAT!$G$5))","v":""},{"$f":"UPPER(IF(D33=\"\",\"\",CONCAT!$G$6))","v":""},{"$f":"UPPER(IF(D33=\"\",\"\",CONCAT!$G$7))","v":""},{"$f":"UPPER(IF(D33=\"\",\"\",CONCAT!$G$2))","v":""},{"$f":"UPPER(IF(D33=\"\",\"\",CONCAT!$G$8))","v":""},"",{"$f":"UPPER(IF(D33=\"\",\"\",'Order Form'!$J$4))","v":""},{"$f":"UPPER(IF(D33=\"\",\"\",(UPPER(IF(CONCAT!$G$2=\"SELECT\",\"SELECT \"&CONCAT!$G$3,CONCAT!$G$1&Species!$G$6&'Door Style'!$I$6&Color!$Q$6&'Drawer Head'!$H$6&'Custom Finish'!$G$6)))))","v":""},null,{"$f":"IF(D33=\"\",\"\",CONCAT!$J$2)","v":""},{"$f":"IF(D33=\"\",\"\",CONCAT!$J$3)","v":""},{"$f":"IF(D33=\"\",\"\",'Order Form'!$J$6)","v":""},{"$f":"UPPER(IF(D33=\"\",\"\",'Order Form'!$J$3&\" - \"&LEFT('Order Form'!$J$5,3)&\"-\"&MID('Order Form'!$J$5,4,3)&\"-\"&RIGHT('Order Form'!$J$5,4)))","v":""},{"$f":"UPPER(IF(D33=\"\",\"\",VLOOKUP('Misc Dropdowns'!$B$3,'Misc Dropdowns'!$B$7:$C$20,2,FALSE)))","v":""},{"$f":"IF(D33=\"\",\"\",'Order Form'!$M$3)","v":""},{"$f":"IF(D33=\"\",\"\",IF('Order Form'!$K$132=\"Delivery:\",'Order Form'!$M$132,'Order Form'!$M$131))","v":""}]
["Item List",null,{"$f":"UPPER(IF(AND('Order Form'!$M$4=\"\",D34=\"\"),\"\",IF(D34=\"\",\"\",'Order Form'!$M$4)))","v":""},{"$f":"IF(AND('Order Form'!C54=\"\",'Order Form'!J54<>\"\"),\"/C\",UPPER(IF('Order Form'!D54=0,\"\",IFERROR(CONCATENATE(CONCAT!B42,CONCAT!C42)&(CONCAT!D42),\"\"))))","v":""},{"$f":"IF(D34=\"\",\"\",IF(D34=\"/C\",\"\",'Order Form'!D54))","v":""},{"$f":"UPPER(IF(D34=\"\",\"\",IF('Order Form'!H54=\"\",\"\",\" \"&'Order Form'!H54)&IF('Order Form'!J54=\"\",\"\",\" \"&'Order Form'!J54)&'Order Form'!AO54&'Order Form'!AP54&'Order Form'!AQ54))","v":""},{"$f":"IF(D34=\"\",\"\",IF(D34=\"/C\",\"\",IF('Order Form'!L54=0,IF('Order Form'!K54=0,\"\",'Order Form'!K54/'Order Form'!D54),'Order Form'!L54+('Order Form'!K54/'Order Form'!D54))))","v":""},"",{"$f":"UPPER(IF(D34=\"\",\"\",CONCAT!$G$3))","v":""},{"$f":"UPPER(IF(D34=\"\",\"\",CONCAT!$G$4))","v":""},{"$f":"UPPER(IF(D34=\"\",\"\",CONCAT!$G$5))","v":""},{"$f":"UPPER(IF(D34=\"\",\"\",CONCAT!$G$6))","v":""},{"$f":"UPPER(IF(D34=\"\",\"\",CONCAT!$G$7))","v":""},{"$f":"UPPER(IF(D34=\"\",\"\",CONCAT!$G$2))","v":""},{"$f":"UPPER(IF(D34=\"\",\"\",CONCAT!$G$8))","v":""},"",{"$f":"UPPER(IF(D34=\"\",\"\",'Order Form'!$J$4))","v":""},{"$f":"UPPER(IF(D34=\"\",\"\",(UPPER(IF(CONCAT!$G$2=\"SELECT\",\"SELECT \"&CONCAT!$G$3,CONCAT!$G$1&Species!$G$6&'Door Style'!$I$6&Color!$Q$6&'Drawer Head'!$H$6&'Custom Finish'!$G$6)))))","v":""},null,{"$f":"IF(D34=\"\",\"\",CONCAT!$J$2)","v":""},{"$f":"IF(D34=\"\",\"\",CONCAT!$J$3)","v":""},{"$f":"IF(D34=\"\",\"\",'Order Form'!$J$6)","v":""},{"$f":"UPPER(IF(D34=\"\",\"\",'Order Form'!$J$3&\" - \"&LEFT('Order Form'!$J$5,3)&\"-\"&MID('Order Form'!$J$5,4,3)&\"-\"&RIGHT('Order Form'!$J$5,4)))","v":""},{"$f":"UPPER(IF(D34=\"\",\"\",VLOOKUP('Misc Dropdowns'!$B$3,'Misc Dropdowns'!$B$7:$C$20,2,FALSE)))","v":""},{"$f":"IF(D34=\"\",\"\",'Order Form'!$M$3)","v":""},{"$f":"IF(D34=\"\",\"\",IF('Order Form'!$K$132=\"Delivery:\",'Order Form'!$M$132,'Order Form'!$M$131))","v":""}]
["Item List",null,{"$f":"UPPER(IF(AND('Order Form'!$M$4=\"\",D35=\"\"),\"\",IF(D35=\"\",\"\",'Order Form'!$M$4)))","v":""},{"$f":"IF(AND('Order Form'!C55=\"\",'Order Form'!J55<>\"\"),\"/C\",UPPER(IF('Order Form'!D55=0,\"\",IFERROR(CONCATENATE(CONCAT!B43,CONCAT!C43)&(CONCAT!D43),\"\"))))","v":""},{"$f":"IF(D35=\"\",\"\",IF(D35=\"/C\",\"\",'Order Form'!D55))","v":""},{"$f":"UPPER(IF(D35=\"\",\"\",IF('Order Form'!H55=\"\",\"\",\" \"&'Order Form'!H55)&IF('Order Form'!J55=\"\",\"\",\" \"&'Order Form'!J55)&'Order Form'!AO55&'Order Form'!AP55&'Order Form'!AQ55))","v":""},{"$f":"IF(D35=\"\",\"\",IF(D35=\"/C\",\"\",IF('Order Form'!L55=0,IF('Order Form'!K55=0,\"\",'Order Form'!K55/'Order Form'!D55),'Order Form'!L55+('Order Form'!K55/'Order Form'!D55))))","v":""},"",{"$f":"UPPER(IF(D35=\"\",\"\",CONCAT!$G$3))","v":""},{"$f":"UPPER(IF(D35=\"\",\"\",CONCAT!$G$4))","v":""},{"$f":"UPPER(IF(D35=\"\",\"\",CONCAT!$G$5))","v":""},{"$f":"UPPER(IF(D35=\"\",\"\",CONCAT!$G$6))","v":""},{"$f":"UPPER(IF(D35=\"\",\"\",CONCAT!$G$7))","v":""},{"$f":"UPPER(IF(D35=\"\",\"\",CONCAT!$G$2))","v":""},{"$f":"UPPER(IF(D35=\"\",\"\",CONCAT!$G$8))","v":""},"",{"$f":"UPPER(IF(D35=\"\",\"\",'Order Form'!$J$4))","v":""},{"$f":"UPPER(IF(D35=\"\",\"\",(UPPER(IF(CONCAT!$G$2=\"SELECT\",\"SELECT \"&CONCAT!$G$3,CONCAT!$G$1&Species!$G$6&'Door Style'!$I$6&Color!$Q$6&'Drawer Head'!$H$6&'Custom Finish'!$G$6)))))","v":""},null,{"$f":"IF(D35=\"\",\"\",CONCAT!$J$2)","v":""},{"$f":"IF(D35=\"\",\"\",CONCAT!$J$3)","v":""},{"$f":"IF(D35=\"\",\"\",'Order Form'!$J$6)","v":""},{"$f":"UPPER(IF(D35=\"\",\"\",'Order Form'!$J$3&\" - \"&LEFT('Order Form'!$J$5,3)&\"-\"&MID('Order Form'!$J$5,4,3)&\"-\"&RIGHT('Order Form'!$J$5,4)))","v":""},{"$f":"UPPER(IF(D35=\"\",\"\",VLOOKUP('Misc Dropdowns'!$B$3,'Misc Dropdowns'!$B$7:$C$20,2,FALSE)))","v":""},{"$f":"IF(D35=\"\",\"\",'Order Form'!$M$3)","v":""},{"$f":"IF(D35=\"\",\"\",IF('Order Form'!$K$132=\"Delivery:\",'Order Form'!$M$132,'Order Form'!$M$131))","v":""}]
["Item List",null,{"$f":"UPPER(IF(AND('Order Form'!$M$4=\"\",D36=\"\"),\"\",IF(D36=\"\",\"\",'Order Form'!$M$4)))","v":""},{"$f":"IF(AND('Order Form'!C56=\"\",'Order Form'!J56<>\"\"),\"/C\",UPPER(IF('Order Form'!D56=0,\"\",IFERROR(CONCATENATE(CONCAT!B44,CONCAT!C44)&(CONCAT!D44),\"\"))))","v":""},{"$f":"IF(D36=\"\",\"\",IF(D36=\"/C\",\"\",'Order Form'!D56))","v":""},{"$f":"UPPER(IF(D36=\"\",\"\",IF('Order Form'!H56=\"\",\"\",\" \"&'Order Form'!H56)&IF('Order Form'!J56=\"\",\"\",\" \"&'Order Form'!J56)&'Order Form'!AO56&'Order Form'!AP56&'Order Form'!AQ56))","v":""},{"$f":"IF(D36=\"\",\"\",IF(D36=\"/C\",\"\",IF('Order Form'!L56=0,IF('Order Form'!K56=0,\"\",'Order Form'!K56/'Order Form'!D56),'Order Form'!L56+('Order Form'!K56/'Order Form'!D56))))","v":""},"",{"$f":"UPPER(IF(D36=\"\",\"\",CONCAT!$G$3))","v":""},{"$f":"UPPER(IF(D36=\"\",\"\",CONCAT!$G$4))","v":""},{"$f":"UPPER(IF(D36=\"\",\"\",CONCAT!$G$5))","v":""},{"$f":"UPPER(IF(D36=\"\",\"\",CONCAT!$G$6))","v":""},{"$f":"UPPER(IF(D36=\"\",\"\",CONCAT!$G$7))","v":""},{"$f":"UPPER(IF(D36=\"\",\"\",CONCAT!$G$2))","v":""},{"$f":"UPPER(IF(D36=\"\",\"\",CONCAT!$G$8))","v":""},"",{"$f":"UPPER(IF(D36=\"\",\"\",'Order Form'!$J$4))","v":""},{"$f":"UPPER(IF(D36=\"\",\"\",(UPPER(IF(CONCAT!$G$2=\"SELECT\",\"SELECT \"&CONCAT!$G$3,CONCAT!$G$1&Species!$G$6&'Door Style'!$I$6&Color!$Q$6&'Drawer Head'!$H$6&'Custom Finish'!$G$6)))))","v":""},null,{"$f":"IF(D36=\"\",\"\",CONCAT!$J$2)","v":""},{"$f":"IF(D36=\"\",\"\",CONCAT!$J$3)","v":""},{"$f":"IF(D36=\"\",\"\",'Order Form'!$J$6)","v":""},{"$f":"UPPER(IF(D36=\"\",\"\",'Order Form'!$J$3&\" - \"&LEFT('Order Form'!$J$5,3)&\"-\"&MID('Order Form'!$J$5,4,3)&\"-\"&RIGHT('Order Form'!$J$5,4)))","v":""},{"$f":"UPPER(IF(D36=\"\",\"\",VLOOKUP('Misc Dropdowns'!$B$3,'Misc Dropdowns'!$B$7:$C$20,2,FALSE)))","v":""},{"$f":"IF(D36=\"\",\"\",'Order Form'!$M$3)","v":""},{"$f":"IF(D36=\"\",\"\",IF('Order Form'!$K$132=\"Delivery:\",'Order Form'!$M$132,'Order Form'!$M$131))","v":""}]
["Item List",null,{"$f":"UPPER(IF(AND('Order Form'!$M$4=\"\",D37=\"\"),\"\",IF(D37=\"\",\"\",'Order Form'!$M$4)))","v":""},{"$f":"IF(AND('Order Form'!C57=\"\",'Order Form'!J57<>\"\"),\"/C\",UPPER(IF('Order Form'!D57=0,\"\",IFERROR(CONCATENATE(CONCAT!B45,CONCAT!C45)&(CONCAT!D45),\"\"))))","v":""},{"$f":"IF(D37=\"\",\"\",IF(D37=\"/C\",\"\",'Order Form'!D57))","v":""},{"$f":"UPPER(IF(D37=\"\",\"\",IF('Order Form'!H57=\"\",\"\",\" \"&'Order Form'!H57)&IF('Order Form'!J57=\"\",\"\",\" \"&'Order Form'!J57)&'Order Form'!AO57&'Order Form'!AP57&'Order Form'!AQ57))","v":""},{"$f":"IF(D37=\"\",\"\",IF(D37=\"/C\",\"\",IF('Order Form'!L57=0,IF('Order Form'!K57=0,\"\",'Order Form'!K57/'Order Form'!D57),'Order Form'!L57+('Order Form'!K57/'Order Form'!D57))))","v":""},"",{"$f":"UPPER(IF(D37=\"\",\"\",CONCAT!$G$3))","v":""},{"$f":"UPPER(IF(D37=\"\",\"\",CONCAT!$G$4))","v":""},{"$f":"UPPER(IF(D37=\"\",\"\",CONCAT!$G$5))","v":""},{"$f":"UPPER(IF(D37=\"\",\"\",CONCAT!$G$6))","v":""},{"$f":"UPPER(IF(D37=\"\",\"\",CONCAT!$G$7))","v":""},{"$f":"UPPER(IF(D37=\"\",\"\",CONCAT!$G$2))","v":""},{"$f":"UPPER(IF(D37=\"\",\"\",CONCAT!$G$8))","v":""},"",{"$f":"UPPER(IF(D37=\"\",\"\",'Order Form'!$J$4))","v":""},{"$f":"UPPER(IF(D37=\"\",\"\",(UPPER(IF(CONCAT!$G$2=\"SELECT\",\"SELECT \"&CONCAT!$G$3,CONCAT!$G$1&Species!$G$6&'Door Style'!$I$6&Color!$Q$6&'Drawer Head'!$H$6&'Custom Finish'!$G$6)))))","v":""},null,{"$f":"IF(D37=\"\",\"\",CONCAT!$J$2)","v":""},{"$f":"IF(D37=\"\",\"\",CONCAT!$J$3)","v":""},{"$f":"IF(D37=\"\",\"\",'Order Form'!$J$6)","v":""},{"$f":"UPPER(IF(D37=\"\",\"\",'Order Form'!$J$3&\" - \"&LEFT('Order Form'!$J$5,3)&\"-\"&MID('Order Form'!$J$5,4,3)&\"-\"&RIGHT('Order Form'!$J$5,4)))","v":""},{"$f":"UPPER(IF(D37=\"\",\"\",VLOOKUP('Misc Dropdowns'!$B$3,'Misc Dropdowns'!$B$7:$C$20,2,FALSE)))","v":""},{"$f":"IF(D37=\"\",\"\",'Order Form'!$M$3)","v":""},{"$f":"IF(D37=\"\",\"\",IF('Order Form'!$K$132=\"Delivery:\",'Order Form'!$M$132,'Order Form'!$M$131))","v":""}]
["Item List",null,{"$f":"UPPER(IF(AND('Order Form'!$M$4=\"\",D38=\"\"),\"\",IF(D38=\"\",\"\",'Order Form'!$M$4)))","v":""},{"$f":"IF(AND('Order Form'!C58=\"\",'Order Form'!J58<>\"\"),\"/C\",UPPER(IF('Order Form'!D58=0,\"\",IFERROR(CONCATENATE(CONCAT!B46,CONCAT!C46)&(CONCAT!D46),\"\"))))","v":""},{"$f":"IF(D38=\"\",\"\",IF(D38=\"/C\",\"\",'Order Form'!D58))","v":""},{"$f":"UPPER(IF(D38=\"\",\"\",IF('Order Form'!H58=\"\",\"\",\" \"&'Order Form'!H58)&IF('Order Form'!J58=\"\",\"\",\" \"&'Order Form'!J58)&'Order Form'!AO58&'Order Form'!AP58&'Order Form'!AQ58))","v":""},{"$f":"IF(D38=\"\",\"\",IF(D38=\"/C\",\"\",IF('Order Form'!L58=0,IF('Order Form'!K58=0,\"\",'Order Form'!K58/'Order Form'!D58),'Order Form'!L58+('Order Form'!K58/'Order Form'!D58))))","v":""},"",{"$f":"UPPER(IF(D38=\"\",\"\",CONCAT!$G$3))","v":""},{"$f":"UPPER(IF(D38=\"\",\"\",CONCAT!$G$4))","v":""},{"$f":"UPPER(IF(D38=\"\",\"\",CONCAT!$G$5))","v":""},{"$f":"UPPER(IF(D38=\"\",\"\",CONCAT!$G$6))","v":""},{"$f":"UPPER(IF(D38=\"\",\"\",CONCAT!$G$7))","v":""},{"$f":"UPPER(IF(D38=\"\",\"\",CONCAT!$G$2))","v":""},{"$f":"UPPER(IF(D38=\"\",\"\",CONCAT!$G$8))","v":""},"",{"$f":"UPPER(IF(D38=\"\",\"\",'Order Form'!$J$4))","v":""},{"$f":"UPPER(IF(D38=\"\",\"\",(UPPER(IF(CONCAT!$G$2=\"SELECT\",\"SELECT \"&CONCAT!$G$3,CONCAT!$G$1&Species!$G$6&'Door Style'!$I$6&Color!$Q$6&'Drawer Head'!$H$6&'Custom Finish'!$G$6)))))","v":""},null,{"$f":"IF(D38=\"\",\"\",CONCAT!$J$2)","v":""},{"$f":"IF(D38=\"\",\"\",CONCAT!$J$3)","v":""},{"$f":"IF(D38=\"\",\"\",'Order Form'!$J$6)","v":""},{"$f":"UPPER(IF(D38=\"\",\"\",'Order Form'!$J$3&\" - \"&LEFT('Order Form'!$J$5,3)&\"-\"&MID('Order Form'!$J$5,4,3)&\"-\"&RIGHT('Order Form'!$J$5,4)))","v":""},{"$f":"UPPER(IF(D38=\"\",\"\",VLOOKUP('Misc Dropdowns'!$B$3,'Misc Dropdowns'!$B$7:$C$20,2,FALSE)))","v":""},{"$f":"IF(D38=\"\",\"\",'Order Form'!$M$3)","v":""},{"$f":"IF(D38=\"\",\"\",IF('Order Form'!$K$132=\"Delivery:\",'Order Form'!$M$132,'Order Form'!$M$131))","v":""}]
["Item List",null,{"$f":"UPPER(IF(AND('Order Form'!$M$4=\"\",D39=\"\"),\"\",IF(D39=\"\",\"\",'Order Form'!$M$4)))","v":""},{"$f":"IF(AND('Order Form'!C59=\"\",'Order Form'!J59<>\"\"),\"/C\",UPPER(IF('Order Form'!D59=0,\"\",IFERROR(CONCATENATE(CONCAT!B47,CONCAT!C47)&(CONCAT!D47),\"\"))))","v":""},{"$f":"IF(D39=\"\",\"\",IF(D39=\"/C\",\"\",'Order Form'!D59))","v":""},{"$f":"UPPER(IF(D39=\"\",\"\",IF('Order Form'!H59=\"\",\"\",\" \"&'Order Form'!H59)&IF('Order Form'!J59=\"\",\"\",\" \"&'Order Form'!J59)&'Order Form'!AO59&'Order Form'!AP59&'Order Form'!AQ59))","v":""},{"$f":"IF(D39=\"\",\"\",IF(D39=\"/C\",\"\",IF('Order Form'!L59=0,IF('Order Form'!K59=0,\"\",'Order Form'!K59/'Order Form'!D59),'Order Form'!L59+('Order Form'!K59/'Order Form'!D59))))","v":""},"",{"$f":"UPPER(IF(D39=\"\",\"\",CONCAT!$G$3))","v":""},{"$f":"UPPER(IF(D39=\"\",\"\",CONCAT!$G$4))","v":""},{"$f":"UPPER(IF(D39=\"\",\"\",CONCAT!$G$5))","v":""},{"$f":"UPPER(IF(D39=\"\",\"\",CONCAT!$G$6))","v":""},{"$f":"UPPER(IF(D39=\"\",\"\",CONCAT!$G$7))","v":""},{"$f":"UPPER(IF(D39=\"\",\"\",CONCAT!$G$2))","v":""},{"$f":"UPPER(IF(D39=\"\",\"\",CONCAT!$G$8))","v":""},"",{"$f":"UPPER(IF(D39=\"\",\"\",'Order Form'!$J$4))","v":""},{"$f":"UPPER(IF(D39=\"\",\"\",(UPPER(IF(CONCAT!$G$2=\"SELECT\",\"SELECT \"&CONCAT!$G$3,CONCAT!$G$1&Species!$G$6&'Door Style'!$I$6&Color!$Q$6&'Drawer Head'!$H$6&'Custom Finish'!$G$6)))))","v":""},null,{"$f":"IF(D39=\"\",\"\",CONCAT!$J$2)","v":""},{"$f":"IF(D39=\"\",\"\",CONCAT!$J$3)","v":""},{"$f":"IF(D39=\"\",\"\",'Order Form'!$J$6)","v":""},{"$f":"UPPER(IF(D39=\"\",\"\",'Order Form'!$J$3&\" - \"&LEFT('Order Form'!$J$5,3)&\"-\"&MID('Order Form'!$J$5,4,3)&\"-\"&RIGHT('Order Form'!$J$5,4)))","v":""},{"$f":"UPPER(IF(D39=\"\",\"\",VLOOKUP('Misc Dropdowns'!$B$3,'Misc Dropdowns'!$B$7:$C$20,2,FALSE)))","v":""},{"$f":"IF(D39=\"\",\"\",'Order Form'!$M$3)","v":""},{"$f":"IF(D39=\"\",\"\",IF('Order Form'!$K$132=\"Delivery:\",'Order Form'!$M$132,'Order Form'!$M$131))","v":""}]
["Item List",null,{"$f":"UPPER(IF(AND('Order Form'!$M$4=\"\",D40=\"\"),\"\",IF(D40=\"\",\"\",'Order Form'!$M$4)))","v":""},{"$f":"IF(AND('Order Form'!C60=\"\",'Order Form'!J60<>\"\"),\"/C\",UPPER(IF('Order Form'!D60=0,\"\",IFERROR(CONCATENATE(CONCAT!B48,CONCAT!C48)&(CONCAT!D48),\"\"))))","v":""},{"$f":"IF(D40=\"\",\"\",IF(D40=\"/C\",\"\",'Order Form'!D60))","v":""},{"$f":"UPPER(IF(D40=\"\",\"\",IF('Order Form'!H60=\"\",\"\",\" \"&'Order Form'!H60)&IF('Order Form'!J60=\"\",\"\",\" \"&'Order Form'!J60)&'Order Form'!AO60&'Order Form'!AP60&'Order Form'!AQ60))","v":""},{"$f":"IF(D40=\"\",\"\",IF(D40=\"/C\",\"\",IF('Order Form'!L60=0,IF('Order Form'!K60=0,\"\",'Order Form'!K60/'Order Form'!D60),'Order Form'!L60+('Order Form'!K60/'Order Form'!D60))))","v":""},"",{"$f":"UPPER(IF(D40=\"\",\"\",CONCAT!$G$3))","v":""},{"$f":"UPPER(IF(D40=\"\",\"\",CONCAT!$G$4))","v":""},{"$f":"UPPER(IF(D40=\"\",\"\",CONCAT!$G$5))","v":""},{"$f":"UPPER(IF(D40=\"\",\"\",CONCAT!$G$6))","v":""},{"$f":"UPPER(IF(D40=\"\",\"\",CONCAT!$G$7))","v":""},{"$f":"UPPER(IF(D40=\"\",\"\",CONCAT!$G$2))","v":""},{"$f":"UPPER(IF(D40=\"\",\"\",CONCAT!$G$8))","v":""},"",{"$f":"UPPER(IF(D40=\"\",\"\",'Order Form'!$J$4))","v":""},{"$f":"UPPER(IF(D40=\"\",\"\",(UPPER(IF(CONCAT!$G$2=\"SELECT\",\"SELECT \"&CONCAT!$G$3,CONCAT!$G$1&Species!$G$6&'Door Style'!$I$6&Color!$Q$6&'Drawer Head'!$H$6&'Custom Finish'!$G$6)))))","v":""},null,{"$f":"IF(D40=\"\",\"\",CONCAT!$J$2)","v":""},{"$f":"IF(D40=\"\",\"\",CONCAT!$J$3)","v":""},{"$f":"IF(D40=\"\",\"\",'Order Form'!$J$6)","v":""},{"$f":"UPPER(IF(D40=\"\",\"\",'Order Form'!$J$3&\" - \"&LEFT('Order Form'!$J$5,3)&\"-\"&MID('Order Form'!$J$5,4,3)&\"-\"&RIGHT('Order Form'!$J$5,4)))","v":""},{"$f":"UPPER(IF(D40=\"\",\"\",VLOOKUP('Misc Dropdowns'!$B$3,'Misc Dropdowns'!$B$7:$C$20,2,FALSE)))","v":""},{"$f":"IF(D40=\"\",\"\",'Order Form'!$M$3)","v":""},{"$f":"IF(D40=\"\",\"\",IF('Order Form'!$K$132=\"Delivery:\",'Order Form'!$M$132,'Order Form'!$M$131))","v":""}]
["Item List",null,{"$f":"UPPER(IF(AND('Order Form'!$M$4=\"\",D41=\"\"),\"\",IF(D41=\"\",\"\",'Order Form'!$M$4)))","v":""},{"$f":"IF(AND('Order Form'!C61=\"\",'Order Form'!J61<>\"\"),\"/C\",UPPER(IF('Order Form'!D61=0,\"\",IFERROR(CONCATENATE(CONCAT!B49,CONCAT!C49)&(CONCAT!D49),\"\"))))","v":""},{"$f":"IF(D41=\"\",\"\",IF(D41=\"/C\",\"\",'Order Form'!D61))","v":""},{"$f":"UPPER(IF(D41=\"\",\"\",IF('Order Form'!H61=\"\",\"\",\" \"&'Order Form'!H61)&IF('Order Form'!J61=\"\",\"\",\" \"&'Order Form'!J61)&'Order Form'!AO61&'Order Form'!AP61&'Order Form'!AQ61))","v":""},{"$f":"IF(D41=\"\",\"\",IF(D41=\"/C\",\"\",IF('Order Form'!L61=0,IF('Order Form'!K61=0,\"\",'Order Form'!K61/'Order Form'!D61),'Order Form'!L61+('Order Form'!K61/'Order Form'!D61))))","v":""},"",{"$f":"UPPER(IF(D41=\"\",\"\",CONCAT!$G$3))","v":""},{"$f":"UPPER(IF(D41=\"\",\"\",CONCAT!$G$4))","v":""},{"$f":"UPPER(IF(D41=\"\",\"\",CONCAT!$G$5))","v":""},{"$f":"UPPER(IF(D41=\"\",\"\",CONCAT!$G$6))","v":""},{"$f":"UPPER(IF(D41=\"\",\"\",CONCAT!$G$7))","v":""},{"$f":"UPPER(IF(D41=\"\",\"\",CONCAT!$G$2))","v":""},{"$f":"UPPER(IF(D41=\"\",\"\",CONCAT!$G$8))","v":""},"",{"$f":"UPPER(IF(D41=\"\",\"\",'Order Form'!$J$4))","v":""},{"$f":"UPPER(IF(D41=\"\",\"\",(UPPER(IF(CONCAT!$G$2=\"SELECT\",\"SELECT \"&CONCAT!$G$3,CONCAT!$G$1&Species!$G$6&'Door Style'!$I$6&Color!$Q$6&'Drawer Head'!$H$6&'Custom Finish'!$G$6)))))","v":""},null,{"$f":"IF(D41=\"\",\"\",CONCAT!$J$2)","v":""},{"$f":"IF(D41=\"\",\"\",CONCAT!$J$3)","v":""},{"$f":"IF(D41=\"\",\"\",'Order Form'!$J$6)","v":""},{"$f":"UPPER(IF(D41=\"\",\"\",'Order Form'!$J$3&\" - \"&LEFT('Order Form'!$J$5,3)&\"-\"&MID('Order Form'!$J$5,4,3)&\"-\"&RIGHT('Order Form'!$J$5,4)))","v":""},{"$f":"UPPER(IF(D41=\"\",\"\",VLOOKUP('Misc Dropdowns'!$B$3,'Misc Dropdowns'!$B$7:$C$20,2,FALSE)))","v":""},{"$f":"IF(D41=\"\",\"\",'Order Form'!$M$3)","v":""},{"$f":"IF(D41=\"\",\"\",IF('Order Form'!$K$132=\"Delivery:\",'Order Form'!$M$132,'Order Form'!$M$131))","v":""}]
["Item List",null,{"$f":"UPPER(IF(AND('Order Form'!$M$4=\"\",D42=\"\"),\"\",IF(D42=\"\",\"\",'Order Form'!$M$4)))","v":""},{"$f":"IF(AND('Order Form'!C62=\"\",'Order Form'!J62<>\"\"),\"/C\",UPPER(IF('Order Form'!D62=0,\"\",IFERROR(CONCATENATE(CONCAT!B50,CONCAT!C50)&(CONCAT!D50),\"\"))))","v":""},{"$f":"IF(D42=\"\",\"\",IF(D42=\"/C\",\"\",'Order Form'!D62))","v":""},{"$f":"UPPER(IF(D42=\"\",\"\",IF('Order Form'!H62=\"\",\"\",\" \"&'Order Form'!H62)&IF('Order Form'!J62=\"\",\"\",\" \"&'Order Form'!J62)&'Order Form'!AO62&'Order Form'!AP62&'Order Form'!AQ62))","v":""},{"$f":"IF(D42=\"\",\"\",IF(D42=\"/C\",\"\",IF('Order Form'!L62=0,IF('Order Form'!K62=0,\"\",'Order Form'!K62/'Order Form'!D62),'Order Form'!L62+('Order Form'!K62/'Order Form'!D62))))","v":""},"",{"$f":"UPPER(IF(D42=\"\",\"\",CONCAT!$G$3))","v":""},{"$f":"UPPER(IF(D42=\"\",\"\",CONCAT!$G$4))","v":""},{"$f":"UPPER(IF(D42=\"\",\"\",CONCAT!$G$5))","v":""},{"$f":"UPPER(IF(D42=\"\",\"\",CONCAT!$G$6))","v":""},{"$f":"UPPER(IF(D42=\"\",\"\",CONCAT!$G$7))","v":""},{"$f":"UPPER(IF(D42=\"\",\"\",CONCAT!$G$2))","v":""},{"$f":"UPPER(IF(D42=\"\",\"\",CONCAT!$G$8))","v":""},"",{"$f":"UPPER(IF(D42=\"\",\"\",'Order Form'!$J$4))","v":""},{"$f":"UPPER(IF(D42=\"\",\"\",(UPPER(IF(CONCAT!$G$2=\"SELECT\",\"SELECT \"&CONCAT!$G$3,CONCAT!$G$1&Species!$G$6&'Door Style'!$I$6&Color!$Q$6&'Drawer Head'!$H$6&'Custom Finish'!$G$6)))))","v":""},null,{"$f":"IF(D42=\"\",\"\",CONCAT!$J$2)","v":""},{"$f":"IF(D42=\"\",\"\",CONCAT!$J$3)","v":""},{"$f":"IF(D42=\"\",\"\",'Order Form'!$J$6)","v":""},{"$f":"UPPER(IF(D42=\"\",\"\",'Order Form'!$J$3&\" - \"&LEFT('Order Form'!$J$5,3)&\"-\"&MID('Order Form'!$J$5,4,3)&\"-\"&RIGHT('Order Form'!$J$5,4)))","v":""},{"$f":"UPPER(IF(D42=\"\",\"\",VLOOKUP('Misc Dropdowns'!$B$3,'Misc Dropdowns'!$B$7:$C$20,2,FALSE)))","v":""},{"$f":"IF(D42=\"\",\"\",'Order Form'!$M$3)","v":""},{"$f":"IF(D42=\"\",\"\",IF('Order Form'!$K$132=\"Delivery:\",'Order Form'!$M$132,'Order Form'!$M$131))","v":""}]
["Item List",null,{"$f":"UPPER(IF(AND('Order Form'!$M$4=\"\",D43=\"\"),\"\",IF(D43=\"\",\"\",'Order Form'!$M$4)))","v":""},{"$f":"IF(AND('Order Form'!C63=\"\",'Order Form'!J63<>\"\"),\"/C\",UPPER(IF('Order Form'!D63=0,\"\",IFERROR(CONCATENATE(CONCAT!B51,CONCAT!C51)&(CONCAT!D51),\"\"))))","v":""},{"$f":"IF(D43=\"\",\"\",IF(D43=\"/C\",\"\",'Order Form'!D63))","v":""},{"$f":"UPPER(IF(D43=\"\",\"\",IF('Order Form'!H63=\"\",\"\",\" \"&'Order Form'!H63)&IF('Order Form'!J63=\"\",\"\",\" \"&'Order Form'!J63)&'Order Form'!AO63&'Order Form'!AP63&'Order Form'!AQ63))","v":""},{"$f":"IF(D43=\"\",\"\",IF(D43=\"/C\",\"\",IF('Order Form'!L63=0,IF('Order Form'!K63=0,\"\",'Order Form'!K63/'Order Form'!D63),'Order Form'!L63+('Order Form'!K63/'Order Form'!D63))))","v":""},"",{"$f":"UPPER(IF(D43=\"\",\"\",CONCAT!$G$3))","v":""},{"$f":"UPPER(IF(D43=\"\",\"\",CONCAT!$G$4))","v":""},{"$f":"UPPER(IF(D43=\"\",\"\",CONCAT!$G$5))","v":""},{"$f":"UPPER(IF(D43=\"\",\"\",CONCAT!$G$6))","v":""},{"$f":"UPPER(IF(D43=\"\",\"\",CONCAT!$G$7))","v":""},{"$f":"UPPER(IF(D43=\"\",\"\",CONCAT!$G$2))","v":""},{"$f":"UPPER(IF(D43=\"\",\"\",CONCAT!$G$8))","v":""},"",{"$f":"UPPER(IF(D43=\"\",\"\",'Order Form'!$J$4))","v":""},{"$f":"UPPER(IF(D43=\"\",\"\",(UPPER(IF(CONCAT!$G$2=\"SELECT\",\"SELECT \"&CONCAT!$G$3,CONCAT!$G$1&Species!$G$6&'Door Style'!$I$6&Color!$Q$6&'Drawer Head'!$H$6&'Custom Finish'!$G$6)))))","v":""},null,{"$f":"IF(D43=\"\",\"\",CONCAT!$J$2)","v":""},{"$f":"IF(D43=\"\",\"\",CONCAT!$J$3)","v":""},{"$f":"IF(D43=\"\",\"\",'Order Form'!$J$6)","v":""},{"$f":"UPPER(IF(D43=\"\",\"\",'Order Form'!$J$3&\" - \"&LEFT('Order Form'!$J$5,3)&\"-\"&MID('Order Form'!$J$5,4,3)&\"-\"&RIGHT('Order Form'!$J$5,4)))","v":""},{"$f":"UPPER(IF(D43=\"\",\"\",VLOOKUP('Misc Dropdowns'!$B$3,'Misc Dropdowns'!$B$7:$C$20,2,FALSE)))","v":""},{"$f":"IF(D43=\"\",\"\",'Order Form'!$M$3)","v":""},{"$f":"IF(D43=\"\",\"\",IF('Order Form'!$K$132=\"Delivery:\",'Order Form'!$M$132,'Order Form'!$M$131))","v":""}]
["Item List",null,{"$f":"UPPER(IF(AND('Order Form'!$M$4=\"\",D44=\"\"),\"\",IF(D44=\"\",\"\",'Order Form'!$M$4)))","v":""},{"$f":"IF(AND('Order Form'!C64=\"\",'Order Form'!J64<>\"\"),\"/C\",UPPER(IF('Order Form'!D64=0,\"\",IFERROR(CONCATENATE(CONCAT!B52,CONCAT!C52)&(CONCAT!D52),\"\"))))","v":""},{"$f":"IF(D44=\"\",\"\",IF(D44=\"/C\",\"\",'Order Form'!D64))","v":""},{"$f":"UPPER(IF(D44=\"\",\"\",IF('Order Form'!H64=\"\",\"\",\" \"&'Order Form'!H64)&IF('Order Form'!J64=\"\",\"\",\" \"&'Order Form'!J64)&'Order Form'!AO64&'Order Form'!AP64&'Order Form'!AQ64))","v":""},{"$f":"IF(D44=\"\",\"\",IF(D44=\"/C\",\"\",IF('Order Form'!L64=0,IF('Order Form'!K64=0,\"\",'Order Form'!K64/'Order Form'!D64),'Order Form'!L64+('Order Form'!K64/'Order Form'!D64))))","v":""},"",{"$f":"UPPER(IF(D44=\"\",\"\",CONCAT!$G$3))","v":""},{"$f":"UPPER(IF(D44=\"\",\"\",CONCAT!$G$4))","v":""},{"$f":"UPPER(IF(D44=\"\",\"\",CONCAT!$G$5))","v":""},{"$f":"UPPER(IF(D44=\"\",\"\",CONCAT!$G$6))","v":""},{"$f":"UPPER(IF(D44=\"\",\"\",CONCAT!$G$7))","v":""},{"$f":"UPPER(IF(D44=\"\",\"\",CONCAT!$G$2))","v":""},{"$f":"UPPER(IF(D44=\"\",\"\",CONCAT!$G$8))","v":""},"",{"$f":"UPPER(IF(D44=\"\",\"\",'Order Form'!$J$4))","v":""},{"$f":"UPPER(IF(D44=\"\",\"\",(UPPER(IF(CONCAT!$G$2=\"SELECT\",\"SELECT \"&CONCAT!$G$3,CONCAT!$G$1&Species!$G$6&'Door Style'!$I$6&Color!$Q$6&'Drawer Head'!$H$6&'Custom Finish'!$G$6)))))","v":""},null,{"$f":"IF(D44=\"\",\"\",CONCAT!$J$2)","v":""},{"$f":"IF(D44=\"\",\"\",CONCAT!$J$3)","v":""},{"$f":"IF(D44=\"\",\"\",'Order Form'!$J$6)","v":""},{"$f":"UPPER(IF(D44=\"\",\"\",'Order Form'!$J$3&\" - \"&LEFT('Order Form'!$J$5,3)&\"-\"&MID('Order Form'!$J$5,4,3)&\"-\"&RIGHT('Order Form'!$J$5,4)))","v":""},{"$f":"UPPER(IF(D44=\"\",\"\",VLOOKUP('Misc Dropdowns'!$B$3,'Misc Dropdowns'!$B$7:$C$20,2,FALSE)))","v":""},{"$f":"IF(D44=\"\",\"\",'Order Form'!$M$3)","v":""},{"$f":"IF(D44=\"\",\"\",IF('Order Form'!$K$132=\"Delivery:\",'Order Form'!$M$132,'Order Form'!$M$131))","v":""}]
["Item List",null,{"$f":"UPPER(IF(AND('Order Form'!$M$4=\"\",D45=\"\"),\"\",IF(D45=\"\",\"\",'Order Form'!$M$4)))","v":""},{"$f":"IF(AND('Order Form'!C65=\"\",'Order Form'!J65<>\"\"),\"/C\",UPPER(IF('Order Form'!D65=0,\"\",IFERROR(CONCATENATE(CONCAT!B53,CONCAT!C53)&(CONCAT!D53),\"\"))))","v":""},{"$f":"IF(D45=\"\",\"\",IF(D45=\"/C\",\"\",'Order Form'!D65))","v":""},{"$f":"UPPER(IF(D45=\"\",\"\",IF('Order Form'!H65=\"\",\"\",\" \"&'Order Form'!H65)&IF('Order Form'!J65=\"\",\"\",\" \"&'Order Form'!J65)&'Order Form'!AO65&'Order Form'!AP65&'Order Form'!AQ65))","v":""},{"$f":"IF(D45=\"\",\"\",IF(D45=\"/C\",\"\",IF('Order Form'!L65=0,IF('Order Form'!K65=0,\"\",'Order Form'!K65/'Order Form'!D65),'Order Form'!L65+('Order Form'!K65/'Order Form'!D65))))","v":""},"",{"$f":"UPPER(IF(D45=\"\",\"\",CONCAT!$G$3))","v":""},{"$f":"UPPER(IF(D45=\"\",\"\",CONCAT!$G$4))","v":""},{"$f":"UPPER(IF(D45=\"\",\"\",CONCAT!$G$5))","v":""},{"$f":"UPPER(IF(D45=\"\",\"\",CONCAT!$G$6))","v":""},{"$f":"UPPER(IF(D45=\"\",\"\",CONCAT!$G$7))","v":""},{"$f":"UPPER(IF(D45=\"\",\"\",CONCAT!$G$2))","v":""},{"$f":"UPPER(IF(D45=\"\",\"\",CONCAT!$G$8))","v":""},"",{"$f":"UPPER(IF(D45=\"\",\"\",'Order Form'!$J$4))","v":""},{"$f":"UPPER(IF(D45=\"\",\"\",(UPPER(IF(CONCAT!$G$2=\"SELECT\",\"SELECT \"&CONCAT!$G$3,CONCAT!$G$1&Species!$G$6&'Door Style'!$I$6&Color!$Q$6&'Drawer Head'!$H$6&'Custom Finish'!$G$6)))))","v":""},null,{"$f":"IF(D45=\"\",\"\",CONCAT!$J$2)","v":""},{"$f":"IF(D45=\"\",\"\",CONCAT!$J$3)","v":""},{"$f":"IF(D45=\"\",\"\",'Order Form'!$J$6)","v":""},{"$f":"UPPER(IF(D45=\"\",\"\",'Order Form'!$J$3&\" - \"&LEFT('Order Form'!$J$5,3)&\"-\"&MID('Order Form'!$J$5,4,3)&\"-\"&RIGHT('Order Form'!$J$5,4)))","v":""},{"$f":"UPPER(IF(D45=\"\",\"\",VLOOKUP('Misc Dropdowns'!$B$3,'Misc Dropdowns'!$B$7:$C$20,2,FALSE)))","v":""},{"$f":"IF(D45=\"\",\"\",'Order Form'!$M$3)","v":""},{"$f":"IF(D45=\"\",\"\",IF('Order Form'!$K$132=\"Delivery:\",'Order Form'!$M$132,'Order Form'!$M$131))","v":""}]
["Item List",null,{"$f":"UPPER(IF(AND('Order Form'!$M$4=\"\",D46=\"\"),\"\",IF(D46=\"\",\"\",'Order Form'!$M$4)))","v":""},{"$f":"IF(AND('Order Form'!C66=\"\",'Order Form'!J66<>\"\"),\"/C\",UPPER(IF('Order Form'!D66=0,\"\",IFERROR(CONCATENATE(CONCAT!B54,CONCAT!C54)&(CONCAT!D54),\"\"))))","v":""},{"$f":"IF(D46=\"\",\"\",IF(D46=\"/C\",\"\",'Order Form'!D66))","v":""},{"$f":"UPPER(IF(D46=\"\",\"\",IF('Order Form'!H66=\"\",\"\",\" \"&'Order Form'!H66)&IF('Order Form'!J66=\"\",\"\",\" \"&'Order Form'!J66)&'Order Form'!AO66&'Order Form'!AP66&'Order Form'!AQ66))","v":""},{"$f":"IF(D46=\"\",\"\",IF(D46=\"/C\",\"\",IF('Order Form'!L66=0,IF('Order Form'!K66=0,\"\",'Order Form'!K66/'Order Form'!D66),'Order Form'!L66+('Order Form'!K66/'Order Form'!D66))))","v":""},"",{"$f":"UPPER(IF(D46=\"\",\"\",CONCAT!$G$3))","v":""},{"$f":"UPPER(IF(D46=\"\",\"\",CONCAT!$G$4))","v":""},{"$f":"UPPER(IF(D46=\"\",\"\",CONCAT!$G$5))","v":""},{"$f":"UPPER(IF(D46=\"\",\"\",CONCAT!$G$6))","v":""},{"$f":"UPPER(IF(D46=\"\",\"\",CONCAT!$G$7))","v":""},{"$f":"UPPER(IF(D46=\"\",\"\",CONCAT!$G$2))","v":""},{"$f":"UPPER(IF(D46=\"\",\"\",CONCAT!$G$8))","v":""},"",{"$f":"UPPER(IF(D46=\"\",\"\",'Order Form'!$J$4))","v":""},{"$f":"UPPER(IF(D46=\"\",\"\",(UPPER(IF(CONCAT!$G$2=\"SELECT\",\"SELECT \"&CONCAT!$G$3,CONCAT!$G$1&Species!$G$6&'Door Style'!$I$6&Color!$Q$6&'Drawer Head'!$H$6&'Custom Finish'!$G$6)))))","v":""},null,{"$f":"IF(D46=\"\",\"\",CONCAT!$J$2)","v":""},{"$f":"IF(D46=\"\",\"\",CONCAT!$J$3)","v":""},{"$f":"IF(D46=\"\",\"\",'Order Form'!$J$6)","v":""},{"$f":"UPPER(IF(D46=\"\",\"\",'Order Form'!$J$3&\" - \"&LEFT('Order Form'!$J$5,3)&\"-\"&MID('Order Form'!$J$5,4,3)&\"-\"&RIGHT('Order Form'!$J$5,4)))","v":""},{"$f":"UPPER(IF(D46=\"\",\"\",VLOOKUP('Misc Dropdowns'!$B$3,'Misc Dropdowns'!$B$7:$C$20,2,FALSE)))","v":""},{"$f":"IF(D46=\"\",\"\",'Order Form'!$M$3)","v":""},{"$f":"IF(D46=\"\",\"\",IF('Order Form'!$K$132=\"Delivery:\",'Order Form'!$M$132,'Order Form'!$M$131))","v":""}]
["Item List",null,{"$f":"UPPER(IF(AND('Order Form'!$M$4=\"\",D47=\"\"),\"\",IF(D47=\"\",\"\",'Order Form'!$M$4)))","v":""},{"$f":"IF(AND('Order Form'!C67=\"\",'Order Form'!J67<>\"\"),\"/C\",UPPER(IF('Order Form'!D67=0,\"\",IFERROR(CONCATENATE(CONCAT!B55,CONCAT!C55)&(CONCAT!D55),\"\"))))","v":""},{"$f":"IF(D47=\"\",\"\",IF(D47=\"/C\",\"\",'Order Form'!D67))","v":""},{"$f":"UPPER(IF(D47=\"\",\"\",IF('Order Form'!H67=\"\",\"\",\" \"&'Order Form'!H67)&IF('Order Form'!J67=\"\",\"\",\" \"&'Order Form'!J67)&'Order Form'!AO67&'Order Form'!AP67&'Order Form'!AQ67))","v":""},{"$f":"IF(D47=\"\",\"\",IF(D47=\"/C\",\"\",IF('Order Form'!L67=0,IF('Order Form'!K67=0,\"\",'Order Form'!K67/'Order Form'!D67),'Order Form'!L67+('Order Form'!K67/'Order Form'!D67))))","v":""},"",{"$f":"UPPER(IF(D47=\"\",\"\",CONCAT!$G$3))","v":""},{"$f":"UPPER(IF(D47=\"\",\"\",CONCAT!$G$4))","v":""},{"$f":"UPPER(IF(D47=\"\",\"\",CONCAT!$G$5))","v":""},{"$f":"UPPER(IF(D47=\"\",\"\",CONCAT!$G$6))","v":""},{"$f":"UPPER(IF(D47=\"\",\"\",CONCAT!$G$7))","v":""},{"$f":"UPPER(IF(D47=\"\",\"\",CONCAT!$G$2))","v":""},{"$f":"UPPER(IF(D47=\"\",\"\",CONCAT!$G$8))","v":""},"",{"$f":"UPPER(IF(D47=\"\",\"\",'Order Form'!$J$4))","v":""},{"$f":"UPPER(IF(D47=\"\",\"\",(UPPER(IF(CONCAT!$G$2=\"SELECT\",\"SELECT \"&CONCAT!$G$3,CONCAT!$G$1&Species!$G$6&'Door Style'!$I$6&Color!$Q$6&'Drawer Head'!$H$6&'Custom Finish'!$G$6)))))","v":""},null,{"$f":"IF(D47=\"\",\"\",CONCAT!$J$2)","v":""},{"$f":"IF(D47=\"\",\"\",CONCAT!$J$3)","v":""},{"$f":"IF(D47=\"\",\"\",'Order Form'!$J$6)","v":""},{"$f":"UPPER(IF(D47=\"\",\"\",'Order Form'!$J$3&\" - \"&LEFT('Order Form'!$J$5,3)&\"-\"&MID('Order Form'!$J$5,4,3)&\"-\"&RIGHT('Order Form'!$J$5,4)))","v":""},{"$f":"UPPER(IF(D47=\"\",\"\",VLOOKUP('Misc Dropdowns'!$B$3,'Misc Dropdowns'!$B$7:$C$20,2,FALSE)))","v":""},{"$f":"IF(D47=\"\",\"\",'Order Form'!$M$3)","v":""},{"$f":"IF(D47=\"\",\"\",IF('Order Form'!$K$132=\"Delivery:\",'Order Form'!$M$132,'Order Form'!$M$131))","v":""}]
["Item List",null,{"$f":"UPPER(IF(AND('Order Form'!$M$4=\"\",D48=\"\"),\"\",IF(D48=\"\",\"\",'Order Form'!$M$4)))","v":""},{"$f":"IF(AND('Order Form'!C68=\"\",'Order Form'!J68<>\"\"),\"/C\",UPPER(IF('Order Form'!D68=0,\"\",IFERROR(CONCATENATE(CONCAT!B56,CONCAT!C56)&(CONCAT!D56),\"\"))))","v":""},{"$f":"IF(D48=\"\",\"\",IF(D48=\"/C\",\"\",'Order Form'!D68))","v":""},{"$f":"UPPER(IF(D48=\"\",\"\",IF('Order Form'!H68=\"\",\"\",\" \"&'Order Form'!H68)&IF('Order Form'!J68=\"\",\"\",\" \"&'Order Form'!J68)&'Order Form'!AO68&'Order Form'!AP68&'Order Form'!AQ68))","v":""},{"$f":"IF(D48=\"\",\"\",IF(D48=\"/C\",\"\",IF('Order Form'!L68=0,IF('Order Form'!K68=0,\"\",'Order Form'!K68/'Order Form'!D68),'Order Form'!L68+('Order Form'!K68/'Order Form'!D68))))","v":""},"",{"$f":"UPPER(IF(D48=\"\",\"\",CONCAT!$G$3))","v":""},{"$f":"UPPER(IF(D48=\"\",\"\",CONCAT!$G$4))","v":""},{"$f":"UPPER(IF(D48=\"\",\"\",CONCAT!$G$5))","v":""},{"$f":"UPPER(IF(D48=\"\",\"\",CONCAT!$G$6))","v":""},{"$f":"UPPER(IF(D48=\"\",\"\",CONCAT!$G$7))","v":""},{"$f":"UPPER(IF(D48=\"\",\"\",CONCAT!$G$2))","v":""},{"$f":"UPPER(IF(D48=\"\",\"\",CONCAT!$G$8))","v":""},"",{"$f":"UPPER(IF(D48=\"\",\"\",'Order Form'!$J$4))","v":""},{"$f":"UPPER(IF(D48=\"\",\"\",(UPPER(IF(CONCAT!$G$2=\"SELECT\",\"SELECT \"&CONCAT!$G$3,CONCAT!$G$1&Species!$G$6&'Door Style'!$I$6&Color!$Q$6&'Drawer Head'!$H$6&'Custom Finish'!$G$6)))))","v":""},null,{"$f":"IF(D48=\"\",\"\",CONCAT!$J$2)","v":""},{"$f":"IF(D48=\"\",\"\",CONCAT!$J$3)","v":""},{"$f":"IF(D48=\"\",\"\",'Order Form'!$J$6)","v":""},{"$f":"UPPER(IF(D48=\"\",\"\",'Order Form'!$J$3&\" - \"&LEFT('Order Form'!$J$5,3)&\"-\"&MID('Order Form'!$J$5,4,3)&\"-\"&RIGHT('Order Form'!$J$5,4)))","v":""},{"$f":"UPPER(IF(D48=\"\",\"\",VLOOKUP('Misc Dropdowns'!$B$3,'Misc Dropdowns'!$B$7:$C$20,2,FALSE)))","v":""},{"$f":"IF(D48=\"\",\"\",'Order Form'!$M$3)","v":""},{"$f":"IF(D48=\"\",\"\",IF('Order Form'!$K$132=\"Delivery:\",'Order Form'!$M$132,'Order Form'!$M$131))","v":""}]
["Item List",null,{"$f":"UPPER(IF(AND('Order Form'!$M$4=\"\",D49=\"\"),\"\",IF(D49=\"\",\"\",'Order Form'!$M$4)))","v":""},{"$f":"IF(AND('Order Form'!C69=\"\",'Order Form'!J69<>\"\"),\"/C\",UPPER(IF('Order Form'!D69=0,\"\",IFERROR(CONCATENATE(CONCAT!B57,CONCAT!C57)&(CONCAT!D57),\"\"))))","v":""},{"$f":"IF(D49=\"\",\"\",IF(D49=\"/C\",\"\",'Order Form'!D69))","v":""},{"$f":"UPPER(IF(D49=\"\",\"\",IF('Order Form'!H69=\"\",\"\",\" \"&'Order Form'!H69)&IF('Order Form'!J69=\"\",\"\",\" \"&'Order Form'!J69)&'Order Form'!AO69&'Order Form'!AP69&'Order Form'!AQ69))","v":""},{"$f":"IF(D49=\"\",\"\",IF(D49=\"/C\",\"\",IF('Order Form'!L69=0,IF('Order Form'!K69=0,\"\",'Order Form'!K69/'Order Form'!D69),'Order Form'!L69+('Order Form'!K69/'Order Form'!D69))))","v":""},"",{"$f":"UPPER(IF(D49=\"\",\"\",CONCAT!$G$3))","v":""},{"$f":"UPPER(IF(D49=\"\",\"\",CONCAT!$G$4))","v":""},{"$f":"UPPER(IF(D49=\"\",\"\",CONCAT!$G$5))","v":""},{"$f":"UPPER(IF(D49=\"\",\"\",CONCAT!$G$6))","v":""},{"$f":"UPPER(IF(D49=\"\",\"\",CONCAT!$G$7))","v":""},{"$f":"UPPER(IF(D49=\"\",\"\",CONCAT!$G$2))","v":""},{"$f":"UPPER(IF(D49=\"\",\"\",CONCAT!$G$8))","v":""},"",{"$f":"UPPER(IF(D49=\"\",\"\",'Order Form'!$J$4))","v":""},{"$f":"UPPER(IF(D49=\"\",\"\",(UPPER(IF(CONCAT!$G$2=\"SELECT\",\"SELECT \"&CONCAT!$G$3,CONCAT!$G$1&Species!$G$6&'Door Style'!$I$6&Color!$Q$6&'Drawer Head'!$H$6&'Custom Finish'!$G$6)))))","v":""},null,{"$f":"IF(D49=\"\",\"\",CONCAT!$J$2)","v":""},{"$f":"IF(D49=\"\",\"\",CONCAT!$J$3)","v":""},{"$f":"IF(D49=\"\",\"\",'Order Form'!$J$6)","v":""},{"$f":"UPPER(IF(D49=\"\",\"\",'Order Form'!$J$3&\" - \"&LEFT('Order Form'!$J$5,3)&\"-\"&MID('Order Form'!$J$5,4,3)&\"-\"&RIGHT('Order Form'!$J$5,4)))","v":""},{"$f":"UPPER(IF(D49=\"\",\"\",VLOOKUP('Misc Dropdowns'!$B$3,'Misc Dropdowns'!$B$7:$C$20,2,FALSE)))","v":""},{"$f":"IF(D49=\"\",\"\",'Order Form'!$M$3)","v":""},{"$f":"IF(D49=\"\",\"\",IF('Order Form'!$K$132=\"Delivery:\",'Order Form'!$M$132,'Order Form'!$M$131))","v":""}]
["Item List",null,{"$f":"UPPER(IF(AND('Order Form'!$M$4=\"\",D50=\"\"),\"\",IF(D50=\"\",\"\",'Order Form'!$M$4)))","v":""},{"$f":"IF(AND('Order Form'!C70=\"\",'Order Form'!J70<>\"\"),\"/C\",UPPER(IF('Order Form'!D70=0,\"\",IFERROR(CONCATENATE(CONCAT!B58,CONCAT!C58)&(CONCAT!D58),\"\"))))","v":""},{"$f":"IF(D50=\"\",\"\",IF(D50=\"/C\",\"\",'Order Form'!D70))","v":""},{"$f":"UPPER(IF(D50=\"\",\"\",IF('Order Form'!H70=\"\",\"\",\" \"&'Order Form'!H70)&IF('Order Form'!J70=\"\",\"\",\" \"&'Order Form'!J70)&'Order Form'!AO70&'Order Form'!AP70&'Order Form'!AQ70))","v":""},{"$f":"IF(D50=\"\",\"\",IF(D50=\"/C\",\"\",IF('Order Form'!L70=0,IF('Order Form'!K70=0,\"\",'Order Form'!K70/'Order Form'!D70),'Order Form'!L70+('Order Form'!K70/'Order Form'!D70))))","v":""},"",{"$f":"UPPER(IF(D50=\"\",\"\",CONCAT!$G$3))","v":""},{"$f":"UPPER(IF(D50=\"\",\"\",CONCAT!$G$4))","v":""},{"$f":"UPPER(IF(D50=\"\",\"\",CONCAT!$G$5))","v":""},{"$f":"UPPER(IF(D50=\"\",\"\",CONCAT!$G$6))","v":""},{"$f":"UPPER(IF(D50=\"\",\"\",CONCAT!$G$7))","v":""},{"$f":"UPPER(IF(D50=\"\",\"\",CONCAT!$G$2))","v":""},{"$f":"UPPER(IF(D50=\"\",\"\",CONCAT!$G$8))","v":""},"",{"$f":"UPPER(IF(D50=\"\",\"\",'Order Form'!$J$4))","v":""},{"$f":"UPPER(IF(D50=\"\",\"\",(UPPER(IF(CONCAT!$G$2=\"SELECT\",\"SELECT \"&CONCAT!$G$3,CONCAT!$G$1&Species!$G$6&'Door Style'!$I$6&Color!$Q$6&'Drawer Head'!$H$6&'Custom Finish'!$G$6)))))","v":""},null,{"$f":"IF(D50=\"\",\"\",CONCAT!$J$2)","v":""},{"$f":"IF(D50=\"\",\"\",CONCAT!$J$3)","v":""},{"$f":"IF(D50=\"\",\"\",'Order Form'!$J$6)","v":""},{"$f":"UPPER(IF(D50=\"\",\"\",'Order Form'!$J$3&\" - \"&LEFT('Order Form'!$J$5,3)&\"-\"&MID('Order Form'!$J$5,4,3)&\"-\"&RIGHT('Order Form'!$J$5,4)))","v":""},{"$f":"UPPER(IF(D50=\"\",\"\",VLOOKUP('Misc Dropdowns'!$B$3,'Misc Dropdowns'!$B$7:$C$20,2,FALSE)))","v":""},{"$f":"IF(D50=\"\",\"\",'Order Form'!$M$3)","v":""},{"$f":"IF(D50=\"\",\"\",IF('Order Form'!$K$132=\"Delivery:\",'Order Form'!$M$132,'Order Form'!$M$131))","v":""}]
["Item List",null,{"$f":"UPPER(IF(AND('Order Form'!$M$4=\"\",D51=\"\"),\"\",IF(D51=\"\",\"\",'Order Form'!$M$4)))","v":""},{"$f":"IF(AND('Order Form'!C71=\"\",'Order Form'!J71<>\"\"),\"/C\",UPPER(IF('Order Form'!D71=0,\"\",IFERROR(CONCATENATE(CONCAT!B59,CONCAT!C59)&(CONCAT!D59),\"\"))))","v":""},{"$f":"IF(D51=\"\",\"\",IF(D51=\"/C\",\"\",'Order Form'!D71))","v":""},{"$f":"UPPER(IF(D51=\"\",\"\",IF('Order Form'!H71=\"\",\"\",\" \"&'Order Form'!H71)&IF('Order Form'!J71=\"\",\"\",\" \"&'Order Form'!J71)&'Order Form'!AO71&'Order Form'!AP71&'Order Form'!AQ71))","v":""},{"$f":"IF(D51=\"\",\"\",IF(D51=\"/C\",\"\",IF('Order Form'!L71=0,IF('Order Form'!K71=0,\"\",'Order Form'!K71/'Order Form'!D71),'Order Form'!L71+('Order Form'!K71/'Order Form'!D71))))","v":""},"",{"$f":"UPPER(IF(D51=\"\",\"\",CONCAT!$G$3))","v":""},{"$f":"UPPER(IF(D51=\"\",\"\",CONCAT!$G$4))","v":""},{"$f":"UPPER(IF(D51=\"\",\"\",CONCAT!$G$5))","v":""},{"$f":"UPPER(IF(D51=\"\",\"\",CONCAT!$G$6))","v":""},{"$f":"UPPER(IF(D51=\"\",\"\",CONCAT!$G$7))","v":""},{"$f":"UPPER(IF(D51=\"\",\"\",CONCAT!$G$2))","v":""},{"$f":"UPPER(IF(D51=\"\",\"\",CONCAT!$G$8))","v":""},"",{"$f":"UPPER(IF(D51=\"\",\"\",'Order Form'!$J$4))","v":""},{"$f":"UPPER(IF(D51=\"\",\"\",(UPPER(IF(CONCAT!$G$2=\"SELECT\",\"SELECT \"&CONCAT!$G$3,CONCAT!$G$1&Species!$G$6&'Door Style'!$I$6&Color!$Q$6&'Drawer Head'!$H$6&'Custom Finish'!$G$6)))))","v":""},null,{"$f":"IF(D51=\"\",\"\",CONCAT!$J$2)","v":""},{"$f":"IF(D51=\"\",\"\",CONCAT!$J$3)","v":""},{"$f":"IF(D51=\"\",\"\",'Order Form'!$J$6)","v":""},{"$f":"UPPER(IF(D51=\"\",\"\",'Order Form'!$J$3&\" - \"&LEFT('Order Form'!$J$5,3)&\"-\"&MID('Order Form'!$J$5,4,3)&\"-\"&RIGHT('Order Form'!$J$5,4)))","v":""},{"$f":"UPPER(IF(D51=\"\",\"\",VLOOKUP('Misc Dropdowns'!$B$3,'Misc Dropdowns'!$B$7:$C$20,2,FALSE)))","v":""},{"$f":"IF(D51=\"\",\"\",'Order Form'!$M$3)","v":""},{"$f":"IF(D51=\"\",\"\",IF('Order Form'!$K$132=\"Delivery:\",'Order Form'!$M$132,'Order Form'!$M$131))","v":""}]
["Item List",null,{"$f":"UPPER(IF(AND('Order Form'!$M$4=\"\",D52=\"\"),\"\",IF(D52=\"\",\"\",'Order Form'!$M$4)))","v":""},{"$f":"IF(AND('Order Form'!C72=\"\",'Order Form'!J72<>\"\"),\"/C\",UPPER(IF('Order Form'!D72=0,\"\",IFERROR(CONCATENATE(CONCAT!B60,CONCAT!C60)&(CONCAT!D60),\"\"))))","v":""},{"$f":"IF(D52=\"\",\"\",IF(D52=\"/C\",\"\",'Order Form'!D72))","v":""},{"$f":"UPPER(IF(D52=\"\",\"\",IF('Order Form'!H72=\"\",\"\",\" \"&'Order Form'!H72)&IF('Order Form'!J72=\"\",\"\",\" \"&'Order Form'!J72)&'Order Form'!AO72&'Order Form'!AP72&'Order Form'!AQ72))","v":""},{"$f":"IF(D52=\"\",\"\",IF(D52=\"/C\",\"\",IF('Order Form'!L72=0,IF('Order Form'!K72=0,\"\",'Order Form'!K72/'Order Form'!D72),'Order Form'!L72+('Order Form'!K72/'Order Form'!D72))))","v":""},"",{"$f":"UPPER(IF(D52=\"\",\"\",CONCAT!$G$3))","v":""},{"$f":"UPPER(IF(D52=\"\",\"\",CONCAT!$G$4))","v":""},{"$f":"UPPER(IF(D52=\"\",\"\",CONCAT!$G$5))","v":""},{"$f":"UPPER(IF(D52=\"\",\"\",CONCAT!$G$6))","v":""},{"$f":"UPPER(IF(D52=\"\",\"\",CONCAT!$G$7))","v":""},{"$f":"UPPER(IF(D52=\"\",\"\",CONCAT!$G$2))","v":""},{"$f":"UPPER(IF(D52=\"\",\"\",CONCAT!$G$8))","v":""},"",{"$f":"UPPER(IF(D52=\"\",\"\",'Order Form'!$J$4))","v":""},{"$f":"UPPER(IF(D52=\"\",\"\",(UPPER(IF(CONCAT!$G$2=\"SELECT\",\"SELECT \"&CONCAT!$G$3,CONCAT!$G$1&Species!$G$6&'Door Style'!$I$6&Color!$Q$6&'Drawer Head'!$H$6&'Custom Finish'!$G$6)))))","v":""},null,{"$f":"IF(D52=\"\",\"\",CONCAT!$J$2)","v":""},{"$f":"IF(D52=\"\",\"\",CONCAT!$J$3)","v":""},{"$f":"IF(D52=\"\",\"\",'Order Form'!$J$6)","v":""},{"$f":"UPPER(IF(D52=\"\",\"\",'Order Form'!$J$3&\" - \"&LEFT('Order Form'!$J$5,3)&\"-\"&MID('Order Form'!$J$5,4,3)&\"-\"&RIGHT('Order Form'!$J$5,4)))","v":""},{"$f":"UPPER(IF(D52=\"\",\"\",VLOOKUP('Misc Dropdowns'!$B$3,'Misc Dropdowns'!$B$7:$C$20,2,FALSE)))","v":""},{"$f":"IF(D52=\"\",\"\",'Order Form'!$M$3)","v":""},{"$f":"IF(D52=\"\",\"\",IF('Order Form'!$K$132=\"Delivery:\",'Order Form'!$M$132,'Order Form'!$M$131))","v":""}]
["Item List",null,{"$f":"UPPER(IF(AND('Order Form'!$M$4=\"\",D53=\"\"),\"\",IF(D53=\"\",\"\",'Order Form'!$M$4)))","v":""},{"$f":"IF(AND('Order Form'!C73=\"\",'Order Form'!J73<>\"\"),\"/C\",UPPER(IF('Order Form'!D73=0,\"\",IFERROR(CONCATENATE(CONCAT!B61,CONCAT!C61)&(CONCAT!D61),\"\"))))","v":""},{"$f":"IF(D53=\"\",\"\",IF(D53=\"/C\",\"\",'Order Form'!D73))","v":""},{"$f":"UPPER(IF(D53=\"\",\"\",IF('Order Form'!H73=\"\",\"\",\" \"&'Order Form'!H73)&IF('Order Form'!J73=\"\",\"\",\" \"&'Order Form'!J73)&'Order Form'!AO73&'Order Form'!AP73&'Order Form'!AQ73))","v":""},{"$f":"IF(D53=\"\",\"\",IF(D53=\"/C\",\"\",IF('Order Form'!L73=0,IF('Order Form'!K73=0,\"\",'Order Form'!K73/'Order Form'!D73),'Order Form'!L73+('Order Form'!K73/'Order Form'!D73))))","v":""},"",{"$f":"UPPER(IF(D53=\"\",\"\",CONCAT!$G$3))","v":""},{"$f":"UPPER(IF(D53=\"\",\"\",CONCAT!$G$4))","v":""},{"$f":"UPPER(IF(D53=\"\",\"\",CONCAT!$G$5))","v":""},{"$f":"UPPER(IF(D53=\"\",\"\",CONCAT!$G$6))","v":""},{"$f":"UPPER(IF(D53=\"\",\"\",CONCAT!$G$7))","v":""},{"$f":"UPPER(IF(D53=\"\",\"\",CONCAT!$G$2))","v":""},{"$f":"UPPER(IF(D53=\"\",\"\",CONCAT!$G$8))","v":""},"",{"$f":"UPPER(IF(D53=\"\",\"\",'Order Form'!$J$4))","v":""},{"$f":"UPPER(IF(D53=\"\",\"\",(UPPER(IF(CONCAT!$G$2=\"SELECT\",\"SELECT \"&CONCAT!$G$3,CONCAT!$G$1&Species!$G$6&'Door Style'!$I$6&Color!$Q$6&'Drawer Head'!$H$6&'Custom Finish'!$G$6)))))","v":""},null,{"$f":"IF(D53=\"\",\"\",CONCAT!$J$2)","v":""},{"$f":"IF(D53=\"\",\"\",CONCAT!$J$3)","v":""},{"$f":"IF(D53=\"\",\"\",'Order Form'!$J$6)","v":""},{"$f":"UPPER(IF(D53=\"\",\"\",'Order Form'!$J$3&\" - \"&LEFT('Order Form'!$J$5,3)&\"-\"&MID('Order Form'!$J$5,4,3)&\"-\"&RIGHT('Order Form'!$J$5,4)))","v":""},{"$f":"UPPER(IF(D53=\"\",\"\",VLOOKUP('Misc Dropdowns'!$B$3,'Misc Dropdowns'!$B$7:$C$20,2,FALSE)))","v":""},{"$f":"IF(D53=\"\",\"\",'Order Form'!$M$3)","v":""},{"$f":"IF(D53=\"\",\"\",IF('Order Form'!$K$132=\"Delivery:\",'Order Form'!$M$132,'Order Form'!$M$131))","v":""}]
["Item List",null,{"$f":"UPPER(IF(AND('Order Form'!$M$4=\"\",D54=\"\"),\"\",IF(D54=\"\",\"\",'Order Form'!$M$4)))","v":""},{"$f":"IF(AND('Order Form'!C74=\"\",'Order Form'!J74<>\"\"),\"/C\",UPPER(IF('Order Form'!D74=0,\"\",IFERROR(CONCATENATE(CONCAT!B62,CONCAT!C62)&(CONCAT!D62),\"\"))))","v":""},{"$f":"IF(D54=\"\",\"\",IF(D54=\"/C\",\"\",'Order Form'!D74))","v":""},{"$f":"UPPER(IF(D54=\"\",\"\",IF('Order Form'!H74=\"\",\"\",\" \"&'Order Form'!H74)&IF('Order Form'!J74=\"\",\"\",\" \"&'Order Form'!J74)&'Order Form'!AO74&'Order Form'!AP74&'Order Form'!AQ74))","v":""},{"$f":"IF(D54=\"\",\"\",IF(D54=\"/C\",\"\",IF('Order Form'!L74=0,IF('Order Form'!K74=0,\"\",'Order Form'!K74/'Order Form'!D74),'Order Form'!L74+('Order Form'!K74/'Order Form'!D74))))","v":""},"",{"$f":"UPPER(IF(D54=\"\",\"\",CONCAT!$G$3))","v":""},{"$f":"UPPER(IF(D54=\"\",\"\",CONCAT!$G$4))","v":""},{"$f":"UPPER(IF(D54=\"\",\"\",CONCAT!$G$5))","v":""},{"$f":"UPPER(IF(D54=\"\",\"\",CONCAT!$G$6))","v":""},{"$f":"UPPER(IF(D54=\"\",\"\",CONCAT!$G$7))","v":""},{"$f":"UPPER(IF(D54=\"\",\"\",CONCAT!$G$2))","v":""},{"$f":"UPPER(IF(D54=\"\",\"\",CONCAT!$G$8))","v":""},"",{"$f":"UPPER(IF(D54=\"\",\"\",'Order Form'!$J$4))","v":""},{"$f":"UPPER(IF(D54=\"\",\"\",(UPPER(IF(CONCAT!$G$2=\"SELECT\",\"SELECT \"&CONCAT!$G$3,CONCAT!$G$1&Species!$G$6&'Door Style'!$I$6&Color!$Q$6&'Drawer Head'!$H$6&'Custom Finish'!$G$6)))))","v":""},null,{"$f":"IF(D54=\"\",\"\",CONCAT!$J$2)","v":""},{"$f":"IF(D54=\"\",\"\",CONCAT!$J$3)","v":""},{"$f":"IF(D54=\"\",\"\",'Order Form'!$J$6)","v":""},{"$f":"UPPER(IF(D54=\"\",\"\",'Order Form'!$J$3&\" - \"&LEFT('Order Form'!$J$5,3)&\"-\"&MID('Order Form'!$J$5,4,3)&\"-\"&RIGHT('Order Form'!$J$5,4)))","v":""},{"$f":"UPPER(IF(D54=\"\",\"\",VLOOKUP('Misc Dropdowns'!$B$3,'Misc Dropdowns'!$B$7:$C$20,2,FALSE)))","v":""},{"$f":"IF(D54=\"\",\"\",'Order Form'!$M$3)","v":""},{"$f":"IF(D54=\"\",\"\",IF('Order Form'!$K$132=\"Delivery:\",'Order Form'!$M$132,'Order Form'!$M$131))","v":""}]
["Item List",null,{"$f":"UPPER(IF(AND('Order Form'!$M$4=\"\",D55=\"\"),\"\",IF(D55=\"\",\"\",'Order Form'!$M$4)))","v":""},{"$f":"IF(AND('Order Form'!C75=\"\",'Order Form'!J75<>\"\"),\"/C\",UPPER(IF('Order Form'!D75=0,\"\",IFERROR(CONCATENATE(CONCAT!B63,CONCAT!C63)&(CONCAT!D63),\"\"))))","v":""},{"$f":"IF(D55=\"\",\"\",IF(D55=\"/C\",\"\",'Order Form'!D75))","v":""},{"$f":"UPPER(IF(D55=\"\",\"\",IF('Order Form'!H75=\"\",\"\",\" \"&'Order Form'!H75)&IF('Order Form'!J75=\"\",\"\",\" \"&'Order Form'!J75)&'Order Form'!AO75&'Order Form'!AP75&'Order Form'!AQ75))","v":""},{"$f":"IF(D55=\"\",\"\",IF(D55=\"/C\",\"\",IF('Order Form'!L75=0,IF('Order Form'!K75=0,\"\",'Order Form'!K75/'Order Form'!D75),'Order Form'!L75+('Order Form'!K75/'Order Form'!D75))))","v":""},"",{"$f":"UPPER(IF(D55=\"\",\"\",CONCAT!$G$3))","v":""},{"$f":"UPPER(IF(D55=\"\",\"\",CONCAT!$G$4))","v":""},{"$f":"UPPER(IF(D55=\"\",\"\",CONCAT!$G$5))","v":""},{"$f":"UPPER(IF(D55=\"\",\"\",CONCAT!$G$6))","v":""},{"$f":"UPPER(IF(D55=\"\",\"\",CONCAT!$G$7))","v":""},{"$f":"UPPER(IF(D55=\"\",\"\",CONCAT!$G$2))","v":""},{"$f":"UPPER(IF(D55=\"\",\"\",CONCAT!$G$8))","v":""},"",{"$f":"UPPER(IF(D55=\"\",\"\",'Order Form'!$J$4))","v":""},{"$f":"UPPER(IF(D55=\"\",\"\",(UPPER(IF(CONCAT!$G$2=\"SELECT\",\"SELECT \"&CONCAT!$G$3,CONCAT!$G$1&Species!$G$6&'Door Style'!$I$6&Color!$Q$6&'Drawer Head'!$H$6&'Custom Finish'!$G$6)))))","v":""},null,{"$f":"IF(D55=\"\",\"\",CONCAT!$J$2)","v":""},{"$f":"IF(D55=\"\",\"\",CONCAT!$J$3)","v":""},{"$f":"IF(D55=\"\",\"\",'Order Form'!$J$6)","v":""},{"$f":"UPPER(IF(D55=\"\",\"\",'Order Form'!$J$3&\" - \"&LEFT('Order Form'!$J$5,3)&\"-\"&MID('Order Form'!$J$5,4,3)&\"-\"&RIGHT('Order Form'!$J$5,4)))","v":""},{"$f":"UPPER(IF(D55=\"\",\"\",VLOOKUP('Misc Dropdowns'!$B$3,'Misc Dropdowns'!$B$7:$C$20,2,FALSE)))","v":""},{"$f":"IF(D55=\"\",\"\",'Order Form'!$M$3)","v":""},{"$f":"IF(D55=\"\",\"\",IF('Order Form'!$K$132=\"Delivery:\",'Order Form'!$M$132,'Order Form'!$M$131))","v":""}]
["Item List",null,{"$f":"UPPER(IF(AND('Order Form'!$M$4=\"\",D56=\"\"),\"\",IF(D56=\"\",\"\",'Order Form'!$M$4)))","v":""},{"$f":"IF(AND('Order Form'!C76=\"\",'Order Form'!J76<>\"\"),\"/C\",UPPER(IF('Order Form'!D76=0,\"\",IFERROR(CONCATENATE(CONCAT!B64,CONCAT!C64)&(CONCAT!D64),\"\"))))","v":""},{"$f":"IF(D56=\"\",\"\",IF(D56=\"/C\",\"\",'Order Form'!D76))","v":""},{"$f":"UPPER(IF(D56=\"\",\"\",IF('Order Form'!H76=\"\",\"\",\" \"&'Order Form'!H76)&IF('Order Form'!J76=\"\",\"\",\" \"&'Order Form'!J76)&'Order Form'!AO76&'Order Form'!AP76&'Order Form'!AQ76))","v":""},{"$f":"IF(D56=\"\",\"\",IF(D56=\"/C\",\"\",IF('Order Form'!L76=0,IF('Order Form'!K76=0,\"\",'Order Form'!K76/'Order Form'!D76),'Order Form'!L76+('Order Form'!K76/'Order Form'!D76))))","v":""},"",{"$f":"UPPER(IF(D56=\"\",\"\",CONCAT!$G$3))","v":""},{"$f":"UPPER(IF(D56=\"\",\"\",CONCAT!$G$4))","v":""},{"$f":"UPPER(IF(D56=\"\",\"\",CONCAT!$G$5))","v":""},{"$f":"UPPER(IF(D56=\"\",\"\",CONCAT!$G$6))","v":""},{"$f":"UPPER(IF(D56=\"\",\"\",CONCAT!$G$7))","v":""},{"$f":"UPPER(IF(D56=\"\",\"\",CONCAT!$G$2))","v":""},{"$f":"UPPER(IF(D56=\"\",\"\",CONCAT!$G$8))","v":""},"",{"$f":"UPPER(IF(D56=\"\",\"\",'Order Form'!$J$4))","v":""},{"$f":"UPPER(IF(D56=\"\",\"\",(UPPER(IF(CONCAT!$G$2=\"SELECT\",\"SELECT \"&CONCAT!$G$3,CONCAT!$G$1&Species!$G$6&'Door Style'!$I$6&Color!$Q$6&'Drawer Head'!$H$6&'Custom Finish'!$G$6)))))","v":""},null,{"$f":"IF(D56=\"\",\"\",CONCAT!$J$2)","v":""},{"$f":"IF(D56=\"\",\"\",CONCAT!$J$3)","v":""},{"$f":"IF(D56=\"\",\"\",'Order Form'!$J$6)","v":""},{"$f":"UPPER(IF(D56=\"\",\"\",'Order Form'!$J$3&\" - \"&LEFT('Order Form'!$J$5,3)&\"-\"&MID('Order Form'!$J$5,4,3)&\"-\"&RIGHT('Order Form'!$J$5,4)))","v":""},{"$f":"UPPER(IF(D56=\"\",\"\",VLOOKUP('Misc Dropdowns'!$B$3,'Misc Dropdowns'!$B$7:$C$20,2,FALSE)))","v":""},{"$f":"IF(D56=\"\",\"\",'Order Form'!$M$3)","v":""},{"$f":"IF(D56=\"\",\"\",IF('Order Form'!$K$132=\"Delivery:\",'Order Form'!$M$132,'Order Form'!$M$131))","v":""}]
["Item List",null,{"$f":"UPPER(IF(AND('Order Form'!$M$4=\"\",D57=\"\"),\"\",IF(D57=\"\",\"\",'Order Form'!$M$4)))","v":""},{"$f":"IF(AND('Order Form'!C77=\"\",'Order Form'!J77<>\"\"),\"/C\",UPPER(IF('Order Form'!D77=0,\"\",IFERROR(CONCATENATE(CONCAT!B65,CONCAT!C65)&(CONCAT!D65),\"\"))))","v":""},{"$f":"IF(D57=\"\",\"\",IF(D57=\"/C\",\"\",'Order Form'!D77))","v":""},{"$f":"UPPER(IF(D57=\"\",\"\",IF('Order Form'!H77=\"\",\"\",\" \"&'Order Form'!H77)&IF('Order Form'!J77=\"\",\"\",\" \"&'Order Form'!J77)&'Order Form'!AO77&'Order Form'!AP77&'Order Form'!AQ77))","v":""},{"$f":"IF(D57=\"\",\"\",IF(D57=\"/C\",\"\",IF('Order Form'!L77=0,IF('Order Form'!K77=0,\"\",'Order Form'!K77/'Order Form'!D77),'Order Form'!L77+('Order Form'!K77/'Order Form'!D77))))","v":""},"",{"$f":"UPPER(IF(D57=\"\",\"\",CONCAT!$G$3))","v":""},{"$f":"UPPER(IF(D57=\"\",\"\",CONCAT!$G$4))","v":""},{"$f":"UPPER(IF(D57=\"\",\"\",CONCAT!$G$5))","v":""},{"$f":"UPPER(IF(D57=\"\",\"\",CONCAT!$G$6))","v":""},{"$f":"UPPER(IF(D57=\"\",\"\",CONCAT!$G$7))","v":""},{"$f":"UPPER(IF(D57=\"\",\"\",CONCAT!$G$2))","v":""},{"$f":"UPPER(IF(D57=\"\",\"\",CONCAT!$G$8))","v":""},"",{"$f":"UPPER(IF(D57=\"\",\"\",'Order Form'!$J$4))","v":""},{"$f":"UPPER(IF(D57=\"\",\"\",(UPPER(IF(CONCAT!$G$2=\"SELECT\",\"SELECT \"&CONCAT!$G$3,CONCAT!$G$1&Species!$G$6&'Door Style'!$I$6&Color!$Q$6&'Drawer Head'!$H$6&'Custom Finish'!$G$6)))))","v":""},null,{"$f":"IF(D57=\"\",\"\",CONCAT!$J$2)","v":""},{"$f":"IF(D57=\"\",\"\",CONCAT!$J$3)","v":""},{"$f":"IF(D57=\"\",\"\",'Order Form'!$J$6)","v":""},{"$f":"UPPER(IF(D57=\"\",\"\",'Order Form'!$J$3&\" - \"&LEFT('Order Form'!$J$5,3)&\"-\"&MID('Order Form'!$J$5,4,3)&\"-\"&RIGHT('Order Form'!$J$5,4)))","v":""},{"$f":"UPPER(IF(D57=\"\",\"\",VLOOKUP('Misc Dropdowns'!$B$3,'Misc Dropdowns'!$B$7:$C$20,2,FALSE)))","v":""},{"$f":"IF(D57=\"\",\"\",'Order Form'!$M$3)","v":""},{"$f":"IF(D57=\"\",\"\",IF('Order Form'!$K$132=\"Delivery:\",'Order Form'!$M$132,'Order Form'!$M$131))","v":""}]
["Item List",null,{"$f":"UPPER(IF(AND('Order Form'!$M$4=\"\",D58=\"\"),\"\",IF(D58=\"\",\"\",'Order Form'!$M$4)))","v":""},{"$f":"IF(AND('Order Form'!C78=\"\",'Order Form'!J78<>\"\"),\"/C\",UPPER(IF('Order Form'!D78=0,\"\",IFERROR(CONCATENATE(CONCAT!B66,CONCAT!C66)&(CONCAT!D66),\"\"))))","v":""},{"$f":"IF(D58=\"\",\"\",IF(D58=\"/C\",\"\",'Order Form'!D78))","v":""},{"$f":"UPPER(IF(D58=\"\",\"\",IF('Order Form'!H78=\"\",\"\",\" \"&'Order Form'!H78)&IF('Order Form'!J78=\"\",\"\",\" \"&'Order Form'!J78)&'Order Form'!AO78&'Order Form'!AP78&'Order Form'!AQ78))","v":""},{"$f":"IF(D58=\"\",\"\",IF(D58=\"/C\",\"\",IF('Order Form'!L78=0,IF('Order Form'!K78=0,\"\",'Order Form'!K78/'Order Form'!D78),'Order Form'!L78+('Order Form'!K78/'Order Form'!D78))))","v":""},"",{"$f":"UPPER(IF(D58=\"\",\"\",CONCAT!$G$3))","v":""},{"$f":"UPPER(IF(D58=\"\",\"\",CONCAT!$G$4))","v":""},{"$f":"UPPER(IF(D58=\"\",\"\",CONCAT!$G$5))","v":""},{"$f":"UPPER(IF(D58=\"\",\"\",CONCAT!$G$6))","v":""},{"$f":"UPPER(IF(D58=\"\",\"\",CONCAT!$G$7))","v":""},{"$f":"UPPER(IF(D58=\"\",\"\",CONCAT!$G$2))","v":""},{"$f":"UPPER(IF(D58=\"\",\"\",CONCAT!$G$8))","v":""},"",{"$f":"UPPER(IF(D58=\"\",\"\",'Order Form'!$J$4))","v":""},{"$f":"UPPER(IF(D58=\"\",\"\",(UPPER(IF(CONCAT!$G$2=\"SELECT\",\"SELECT \"&CONCAT!$G$3,CONCAT!$G$1&Species!$G$6&'Door Style'!$I$6&Color!$Q$6&'Drawer Head'!$H$6&'Custom Finish'!$G$6)))))","v":""},null,{"$f":"IF(D58=\"\",\"\",CONCAT!$J$2)","v":""},{"$f":"IF(D58=\"\",\"\",CONCAT!$J$3)","v":""},{"$f":"IF(D58=\"\",\"\",'Order Form'!$J$6)","v":""},{"$f":"UPPER(IF(D58=\"\",\"\",'Order Form'!$J$3&\" - \"&LEFT('Order Form'!$J$5,3)&\"-\"&MID('Order Form'!$J$5,4,3)&\"-\"&RIGHT('Order Form'!$J$5,4)))","v":""},{"$f":"UPPER(IF(D58=\"\",\"\",VLOOKUP('Misc Dropdowns'!$B$3,'Misc Dropdowns'!$B$7:$C$20,2,FALSE)))","v":""},{"$f":"IF(D58=\"\",\"\",'Order Form'!$M$3)","v":""},{"$f":"IF(D58=\"\",\"\",IF('Order Form'!$K$132=\"Delivery:\",'Order Form'!$M$132,'Order Form'!$M$131))","v":""}]
["Item List",null,{"$f":"UPPER(IF(AND('Order Form'!$M$4=\"\",D59=\"\"),\"\",IF(D59=\"\",\"\",'Order Form'!$M$4)))","v":""},{"$f":"IF(AND('Order Form'!C79=\"\",'Order Form'!J79<>\"\"),\"/C\",UPPER(IF('Order Form'!D79=0,\"\",IFERROR(CONCATENATE(CONCAT!B67,CONCAT!C67)&(CONCAT!D67),\"\"))))","v":""},{"$f":"IF(D59=\"\",\"\",IF(D59=\"/C\",\"\",'Order Form'!D79))","v":""},{"$f":"UPPER(IF(D59=\"\",\"\",IF('Order Form'!H79=\"\",\"\",\" \"&'Order Form'!H79)&IF('Order Form'!J79=\"\",\"\",\" \"&'Order Form'!J79)&'Order Form'!AO79&'Order Form'!AP79&'Order Form'!AQ79))","v":""},{"$f":"IF(D59=\"\",\"\",IF(D59=\"/C\",\"\",IF('Order Form'!L79=0,IF('Order Form'!K79=0,\"\",'Order Form'!K79/'Order Form'!D79),'Order Form'!L79+('Order Form'!K79/'Order Form'!D79))))","v":""},"",{"$f":"UPPER(IF(D59=\"\",\"\",CONCAT!$G$3))","v":""},{"$f":"UPPER(IF(D59=\"\",\"\",CONCAT!$G$4))","v":""},{"$f":"UPPER(IF(D59=\"\",\"\",CONCAT!$G$5))","v":""},{"$f":"UPPER(IF(D59=\"\",\"\",CONCAT!$G$6))","v":""},{"$f":"UPPER(IF(D59=\"\",\"\",CONCAT!$G$7))","v":""},{"$f":"UPPER(IF(D59=\"\",\"\",CONCAT!$G$2))","v":""},{"$f":"UPPER(IF(D59=\"\",\"\",CONCAT!$G$8))","v":""},"",{"$f":"UPPER(IF(D59=\"\",\"\",'Order Form'!$J$4))","v":""},{"$f":"UPPER(IF(D59=\"\",\"\",(UPPER(IF(CONCAT!$G$2=\"SELECT\",\"SELECT \"&CONCAT!$G$3,CONCAT!$G$1&Species!$G$6&'Door Style'!$I$6&Color!$Q$6&'Drawer Head'!$H$6&'Custom Finish'!$G$6)))))","v":""},null,{"$f":"IF(D59=\"\",\"\",CONCAT!$J$2)","v":""},{"$f":"IF(D59=\"\",\"\",CONCAT!$J$3)","v":""},{"$f":"IF(D59=\"\",\"\",'Order Form'!$J$6)","v":""},{"$f":"UPPER(IF(D59=\"\",\"\",'Order Form'!$J$3&\" - \"&LEFT('Order Form'!$J$5,3)&\"-\"&MID('Order Form'!$J$5,4,3)&\"-\"&RIGHT('Order Form'!$J$5,4)))","v":""},{"$f":"UPPER(IF(D59=\"\",\"\",VLOOKUP('Misc Dropdowns'!$B$3,'Misc Dropdowns'!$B$7:$C$20,2,FALSE)))","v":""},{"$f":"IF(D59=\"\",\"\",'Order Form'!$M$3)","v":""},{"$f":"IF(D59=\"\",\"\",IF('Order Form'!$K$132=\"Delivery:\",'Order Form'!$M$132,'Order Form'!$M$131))","v":""}]
["Item List",null,{"$f":"UPPER(IF(AND('Order Form'!$M$4=\"\",D60=\"\"),\"\",IF(D60=\"\",\"\",'Order Form'!$M$4)))","v":""},{"$f":"IF(AND('Order Form'!C80=\"\",'Order Form'!J80<>\"\"),\"/C\",UPPER(IF('Order Form'!D80=0,\"\",IFERROR(CONCATENATE(CONCAT!B68,CONCAT!C68)&(CONCAT!D68),\"\"))))","v":""},{"$f":"IF(D60=\"\",\"\",IF(D60=\"/C\",\"\",'Order Form'!D80))","v":""},{"$f":"UPPER(IF(D60=\"\",\"\",IF('Order Form'!H80=\"\",\"\",\" \"&'Order Form'!H80)&IF('Order Form'!J80=\"\",\"\",\" \"&'Order Form'!J80)&'Order Form'!AO80&'Order Form'!AP80&'Order Form'!AQ80))","v":""},{"$f":"IF(D60=\"\",\"\",IF(D60=\"/C\",\"\",IF('Order Form'!L80=0,IF('Order Form'!K80=0,\"\",'Order Form'!K80/'Order Form'!D80),'Order Form'!L80+('Order Form'!K80/'Order Form'!D80))))","v":""},"",{"$f":"UPPER(IF(D60=\"\",\"\",CONCAT!$G$3))","v":""},{"$f":"UPPER(IF(D60=\"\",\"\",CONCAT!$G$4))","v":""},{"$f":"UPPER(IF(D60=\"\",\"\",CONCAT!$G$5))","v":""},{"$f":"UPPER(IF(D60=\"\",\"\",CONCAT!$G$6))","v":""},{"$f":"UPPER(IF(D60=\"\",\"\",CONCAT!$G$7))","v":""},{"$f":"UPPER(IF(D60=\"\",\"\",CONCAT!$G$2))","v":""},{"$f":"UPPER(IF(D60=\"\",\"\",CONCAT!$G$8))","v":""},"",{"$f":"UPPER(IF(D60=\"\",\"\",'Order Form'!$J$4))","v":""},{"$f":"UPPER(IF(D60=\"\",\"\",(UPPER(IF(CONCAT!$G$2=\"SELECT\",\"SELECT \"&CONCAT!$G$3,CONCAT!$G$1&Species!$G$6&'Door Style'!$I$6&Color!$Q$6&'Drawer Head'!$H$6&'Custom Finish'!$G$6)))))","v":""},null,{"$f":"IF(D60=\"\",\"\",CONCAT!$J$2)","v":""},{"$f":"IF(D60=\"\",\"\",CONCAT!$J$3)","v":""},{"$f":"IF(D60=\"\",\"\",'Order Form'!$J$6)","v":""},{"$f":"UPPER(IF(D60=\"\",\"\",'Order Form'!$J$3&\" - \"&LEFT('Order Form'!$J$5,3)&\"-\"&MID('Order Form'!$J$5,4,3)&\"-\"&RIGHT('Order Form'!$J$5,4)))","v":""},{"$f":"UPPER(IF(D60=\"\",\"\",VLOOKUP('Misc Dropdowns'!$B$3,'Misc Dropdowns'!$B$7:$C$20,2,FALSE)))","v":""},{"$f":"IF(D60=\"\",\"\",'Order Form'!$M$3)","v":""},{"$f":"IF(D60=\"\",\"\",IF('Order Form'!$K$132=\"Delivery:\",'Order Form'!$M$132,'Order Form'!$M$131))","v":""}]
["Item List",null,{"$f":"UPPER(IF(AND('Order Form'!$M$4=\"\",D61=\"\"),\"\",IF(D61=\"\",\"\",'Order Form'!$M$4)))","v":""},{"$f":"IF(AND('Order Form'!C81=\"\",'Order Form'!J81<>\"\"),\"/C\",UPPER(IF('Order Form'!D81=0,\"\",IFERROR(CONCATENATE(CONCAT!B69,CONCAT!C69)&(CONCAT!D69),\"\"))))","v":""},{"$f":"IF(D61=\"\",\"\",IF(D61=\"/C\",\"\",'Order Form'!D81))","v":""},{"$f":"UPPER(IF(D61=\"\",\"\",IF('Order Form'!H81=\"\",\"\",\" \"&'Order Form'!H81)&IF('Order Form'!J81=\"\",\"\",\" \"&'Order Form'!J81)&'Order Form'!AO81&'Order Form'!AP81&'Order Form'!AQ81))","v":""},{"$f":"IF(D61=\"\",\"\",IF(D61=\"/C\",\"\",IF('Order Form'!L81=0,IF('Order Form'!K81=0,\"\",'Order Form'!K81/'Order Form'!D81),'Order Form'!L81+('Order Form'!K81/'Order Form'!D81))))","v":""},"",{"$f":"UPPER(IF(D61=\"\",\"\",CONCAT!$G$3))","v":""},{"$f":"UPPER(IF(D61=\"\",\"\",CONCAT!$G$4))","v":""},{"$f":"UPPER(IF(D61=\"\",\"\",CONCAT!$G$5))","v":""},{"$f":"UPPER(IF(D61=\"\",\"\",CONCAT!$G$6))","v":""},{"$f":"UPPER(IF(D61=\"\",\"\",CONCAT!$G$7))","v":""},{"$f":"UPPER(IF(D61=\"\",\"\",CONCAT!$G$2))","v":""},{"$f":"UPPER(IF(D61=\"\",\"\",CONCAT!$G$8))","v":""},"",{"$f":"UPPER(IF(D61=\"\",\"\",'Order Form'!$J$4))","v":""},{"$f":"UPPER(IF(D61=\"\",\"\",(UPPER(IF(CONCAT!$G$2=\"SELECT\",\"SELECT \"&CONCAT!$G$3,CONCAT!$G$1&Species!$G$6&'Door Style'!$I$6&Color!$Q$6&'Drawer Head'!$H$6&'Custom Finish'!$G$6)))))","v":""},null,{"$f":"IF(D61=\"\",\"\",CONCAT!$J$2)","v":""},{"$f":"IF(D61=\"\",\"\",CONCAT!$J$3)","v":""},{"$f":"IF(D61=\"\",\"\",'Order Form'!$J$6)","v":""},{"$f":"UPPER(IF(D61=\"\",\"\",'Order Form'!$J$3&\" - \"&LEFT('Order Form'!$J$5,3)&\"-\"&MID('Order Form'!$J$5,4,3)&\"-\"&RIGHT('Order Form'!$J$5,4)))","v":""},{"$f":"UPPER(IF(D61=\"\",\"\",VLOOKUP('Misc Dropdowns'!$B$3,'Misc Dropdowns'!$B$7:$C$20,2,FALSE)))","v":""},{"$f":"IF(D61=\"\",\"\",'Order Form'!$M$3)","v":""},{"$f":"IF(D61=\"\",\"\",IF('Order Form'!$K$132=\"Delivery:\",'Order Form'!$M$132,'Order Form'!$M$131))","v":""}]
["Item List",null,{"$f":"UPPER(IF(AND('Order Form'!$M$4=\"\",D62=\"\"),\"\",IF(D62=\"\",\"\",'Order Form'!$M$4)))","v":""},{"$f":"IF(AND('Order Form'!C82=\"\",'Order Form'!J82<>\"\"),\"/C\",UPPER(IF('Order Form'!D82=0,\"\",IFERROR(CONCATENATE(CONCAT!B70,CONCAT!C70)&(CONCAT!D70),\"\"))))","v":""},{"$f":"IF(D62=\"\",\"\",IF(D62=\"/C\",\"\",'Order Form'!D82))","v":""},{"$f":"UPPER(IF(D62=\"\",\"\",IF('Order Form'!H82=\"\",\"\",\" \"&'Order Form'!H82)&IF('Order Form'!J82=\"\",\"\",\" \"&'Order Form'!J82)&'Order Form'!AO82&'Order Form'!AP82&'Order Form'!AQ82))","v":""},{"$f":"IF(D62=\"\",\"\",IF(D62=\"/C\",\"\",IF('Order Form'!L82=0,IF('Order Form'!K82=0,\"\",'Order Form'!K82/'Order Form'!D82),'Order Form'!L82+('Order Form'!K82/'Order Form'!D82))))","v":""},"",{"$f":"UPPER(IF(D62=\"\",\"\",CONCAT!$G$3))","v":""},{"$f":"UPPER(IF(D62=\"\",\"\",CONCAT!$G$4))","v":""},{"$f":"UPPER(IF(D62=\"\",\"\",CONCAT!$G$5))","v":""},{"$f":"UPPER(IF(D62=\"\",\"\",CONCAT!$G$6))","v":""},{"$f":"UPPER(IF(D62=\"\",\"\",CONCAT!$G$7))","v":""},{"$f":"UPPER(IF(D62=\"\",\"\",CONCAT!$G$2))","v":""},{"$f":"UPPER(IF(D62=\"\",\"\",CONCAT!$G$8))","v":""},"",{"$f":"UPPER(IF(D62=\"\",\"\",'Order Form'!$J$4))","v":""},{"$f":"UPPER(IF(D62=\"\",\"\",(UPPER(IF(CONCAT!$G$2=\"SELECT\",\"SELECT \"&CONCAT!$G$3,CONCAT!$G$1&Species!$G$6&'Door Style'!$I$6&Color!$Q$6&'Drawer Head'!$H$6&'Custom Finish'!$G$6)))))","v":""},null,{"$f":"IF(D62=\"\",\"\",CONCAT!$J$2)","v":""},{"$f":"IF(D62=\"\",\"\",CONCAT!$J$3)","v":""},{"$f":"IF(D62=\"\",\"\",'Order Form'!$J$6)","v":""},{"$f":"UPPER(IF(D62=\"\",\"\",'Order Form'!$J$3&\" - \"&LEFT('Order Form'!$J$5,3)&\"-\"&MID('Order Form'!$J$5,4,3)&\"-\"&RIGHT('Order Form'!$J$5,4)))","v":""},{"$f":"UPPER(IF(D62=\"\",\"\",VLOOKUP('Misc Dropdowns'!$B$3,'Misc Dropdowns'!$B$7:$C$20,2,FALSE)))","v":""},{"$f":"IF(D62=\"\",\"\",'Order Form'!$M$3)","v":""},{"$f":"IF(D62=\"\",\"\",IF('Order Form'!$K$132=\"Delivery:\",'Order Form'!$M$132,'Order Form'!$M$131))","v":""}]
["Item List",null,{"$f":"UPPER(IF(AND('Order Form'!$M$4=\"\",D63=\"\"),\"\",IF(D63=\"\",\"\",'Order Form'!$M$4)))","v":""},{"$f":"IF(AND('Order Form'!C83=\"\",'Order Form'!J83<>\"\"),\"/C\",UPPER(IF('Order Form'!D83=0,\"\",IFERROR(CONCATENATE(CONCAT!B71,CONCAT!C71)&(CONCAT!D71),\"\"))))","v":""},{"$f":"IF(D63=\"\",\"\",IF(D63=\"/C\",\"\",'Order Form'!D83))","v":""},{"$f":"UPPER(IF(D63=\"\",\"\",IF('Order Form'!H83=\"\",\"\",\" \"&'Order Form'!H83)&IF('Order Form'!J83=\"\",\"\",\" \"&'Order Form'!J83)&'Order Form'!AO83&'Order Form'!AP83&'Order Form'!AQ83))","v":""},{"$f":"IF(D63=\"\",\"\",IF(D63=\"/C\",\"\",IF('Order Form'!L83=0,IF('Order Form'!K83=0,\"\",'Order Form'!K83/'Order Form'!D83),'Order Form'!L83+('Order Form'!K83/'Order Form'!D83))))","v":""},"",{"$f":"UPPER(IF(D63=\"\",\"\",CONCAT!$G$3))","v":""},{"$f":"UPPER(IF(D63=\"\",\"\",CONCAT!$G$4))","v":""},{"$f":"UPPER(IF(D63=\"\",\"\",CONCAT!$G$5))","v":""},{"$f":"UPPER(IF(D63=\"\",\"\",CONCAT!$G$6))","v":""},{"$f":"UPPER(IF(D63=\"\",\"\",CONCAT!$G$7))","v":""},{"$f":"UPPER(IF(D63=\"\",\"\",CONCAT!$G$2))","v":""},{"$f":"UPPER(IF(D63=\"\",\"\",CONCAT!$G$8))","v":""},"",{"$f":"UPPER(IF(D63=\"\",\"\",'Order Form'!$J$4))","v":""},{"$f":"UPPER(IF(D63=\"\",\"\",(UPPER(IF(CONCAT!$G$2=\"SELECT\",\"SELECT \"&CONCAT!$G$3,CONCAT!$G$1&Species!$G$6&'Door Style'!$I$6&Color!$Q$6&'Drawer Head'!$H$6&'Custom Finish'!$G$6)))))","v":""},null,{"$f":"IF(D63=\"\",\"\",CONCAT!$J$2)","v":""},{"$f":"IF(D63=\"\",\"\",CONCAT!$J$3)","v":""},{"$f":"IF(D63=\"\",\"\",'Order Form'!$J$6)","v":""},{"$f":"UPPER(IF(D63=\"\",\"\",'Order Form'!$J$3&\" - \"&LEFT('Order Form'!$J$5,3)&\"-\"&MID('Order Form'!$J$5,4,3)&\"-\"&RIGHT('Order Form'!$J$5,4)))","v":""},{"$f":"UPPER(IF(D63=\"\",\"\",VLOOKUP('Misc Dropdowns'!$B$3,'Misc Dropdowns'!$B$7:$C$20,2,FALSE)))","v":""},{"$f":"IF(D63=\"\",\"\",'Order Form'!$M$3)","v":""},{"$f":"IF(D63=\"\",\"\",IF('Order Form'!$K$132=\"Delivery:\",'Order Form'!$M$132,'Order Form'!$M$131))","v":""}]
["Item List",null,{"$f":"UPPER(IF(AND('Order Form'!$M$4=\"\",D64=\"\"),\"\",IF(D64=\"\",\"\",'Order Form'!$M$4)))","v":""},{"$f":"IF(AND('Order Form'!C84=\"\",'Order Form'!J84<>\"\"),\"/C\",UPPER(IF('Order Form'!D84=0,\"\",IFERROR(CONCATENATE(CONCAT!B72,CONCAT!C72)&(CONCAT!D72),\"\"))))","v":""},{"$f":"IF(D64=\"\",\"\",IF(D64=\"/C\",\"\",'Order Form'!D84))","v":""},{"$f":"UPPER(IF(D64=\"\",\"\",IF('Order Form'!H84=\"\",\"\",\" \"&'Order Form'!H84)&IF('Order Form'!J84=\"\",\"\",\" \"&'Order Form'!J84)&'Order Form'!AO84&'Order Form'!AP84&'Order Form'!AQ84))","v":""},{"$f":"IF(D64=\"\",\"\",IF(D64=\"/C\",\"\",IF('Order Form'!L84=0,IF('Order Form'!K84=0,\"\",'Order Form'!K84/'Order Form'!D84),'Order Form'!L84+('Order Form'!K84/'Order Form'!D84))))","v":""},"",{"$f":"UPPER(IF(D64=\"\",\"\",CONCAT!$G$3))","v":""},{"$f":"UPPER(IF(D64=\"\",\"\",CONCAT!$G$4))","v":""},{"$f":"UPPER(IF(D64=\"\",\"\",CONCAT!$G$5))","v":""},{"$f":"UPPER(IF(D64=\"\",\"\",CONCAT!$G$6))","v":""},{"$f":"UPPER(IF(D64=\"\",\"\",CONCAT!$G$7))","v":""},{"$f":"UPPER(IF(D64=\"\",\"\",CONCAT!$G$2))","v":""},{"$f":"UPPER(IF(D64=\"\",\"\",CONCAT!$G$8))","v":""},"",{"$f":"UPPER(IF(D64=\"\",\"\",'Order Form'!$J$4))","v":""},{"$f":"UPPER(IF(D64=\"\",\"\",(UPPER(IF(CONCAT!$G$2=\"SELECT\",\"SELECT \"&CONCAT!$G$3,CONCAT!$G$1&Species!$G$6&'Door Style'!$I$6&Color!$Q$6&'Drawer Head'!$H$6&'Custom Finish'!$G$6)))))","v":""},null,{"$f":"IF(D64=\"\",\"\",CONCAT!$J$2)","v":""},{"$f":"IF(D64=\"\",\"\",CONCAT!$J$3)","v":""},{"$f":"IF(D64=\"\",\"\",'Order Form'!$J$6)","v":""},{"$f":"UPPER(IF(D64=\"\",\"\",'Order Form'!$J$3&\" - \"&LEFT('Order Form'!$J$5,3)&\"-\"&MID('Order Form'!$J$5,4,3)&\"-\"&RIGHT('Order Form'!$J$5,4)))","v":""},{"$f":"UPPER(IF(D64=\"\",\"\",VLOOKUP('Misc Dropdowns'!$B$3,'Misc Dropdowns'!$B$7:$C$20,2,FALSE)))","v":""},{"$f":"IF(D64=\"\",\"\",'Order Form'!$M$3)","v":""},{"$f":"IF(D64=\"\",\"\",IF('Order Form'!$K$132=\"Delivery:\",'Order Form'!$M$132,'Order Form'!$M$131))","v":""}]
["Item List",null,{"$f":"UPPER(IF(AND('Order Form'!$M$4=\"\",D65=\"\"),\"\",IF(D65=\"\",\"\",'Order Form'!$M$4)))","v":""},{"$f":"IF(AND('Order Form'!C85=\"\",'Order Form'!J85<>\"\"),\"/C\",UPPER(IF('Order Form'!D85=0,\"\",IFERROR(CONCATENATE(CONCAT!B73,CONCAT!C73)&(CONCAT!D73),\"\"))))","v":""},{"$f":"IF(D65=\"\",\"\",IF(D65=\"/C\",\"\",'Order Form'!D85))","v":""},{"$f":"UPPER(IF(D65=\"\",\"\",IF('Order Form'!H85=\"\",\"\",\" \"&'Order Form'!H85)&IF('Order Form'!J85=\"\",\"\",\" \"&'Order Form'!J85)&'Order Form'!AO85&'Order Form'!AP85&'Order Form'!AQ85))","v":""},{"$f":"IF(D65=\"\",\"\",IF(D65=\"/C\",\"\",IF('Order Form'!L85=0,IF('Order Form'!K85=0,\"\",'Order Form'!K85/'Order Form'!D85),'Order Form'!L85+('Order Form'!K85/'Order Form'!D85))))","v":""},"",{"$f":"UPPER(IF(D65=\"\",\"\",CONCAT!$G$3))","v":""},{"$f":"UPPER(IF(D65=\"\",\"\",CONCAT!$G$4))","v":""},{"$f":"UPPER(IF(D65=\"\",\"\",CONCAT!$G$5))","v":""},{"$f":"UPPER(IF(D65=\"\",\"\",CONCAT!$G$6))","v":""},{"$f":"UPPER(IF(D65=\"\",\"\",CONCAT!$G$7))","v":""},{"$f":"UPPER(IF(D65=\"\",\"\",CONCAT!$G$2))","v":""},{"$f":"UPPER(IF(D65=\"\",\"\",CONCAT!$G$8))","v":""},"",{"$f":"UPPER(IF(D65=\"\",\"\",'Order Form'!$J$4))","v":""},{"$f":"UPPER(IF(D65=\"\",\"\",(UPPER(IF(CONCAT!$G$2=\"SELECT\",\"SELECT \"&CONCAT!$G$3,CONCAT!$G$1&Species!$G$6&'Door Style'!$I$6&Color!$Q$6&'Drawer Head'!$H$6&'Custom Finish'!$G$6)))))","v":""},null,{"$f":"IF(D65=\"\",\"\",CONCAT!$J$2)","v":""},{"$f":"IF(D65=\"\",\"\",CONCAT!$J$3)","v":""},{"$f":"IF(D65=\"\",\"\",'Order Form'!$J$6)","v":""},{"$f":"UPPER(IF(D65=\"\",\"\",'Order Form'!$J$3&\" - \"&LEFT('Order Form'!$J$5,3)&\"-\"&MID('Order Form'!$J$5,4,3)&\"-\"&RIGHT('Order Form'!$J$5,4)))","v":""},{"$f":"UPPER(IF(D65=\"\",\"\",VLOOKUP('Misc Dropdowns'!$B$3,'Misc Dropdowns'!$B$7:$C$20,2,FALSE)))","v":""},{"$f":"IF(D65=\"\",\"\",'Order Form'!$M$3)","v":""},{"$f":"IF(D65=\"\",\"\",IF('Order Form'!$K$132=\"Delivery:\",'Order Form'!$M$132,'Order Form'!$M$131))","v":""}]
["Item List",null,{"$f":"UPPER(IF(AND('Order Form'!$M$4=\"\",D66=\"\"),\"\",IF(D66=\"\",\"\",'Order Form'!$M$4)))","v":""},{"$f":"IF(AND('Order Form'!C86=\"\",'Order Form'!J86<>\"\"),\"/C\",UPPER(IF('Order Form'!D86=0,\"\",IFERROR(CONCATENATE(CONCAT!B74,CONCAT!C74)&(CONCAT!D74),\"\"))))","v":""},{"$f":"IF(D66=\"\",\"\",IF(D66=\"/C\",\"\",'Order Form'!D86))","v":""},{"$f":"UPPER(IF(D66=\"\",\"\",IF('Order Form'!H86=\"\",\"\",\" \"&'Order Form'!H86)&IF('Order Form'!J86=\"\",\"\",\" \"&'Order Form'!J86)&'Order Form'!AO86&'Order Form'!AP86&'Order Form'!AQ86))","v":""},{"$f":"IF(D66=\"\",\"\",IF(D66=\"/C\",\"\",IF('Order Form'!L86=0,IF('Order Form'!K86=0,\"\",'Order Form'!K86/'Order Form'!D86),'Order Form'!L86+('Order Form'!K86/'Order Form'!D86))))","v":""},"",{"$f":"UPPER(IF(D66=\"\",\"\",CONCAT!$G$3))","v":""},{"$f":"UPPER(IF(D66=\"\",\"\",CONCAT!$G$4))","v":""},{"$f":"UPPER(IF(D66=\"\",\"\",CONCAT!$G$5))","v":""},{"$f":"UPPER(IF(D66=\"\",\"\",CONCAT!$G$6))","v":""},{"$f":"UPPER(IF(D66=\"\",\"\",CONCAT!$G$7))","v":""},{"$f":"UPPER(IF(D66=\"\",\"\",CONCAT!$G$2))","v":""},{"$f":"UPPER(IF(D66=\"\",\"\",CONCAT!$G$8))","v":""},"",{"$f":"UPPER(IF(D66=\"\",\"\",'Order Form'!$J$4))","v":""},{"$f":"UPPER(IF(D66=\"\",\"\",(UPPER(IF(CONCAT!$G$2=\"SELECT\",\"SELECT \"&CONCAT!$G$3,CONCAT!$G$1&Species!$G$6&'Door Style'!$I$6&Color!$Q$6&'Drawer Head'!$H$6&'Custom Finish'!$G$6)))))","v":""},null,{"$f":"IF(D66=\"\",\"\",CONCAT!$J$2)","v":""},{"$f":"IF(D66=\"\",\"\",CONCAT!$J$3)","v":""},{"$f":"IF(D66=\"\",\"\",'Order Form'!$J$6)","v":""},{"$f":"UPPER(IF(D66=\"\",\"\",'Order Form'!$J$3&\" - \"&LEFT('Order Form'!$J$5,3)&\"-\"&MID('Order Form'!$J$5,4,3)&\"-\"&RIGHT('Order Form'!$J$5,4)))","v":""},{"$f":"UPPER(IF(D66=\"\",\"\",VLOOKUP('Misc Dropdowns'!$B$3,'Misc Dropdowns'!$B$7:$C$20,2,FALSE)))","v":""},{"$f":"IF(D66=\"\",\"\",'Order Form'!$M$3)","v":""},{"$f":"IF(D66=\"\",\"\",IF('Order Form'!$K$132=\"Delivery:\",'Order Form'!$M$132,'Order Form'!$M$131))","v":""}]
["Item List",null,{"$f":"UPPER(IF(AND('Order Form'!$M$4=\"\",D67=\"\"),\"\",IF(D67=\"\",\"\",'Order Form'!$M$4)))","v":""},{"$f":"IF(AND('Order Form'!C87=\"\",'Order Form'!J87<>\"\"),\"/C\",UPPER(IF('Order Form'!D87=0,\"\",IFERROR(CONCATENATE(CONCAT!B75,CONCAT!C75)&(CONCAT!D75),\"\"))))","v":""},{"$f":"IF(D67=\"\",\"\",IF(D67=\"/C\",\"\",'Order Form'!D87))","v":""},{"$f":"UPPER(IF(D67=\"\",\"\",IF('Order Form'!H87=\"\",\"\",\" \"&'Order Form'!H87)&IF('Order Form'!J87=\"\",\"\",\" \"&'Order Form'!J87)&'Order Form'!AO87&'Order Form'!AP87&'Order Form'!AQ87))","v":""},{"$f":"IF(D67=\"\",\"\",IF(D67=\"/C\",\"\",IF('Order Form'!L87=0,IF('Order Form'!K87=0,\"\",'Order Form'!K87/'Order Form'!D87),'Order Form'!L87+('Order Form'!K87/'Order Form'!D87))))","v":""},"",{"$f":"UPPER(IF(D67=\"\",\"\",CONCAT!$G$3))","v":""},{"$f":"UPPER(IF(D67=\"\",\"\",CONCAT!$G$4))","v":""},{"$f":"UPPER(IF(D67=\"\",\"\",CONCAT!$G$5))","v":""},{"$f":"UPPER(IF(D67=\"\",\"\",CONCAT!$G$6))","v":""},{"$f":"UPPER(IF(D67=\"\",\"\",CONCAT!$G$7))","v":""},{"$f":"UPPER(IF(D67=\"\",\"\",CONCAT!$G$2))","v":""},{"$f":"UPPER(IF(D67=\"\",\"\",CONCAT!$G$8))","v":""},"",{"$f":"UPPER(IF(D67=\"\",\"\",'Order Form'!$J$4))","v":""},{"$f":"UPPER(IF(D67=\"\",\"\",(UPPER(IF(CONCAT!$G$2=\"SELECT\",\"SELECT \"&CONCAT!$G$3,CONCAT!$G$1&Species!$G$6&'Door Style'!$I$6&Color!$Q$6&'Drawer Head'!$H$6&'Custom Finish'!$G$6)))))","v":""},null,{"$f":"IF(D67=\"\",\"\",CONCAT!$J$2)","v":""},{"$f":"IF(D67=\"\",\"\",CONCAT!$J$3)","v":""},{"$f":"IF(D67=\"\",\"\",'Order Form'!$J$6)","v":""},{"$f":"UPPER(IF(D67=\"\",\"\",'Order Form'!$J$3&\" - \"&LEFT('Order Form'!$J$5,3)&\"-\"&MID('Order Form'!$J$5,4,3)&\"-\"&RIGHT('Order Form'!$J$5,4)))","v":""},{"$f":"UPPER(IF(D67=\"\",\"\",VLOOKUP('Misc Dropdowns'!$B$3,'Misc Dropdowns'!$B$7:$C$20,2,FALSE)))","v":""},{"$f":"IF(D67=\"\",\"\",'Order Form'!$M$3)","v":""},{"$f":"IF(D67=\"\",\"\",IF('Order Form'!$K$132=\"Delivery:\",'Order Form'!$M$132,'Order Form'!$M$131))","v":""}]
["Item List",null,{"$f":"UPPER(IF(AND('Order Form'!$M$4=\"\",D68=\"\"),\"\",IF(D68=\"\",\"\",'Order Form'!$M$4)))","v":""},{"$f":"IF(AND('Order Form'!C88=\"\",'Order Form'!J88<>\"\"),\"/C\",UPPER(IF('Order Form'!D88=0,\"\",IFERROR(CONCATENATE(CONCAT!B76,CONCAT!C76)&(CONCAT!D76),\"\"))))","v":""},{"$f":"IF(D68=\"\",\"\",IF(D68=\"/C\",\"\",'Order Form'!D88))","v":""},{"$f":"UPPER(IF(D68=\"\",\"\",IF('Order Form'!H88=\"\",\"\",\" \"&'Order Form'!H88)&IF('Order Form'!J88=\"\",\"\",\" \"&'Order Form'!J88)&'Order Form'!AO88&'Order Form'!AP88&'Order Form'!AQ88))","v":""},{"$f":"IF(D68=\"\",\"\",IF(D68=\"/C\",\"\",IF('Order Form'!L88=0,IF('Order Form'!K88=0,\"\",'Order Form'!K88/'Order Form'!D88),'Order Form'!L88+('Order Form'!K88/'Order Form'!D88))))","v":""},"",{"$f":"UPPER(IF(D68=\"\",\"\",CONCAT!$G$3))","v":""},{"$f":"UPPER(IF(D68=\"\",\"\",CONCAT!$G$4))","v":""},{"$f":"UPPER(IF(D68=\"\",\"\",CONCAT!$G$5))","v":""},{"$f":"UPPER(IF(D68=\"\",\"\",CONCAT!$G$6))","v":""},{"$f":"UPPER(IF(D68=\"\",\"\",CONCAT!$G$7))","v":""},{"$f":"UPPER(IF(D68=\"\",\"\",CONCAT!$G$2))","v":""},{"$f":"UPPER(IF(D68=\"\",\"\",CONCAT!$G$8))","v":""},"",{"$f":"UPPER(IF(D68=\"\",\"\",'Order Form'!$J$4))","v":""},{"$f":"UPPER(IF(D68=\"\",\"\",(UPPER(IF(CONCAT!$G$2=\"SELECT\",\"SELECT \"&CONCAT!$G$3,CONCAT!$G$1&Species!$G$6&'Door Style'!$I$6&Color!$Q$6&'Drawer Head'!$H$6&'Custom Finish'!$G$6)))))","v":""},null,{"$f":"IF(D68=\"\",\"\",CONCAT!$J$2)","v":""},{"$f":"IF(D68=\"\",\"\",CONCAT!$J$3)","v":""},{"$f":"IF(D68=\"\",\"\",'Order Form'!$J$6)","v":""},{"$f":"UPPER(IF(D68=\"\",\"\",'Order Form'!$J$3&\" - \"&LEFT('Order Form'!$J$5,3)&\"-\"&MID('Order Form'!$J$5,4,3)&\"-\"&RIGHT('Order Form'!$J$5,4)))","v":""},{"$f":"UPPER(IF(D68=\"\",\"\",VLOOKUP('Misc Dropdowns'!$B$3,'Misc Dropdowns'!$B$7:$C$20,2,FALSE)))","v":""},{"$f":"IF(D68=\"\",\"\",'Order Form'!$M$3)","v":""},{"$f":"IF(D68=\"\",\"\",IF('Order Form'!$K$132=\"Delivery:\",'Order Form'!$M$132,'Order Form'!$M$131))","v":""}]
["Item List",null,{"$f":"UPPER(IF(AND('Order Form'!$M$4=\"\",D69=\"\"),\"\",IF(D69=\"\",\"\",'Order Form'!$M$4)))","v":""},{"$f":"IF(AND('Order Form'!C89=\"\",'Order Form'!J89<>\"\"),\"/C\",UPPER(IF('Order Form'!D89=0,\"\",IFERROR(CONCATENATE(CONCAT!B77,CONCAT!C77)&(CONCAT!D77),\"\"))))","v":""},{"$f":"IF(D69=\"\",\"\",IF(D69=\"/C\",\"\",'Order Form'!D89))","v":""},{"$f":"UPPER(IF(D69=\"\",\"\",IF('Order Form'!H89=\"\",\"\",\" \"&'Order Form'!H89)&IF('Order Form'!J89=\"\",\"\",\" \"&'Order Form'!J89)&'Order Form'!AO89&'Order Form'!AP89&'Order Form'!AQ89))","v":""},{"$f":"IF(D69=\"\",\"\",IF(D69=\"/C\",\"\",IF('Order Form'!L89=0,IF('Order Form'!K89=0,\"\",'Order Form'!K89/'Order Form'!D89),'Order Form'!L89+('Order Form'!K89/'Order Form'!D89))))","v":""},"",{"$f":"UPPER(IF(D69=\"\",\"\",CONCAT!$G$3))","v":""},{"$f":"UPPER(IF(D69=\"\",\"\",CONCAT!$G$4))","v":""},{"$f":"UPPER(IF(D69=\"\",\"\",CONCAT!$G$5))","v":""},{"$f":"UPPER(IF(D69=\"\",\"\",CONCAT!$G$6))","v":""},{"$f":"UPPER(IF(D69=\"\",\"\",CONCAT!$G$7))","v":""},{"$f":"UPPER(IF(D69=\"\",\"\",CONCAT!$G$2))","v":""},{"$f":"UPPER(IF(D69=\"\",\"\",CONCAT!$G$8))","v":""},"",{"$f":"UPPER(IF(D69=\"\",\"\",'Order Form'!$J$4))","v":""},{"$f":"UPPER(IF(D69=\"\",\"\",(UPPER(IF(CONCAT!$G$2=\"SELECT\",\"SELECT \"&CONCAT!$G$3,CONCAT!$G$1&Species!$G$6&'Door Style'!$I$6&Color!$Q$6&'Drawer Head'!$H$6&'Custom Finish'!$G$6)))))","v":""},null,{"$f":"IF(D69=\"\",\"\",CONCAT!$J$2)","v":""},{"$f":"IF(D69=\"\",\"\",CONCAT!$J$3)","v":""},{"$f":"IF(D69=\"\",\"\",'Order Form'!$J$6)","v":""},{"$f":"UPPER(IF(D69=\"\",\"\",'Order Form'!$J$3&\" - \"&LEFT('Order Form'!$J$5,3)&\"-\"&MID('Order Form'!$J$5,4,3)&\"-\"&RIGHT('Order Form'!$J$5,4)))","v":""},{"$f":"UPPER(IF(D69=\"\",\"\",VLOOKUP('Misc Dropdowns'!$B$3,'Misc Dropdowns'!$B$7:$C$20,2,FALSE)))","v":""},{"$f":"IF(D69=\"\",\"\",'Order Form'!$M$3)","v":""},{"$f":"IF(D69=\"\",\"\",IF('Order Form'!$K$132=\"Delivery:\",'Order Form'!$M$132,'Order Form'!$M$131))","v":""}]
["Item List",null,{"$f":"UPPER(IF(AND('Order Form'!$M$4=\"\",D70=\"\"),\"\",IF(D70=\"\",\"\",'Order Form'!$M$4)))","v":""},{"$f":"IF(AND('Order Form'!C90=\"\",'Order Form'!J90<>\"\"),\"/C\",UPPER(IF('Order Form'!D90=0,\"\",IFERROR(CONCATENATE(CONCAT!B78,CONCAT!C78)&(CONCAT!D78),\"\"))))","v":""},{"$f":"IF(D70=\"\",\"\",IF(D70=\"/C\",\"\",'Order Form'!D90))","v":""},{"$f":"UPPER(IF(D70=\"\",\"\",IF('Order Form'!H90=\"\",\"\",\" \"&'Order Form'!H90)&IF('Order Form'!J90=\"\",\"\",\" \"&'Order Form'!J90)&'Order Form'!AO90&'Order Form'!AP90&'Order Form'!AQ90))","v":""},{"$f":"IF(D70=\"\",\"\",IF(D70=\"/C\",\"\",IF('Order Form'!L90=0,IF('Order Form'!K90=0,\"\",'Order Form'!K90/'Order Form'!D90),'Order Form'!L90+('Order Form'!K90/'Order Form'!D90))))","v":""},"",{"$f":"UPPER(IF(D70=\"\",\"\",CONCAT!$G$3))","v":""},{"$f":"UPPER(IF(D70=\"\",\"\",CONCAT!$G$4))","v":""},{"$f":"UPPER(IF(D70=\"\",\"\",CONCAT!$G$5))","v":""},{"$f":"UPPER(IF(D70=\"\",\"\",CONCAT!$G$6))","v":""},{"$f":"UPPER(IF(D70=\"\",\"\",CONCAT!$G$7))","v":""},{"$f":"UPPER(IF(D70=\"\",\"\",CONCAT!$G$2))","v":""},{"$f":"UPPER(IF(D70=\"\",\"\",CONCAT!$G$8))","v":""},"",{"$f":"UPPER(IF(D70=\"\",\"\",'Order Form'!$J$4))","v":""},{"$f":"UPPER(IF(D70=\"\",\"\",(UPPER(IF(CONCAT!$G$2=\"SELECT\",\"SELECT \"&CONCAT!$G$3,CONCAT!$G$1&Species!$G$6&'Door Style'!$I$6&Color!$Q$6&'Drawer Head'!$H$6&'Custom Finish'!$G$6)))))","v":""},null,{"$f":"IF(D70=\"\",\"\",CONCAT!$J$2)","v":""},{"$f":"IF(D70=\"\",\"\",CONCAT!$J$3)","v":""},{"$f":"IF(D70=\"\",\"\",'Order Form'!$J$6)","v":""},{"$f":"UPPER(IF(D70=\"\",\"\",'Order Form'!$J$3&\" - \"&LEFT('Order Form'!$J$5,3)&\"-\"&MID('Order Form'!$J$5,4,3)&\"-\"&RIGHT('Order Form'!$J$5,4)))","v":""},{"$f":"UPPER(IF(D70=\"\",\"\",VLOOKUP('Misc Dropdowns'!$B$3,'Misc Dropdowns'!$B$7:$C$20,2,FALSE)))","v":""},{"$f":"IF(D70=\"\",\"\",'Order Form'!$M$3)","v":""},{"$f":"IF(D70=\"\",\"\",IF('Order Form'!$K$132=\"Delivery:\",'Order Form'!$M$132,'Order Form'!$M$131))","v":""}]
["Item List",null,{"$f":"UPPER(IF(AND('Order Form'!$M$4=\"\",D71=\"\"),\"\",IF(D71=\"\",\"\",'Order Form'!$M$4)))","v":""},{"$f":"IF(AND('Order Form'!C91=\"\",'Order Form'!J91<>\"\"),\"/C\",UPPER(IF('Order Form'!D91=0,\"\",IFERROR(CONCATENATE(CONCAT!B79,CONCAT!C79)&(CONCAT!D79),\"\"))))","v":""},{"$f":"IF(D71=\"\",\"\",IF(D71=\"/C\",\"\",'Order Form'!D91))","v":""},{"$f":"UPPER(IF(D71=\"\",\"\",IF('Order Form'!H91=\"\",\"\",\" \"&'Order Form'!H91)&IF('Order Form'!J91=\"\",\"\",\" \"&'Order Form'!J91)&'Order Form'!AO91&'Order Form'!AP91&'Order Form'!AQ91))","v":""},{"$f":"IF(D71=\"\",\"\",IF(D71=\"/C\",\"\",IF('Order Form'!L91=0,IF('Order Form'!K91=0,\"\",'Order Form'!K91/'Order Form'!D91),'Order Form'!L91+('Order Form'!K91/'Order Form'!D91))))","v":""},{"$f":"IF(D71=\"/C\",4,IF(D71=\"\",\"\",IF(LEFT(D71,1)=\"/\",5,1)))","v":""},{"$f":"UPPER(IF(D71=\"\",\"\",CONCAT!$G$3))","v":""},{"$f":"UPPER(IF(D71=\"\",\"\",CONCAT!$G$4))","v":""},{"$f":"UPPER(IF(D71=\"\",\"\",CONCAT!$G$5))","v":""},{"$f":"UPPER(IF(D71=\"\",\"\",CONCAT!$G$6))","v":""},{"$f":"UPPER(IF(D71=\"\",\"\",CONCAT!$G$7))","v":""},{"$f":"UPPER(IF(D71=\"\",\"\",CONCAT!$G$2))","v":""},{"$f":"UPPER(IF(D71=\"\",\"\",CONCAT!$G$8))","v":""},{"$f":"IFERROR(E71*G71,\"\")","v":""},{"$f":"UPPER(IF(D71=\"\",\"\",'Order Form'!$J$4))","v":""},{"$f":"UPPER(IF(D71=\"\",\"\",(UPPER(IF(CONCAT!$G$2=\"SELECT\",\"SELECT \"&CONCAT!$G$3,CONCAT!$G$1&Species!$G$6&'Door Style'!$I$6&Color!$Q$6&'Drawer Head'!$H$6&'Custom Finish'!$G$6)))))","v":""},null,{"$f":"IF(D71=\"\",\"\",CONCAT!$J$2)","v":""},{"$f":"IF(D71=\"\",\"\",CONCAT!$J$3)","v":""},{"$f":"IF(D71=\"\",\"\",'Order Form'!$J$6)","v":""},{"$f":"UPPER(IF(D71=\"\",\"\",'Order Form'!$J$3&\" - \"&LEFT('Order Form'!$J$5,3)&\"-\"&MID('Order Form'!$J$5,4,3)&\"-\"&RIGHT('Order Form'!$J$5,4)))","v":""},{"$f":"UPPER(IF(D71=\"\",\"\",VLOOKUP('Misc Dropdowns'!$B$3,'Misc Dropdowns'!$B$7:$C$20,2,FALSE)))","v":""},{"$f":"IF(D71=\"\",\"\",'Order Form'!$M$3)","v":""},{"$f":"IF(D71=\"\",\"\",IF('Order Form'!$K$132=\"Delivery:\",'Order Form'!$M$132,'Order Form'!$M$131))","v":""}]
["Item List",null,{"$f":"UPPER(IF(AND('Order Form'!$M$4=\"\",D72=\"\"),\"\",IF(D72=\"\",\"\",'Order Form'!$M$4)))","v":""},{"$f":"IF(AND('Order Form'!C92=\"\",'Order Form'!J92<>\"\"),\"/C\",UPPER(IF('Order Form'!D92=0,\"\",IFERROR(CONCATENATE(CONCAT!B80,CONCAT!C80)&(CONCAT!D80),\"\"))))","v":""},{"$f":"IF(D72=\"\",\"\",IF(D72=\"/C\",\"\",'Order Form'!D92))","v":""},{"$f":"UPPER(IF(D72=\"\",\"\",IF('Order Form'!H92=\"\",\"\",\" \"&'Order Form'!H92)&IF('Order Form'!J92=\"\",\"\",\" \"&'Order Form'!J92)&'Order Form'!AO92&'Order Form'!AP92&'Order Form'!AQ92))","v":""},{"$f":"IF(D72=\"\",\"\",IF(D72=\"/C\",\"\",IF('Order Form'!L92=0,IF('Order Form'!K92=0,\"\",'Order Form'!K92/'Order Form'!D92),'Order Form'!L92+('Order Form'!K92/'Order Form'!D92))))","v":""},"",{"$f":"UPPER(IF(D72=\"\",\"\",CONCAT!$G$3))","v":""},{"$f":"UPPER(IF(D72=\"\",\"\",CONCAT!$G$4))","v":""},{"$f":"UPPER(IF(D72=\"\",\"\",CONCAT!$G$5))","v":""},{"$f":"UPPER(IF(D72=\"\",\"\",CONCAT!$G$6))","v":""},{"$f":"UPPER(IF(D72=\"\",\"\",CONCAT!$G$7))","v":""},{"$f":"UPPER(IF(D72=\"\",\"\",CONCAT!$G$2))","v":""},{"$f":"UPPER(IF(D72=\"\",\"\",CONCAT!$G$8))","v":""},"",{"$f":"UPPER(IF(D72=\"\",\"\",'Order Form'!$J$4))","v":""},{"$f":"UPPER(IF(D72=\"\",\"\",(UPPER(IF(CONCAT!$G$2=\"SELECT\",\"SELECT \"&CONCAT!$G$3,CONCAT!$G$1&Species!$G$6&'Door Style'!$I$6&Color!$Q$6&'Drawer Head'!$H$6&'Custom Finish'!$G$6)))))","v":""},null,{"$f":"IF(D72=\"\",\"\",CONCAT!$J$2)","v":""},{"$f":"IF(D72=\"\",\"\",CONCAT!$J$3)","v":""},{"$f":"IF(D72=\"\",\"\",'Order Form'!$J$6)","v":""},{"$f":"UPPER(IF(D72=\"\",\"\",'Order Form'!$J$3&\" - \"&LEFT('Order Form'!$J$5,3)&\"-\"&MID('Order Form'!$J$5,4,3)&\"-\"&RIGHT('Order Form'!$J$5,4)))","v":""},{"$f":"UPPER(IF(D72=\"\",\"\",VLOOKUP('Misc Dropdowns'!$B$3,'Misc Dropdowns'!$B$7:$C$20,2,FALSE)))","v":""},{"$f":"IF(D72=\"\",\"\",'Order Form'!$M$3)","v":""},{"$f":"IF(D72=\"\",\"\",IF('Order Form'!$K$132=\"Delivery:\",'Order Form'!$M$132,'Order Form'!$M$131))","v":""}]
["Item List",null,{"$f":"UPPER(IF(AND('Order Form'!$M$4=\"\",D73=\"\"),\"\",IF(D73=\"\",\"\",'Order Form'!$M$4)))","v":""},{"$f":"IF(AND('Order Form'!C93=\"\",'Order Form'!J93<>\"\"),\"/C\",UPPER(IF('Order Form'!D93=0,\"\",IFERROR(CONCATENATE(CONCAT!B81,CONCAT!C81)&(CONCAT!D81),\"\"))))","v":""},{"$f":"IF(D73=\"\",\"\",IF(D73=\"/C\",\"\",'Order Form'!D93))","v":""},{"$f":"UPPER(IF(D73=\"\",\"\",IF('Order Form'!H93=\"\",\"\",\" \"&'Order Form'!H93)&IF('Order Form'!J93=\"\",\"\",\" \"&'Order Form'!J93)&'Order Form'!AO93&'Order Form'!AP93&'Order Form'!AQ93))","v":""},{"$f":"IF(D73=\"\",\"\",IF(D73=\"/C\",\"\",IF('Order Form'!L93=0,IF('Order Form'!K93=0,\"\",'Order Form'!K93/'Order Form'!D93),'Order Form'!L93+('Order Form'!K93/'Order Form'!D93))))","v":""},"",{"$f":"UPPER(IF(D73=\"\",\"\",CONCAT!$G$3))","v":""},{"$f":"UPPER(IF(D73=\"\",\"\",CONCAT!$G$4))","v":""},{"$f":"UPPER(IF(D73=\"\",\"\",CONCAT!$G$5))","v":""},{"$f":"UPPER(IF(D73=\"\",\"\",CONCAT!$G$6))","v":""},{"$f":"UPPER(IF(D73=\"\",\"\",CONCAT!$G$7))","v":""},{"$f":"UPPER(IF(D73=\"\",\"\",CONCAT!$G$2))","v":""},{"$f":"UPPER(IF(D73=\"\",\"\",CONCAT!$G$8))","v":""},"",{"$f":"UPPER(IF(D73=\"\",\"\",'Order Form'!$J$4))","v":""},{"$f":"UPPER(IF(D73=\"\",\"\",(UPPER(IF(CONCAT!$G$2=\"SELECT\",\"SELECT \"&CONCAT!$G$3,CONCAT!$G$1&Species!$G$6&'Door Style'!$I$6&Color!$Q$6&'Drawer Head'!$H$6&'Custom Finish'!$G$6)))))","v":""},null,{"$f":"IF(D73=\"\",\"\",CONCAT!$J$2)","v":""},{"$f":"IF(D73=\"\",\"\",CONCAT!$J$3)","v":""},{"$f":"IF(D73=\"\",\"\",'Order Form'!$J$6)","v":""},{"$f":"UPPER(IF(D73=\"\",\"\",'Order Form'!$J$3&\" - \"&LEFT('Order Form'!$J$5,3)&\"-\"&MID('Order Form'!$J$5,4,3)&\"-\"&RIGHT('Order Form'!$J$5,4)))","v":""},{"$f":"UPPER(IF(D73=\"\",\"\",VLOOKUP('Misc Dropdowns'!$B$3,'Misc Dropdowns'!$B$7:$C$20,2,FALSE)))","v":""},{"$f":"IF(D73=\"\",\"\",'Order Form'!$M$3)","v":""},{"$f":"IF(D73=\"\",\"\",IF('Order Form'!$K$132=\"Delivery:\",'Order Form'!$M$132,'Order Form'!$M$131))","v":""}]
["Item List",null,{"$f":"UPPER(IF(AND('Order Form'!$M$4=\"\",D74=\"\"),\"\",IF(D74=\"\",\"\",'Order Form'!$M$4)))","v":""},{"$f":"IF(AND('Order Form'!C94=\"\",'Order Form'!J94<>\"\"),\"/C\",UPPER(IF('Order Form'!D94=0,\"\",IFERROR(CONCATENATE(CONCAT!B82,CONCAT!C82)&(CONCAT!D82),\"\"))))","v":""},{"$f":"IF(D74=\"\",\"\",IF(D74=\"/C\",\"\",'Order Form'!D94))","v":""},{"$f":"UPPER(IF(D74=\"\",\"\",IF('Order Form'!H94=\"\",\"\",\" \"&'Order Form'!H94)&IF('Order Form'!J94=\"\",\"\",\" \"&'Order Form'!J94)&'Order Form'!AO94&'Order Form'!AP94&'Order Form'!AQ94))","v":""},{"$f":"IF(D74=\"\",\"\",IF(D74=\"/C\",\"\",IF('Order Form'!L94=0,IF('Order Form'!K94=0,\"\",'Order Form'!K94/'Order Form'!D94),'Order Form'!L94+('Order Form'!K94/'Order Form'!D94))))","v":""},"",{"$f":"UPPER(IF(D74=\"\",\"\",CONCAT!$G$3))","v":""},{"$f":"UPPER(IF(D74=\"\",\"\",CONCAT!$G$4))","v":""},{"$f":"UPPER(IF(D74=\"\",\"\",CONCAT!$G$5))","v":""},{"$f":"UPPER(IF(D74=\"\",\"\",CONCAT!$G$6))","v":""},{"$f":"UPPER(IF(D74=\"\",\"\",CONCAT!$G$7))","v":""},{"$f":"UPPER(IF(D74=\"\",\"\",CONCAT!$G$2))","v":""},{"$f":"UPPER(IF(D74=\"\",\"\",CONCAT!$G$8))","v":""},"",{"$f":"UPPER(IF(D74=\"\",\"\",'Order Form'!$J$4))","v":""},{"$f":"UPPER(IF(D74=\"\",\"\",(UPPER(IF(CONCAT!$G$2=\"SELECT\",\"SELECT \"&CONCAT!$G$3,CONCAT!$G$1&Species!$G$6&'Door Style'!$I$6&Color!$Q$6&'Drawer Head'!$H$6&'Custom Finish'!$G$6)))))","v":""},null,{"$f":"IF(D74=\"\",\"\",CONCAT!$J$2)","v":""},{"$f":"IF(D74=\"\",\"\",CONCAT!$J$3)","v":""},{"$f":"IF(D74=\"\",\"\",'Order Form'!$J$6)","v":""},{"$f":"UPPER(IF(D74=\"\",\"\",'Order Form'!$J$3&\" - \"&LEFT('Order Form'!$J$5,3)&\"-\"&MID('Order Form'!$J$5,4,3)&\"-\"&RIGHT('Order Form'!$J$5,4)))","v":""},{"$f":"UPPER(IF(D74=\"\",\"\",VLOOKUP('Misc Dropdowns'!$B$3,'Misc Dropdowns'!$B$7:$C$20,2,FALSE)))","v":""},{"$f":"IF(D74=\"\",\"\",'Order Form'!$M$3)","v":""},{"$f":"IF(D74=\"\",\"\",IF('Order Form'!$K$132=\"Delivery:\",'Order Form'!$M$132,'Order Form'!$M$131))","v":""}]
["Item List",null,{"$f":"UPPER(IF(AND('Order Form'!$M$4=\"\",D75=\"\"),\"\",IF(D75=\"\",\"\",'Order Form'!$M$4)))","v":""},{"$f":"IF(AND('Order Form'!C95=\"\",'Order Form'!J95<>\"\"),\"/C\",UPPER(IF('Order Form'!D95=0,\"\",IFERROR(CONCATENATE(CONCAT!B83,CONCAT!C83)&(CONCAT!D83),\"\"))))","v":""},{"$f":"IF(D75=\"\",\"\",IF(D75=\"/C\",\"\",'Order Form'!D95))","v":""},{"$f":"UPPER(IF(D75=\"\",\"\",IF('Order Form'!H95=\"\",\"\",\" \"&'Order Form'!H95)&IF('Order Form'!J95=\"\",\"\",\" \"&'Order Form'!J95)&'Order Form'!AO95&'Order Form'!AP95&'Order Form'!AQ95))","v":""},{"$f":"IF(D75=\"\",\"\",IF(D75=\"/C\",\"\",IF('Order Form'!L95=0,IF('Order Form'!K95=0,\"\",'Order Form'!K95/'Order Form'!D95),'Order Form'!L95+('Order Form'!K95/'Order Form'!D95))))","v":""},"",{"$f":"UPPER(IF(D75=\"\",\"\",CONCAT!$G$3))","v":""},{"$f":"UPPER(IF(D75=\"\",\"\",CONCAT!$G$4))","v":""},{"$f":"UPPER(IF(D75=\"\",\"\",CONCAT!$G$5))","v":""},{"$f":"UPPER(IF(D75=\"\",\"\",CONCAT!$G$6))","v":""},{"$f":"UPPER(IF(D75=\"\",\"\",CONCAT!$G$7))","v":""},{"$f":"UPPER(IF(D75=\"\",\"\",CONCAT!$G$2))","v":""},{"$f":"UPPER(IF(D75=\"\",\"\",CONCAT!$G$8))","v":""},"",{"$f":"UPPER(IF(D75=\"\",\"\",'Order Form'!$J$4))","v":""},{"$f":"UPPER(IF(D75=\"\",\"\",(UPPER(IF(CONCAT!$G$2=\"SELECT\",\"SELECT \"&CONCAT!$G$3,CONCAT!$G$1&Species!$G$6&'Door Style'!$I$6&Color!$Q$6&'Drawer Head'!$H$6&'Custom Finish'!$G$6)))))","v":""},null,{"$f":"IF(D75=\"\",\"\",CONCAT!$J$2)","v":""},{"$f":"IF(D75=\"\",\"\",CONCAT!$J$3)","v":""},{"$f":"IF(D75=\"\",\"\",'Order Form'!$J$6)","v":""},{"$f":"UPPER(IF(D75=\"\",\"\",'Order Form'!$J$3&\" - \"&LEFT('Order Form'!$J$5,3)&\"-\"&MID('Order Form'!$J$5,4,3)&\"-\"&RIGHT('Order Form'!$J$5,4)))","v":""},{"$f":"UPPER(IF(D75=\"\",\"\",VLOOKUP('Misc Dropdowns'!$B$3,'Misc Dropdowns'!$B$7:$C$20,2,FALSE)))","v":""},{"$f":"IF(D75=\"\",\"\",'Order Form'!$M$3)","v":""},{"$f":"IF(D75=\"\",\"\",IF('Order Form'!$K$132=\"Delivery:\",'Order Form'!$M$132,'Order Form'!$M$131))","v":""}]
["Item List",null,{"$f":"UPPER(IF(AND('Order Form'!$M$4=\"\",D76=\"\"),\"\",IF(D76=\"\",\"\",'Order Form'!$M$4)))","v":""},{"$f":"IF(AND('Order Form'!C96=\"\",'Order Form'!J96<>\"\"),\"/C\",UPPER(IF('Order Form'!D96=0,\"\",IFERROR(CONCATENATE(CONCAT!B84,CONCAT!C84)&(CONCAT!D84),\"\"))))","v":""},{"$f":"IF(D76=\"\",\"\",IF(D76=\"/C\",\"\",'Order Form'!D96))","v":""},{"$f":"UPPER(IF(D76=\"\",\"\",IF('Order Form'!H96=\"\",\"\",\" \"&'Order Form'!H96)&IF('Order Form'!J96=\"\",\"\",\" \"&'Order Form'!J96)&'Order Form'!AO96&'Order Form'!AP96&'Order Form'!AQ96))","v":""},{"$f":"IF(D76=\"\",\"\",IF(D76=\"/C\",\"\",IF('Order Form'!L96=0,IF('Order Form'!K96=0,\"\",'Order Form'!K96/'Order Form'!D96),'Order Form'!L96+('Order Form'!K96/'Order Form'!D96))))","v":""},"",{"$f":"UPPER(IF(D76=\"\",\"\",CONCAT!$G$3))","v":""},{"$f":"UPPER(IF(D76=\"\",\"\",CONCAT!$G$4))","v":""},{"$f":"UPPER(IF(D76=\"\",\"\",CONCAT!$G$5))","v":""},{"$f":"UPPER(IF(D76=\"\",\"\",CONCAT!$G$6))","v":""},{"$f":"UPPER(IF(D76=\"\",\"\",CONCAT!$G$7))","v":""},{"$f":"UPPER(IF(D76=\"\",\"\",CONCAT!$G$2))","v":""},{"$f":"UPPER(IF(D76=\"\",\"\",CONCAT!$G$8))","v":""},"",{"$f":"UPPER(IF(D76=\"\",\"\",'Order Form'!$J$4))","v":""},{"$f":"UPPER(IF(D76=\"\",\"\",(UPPER(IF(CONCAT!$G$2=\"SELECT\",\"SELECT \"&CONCAT!$G$3,CONCAT!$G$1&Species!$G$6&'Door Style'!$I$6&Color!$Q$6&'Drawer Head'!$H$6&'Custom Finish'!$G$6)))))","v":""},null,{"$f":"IF(D76=\"\",\"\",CONCAT!$J$2)","v":""},{"$f":"IF(D76=\"\",\"\",CONCAT!$J$3)","v":""},{"$f":"IF(D76=\"\",\"\",'Order Form'!$J$6)","v":""},{"$f":"UPPER(IF(D76=\"\",\"\",'Order Form'!$J$3&\" - \"&LEFT('Order Form'!$J$5,3)&\"-\"&MID('Order Form'!$J$5,4,3)&\"-\"&RIGHT('Order Form'!$J$5,4)))","v":""},{"$f":"UPPER(IF(D76=\"\",\"\",VLOOKUP('Misc Dropdowns'!$B$3,'Misc Dropdowns'!$B$7:$C$20,2,FALSE)))","v":""},{"$f":"IF(D76=\"\",\"\",'Order Form'!$M$3)","v":""},{"$f":"IF(D76=\"\",\"\",IF('Order Form'!$K$132=\"Delivery:\",'Order Form'!$M$132,'Order Form'!$M$131))","v":""}]
["Item List",null,{"$f":"UPPER(IF(AND('Order Form'!$M$4=\"\",D77=\"\"),\"\",IF(D77=\"\",\"\",'Order Form'!$M$4)))","v":""},{"$f":"IF(AND('Order Form'!C97=\"\",'Order Form'!J97<>\"\"),\"/C\",UPPER(IF('Order Form'!D97=0,\"\",IFERROR(CONCATENATE(CONCAT!B85,CONCAT!C85)&(CONCAT!D85),\"\"))))","v":""},{"$f":"IF(D77=\"\",\"\",IF(D77=\"/C\",\"\",'Order Form'!D97))","v":""},{"$f":"UPPER(IF(D77=\"\",\"\",IF('Order Form'!H97=\"\",\"\",\" \"&'Order Form'!H97)&IF('Order Form'!J97=\"\",\"\",\" \"&'Order Form'!J97)&'Order Form'!AO97&'Order Form'!AP97&'Order Form'!AQ97))","v":""},{"$f":"IF(D77=\"\",\"\",IF(D77=\"/C\",\"\",IF('Order Form'!L97=0,IF('Order Form'!K97=0,\"\",'Order Form'!K97/'Order Form'!D97),'Order Form'!L97+('Order Form'!K97/'Order Form'!D97))))","v":""},"",{"$f":"UPPER(IF(D77=\"\",\"\",CONCAT!$G$3))","v":""},{"$f":"UPPER(IF(D77=\"\",\"\",CONCAT!$G$4))","v":""},{"$f":"UPPER(IF(D77=\"\",\"\",CONCAT!$G$5))","v":""},{"$f":"UPPER(IF(D77=\"\",\"\",CONCAT!$G$6))","v":""},{"$f":"UPPER(IF(D77=\"\",\"\",CONCAT!$G$7))","v":""},{"$f":"UPPER(IF(D77=\"\",\"\",CONCAT!$G$2))","v":""},{"$f":"UPPER(IF(D77=\"\",\"\",CONCAT!$G$8))","v":""},"",{"$f":"UPPER(IF(D77=\"\",\"\",'Order Form'!$J$4))","v":""},{"$f":"UPPER(IF(D77=\"\",\"\",(UPPER(IF(CONCAT!$G$2=\"SELECT\",\"SELECT \"&CONCAT!$G$3,CONCAT!$G$1&Species!$G$6&'Door Style'!$I$6&Color!$Q$6&'Drawer Head'!$H$6&'Custom Finish'!$G$6)))))","v":""},null,{"$f":"IF(D77=\"\",\"\",CONCAT!$J$2)","v":""},{"$f":"IF(D77=\"\",\"\",CONCAT!$J$3)","v":""},{"$f":"IF(D77=\"\",\"\",'Order Form'!$J$6)","v":""},{"$f":"UPPER(IF(D77=\"\",\"\",'Order Form'!$J$3&\" - \"&LEFT('Order Form'!$J$5,3)&\"-\"&MID('Order Form'!$J$5,4,3)&\"-\"&RIGHT('Order Form'!$J$5,4)))","v":""},{"$f":"UPPER(IF(D77=\"\",\"\",VLOOKUP('Misc Dropdowns'!$B$3,'Misc Dropdowns'!$B$7:$C$20,2,FALSE)))","v":""},{"$f":"IF(D77=\"\",\"\",'Order Form'!$M$3)","v":""},{"$f":"IF(D77=\"\",\"\",IF('Order Form'!$K$132=\"Delivery:\",'Order Form'!$M$132,'Order Form'!$M$131))","v":""}]
["Item List",null,{"$f":"UPPER(IF(AND('Order Form'!$M$4=\"\",D78=\"\"),\"\",IF(D78=\"\",\"\",'Order Form'!$M$4)))","v":""},{"$f":"IF(AND('Order Form'!C98=\"\",'Order Form'!J98<>\"\"),\"/C\",UPPER(IF('Order Form'!D98=0,\"\",IFERROR(CONCATENATE(CONCAT!B86,CONCAT!C86)&(CONCAT!D86),\"\"))))","v":""},{"$f":"IF(D78=\"\",\"\",IF(D78=\"/C\",\"\",'Order Form'!D98))","v":""},{"$f":"UPPER(IF(D78=\"\",\"\",IF('Order Form'!H98=\"\",\"\",\" \"&'Order Form'!H98)&IF('Order Form'!J98=\"\",\"\",\" \"&'Order Form'!J98)&'Order Form'!AO98&'Order Form'!AP98&'Order Form'!AQ98))","v":""},{"$f":"IF(D78=\"\",\"\",IF(D78=\"/C\",\"\",IF('Order Form'!L98=0,IF('Order Form'!K98=0,\"\",'Order Form'!K98/'Order Form'!D98),'Order Form'!L98+('Order Form'!K98/'Order Form'!D98))))","v":""},"",{"$f":"UPPER(IF(D78=\"\",\"\",CONCAT!$G$3))","v":""},{"$f":"UPPER(IF(D78=\"\",\"\",CONCAT!$G$4))","v":""},{"$f":"UPPER(IF(D78=\"\",\"\",CONCAT!$G$5))","v":""},{"$f":"UPPER(IF(D78=\"\",\"\",CONCAT!$G$6))","v":""},{"$f":"UPPER(IF(D78=\"\",\"\",CONCAT!$G$7))","v":""},{"$f":"UPPER(IF(D78=\"\",\"\",CONCAT!$G$2))","v":""},{"$f":"UPPER(IF(D78=\"\",\"\",CONCAT!$G$8))","v":""},"",{"$f":"UPPER(IF(D78=\"\",\"\",'Order Form'!$J$4))","v":""},{"$f":"UPPER(IF(D78=\"\",\"\",(UPPER(IF(CONCAT!$G$2=\"SELECT\",\"SELECT \"&CONCAT!$G$3,CONCAT!$G$1&Species!$G$6&'Door Style'!$I$6&Color!$Q$6&'Drawer Head'!$H$6&'Custom Finish'!$G$6)))))","v":""},null,{"$f":"IF(D78=\"\",\"\",CONCAT!$J$2)","v":""},{"$f":"IF(D78=\"\",\"\",CONCAT!$J$3)","v":""},{"$f":"IF(D78=\"\",\"\",'Order Form'!$J$6)","v":""},{"$f":"UPPER(IF(D78=\"\",\"\",'Order Form'!$J$3&\" - \"&LEFT('Order Form'!$J$5,3)&\"-\"&MID('Order Form'!$J$5,4,3)&\"-\"&RIGHT('Order Form'!$J$5,4)))","v":""},{"$f":"UPPER(IF(D78=\"\",\"\",VLOOKUP('Misc Dropdowns'!$B$3,'Misc Dropdowns'!$B$7:$C$20,2,FALSE)))","v":""},{"$f":"IF(D78=\"\",\"\",'Order Form'!$M$3)","v":""},{"$f":"IF(D78=\"\",\"\",IF('Order Form'!$K$132=\"Delivery:\",'Order Form'!$M$132,'Order Form'!$M$131))","v":""}]
["Item List",null,{"$f":"UPPER(IF(AND('Order Form'!$M$4=\"\",D79=\"\"),\"\",IF(D79=\"\",\"\",'Order Form'!$M$4)))","v":""},{"$f":"IF(AND('Order Form'!C99=\"\",'Order Form'!J99<>\"\"),\"/C\",UPPER(IF('Order Form'!D99=0,\"\",IFERROR(CONCATENATE(CONCAT!B87,CONCAT!C87)&(CONCAT!D87),\"\"))))","v":""},{"$f":"IF(D79=\"\",\"\",IF(D79=\"/C\",\"\",'Order Form'!D99))","v":""},{"$f":"UPPER(IF(D79=\"\",\"\",IF('Order Form'!H99=\"\",\"\",\" \"&'Order Form'!H99)&IF('Order Form'!J99=\"\",\"\",\" \"&'Order Form'!J99)&'Order Form'!AO99&'Order Form'!AP99&'Order Form'!AQ99))","v":""},{"$f":"IF(D79=\"\",\"\",IF(D79=\"/C\",\"\",IF('Order Form'!L99=0,IF('Order Form'!K99=0,\"\",'Order Form'!K99/'Order Form'!D99),'Order Form'!L99+('Order Form'!K99/'Order Form'!D99))))","v":""},"",{"$f":"UPPER(IF(D79=\"\",\"\",CONCAT!$G$3))","v":""},{"$f":"UPPER(IF(D79=\"\",\"\",CONCAT!$G$4))","v":""},{"$f":"UPPER(IF(D79=\"\",\"\",CONCAT!$G$5))","v":""},{"$f":"UPPER(IF(D79=\"\",\"\",CONCAT!$G$6))","v":""},{"$f":"UPPER(IF(D79=\"\",\"\",CONCAT!$G$7))","v":""},{"$f":"UPPER(IF(D79=\"\",\"\",CONCAT!$G$2))","v":""},{"$f":"UPPER(IF(D79=\"\",\"\",CONCAT!$G$8))","v":""},"",{"$f":"UPPER(IF(D79=\"\",\"\",'Order Form'!$J$4))","v":""},{"$f":"UPPER(IF(D79=\"\",\"\",(UPPER(IF(CONCAT!$G$2=\"SELECT\",\"SELECT \"&CONCAT!$G$3,CONCAT!$G$1&Species!$G$6&'Door Style'!$I$6&Color!$Q$6&'Drawer Head'!$H$6&'Custom Finish'!$G$6)))))","v":""},null,{"$f":"IF(D79=\"\",\"\",CONCAT!$J$2)","v":""},{"$f":"IF(D79=\"\",\"\",CONCAT!$J$3)","v":""},{"$f":"IF(D79=\"\",\"\",'Order Form'!$J$6)","v":""},{"$f":"UPPER(IF(D79=\"\",\"\",'Order Form'!$J$3&\" - \"&LEFT('Order Form'!$J$5,3)&\"-\"&MID('Order Form'!$J$5,4,3)&\"-\"&RIGHT('Order Form'!$J$5,4)))","v":""},{"$f":"UPPER(IF(D79=\"\",\"\",VLOOKUP('Misc Dropdowns'!$B$3,'Misc Dropdowns'!$B$7:$C$20,2,FALSE)))","v":""},{"$f":"IF(D79=\"\",\"\",'Order Form'!$M$3)","v":""},{"$f":"IF(D79=\"\",\"\",IF('Order Form'!$K$132=\"Delivery:\",'Order Form'!$M$132,'Order Form'!$M$131))","v":""}]
["Item List",null,{"$f":"UPPER(IF(AND('Order Form'!$M$4=\"\",D80=\"\"),\"\",IF(D80=\"\",\"\",'Order Form'!$M$4)))","v":""},{"$f":"IF(AND('Order Form'!C100=\"\",'Order Form'!J100<>\"\"),\"/C\",UPPER(IF('Order Form'!D100=0,\"\",IFERROR(CONCATENATE(CONCAT!B88,CONCAT!C88)&(CONCAT!D88),\"\"))))","v":""},{"$f":"IF(D80=\"\",\"\",IF(D80=\"/C\",\"\",'Order Form'!D100))","v":""},{"$f":"UPPER(IF(D80=\"\",\"\",IF('Order Form'!H100=\"\",\"\",\" \"&'Order Form'!H100)&IF('Order Form'!J100=\"\",\"\",\" \"&'Order Form'!J100)&'Order Form'!AO100&'Order Form'!AP100&'Order Form'!AQ100))","v":""},{"$f":"IF(D80=\"\",\"\",IF(D80=\"/C\",\"\",IF('Order Form'!L100=0,IF('Order Form'!K100=0,\"\",'Order Form'!K100/'Order Form'!D100),'Order Form'!L100+('Order Form'!K100/'Order Form'!D100))))","v":""},"",{"$f":"UPPER(IF(D80=\"\",\"\",CONCAT!$G$3))","v":""},{"$f":"UPPER(IF(D80=\"\",\"\",CONCAT!$G$4))","v":""},{"$f":"UPPER(IF(D80=\"\",\"\",CONCAT!$G$5))","v":""},{"$f":"UPPER(IF(D80=\"\",\"\",CONCAT!$G$6))","v":""},{"$f":"UPPER(IF(D80=\"\",\"\",CONCAT!$G$7))","v":""},{"$f":"UPPER(IF(D80=\"\",\"\",CONCAT!$G$2))","v":""},{"$f":"UPPER(IF(D80=\"\",\"\",CONCAT!$G$8))","v":""},"",{"$f":"UPPER(IF(D80=\"\",\"\",'Order Form'!$J$4))","v":""},{"$f":"UPPER(IF(D80=\"\",\"\",(UPPER(IF(CONCAT!$G$2=\"SELECT\",\"SELECT \"&CONCAT!$G$3,CONCAT!$G$1&Species!$G$6&'Door Style'!$I$6&Color!$Q$6&'Drawer Head'!$H$6&'Custom Finish'!$G$6)))))","v":""},null,{"$f":"IF(D80=\"\",\"\",CONCAT!$J$2)","v":""},{"$f":"IF(D80=\"\",\"\",CONCAT!$J$3)","v":""},{"$f":"IF(D80=\"\",\"\",'Order Form'!$J$6)","v":""},{"$f":"UPPER(IF(D80=\"\",\"\",'Order Form'!$J$3&\" - \"&LEFT('Order Form'!$J$5,3)&\"-\"&MID('Order Form'!$J$5,4,3)&\"-\"&RIGHT('Order Form'!$J$5,4)))","v":""},{"$f":"UPPER(IF(D80=\"\",\"\",VLOOKUP('Misc Dropdowns'!$B$3,'Misc Dropdowns'!$B$7:$C$20,2,FALSE)))","v":""},{"$f":"IF(D80=\"\",\"\",'Order Form'!$M$3)","v":""},{"$f":"IF(D80=\"\",\"\",IF('Order Form'!$K$132=\"Delivery:\",'Order Form'!$M$132,'Order Form'!$M$131))","v":""}]
["Item List",null,{"$f":"UPPER(IF(AND('Order Form'!$M$4=\"\",D81=\"\"),\"\",IF(D81=\"\",\"\",'Order Form'!$M$4)))","v":""},{"$f":"IF(AND('Order Form'!C101=\"\",'Order Form'!J101<>\"\"),\"/C\",UPPER(IF('Order Form'!D101=0,\"\",IFERROR(CONCATENATE(CONCAT!B89,CONCAT!C89)&(CONCAT!D89),\"\"))))","v":""},{"$f":"IF(D81=\"\",\"\",IF(D81=\"/C\",\"\",'Order Form'!D101))","v":""},{"$f":"UPPER(IF(D81=\"\",\"\",IF('Order Form'!H101=\"\",\"\",\" \"&'Order Form'!H101)&IF('Order Form'!J101=\"\",\"\",\" \"&'Order Form'!J101)&'Order Form'!AO101&'Order Form'!AP101&'Order Form'!AQ101))","v":""},{"$f":"IF(D81=\"\",\"\",IF(D81=\"/C\",\"\",IF('Order Form'!L101=0,IF('Order Form'!K101=0,\"\",'Order Form'!K101/'Order Form'!D101),'Order Form'!L101+('Order Form'!K101/'Order Form'!D101))))","v":""},"",{"$f":"UPPER(IF(D81=\"\",\"\",CONCAT!$G$3))","v":""},{"$f":"UPPER(IF(D81=\"\",\"\",CONCAT!$G$4))","v":""},{"$f":"UPPER(IF(D81=\"\",\"\",CONCAT!$G$5))","v":""},{"$f":"UPPER(IF(D81=\"\",\"\",CONCAT!$G$6))","v":""},{"$f":"UPPER(IF(D81=\"\",\"\",CONCAT!$G$7))","v":""},{"$f":"UPPER(IF(D81=\"\",\"\",CONCAT!$G$2))","v":""},{"$f":"UPPER(IF(D81=\"\",\"\",CONCAT!$G$8))","v":""},"",{"$f":"UPPER(IF(D81=\"\",\"\",'Order Form'!$J$4))","v":""},{"$f":"UPPER(IF(D81=\"\",\"\",(UPPER(IF(CONCAT!$G$2=\"SELECT\",\"SELECT \"&CONCAT!$G$3,CONCAT!$G$1&Species!$G$6&'Door Style'!$I$6&Color!$Q$6&'Drawer Head'!$H$6&'Custom Finish'!$G$6)))))","v":""},null,{"$f":"IF(D81=\"\",\"\",CONCAT!$J$2)","v":""},{"$f":"IF(D81=\"\",\"\",CONCAT!$J$3)","v":""},{"$f":"IF(D81=\"\",\"\",'Order Form'!$J$6)","v":""},{"$f":"UPPER(IF(D81=\"\",\"\",'Order Form'!$J$3&\" - \"&LEFT('Order Form'!$J$5,3)&\"-\"&MID('Order Form'!$J$5,4,3)&\"-\"&RIGHT('Order Form'!$J$5,4)))","v":""},{"$f":"UPPER(IF(D81=\"\",\"\",VLOOKUP('Misc Dropdowns'!$B$3,'Misc Dropdowns'!$B$7:$C$20,2,FALSE)))","v":""},{"$f":"IF(D81=\"\",\"\",'Order Form'!$M$3)","v":""},{"$f":"IF(D81=\"\",\"\",IF('Order Form'!$K$132=\"Delivery:\",'Order Form'!$M$132,'Order Form'!$M$131))","v":""}]
["Item List",null,{"$f":"UPPER(IF(AND('Order Form'!$M$4=\"\",D82=\"\"),\"\",IF(D82=\"\",\"\",'Order Form'!$M$4)))","v":""},{"$f":"IF(AND('Order Form'!C102=\"\",'Order Form'!J102<>\"\"),\"/C\",UPPER(IF('Order Form'!D102=0,\"\",IFERROR(CONCATENATE(CONCAT!B90,CONCAT!C90)&(CONCAT!D90),\"\"))))","v":""},{"$f":"IF(D82=\"\",\"\",IF(D82=\"/C\",\"\",'Order Form'!D102))","v":""},{"$f":"UPPER(IF(D82=\"\",\"\",IF('Order Form'!H102=\"\",\"\",\" \"&'Order Form'!H102)&IF('Order Form'!J102=\"\",\"\",\" \"&'Order Form'!J102)&'Order Form'!AO102&'Order Form'!AP102&'Order Form'!AQ102))","v":""},{"$f":"IF(D82=\"\",\"\",IF(D82=\"/C\",\"\",IF('Order Form'!L102=0,IF('Order Form'!K102=0,\"\",'Order Form'!K102/'Order Form'!D102),'Order Form'!L102+('Order Form'!K102/'Order Form'!D102))))","v":""},"",{"$f":"UPPER(IF(D82=\"\",\"\",CONCAT!$G$3))","v":""},{"$f":"UPPER(IF(D82=\"\",\"\",CONCAT!$G$4))","v":""},{"$f":"UPPER(IF(D82=\"\",\"\",CONCAT!$G$5))","v":""},{"$f":"UPPER(IF(D82=\"\",\"\",CONCAT!$G$6))","v":""},{"$f":"UPPER(IF(D82=\"\",\"\",CONCAT!$G$7))","v":""},{"$f":"UPPER(IF(D82=\"\",\"\",CONCAT!$G$2))","v":""},{"$f":"UPPER(IF(D82=\"\",\"\",CONCAT!$G$8))","v":""},"",{"$f":"UPPER(IF(D82=\"\",\"\",'Order Form'!$J$4))","v":""},{"$f":"UPPER(IF(D82=\"\",\"\",(UPPER(IF(CONCAT!$G$2=\"SELECT\",\"SELECT \"&CONCAT!$G$3,CONCAT!$G$1&Species!$G$6&'Door Style'!$I$6&Color!$Q$6&'Drawer Head'!$H$6&'Custom Finish'!$G$6)))))","v":""},null,{"$f":"IF(D82=\"\",\"\",CONCAT!$J$2)","v":""},{"$f":"IF(D82=\"\",\"\",CONCAT!$J$3)","v":""},{"$f":"IF(D82=\"\",\"\",'Order Form'!$J$6)","v":""},{"$f":"UPPER(IF(D82=\"\",\"\",'Order Form'!$J$3&\" - \"&LEFT('Order Form'!$J$5,3)&\"-\"&MID('Order Form'!$J$5,4,3)&\"-\"&RIGHT('Order Form'!$J$5,4)))","v":""},{"$f":"UPPER(IF(D82=\"\",\"\",VLOOKUP('Misc Dropdowns'!$B$3,'Misc Dropdowns'!$B$7:$C$20,2,FALSE)))","v":""},{"$f":"IF(D82=\"\",\"\",'Order Form'!$M$3)","v":""},{"$f":"IF(D82=\"\",\"\",IF('Order Form'!$K$132=\"Delivery:\",'Order Form'!$M$132,'Order Form'!$M$131))","v":""}]
["Item List",null,{"$f":"UPPER(IF(AND('Order Form'!$M$4=\"\",D83=\"\"),\"\",IF(D83=\"\",\"\",'Order Form'!$M$4)))","v":""},{"$f":"IF(AND('Order Form'!C103=\"\",'Order Form'!J103<>\"\"),\"/C\",UPPER(IF('Order Form'!D103=0,\"\",IFERROR(CONCATENATE(CONCAT!B91,CONCAT!C91)&(CONCAT!D91),\"\"))))","v":""},{"$f":"IF(D83=\"\",\"\",IF(D83=\"/C\",\"\",'Order Form'!D103))","v":""},{"$f":"UPPER(IF(D83=\"\",\"\",IF('Order Form'!H103=\"\",\"\",\" \"&'Order Form'!H103)&IF('Order Form'!J103=\"\",\"\",\" \"&'Order Form'!J103)&'Order Form'!AO103&'Order Form'!AP103&'Order Form'!AQ103))","v":""},{"$f":"IF(D83=\"\",\"\",IF(D83=\"/C\",\"\",IF('Order Form'!L103=0,IF('Order Form'!K103=0,\"\",'Order Form'!K103/'Order Form'!D103),'Order Form'!L103+('Order Form'!K103/'Order Form'!D103))))","v":""},"",{"$f":"UPPER(IF(D83=\"\",\"\",CONCAT!$G$3))","v":""},{"$f":"UPPER(IF(D83=\"\",\"\",CONCAT!$G$4))","v":""},{"$f":"UPPER(IF(D83=\"\",\"\",CONCAT!$G$5))","v":""},{"$f":"UPPER(IF(D83=\"\",\"\",CONCAT!$G$6))","v":""},{"$f":"UPPER(IF(D83=\"\",\"\",CONCAT!$G$7))","v":""},{"$f":"UPPER(IF(D83=\"\",\"\",CONCAT!$G$2))","v":""},{"$f":"UPPER(IF(D83=\"\",\"\",CONCAT!$G$8))","v":""},"",{"$f":"UPPER(IF(D83=\"\",\"\",'Order Form'!$J$4))","v":""},{"$f":"UPPER(IF(D83=\"\",\"\",(UPPER(IF(CONCAT!$G$2=\"SELECT\",\"SELECT \"&CONCAT!$G$3,CONCAT!$G$1&Species!$G$6&'Door Style'!$I$6&Color!$Q$6&'Drawer Head'!$H$6&'Custom Finish'!$G$6)))))","v":""},null,{"$f":"IF(D83=\"\",\"\",CONCAT!$J$2)","v":""},{"$f":"IF(D83=\"\",\"\",CONCAT!$J$3)","v":""},{"$f":"IF(D83=\"\",\"\",'Order Form'!$J$6)","v":""},{"$f":"UPPER(IF(D83=\"\",\"\",'Order Form'!$J$3&\" - \"&LEFT('Order Form'!$J$5,3)&\"-\"&MID('Order Form'!$J$5,4,3)&\"-\"&RIGHT('Order Form'!$J$5,4)))","v":""},{"$f":"UPPER(IF(D83=\"\",\"\",VLOOKUP('Misc Dropdowns'!$B$3,'Misc Dropdowns'!$B$7:$C$20,2,FALSE)))","v":""},{"$f":"IF(D83=\"\",\"\",'Order Form'!$M$3)","v":""},{"$f":"IF(D83=\"\",\"\",IF('Order Form'!$K$132=\"Delivery:\",'Order Form'!$M$132,'Order Form'!$M$131))","v":""}]
["Item List",null,{"$f":"UPPER(IF(AND('Order Form'!$M$4=\"\",D84=\"\"),\"\",IF(D84=\"\",\"\",'Order Form'!$M$4)))","v":""},{"$f":"IF(AND('Order Form'!C104=\"\",'Order Form'!J104<>\"\"),\"/C\",UPPER(IF('Order Form'!D104=0,\"\",IFERROR(CONCATENATE(CONCAT!B92,CONCAT!C92)&(CONCAT!D92),\"\"))))","v":""},{"$f":"IF(D84=\"\",\"\",IF(D84=\"/C\",\"\",'Order Form'!D104))","v":""},{"$f":"UPPER(IF(D84=\"\",\"\",IF('Order Form'!H104=\"\",\"\",\" \"&'Order Form'!H104)&IF('Order Form'!J104=\"\",\"\",\" \"&'Order Form'!J104)&'Order Form'!AO104&'Order Form'!AP104&'Order Form'!AQ104))","v":""},{"$f":"IF(D84=\"\",\"\",IF(D84=\"/C\",\"\",IF('Order Form'!L104=0,IF('Order Form'!K104=0,\"\",'Order Form'!K104/'Order Form'!D104),'Order Form'!L104+('Order Form'!K104/'Order Form'!D104))))","v":""},"",{"$f":"UPPER(IF(D84=\"\",\"\",CONCAT!$G$3))","v":""},{"$f":"UPPER(IF(D84=\"\",\"\",CONCAT!$G$4))","v":""},{"$f":"UPPER(IF(D84=\"\",\"\",CONCAT!$G$5))","v":""},{"$f":"UPPER(IF(D84=\"\",\"\",CONCAT!$G$6))","v":""},{"$f":"UPPER(IF(D84=\"\",\"\",CONCAT!$G$7))","v":""},{"$f":"UPPER(IF(D84=\"\",\"\",CONCAT!$G$2))","v":""},{"$f":"UPPER(IF(D84=\"\",\"\",CONCAT!$G$8))","v":""},"",{"$f":"UPPER(IF(D84=\"\",\"\",'Order Form'!$J$4))","v":""},{"$f":"UPPER(IF(D84=\"\",\"\",(UPPER(IF(CONCAT!$G$2=\"SELECT\",\"SELECT \"&CONCAT!$G$3,CONCAT!$G$1&Species!$G$6&'Door Style'!$I$6&Color!$Q$6&'Drawer Head'!$H$6&'Custom Finish'!$G$6)))))","v":""},null,{"$f":"IF(D84=\"\",\"\",CONCAT!$J$2)","v":""},{"$f":"IF(D84=\"\",\"\",CONCAT!$J$3)","v":""},{"$f":"IF(D84=\"\",\"\",'Order Form'!$J$6)","v":""},{"$f":"UPPER(IF(D84=\"\",\"\",'Order Form'!$J$3&\" - \"&LEFT('Order Form'!$J$5,3)&\"-\"&MID('Order Form'!$J$5,4,3)&\"-\"&RIGHT('Order Form'!$J$5,4)))","v":""},{"$f":"UPPER(IF(D84=\"\",\"\",VLOOKUP('Misc Dropdowns'!$B$3,'Misc Dropdowns'!$B$7:$C$20,2,FALSE)))","v":""},{"$f":"IF(D84=\"\",\"\",'Order Form'!$M$3)","v":""},{"$f":"IF(D84=\"\",\"\",IF('Order Form'!$K$132=\"Delivery:\",'Order Form'!$M$132,'Order Form'!$M$131))","v":""}]
["Item List",null,{"$f":"UPPER(IF(AND('Order Form'!$M$4=\"\",D85=\"\"),\"\",IF(D85=\"\",\"\",'Order Form'!$M$4)))","v":""},{"$f":"IF(AND('Order Form'!C105=\"\",'Order Form'!J105<>\"\"),\"/C\",UPPER(IF('Order Form'!D105=0,\"\",IFERROR(CONCATENATE(CONCAT!B93,CONCAT!C93)&(CONCAT!D93),\"\"))))","v":""},{"$f":"IF(D85=\"\",\"\",IF(D85=\"/C\",\"\",'Order Form'!D105))","v":""},{"$f":"UPPER(IF(D85=\"\",\"\",IF('Order Form'!H105=\"\",\"\",\" \"&'Order Form'!H105)&IF('Order Form'!J105=\"\",\"\",\" \"&'Order Form'!J105)&'Order Form'!AO105&'Order Form'!AP105&'Order Form'!AQ105))","v":""},{"$f":"IF(D85=\"\",\"\",IF(D85=\"/C\",\"\",IF('Order Form'!L105=0,IF('Order Form'!K105=0,\"\",'Order Form'!K105/'Order Form'!D105),'Order Form'!L105+('Order Form'!K105/'Order Form'!D105))))","v":""},"",{"$f":"UPPER(IF(D85=\"\",\"\",CONCAT!$G$3))","v":""},{"$f":"UPPER(IF(D85=\"\",\"\",CONCAT!$G$4))","v":""},{"$f":"UPPER(IF(D85=\"\",\"\",CONCAT!$G$5))","v":""},{"$f":"UPPER(IF(D85=\"\",\"\",CONCAT!$G$6))","v":""},{"$f":"UPPER(IF(D85=\"\",\"\",CONCAT!$G$7))","v":""},{"$f":"UPPER(IF(D85=\"\",\"\",CONCAT!$G$2))","v":""},{"$f":"UPPER(IF(D85=\"\",\"\",CONCAT!$G$8))","v":""},"",{"$f":"UPPER(IF(D85=\"\",\"\",'Order Form'!$J$4))","v":""},{"$f":"UPPER(IF(D85=\"\",\"\",(UPPER(IF(CONCAT!$G$2=\"SELECT\",\"SELECT \"&CONCAT!$G$3,CONCAT!$G$1&Species!$G$6&'Door Style'!$I$6&Color!$Q$6&'Drawer Head'!$H$6&'Custom Finish'!$G$6)))))","v":""},null,{"$f":"IF(D85=\"\",\"\",CONCAT!$J$2)","v":""},{"$f":"IF(D85=\"\",\"\",CONCAT!$J$3)","v":""},{"$f":"IF(D85=\"\",\"\",'Order Form'!$J$6)","v":""},{"$f":"UPPER(IF(D85=\"\",\"\",'Order Form'!$J$3&\" - \"&LEFT('Order Form'!$J$5,3)&\"-\"&MID('Order Form'!$J$5,4,3)&\"-\"&RIGHT('Order Form'!$J$5,4)))","v":""},{"$f":"UPPER(IF(D85=\"\",\"\",VLOOKUP('Misc Dropdowns'!$B$3,'Misc Dropdowns'!$B$7:$C$20,2,FALSE)))","v":""},{"$f":"IF(D85=\"\",\"\",'Order Form'!$M$3)","v":""},{"$f":"IF(D85=\"\",\"\",IF('Order Form'!$K$132=\"Delivery:\",'Order Form'!$M$132,'Order Form'!$M$131))","v":""}]
["Item List",null,{"$f":"UPPER(IF(AND('Order Form'!$M$4=\"\",D86=\"\"),\"\",IF(D86=\"\",\"\",'Order Form'!$M$4)))","v":""},{"$f":"IF(AND('Order Form'!C106=\"\",'Order Form'!J106<>\"\"),\"/C\",UPPER(IF('Order Form'!D106=0,\"\",IFERROR(CONCATENATE(CONCAT!B94,CONCAT!C94)&(CONCAT!D94),\"\"))))","v":""},{"$f":"IF(D86=\"\",\"\",IF(D86=\"/C\",\"\",'Order Form'!D106))","v":""},{"$f":"UPPER(IF(D86=\"\",\"\",IF('Order Form'!H106=\"\",\"\",\" \"&'Order Form'!H106)&IF('Order Form'!J106=\"\",\"\",\" \"&'Order Form'!J106)&'Order Form'!AO106&'Order Form'!AP106&'Order Form'!AQ106))","v":""},{"$f":"IF(D86=\"\",\"\",IF(D86=\"/C\",\"\",IF('Order Form'!L106=0,IF('Order Form'!K106=0,\"\",'Order Form'!K106/'Order Form'!D106),'Order Form'!L106+('Order Form'!K106/'Order Form'!D106))))","v":""},"",{"$f":"UPPER(IF(D86=\"\",\"\",CONCAT!$G$3))","v":""},{"$f":"UPPER(IF(D86=\"\",\"\",CONCAT!$G$4))","v":""},{"$f":"UPPER(IF(D86=\"\",\"\",CONCAT!$G$5))","v":""},{"$f":"UPPER(IF(D86=\"\",\"\",CONCAT!$G$6))","v":""},{"$f":"UPPER(IF(D86=\"\",\"\",CONCAT!$G$7))","v":""},{"$f":"UPPER(IF(D86=\"\",\"\",CONCAT!$G$2))","v":""},{"$f":"UPPER(IF(D86=\"\",\"\",CONCAT!$G$8))","v":""},"",{"$f":"UPPER(IF(D86=\"\",\"\",'Order Form'!$J$4))","v":""},{"$f":"UPPER(IF(D86=\"\",\"\",(UPPER(IF(CONCAT!$G$2=\"SELECT\",\"SELECT \"&CONCAT!$G$3,CONCAT!$G$1&Species!$G$6&'Door Style'!$I$6&Color!$Q$6&'Drawer Head'!$H$6&'Custom Finish'!$G$6)))))","v":""},null,{"$f":"IF(D86=\"\",\"\",CONCAT!$J$2)","v":""},{"$f":"IF(D86=\"\",\"\",CONCAT!$J$3)","v":""},{"$f":"IF(D86=\"\",\"\",'Order Form'!$J$6)","v":""},{"$f":"UPPER(IF(D86=\"\",\"\",'Order Form'!$J$3&\" - \"&LEFT('Order Form'!$J$5,3)&\"-\"&MID('Order Form'!$J$5,4,3)&\"-\"&RIGHT('Order Form'!$J$5,4)))","v":""},{"$f":"UPPER(IF(D86=\"\",\"\",VLOOKUP('Misc Dropdowns'!$B$3,'Misc Dropdowns'!$B$7:$C$20,2,FALSE)))","v":""},{"$f":"IF(D86=\"\",\"\",'Order Form'!$M$3)","v":""},{"$f":"IF(D86=\"\",\"\",IF('Order Form'!$K$132=\"Delivery:\",'Order Form'!$M$132,'Order Form'!$M$131))","v":""}]
["Item List",null,{"$f":"UPPER(IF(AND('Order Form'!$M$4=\"\",D87=\"\"),\"\",IF(D87=\"\",\"\",'Order Form'!$M$4)))","v":""},{"$f":"IF(AND('Order Form'!C107=\"\",'Order Form'!J107<>\"\"),\"/C\",UPPER(IF('Order Form'!D107=0,\"\",IFERROR(CONCATENATE(CONCAT!B95,CONCAT!C95)&(CONCAT!D95),\"\"))))","v":""},{"$f":"IF(D87=\"\",\"\",IF(D87=\"/C\",\"\",'Order Form'!D107))","v":""},{"$f":"UPPER(IF(D87=\"\",\"\",IF('Order Form'!H107=\"\",\"\",\" \"&'Order Form'!H107)&IF('Order Form'!J107=\"\",\"\",\" \"&'Order Form'!J107)&'Order Form'!AO107&'Order Form'!AP107&'Order Form'!AQ107))","v":""},{"$f":"IF(D87=\"\",\"\",IF(D87=\"/C\",\"\",IF('Order Form'!L107=0,IF('Order Form'!K107=0,\"\",'Order Form'!K107/'Order Form'!D107),'Order Form'!L107+('Order Form'!K107/'Order Form'!D107))))","v":""},"",{"$f":"UPPER(IF(D87=\"\",\"\",CONCAT!$G$3))","v":""},{"$f":"UPPER(IF(D87=\"\",\"\",CONCAT!$G$4))","v":""},{"$f":"UPPER(IF(D87=\"\",\"\",CONCAT!$G$5))","v":""},{"$f":"UPPER(IF(D87=\"\",\"\",CONCAT!$G$6))","v":""},{"$f":"UPPER(IF(D87=\"\",\"\",CONCAT!$G$7))","v":""},{"$f":"UPPER(IF(D87=\"\",\"\",CONCAT!$G$2))","v":""},{"$f":"UPPER(IF(D87=\"\",\"\",CONCAT!$G$8))","v":""},"",{"$f":"UPPER(IF(D87=\"\",\"\",'Order Form'!$J$4))","v":""},{"$f":"UPPER(IF(D87=\"\",\"\",(UPPER(IF(CONCAT!$G$2=\"SELECT\",\"SELECT \"&CONCAT!$G$3,CONCAT!$G$1&Species!$G$6&'Door Style'!$I$6&Color!$Q$6&'Drawer Head'!$H$6&'Custom Finish'!$G$6)))))","v":""},null,{"$f":"IF(D87=\"\",\"\",CONCAT!$J$2)","v":""},{"$f":"IF(D87=\"\",\"\",CONCAT!$J$3)","v":""},{"$f":"IF(D87=\"\",\"\",'Order Form'!$J$6)","v":""},{"$f":"UPPER(IF(D87=\"\",\"\",'Order Form'!$J$3&\" - \"&LEFT('Order Form'!$J$5,3)&\"-\"&MID('Order Form'!$J$5,4,3)&\"-\"&RIGHT('Order Form'!$J$5,4)))","v":""},{"$f":"UPPER(IF(D87=\"\",\"\",VLOOKUP('Misc Dropdowns'!$B$3,'Misc Dropdowns'!$B$7:$C$20,2,FALSE)))","v":""},{"$f":"IF(D87=\"\",\"\",'Order Form'!$M$3)","v":""},{"$f":"IF(D87=\"\",\"\",IF('Order Form'!$K$132=\"Delivery:\",'Order Form'!$M$132,'Order Form'!$M$131))","v":""}]
["Item List",null,{"$f":"UPPER(IF(AND('Order Form'!$M$4=\"\",D88=\"\"),\"\",IF(D88=\"\",\"\",'Order Form'!$M$4)))","v":""},{"$f":"IF(AND('Order Form'!C108=\"\",'Order Form'!J108<>\"\"),\"/C\",UPPER(IF('Order Form'!D108=0,\"\",IFERROR(CONCATENATE(CONCAT!B96,CONCAT!C96)&(CONCAT!D96),\"\"))))","v":""},{"$f":"IF(D88=\"\",\"\",IF(D88=\"/C\",\"\",'Order Form'!D108))","v":""},{"$f":"UPPER(IF(D88=\"\",\"\",IF('Order Form'!H108=\"\",\"\",\" \"&'Order Form'!H108)&IF('Order Form'!J108=\"\",\"\",\" \"&'Order Form'!J108)&'Order Form'!AO108&'Order Form'!AP108&'Order Form'!AQ108))","v":""},{"$f":"IF(D88=\"\",\"\",IF(D88=\"/C\",\"\",IF('Order Form'!L108=0,IF('Order Form'!K108=0,\"\",'Order Form'!K108/'Order Form'!D108),'Order Form'!L108+('Order Form'!K108/'Order Form'!D108))))","v":""},"",{"$f":"UPPER(IF(D88=\"\",\"\",CONCAT!$G$3))","v":""},{"$f":"UPPER(IF(D88=\"\",\"\",CONCAT!$G$4))","v":""},{"$f":"UPPER(IF(D88=\"\",\"\",CONCAT!$G$5))","v":""},{"$f":"UPPER(IF(D88=\"\",\"\",CONCAT!$G$6))","v":""},{"$f":"UPPER(IF(D88=\"\",\"\",CONCAT!$G$7))","v":""},{"$f":"UPPER(IF(D88=\"\",\"\",CONCAT!$G$2))","v":""},{"$f":"UPPER(IF(D88=\"\",\"\",CONCAT!$G$8))","v":""},"",{"$f":"UPPER(IF(D88=\"\",\"\",'Order Form'!$J$4))","v":""},{"$f":"UPPER(IF(D88=\"\",\"\",(UPPER(IF(CONCAT!$G$2=\"SELECT\",\"SELECT \"&CONCAT!$G$3,CONCAT!$G$1&Species!$G$6&'Door Style'!$I$6&Color!$Q$6&'Drawer Head'!$H$6&'Custom Finish'!$G$6)))))","v":""},null,{"$f":"IF(D88=\"\",\"\",CONCAT!$J$2)","v":""},{"$f":"IF(D88=\"\",\"\",CONCAT!$J$3)","v":""},{"$f":"IF(D88=\"\",\"\",'Order Form'!$J$6)","v":""},{"$f":"UPPER(IF(D88=\"\",\"\",'Order Form'!$J$3&\" - \"&LEFT('Order Form'!$J$5,3)&\"-\"&MID('Order Form'!$J$5,4,3)&\"-\"&RIGHT('Order Form'!$J$5,4)))","v":""},{"$f":"UPPER(IF(D88=\"\",\"\",VLOOKUP('Misc Dropdowns'!$B$3,'Misc Dropdowns'!$B$7:$C$20,2,FALSE)))","v":""},{"$f":"IF(D88=\"\",\"\",'Order Form'!$M$3)","v":""},{"$f":"IF(D88=\"\",\"\",IF('Order Form'!$K$132=\"Delivery:\",'Order Form'!$M$132,'Order Form'!$M$131))","v":""}]
["Item List",null,{"$f":"UPPER(IF(AND('Order Form'!$M$4=\"\",D89=\"\"),\"\",IF(D89=\"\",\"\",'Order Form'!$M$4)))","v":""},{"$f":"IF(AND('Order Form'!C109=\"\",'Order Form'!J109<>\"\"),\"/C\",UPPER(IF('Order Form'!D109=0,\"\",IFERROR(CONCATENATE(CONCAT!B97,CONCAT!C97)&(CONCAT!D97),\"\"))))","v":""},{"$f":"IF(D89=\"\",\"\",IF(D89=\"/C\",\"\",'Order Form'!D109))","v":""},{"$f":"UPPER(IF(D89=\"\",\"\",IF('Order Form'!H109=\"\",\"\",\" \"&'Order Form'!H109)&IF('Order Form'!J109=\"\",\"\",\" \"&'Order Form'!J109)&'Order Form'!AO109&'Order Form'!AP109&'Order Form'!AQ109))","v":""},{"$f":"IF(D89=\"\",\"\",IF(D89=\"/C\",\"\",IF('Order Form'!L109=0,IF('Order Form'!K109=0,\"\",'Order Form'!K109/'Order Form'!D109),'Order Form'!L109+('Order Form'!K109/'Order Form'!D109))))","v":""},"",{"$f":"UPPER(IF(D89=\"\",\"\",CONCAT!$G$3))","v":""},{"$f":"UPPER(IF(D89=\"\",\"\",CONCAT!$G$4))","v":""},{"$f":"UPPER(IF(D89=\"\",\"\",CONCAT!$G$5))","v":""},{"$f":"UPPER(IF(D89=\"\",\"\",CONCAT!$G$6))","v":""},{"$f":"UPPER(IF(D89=\"\",\"\",CONCAT!$G$7))","v":""},{"$f":"UPPER(IF(D89=\"\",\"\",CONCAT!$G$2))","v":""},{"$f":"UPPER(IF(D89=\"\",\"\",CONCAT!$G$8))","v":""},"",{"$f":"UPPER(IF(D89=\"\",\"\",'Order Form'!$J$4))","v":""},{"$f":"UPPER(IF(D89=\"\",\"\",(UPPER(IF(CONCAT!$G$2=\"SELECT\",\"SELECT \"&CONCAT!$G$3,CONCAT!$G$1&Species!$G$6&'Door Style'!$I$6&Color!$Q$6&'Drawer Head'!$H$6&'Custom Finish'!$G$6)))))","v":""},null,{"$f":"IF(D89=\"\",\"\",CONCAT!$J$2)","v":""},{"$f":"IF(D89=\"\",\"\",CONCAT!$J$3)","v":""},{"$f":"IF(D89=\"\",\"\",'Order Form'!$J$6)","v":""},{"$f":"UPPER(IF(D89=\"\",\"\",'Order Form'!$J$3&\" - \"&LEFT('Order Form'!$J$5,3)&\"-\"&MID('Order Form'!$J$5,4,3)&\"-\"&RIGHT('Order Form'!$J$5,4)))","v":""},{"$f":"UPPER(IF(D89=\"\",\"\",VLOOKUP('Misc Dropdowns'!$B$3,'Misc Dropdowns'!$B$7:$C$20,2,FALSE)))","v":""},{"$f":"IF(D89=\"\",\"\",'Order Form'!$M$3)","v":""},{"$f":"IF(D89=\"\",\"\",IF('Order Form'!$K$132=\"Delivery:\",'Order Form'!$M$132,'Order Form'!$M$131))","v":""}]
["Item List",null,{"$f":"UPPER(IF(AND('Order Form'!$M$4=\"\",D90=\"\"),\"\",IF(D90=\"\",\"\",'Order Form'!$M$4)))","v":""},{"$f":"IF(AND('Order Form'!C110=\"\",'Order Form'!J110<>\"\"),\"/C\",UPPER(IF('Order Form'!D110=0,\"\",IFERROR(CONCATENATE(CONCAT!B98,CONCAT!C98)&(CONCAT!D98),\"\"))))","v":""},{"$f":"IF(D90=\"\",\"\",IF(D90=\"/C\",\"\",'Order Form'!D110))","v":""},{"$f":"UPPER(IF(D90=\"\",\"\",IF('Order Form'!H110=\"\",\"\",\" \"&'Order Form'!H110)&IF('Order Form'!J110=\"\",\"\",\" \"&'Order Form'!J110)&'Order Form'!AO110&'Order Form'!AP110&'Order Form'!AQ110))","v":""},{"$f":"IF(D90=\"\",\"\",IF(D90=\"/C\",\"\",IF('Order Form'!L110=0,IF('Order Form'!K110=0,\"\",'Order Form'!K110/'Order Form'!D110),'Order Form'!L110+('Order Form'!K110/'Order Form'!D110))))","v":""},"",{"$f":"UPPER(IF(D90=\"\",\"\",CONCAT!$G$3))","v":""},{"$f":"UPPER(IF(D90=\"\",\"\",CONCAT!$G$4))","v":""},{"$f":"UPPER(IF(D90=\"\",\"\",CONCAT!$G$5))","v":""},{"$f":"UPPER(IF(D90=\"\",\"\",CONCAT!$G$6))","v":""},{"$f":"UPPER(IF(D90=\"\",\"\",CONCAT!$G$7))","v":""},{"$f":"UPPER(IF(D90=\"\",\"\",CONCAT!$G$2))","v":""},{"$f":"UPPER(IF(D90=\"\",\"\",CONCAT!$G$8))","v":""},"",{"$f":"UPPER(IF(D90=\"\",\"\",'Order Form'!$J$4))","v":""},{"$f":"UPPER(IF(D90=\"\",\"\",(UPPER(IF(CONCAT!$G$2=\"SELECT\",\"SELECT \"&CONCAT!$G$3,CONCAT!$G$1&Species!$G$6&'Door Style'!$I$6&Color!$Q$6&'Drawer Head'!$H$6&'Custom Finish'!$G$6)))))","v":""},null,{"$f":"IF(D90=\"\",\"\",CONCAT!$J$2)","v":""},{"$f":"IF(D90=\"\",\"\",CONCAT!$J$3)","v":""},{"$f":"IF(D90=\"\",\"\",'Order Form'!$J$6)","v":""},{"$f":"UPPER(IF(D90=\"\",\"\",'Order Form'!$J$3&\" - \"&LEFT('Order Form'!$J$5,3)&\"-\"&MID('Order Form'!$J$5,4,3)&\"-\"&RIGHT('Order Form'!$J$5,4)))","v":""},{"$f":"UPPER(IF(D90=\"\",\"\",VLOOKUP('Misc Dropdowns'!$B$3,'Misc Dropdowns'!$B$7:$C$20,2,FALSE)))","v":""},{"$f":"IF(D90=\"\",\"\",'Order Form'!$M$3)","v":""},{"$f":"IF(D90=\"\",\"\",IF('Order Form'!$K$132=\"Delivery:\",'Order Form'!$M$132,'Order Form'!$M$131))","v":""}]
["Item List",null,{"$f":"UPPER(IF(AND('Order Form'!$M$4=\"\",D91=\"\"),\"\",IF(D91=\"\",\"\",'Order Form'!$M$4)))","v":""},{"$f":"IF(AND('Order Form'!C111=\"\",'Order Form'!J111<>\"\"),\"/C\",UPPER(IF('Order Form'!D111=0,\"\",IFERROR(CONCATENATE(CONCAT!B99,CONCAT!C99)&(CONCAT!D99),\"\"))))","v":""},{"$f":"IF(D91=\"\",\"\",IF(D91=\"/C\",\"\",'Order Form'!D111))","v":""},{"$f":"UPPER(IF(D91=\"\",\"\",IF('Order Form'!H111=\"\",\"\",\" \"&'Order Form'!H111)&IF('Order Form'!J111=\"\",\"\",\" \"&'Order Form'!J111)&'Order Form'!AO111&'Order Form'!AP111&'Order Form'!AQ111))","v":""},{"$f":"IF(D91=\"\",\"\",IF(D91=\"/C\",\"\",IF('Order Form'!L111=0,IF('Order Form'!K111=0,\"\",'Order Form'!K111/'Order Form'!D111),'Order Form'!L111+('Order Form'!K111/'Order Form'!D111))))","v":""},"",{"$f":"UPPER(IF(D91=\"\",\"\",CONCAT!$G$3))","v":""},{"$f":"UPPER(IF(D91=\"\",\"\",CONCAT!$G$4))","v":""},{"$f":"UPPER(IF(D91=\"\",\"\",CONCAT!$G$5))","v":""},{"$f":"UPPER(IF(D91=\"\",\"\",CONCAT!$G$6))","v":""},{"$f":"UPPER(IF(D91=\"\",\"\",CONCAT!$G$7))","v":""},{"$f":"UPPER(IF(D91=\"\",\"\",CONCAT!$G$2))","v":""},{"$f":"UPPER(IF(D91=\"\",\"\",CONCAT!$G$8))","v":""},"",{"$f":"UPPER(IF(D91=\"\",\"\",'Order Form'!$J$4))","v":""},{"$f":"UPPER(IF(D91=\"\",\"\",(UPPER(IF(CONCAT!$G$2=\"SELECT\",\"SELECT \"&CONCAT!$G$3,CONCAT!$G$1&Species!$G$6&'Door Style'!$I$6&Color!$Q$6&'Drawer Head'!$H$6&'Custom Finish'!$G$6)))))","v":""},null,{"$f":"IF(D91=\"\",\"\",CONCAT!$J$2)","v":""},{"$f":"IF(D91=\"\",\"\",CONCAT!$J$3)","v":""},{"$f":"IF(D91=\"\",\"\",'Order Form'!$J$6)","v":""},{"$f":"UPPER(IF(D91=\"\",\"\",'Order Form'!$J$3&\" - \"&LEFT('Order Form'!$J$5,3)&\"-\"&MID('Order Form'!$J$5,4,3)&\"-\"&RIGHT('Order Form'!$J$5,4)))","v":""},{"$f":"UPPER(IF(D91=\"\",\"\",VLOOKUP('Misc Dropdowns'!$B$3,'Misc Dropdowns'!$B$7:$C$20,2,FALSE)))","v":""},{"$f":"IF(D91=\"\",\"\",'Order Form'!$M$3)","v":""},{"$f":"IF(D91=\"\",\"\",IF('Order Form'!$K$132=\"Delivery:\",'Order Form'!$M$132,'Order Form'!$M$131))","v":""}]
["Item List",null,{"$f":"UPPER(IF(AND('Order Form'!$M$4=\"\",D92=\"\"),\"\",IF(D92=\"\",\"\",'Order Form'!$M$4)))","v":""},{"$f":"IF(AND('Order Form'!C112=\"\",'Order Form'!J112<>\"\"),\"/C\",UPPER(IF('Order Form'!D112=0,\"\",IFERROR(CONCATENATE(CONCAT!B100,CONCAT!C100)&(CONCAT!D100),\"\"))))","v":""},{"$f":"IF(D92=\"\",\"\",IF(D92=\"/C\",\"\",'Order Form'!D112))","v":""},{"$f":"UPPER(IF(D92=\"\",\"\",IF('Order Form'!H112=\"\",\"\",\" \"&'Order Form'!H112)&IF('Order Form'!J112=\"\",\"\",\" \"&'Order Form'!J112)&'Order Form'!AO112&'Order Form'!AP112&'Order Form'!AQ112))","v":""},{"$f":"IF(D92=\"\",\"\",IF(D92=\"/C\",\"\",IF('Order Form'!L112=0,IF('Order Form'!K112=0,\"\",'Order Form'!K112/'Order Form'!D112),'Order Form'!L112+('Order Form'!K112/'Order Form'!D112))))","v":""},"",{"$f":"UPPER(IF(D92=\"\",\"\",CONCAT!$G$3))","v":""},{"$f":"UPPER(IF(D92=\"\",\"\",CONCAT!$G$4))","v":""},{"$f":"UPPER(IF(D92=\"\",\"\",CONCAT!$G$5))","v":""},{"$f":"UPPER(IF(D92=\"\",\"\",CONCAT!$G$6))","v":""},{"$f":"UPPER(IF(D92=\"\",\"\",CONCAT!$G$7))","v":""},{"$f":"UPPER(IF(D92=\"\",\"\",CONCAT!$G$2))","v":""},{"$f":"UPPER(IF(D92=\"\",\"\",CONCAT!$G$8))","v":""},"",{"$f":"UPPER(IF(D92=\"\",\"\",'Order Form'!$J$4))","v":""},{"$f":"UPPER(IF(D92=\"\",\"\",(UPPER(IF(CONCAT!$G$2=\"SELECT\",\"SELECT \"&CONCAT!$G$3,CONCAT!$G$1&Species!$G$6&'Door Style'!$I$6&Color!$Q$6&'Drawer Head'!$H$6&'Custom Finish'!$G$6)))))","v":""},null,{"$f":"IF(D92=\"\",\"\",CONCAT!$J$2)","v":""},{"$f":"IF(D92=\"\",\"\",CONCAT!$J$3)","v":""},{"$f":"IF(D92=\"\",\"\",'Order Form'!$J$6)","v":""},{"$f":"UPPER(IF(D92=\"\",\"\",'Order Form'!$J$3&\" - \"&LEFT('Order Form'!$J$5,3)&\"-\"&MID('Order Form'!$J$5,4,3)&\"-\"&RIGHT('Order Form'!$J$5,4)))","v":""},{"$f":"UPPER(IF(D92=\"\",\"\",VLOOKUP('Misc Dropdowns'!$B$3,'Misc Dropdowns'!$B$7:$C$20,2,FALSE)))","v":""},{"$f":"IF(D92=\"\",\"\",'Order Form'!$M$3)","v":""},{"$f":"IF(D92=\"\",\"\",IF('Order Form'!$K$132=\"Delivery:\",'Order Form'!$M$132,'Order Form'!$M$131))","v":""}]
["Item List",null,{"$f":"UPPER(IF(AND('Order Form'!$M$4=\"\",D93=\"\"),\"\",IF(D93=\"\",\"\",'Order Form'!$M$4)))","v":""},{"$f":"IF(AND('Order Form'!C113=\"\",'Order Form'!J113<>\"\"),\"/C\",UPPER(IF('Order Form'!D113=0,\"\",IFERROR(CONCATENATE(CONCAT!B101,CONCAT!C101)&(CONCAT!D101),\"\"))))","v":""},{"$f":"IF(D93=\"\",\"\",IF(D93=\"/C\",\"\",'Order Form'!D113))","v":""},{"$f":"UPPER(IF(D93=\"\",\"\",IF('Order Form'!H113=\"\",\"\",\" \"&'Order Form'!H113)&IF('Order Form'!J113=\"\",\"\",\" \"&'Order Form'!J113)&'Order Form'!AO113&'Order Form'!AP113&'Order Form'!AQ113))","v":""},{"$f":"IF(D93=\"\",\"\",IF(D93=\"/C\",\"\",IF('Order Form'!L113=0,IF('Order Form'!K113=0,\"\",'Order Form'!K113/'Order Form'!D113),'Order Form'!L113+('Order Form'!K113/'Order Form'!D113))))","v":""},"",{"$f":"UPPER(IF(D93=\"\",\"\",CONCAT!$G$3))","v":""},{"$f":"UPPER(IF(D93=\"\",\"\",CONCAT!$G$4))","v":""},{"$f":"UPPER(IF(D93=\"\",\"\",CONCAT!$G$5))","v":""},{"$f":"UPPER(IF(D93=\"\",\"\",CONCAT!$G$6))","v":""},{"$f":"UPPER(IF(D93=\"\",\"\",CONCAT!$G$7))","v":""},{"$f":"UPPER(IF(D93=\"\",\"\",CONCAT!$G$2))","v":""},{"$f":"UPPER(IF(D93=\"\",\"\",CONCAT!$G$8))","v":""},"",{"$f":"UPPER(IF(D93=\"\",\"\",'Order Form'!$J$4))","v":""},{"$f":"UPPER(IF(D93=\"\",\"\",(UPPER(IF(CONCAT!$G$2=\"SELECT\",\"SELECT \"&CONCAT!$G$3,CONCAT!$G$1&Species!$G$6&'Door Style'!$I$6&Color!$Q$6&'Drawer Head'!$H$6&'Custom Finish'!$G$6)))))","v":""},null,{"$f":"IF(D93=\"\",\"\",CONCAT!$J$2)","v":""},{"$f":"IF(D93=\"\",\"\",CONCAT!$J$3)","v":""},{"$f":"IF(D93=\"\",\"\",'Order Form'!$J$6)","v":""},{"$f":"UPPER(IF(D93=\"\",\"\",'Order Form'!$J$3&\" - \"&LEFT('Order Form'!$J$5,3)&\"-\"&MID('Order Form'!$J$5,4,3)&\"-\"&RIGHT('Order Form'!$J$5,4)))","v":""},{"$f":"UPPER(IF(D93=\"\",\"\",VLOOKUP('Misc Dropdowns'!$B$3,'Misc Dropdowns'!$B$7:$C$20,2,FALSE)))","v":""},{"$f":"IF(D93=\"\",\"\",'Order Form'!$M$3)","v":""},{"$f":"IF(D93=\"\",\"\",IF('Order Form'!$K$132=\"Delivery:\",'Order Form'!$M$132,'Order Form'!$M$131))","v":""}]
["Item List",null,{"$f":"UPPER(IF(AND('Order Form'!$M$4=\"\",D94=\"\"),\"\",IF(D94=\"\",\"\",'Order Form'!$M$4)))","v":""},{"$f":"IF(AND('Order Form'!C114=\"\",'Order Form'!J114<>\"\"),\"/C\",UPPER(IF('Order Form'!D114=0,\"\",IFERROR(CONCATENATE(CONCAT!B102,CONCAT!C102)&(CONCAT!D102),\"\"))))","v":""},{"$f":"IF(D94=\"\",\"\",IF(D94=\"/C\",\"\",'Order Form'!D114))","v":""},{"$f":"UPPER(IF(D94=\"\",\"\",IF('Order Form'!H114=\"\",\"\",\" \"&'Order Form'!H114)&IF('Order Form'!J114=\"\",\"\",\" \"&'Order Form'!J114)&'Order Form'!AO114&'Order Form'!AP114&'Order Form'!AQ114))","v":""},{"$f":"IF(D94=\"\",\"\",IF(D94=\"/C\",\"\",IF('Order Form'!L114=0,IF('Order Form'!K114=0,\"\",'Order Form'!K114/'Order Form'!D114),'Order Form'!L114+('Order Form'!K114/'Order Form'!D114))))","v":""},"",{"$f":"UPPER(IF(D94=\"\",\"\",CONCAT!$G$3))","v":""},{"$f":"UPPER(IF(D94=\"\",\"\",CONCAT!$G$4))","v":""},{"$f":"UPPER(IF(D94=\"\",\"\",CONCAT!$G$5))","v":""},{"$f":"UPPER(IF(D94=\"\",\"\",CONCAT!$G$6))","v":""},{"$f":"UPPER(IF(D94=\"\",\"\",CONCAT!$G$7))","v":""},{"$f":"UPPER(IF(D94=\"\",\"\",CONCAT!$G$2))","v":""},{"$f":"UPPER(IF(D94=\"\",\"\",CONCAT!$G$8))","v":""},"",{"$f":"UPPER(IF(D94=\"\",\"\",'Order Form'!$J$4))","v":""},{"$f":"UPPER(IF(D94=\"\",\"\",(UPPER(IF(CONCAT!$G$2=\"SELECT\",\"SELECT \"&CONCAT!$G$3,CONCAT!$G$1&Species!$G$6&'Door Style'!$I$6&Color!$Q$6&'Drawer Head'!$H$6&'Custom Finish'!$G$6)))))","v":""},null,{"$f":"IF(D94=\"\",\"\",CONCAT!$J$2)","v":""},{"$f":"IF(D94=\"\",\"\",CONCAT!$J$3)","v":""},{"$f":"IF(D94=\"\",\"\",'Order Form'!$J$6)","v":""},{"$f":"UPPER(IF(D94=\"\",\"\",'Order Form'!$J$3&\" - \"&LEFT('Order Form'!$J$5,3)&\"-\"&MID('Order Form'!$J$5,4,3)&\"-\"&RIGHT('Order Form'!$J$5,4)))","v":""},{"$f":"UPPER(IF(D94=\"\",\"\",VLOOKUP('Misc Dropdowns'!$B$3,'Misc Dropdowns'!$B$7:$C$20,2,FALSE)))","v":""},{"$f":"IF(D94=\"\",\"\",'Order Form'!$M$3)","v":""},{"$f":"IF(D94=\"\",\"\",IF('Order Form'!$K$132=\"Delivery:\",'Order Form'!$M$132,'Order Form'!$M$131))","v":""}]
["Item List",null,{"$f":"UPPER(IF(AND('Order Form'!$M$4=\"\",D95=\"\"),\"\",IF(D95=\"\",\"\",'Order Form'!$M$4)))","v":""},{"$f":"IF(AND('Order Form'!C115=\"\",'Order Form'!J115<>\"\"),\"/C\",UPPER(IF('Order Form'!D115=0,\"\",IFERROR(CONCATENATE(CONCAT!B103,CONCAT!C103)&(CONCAT!D103),\"\"))))","v":""},{"$f":"IF(D95=\"\",\"\",IF(D95=\"/C\",\"\",'Order Form'!D115))","v":""},{"$f":"UPPER(IF(D95=\"\",\"\",IF('Order Form'!H115=\"\",\"\",\" \"&'Order Form'!H115)&IF('Order Form'!J115=\"\",\"\",\" \"&'Order Form'!J115)&'Order Form'!AO115&'Order Form'!AP115&'Order Form'!AQ115))","v":""},{"$f":"IF(D95=\"\",\"\",IF(D95=\"/C\",\"\",IF('Order Form'!L115=0,IF('Order Form'!K115=0,\"\",'Order Form'!K115/'Order Form'!D115),'Order Form'!L115+('Order Form'!K115/'Order Form'!D115))))","v":""},"",{"$f":"UPPER(IF(D95=\"\",\"\",CONCAT!$G$3))","v":""},{"$f":"UPPER(IF(D95=\"\",\"\",CONCAT!$G$4))","v":""},{"$f":"UPPER(IF(D95=\"\",\"\",CONCAT!$G$5))","v":""},{"$f":"UPPER(IF(D95=\"\",\"\",CONCAT!$G$6))","v":""},{"$f":"UPPER(IF(D95=\"\",\"\",CONCAT!$G$7))","v":""},{"$f":"UPPER(IF(D95=\"\",\"\",CONCAT!$G$2))","v":""},{"$f":"UPPER(IF(D95=\"\",\"\",CONCAT!$G$8))","v":""},"",{"$f":"UPPER(IF(D95=\"\",\"\",'Order Form'!$J$4))","v":""},{"$f":"UPPER(IF(D95=\"\",\"\",(UPPER(IF(CONCAT!$G$2=\"SELECT\",\"SELECT \"&CONCAT!$G$3,CONCAT!$G$1&Species!$G$6&'Door Style'!$I$6&Color!$Q$6&'Drawer Head'!$H$6&'Custom Finish'!$G$6)))))","v":""},null,{"$f":"IF(D95=\"\",\"\",CONCAT!$J$2)","v":""},{"$f":"IF(D95=\"\",\"\",CONCAT!$J$3)","v":""},{"$f":"IF(D95=\"\",\"\",'Order Form'!$J$6)","v":""},{"$f":"UPPER(IF(D95=\"\",\"\",'Order Form'!$J$3&\" - \"&LEFT('Order Form'!$J$5,3)&\"-\"&MID('Order Form'!$J$5,4,3)&\"-\"&RIGHT('Order Form'!$J$5,4)))","v":""},{"$f":"UPPER(IF(D95=\"\",\"\",VLOOKUP('Misc Dropdowns'!$B$3,'Misc Dropdowns'!$B$7:$C$20,2,FALSE)))","v":""},{"$f":"IF(D95=\"\",\"\",'Order Form'!$M$3)","v":""},{"$f":"IF(D95=\"\",\"\",IF('Order Form'!$K$132=\"Delivery:\",'Order Form'!$M$132,'Order Form'!$M$131))","v":""}]
["Item List",null,{"$f":"UPPER(IF(AND('Order Form'!$M$4=\"\",D96=\"\"),\"\",IF(D96=\"\",\"\",'Order Form'!$M$4)))","v":""},{"$f":"IF(AND('Order Form'!C116=\"\",'Order Form'!J116<>\"\"),\"/C\",UPPER(IF('Order Form'!D116=0,\"\",IFERROR(CONCATENATE(CONCAT!B104,CONCAT!C104)&(CONCAT!D104),\"\"))))","v":""},{"$f":"IF(D96=\"\",\"\",IF(D96=\"/C\",\"\",'Order Form'!D116))","v":""},{"$f":"UPPER(IF(D96=\"\",\"\",IF('Order Form'!H116=\"\",\"\",\" \"&'Order Form'!H116)&IF('Order Form'!J116=\"\",\"\",\" \"&'Order Form'!J116)&'Order Form'!AO116&'Order Form'!AP116&'Order Form'!AQ116))","v":""},{"$f":"IF(D96=\"\",\"\",IF(D96=\"/C\",\"\",IF('Order Form'!L116=0,IF('Order Form'!K116=0,\"\",'Order Form'!K116/'Order Form'!D116),'Order Form'!L116+('Order Form'!K116/'Order Form'!D116))))","v":""},"",{"$f":"UPPER(IF(D96=\"\",\"\",CONCAT!$G$3))","v":""},{"$f":"UPPER(IF(D96=\"\",\"\",CONCAT!$G$4))","v":""},{"$f":"UPPER(IF(D96=\"\",\"\",CONCAT!$G$5))","v":""},{"$f":"UPPER(IF(D96=\"\",\"\",CONCAT!$G$6))","v":""},{"$f":"UPPER(IF(D96=\"\",\"\",CONCAT!$G$7))","v":""},{"$f":"UPPER(IF(D96=\"\",\"\",CONCAT!$G$2))","v":""},{"$f":"UPPER(IF(D96=\"\",\"\",CONCAT!$G$8))","v":""},"",{"$f":"UPPER(IF(D96=\"\",\"\",'Order Form'!$J$4))","v":""},{"$f":"UPPER(IF(D96=\"\",\"\",(UPPER(IF(CONCAT!$G$2=\"SELECT\",\"SELECT \"&CONCAT!$G$3,CONCAT!$G$1&Species!$G$6&'Door Style'!$I$6&Color!$Q$6&'Drawer Head'!$H$6&'Custom Finish'!$G$6)))))","v":""},null,{"$f":"IF(D96=\"\",\"\",CONCAT!$J$2)","v":""},{"$f":"IF(D96=\"\",\"\",CONCAT!$J$3)","v":""},{"$f":"IF(D96=\"\",\"\",'Order Form'!$J$6)","v":""},{"$f":"UPPER(IF(D96=\"\",\"\",'Order Form'!$J$3&\" - \"&LEFT('Order Form'!$J$5,3)&\"-\"&MID('Order Form'!$J$5,4,3)&\"-\"&RIGHT('Order Form'!$J$5,4)))","v":""},{"$f":"UPPER(IF(D96=\"\",\"\",VLOOKUP('Misc Dropdowns'!$B$3,'Misc Dropdowns'!$B$7:$C$20,2,FALSE)))","v":""},{"$f":"IF(D96=\"\",\"\",'Order Form'!$M$3)","v":""},{"$f":"IF(D96=\"\",\"\",IF('Order Form'!$K$132=\"Delivery:\",'Order Form'!$M$132,'Order Form'!$M$131))","v":""}]
["Item List",null,{"$f":"UPPER(IF(AND('Order Form'!$M$4=\"\",D97=\"\"),\"\",IF(D97=\"\",\"\",'Order Form'!$M$4)))","v":""},{"$f":"IF(AND('Order Form'!C117=\"\",'Order Form'!J117<>\"\"),\"/C\",UPPER(IF('Order Form'!D117=0,\"\",IFERROR(CONCATENATE(CONCAT!B105,CONCAT!C105)&(CONCAT!D105),\"\"))))","v":""},{"$f":"IF(D97=\"\",\"\",IF(D97=\"/C\",\"\",'Order Form'!D117))","v":""},{"$f":"UPPER(IF(D97=\"\",\"\",IF('Order Form'!H117=\"\",\"\",\" \"&'Order Form'!H117)&IF('Order Form'!J117=\"\",\"\",\" \"&'Order Form'!J117)&'Order Form'!AO117&'Order Form'!AP117&'Order Form'!AQ117))","v":""},{"$f":"IF(D97=\"\",\"\",IF(D97=\"/C\",\"\",IF('Order Form'!L117=0,IF('Order Form'!K117=0,\"\",'Order Form'!K117/'Order Form'!D117),'Order Form'!L117+('Order Form'!K117/'Order Form'!D117))))","v":""},"",{"$f":"UPPER(IF(D97=\"\",\"\",CONCAT!$G$3))","v":""},{"$f":"UPPER(IF(D97=\"\",\"\",CONCAT!$G$4))","v":""},{"$f":"UPPER(IF(D97=\"\",\"\",CONCAT!$G$5))","v":""},{"$f":"UPPER(IF(D97=\"\",\"\",CONCAT!$G$6))","v":""},{"$f":"UPPER(IF(D97=\"\",\"\",CONCAT!$G$7))","v":""},{"$f":"UPPER(IF(D97=\"\",\"\",CONCAT!$G$2))","v":""},{"$f":"UPPER(IF(D97=\"\",\"\",CONCAT!$G$8))","v":""},"",{"$f":"UPPER(IF(D97=\"\",\"\",'Order Form'!$J$4))","v":""},{"$f":"UPPER(IF(D97=\"\",\"\",(UPPER(IF(CONCAT!$G$2=\"SELECT\",\"SELECT \"&CONCAT!$G$3,CONCAT!$G$1&Species!$G$6&'Door Style'!$I$6&Color!$Q$6&'Drawer Head'!$H$6&'Custom Finish'!$G$6)))))","v":""},null,{"$f":"IF(D97=\"\",\"\",CONCAT!$J$2)","v":""},{"$f":"IF(D97=\"\",\"\",CONCAT!$J$3)","v":""},{"$f":"IF(D97=\"\",\"\",'Order Form'!$J$6)","v":""},{"$f":"UPPER(IF(D97=\"\",\"\",'Order Form'!$J$3&\" - \"&LEFT('Order Form'!$J$5,3)&\"-\"&MID('Order Form'!$J$5,4,3)&\"-\"&RIGHT('Order Form'!$J$5,4)))","v":""},{"$f":"UPPER(IF(D97=\"\",\"\",VLOOKUP('Misc Dropdowns'!$B$3,'Misc Dropdowns'!$B$7:$C$20,2,FALSE)))","v":""},{"$f":"IF(D97=\"\",\"\",'Order Form'!$M$3)","v":""},{"$f":"IF(D97=\"\",\"\",IF('Order Form'!$K$132=\"Delivery:\",'Order Form'!$M$132,'Order Form'!$M$131))","v":""}]
["Item List",null,{"$f":"UPPER(IF(AND('Order Form'!$M$4=\"\",D98=\"\"),\"\",IF(D98=\"\",\"\",'Order Form'!$M$4)))","v":""},{"$f":"IF(AND('Order Form'!C118=\"\",'Order Form'!J118<>\"\"),\"/C\",UPPER(IF('Order Form'!D118=0,\"\",IFERROR(CONCATENATE(CONCAT!B106,CONCAT!C106)&(CONCAT!D106),\"\"))))","v":""},{"$f":"IF(D98=\"\",\"\",IF(D98=\"/C\",\"\",'Order Form'!D118))","v":""},{"$f":"UPPER(IF(D98=\"\",\"\",IF('Order Form'!H118=\"\",\"\",\" \"&'Order Form'!H118)&IF('Order Form'!J118=\"\",\"\",\" \"&'Order Form'!J118)&'Order Form'!AO118&'Order Form'!AP118&'Order Form'!AQ118))","v":""},{"$f":"IF(D98=\"\",\"\",IF(D98=\"/C\",\"\",IF('Order Form'!L118=0,IF('Order Form'!K118=0,\"\",'Order Form'!K118/'Order Form'!D118),'Order Form'!L118+('Order Form'!K118/'Order Form'!D118))))","v":""},"",{"$f":"UPPER(IF(D98=\"\",\"\",CONCAT!$G$3))","v":""},{"$f":"UPPER(IF(D98=\"\",\"\",CONCAT!$G$4))","v":""},{"$f":"UPPER(IF(D98=\"\",\"\",CONCAT!$G$5))","v":""},{"$f":"UPPER(IF(D98=\"\",\"\",CONCAT!$G$6))","v":""},{"$f":"UPPER(IF(D98=\"\",\"\",CONCAT!$G$7))","v":""},{"$f":"UPPER(IF(D98=\"\",\"\",CONCAT!$G$2))","v":""},{"$f":"UPPER(IF(D98=\"\",\"\",CONCAT!$G$8))","v":""},"",{"$f":"UPPER(IF(D98=\"\",\"\",'Order Form'!$J$4))","v":""},{"$f":"UPPER(IF(D98=\"\",\"\",(UPPER(IF(CONCAT!$G$2=\"SELECT\",\"SELECT \"&CONCAT!$G$3,CONCAT!$G$1&Species!$G$6&'Door Style'!$I$6&Color!$Q$6&'Drawer Head'!$H$6&'Custom Finish'!$G$6)))))","v":""},null,{"$f":"IF(D98=\"\",\"\",CONCAT!$J$2)","v":""},{"$f":"IF(D98=\"\",\"\",CONCAT!$J$3)","v":""},{"$f":"IF(D98=\"\",\"\",'Order Form'!$J$6)","v":""},{"$f":"UPPER(IF(D98=\"\",\"\",'Order Form'!$J$3&\" - \"&LEFT('Order Form'!$J$5,3)&\"-\"&MID('Order Form'!$J$5,4,3)&\"-\"&RIGHT('Order Form'!$J$5,4)))","v":""},{"$f":"UPPER(IF(D98=\"\",\"\",VLOOKUP('Misc Dropdowns'!$B$3,'Misc Dropdowns'!$B$7:$C$20,2,FALSE)))","v":""},{"$f":"IF(D98=\"\",\"\",'Order Form'!$M$3)","v":""},{"$f":"IF(D98=\"\",\"\",IF('Order Form'!$K$132=\"Delivery:\",'Order Form'!$M$132,'Order Form'!$M$131))","v":""}]
["Item List",null,{"$f":"UPPER(IF(AND('Order Form'!$M$4=\"\",D99=\"\"),\"\",IF(D99=\"\",\"\",'Order Form'!$M$4)))","v":""},{"$f":"IF(AND('Order Form'!C119=\"\",'Order Form'!J119<>\"\"),\"/C\",UPPER(IF('Order Form'!D119=0,\"\",IFERROR(CONCATENATE(CONCAT!B107,CONCAT!C107)&(CONCAT!D107),\"\"))))","v":""},{"$f":"IF(D99=\"\",\"\",IF(D99=\"/C\",\"\",'Order Form'!D119))","v":""},{"$f":"UPPER(IF(D99=\"\",\"\",IF('Order Form'!H119=\"\",\"\",\" \"&'Order Form'!H119)&IF('Order Form'!J119=\"\",\"\",\" \"&'Order Form'!J119)&'Order Form'!AO119&'Order Form'!AP119&'Order Form'!AQ119))","v":""},{"$f":"IF(D99=\"\",\"\",IF(D99=\"/C\",\"\",IF('Order Form'!L119=0,IF('Order Form'!K119=0,\"\",'Order Form'!K119/'Order Form'!D119),'Order Form'!L119+('Order Form'!K119/'Order Form'!D119))))","v":""},"",{"$f":"UPPER(IF(D99=\"\",\"\",CONCAT!$G$3))","v":""},{"$f":"UPPER(IF(D99=\"\",\"\",CONCAT!$G$4))","v":""},{"$f":"UPPER(IF(D99=\"\",\"\",CONCAT!$G$5))","v":""},{"$f":"UPPER(IF(D99=\"\",\"\",CONCAT!$G$6))","v":""},{"$f":"UPPER(IF(D99=\"\",\"\",CONCAT!$G$7))","v":""},{"$f":"UPPER(IF(D99=\"\",\"\",CONCAT!$G$2))","v":""},{"$f":"UPPER(IF(D99=\"\",\"\",CONCAT!$G$8))","v":""},"",{"$f":"UPPER(IF(D99=\"\",\"\",'Order Form'!$J$4))","v":""},{"$f":"UPPER(IF(D99=\"\",\"\",(UPPER(IF(CONCAT!$G$2=\"SELECT\",\"SELECT \"&CONCAT!$G$3,CONCAT!$G$1&Species!$G$6&'Door Style'!$I$6&Color!$Q$6&'Drawer Head'!$H$6&'Custom Finish'!$G$6)))))","v":""},null,{"$f":"IF(D99=\"\",\"\",CONCAT!$J$2)","v":""},{"$f":"IF(D99=\"\",\"\",CONCAT!$J$3)","v":""},{"$f":"IF(D99=\"\",\"\",'Order Form'!$J$6)","v":""},{"$f":"UPPER(IF(D99=\"\",\"\",'Order Form'!$J$3&\" - \"&LEFT('Order Form'!$J$5,3)&\"-\"&MID('Order Form'!$J$5,4,3)&\"-\"&RIGHT('Order Form'!$J$5,4)))","v":""},{"$f":"UPPER(IF(D99=\"\",\"\",VLOOKUP('Misc Dropdowns'!$B$3,'Misc Dropdowns'!$B$7:$C$20,2,FALSE)))","v":""},{"$f":"IF(D99=\"\",\"\",'Order Form'!$M$3)","v":""},{"$f":"IF(D99=\"\",\"\",IF('Order Form'!$K$132=\"Delivery:\",'Order Form'!$M$132,'Order Form'!$M$131))","v":""}]
["Item List",null,{"$f":"UPPER(IF(AND('Order Form'!$M$4=\"\",D100=\"\"),\"\",IF(D100=\"\",\"\",'Order Form'!$M$4)))","v":""},{"$f":"IF(AND('Order Form'!C120=\"\",'Order Form'!J120<>\"\"),\"/C\",UPPER(IF('Order Form'!D120=0,\"\",IFERROR(CONCATENATE(CONCAT!B108,CONCAT!C108)&(CONCAT!D108),\"\"))))","v":""},{"$f":"IF(D100=\"\",\"\",IF(D100=\"/C\",\"\",'Order Form'!D120))","v":""},{"$f":"UPPER(IF(D100=\"\",\"\",IF('Order Form'!H120=\"\",\"\",\" \"&'Order Form'!H120)&IF('Order Form'!J120=\"\",\"\",\" \"&'Order Form'!J120)&'Order Form'!AO120&'Order Form'!AP120&'Order Form'!AQ120))","v":""},{"$f":"IF(D100=\"\",\"\",IF(D100=\"/C\",\"\",IF('Order Form'!L120=0,IF('Order Form'!K120=0,\"\",'Order Form'!K120/'Order Form'!D120),'Order Form'!L120+('Order Form'!K120/'Order Form'!D120))))","v":""},"",{"$f":"UPPER(IF(D100=\"\",\"\",CONCAT!$G$3))","v":""},{"$f":"UPPER(IF(D100=\"\",\"\",CONCAT!$G$4))","v":""},{"$f":"UPPER(IF(D100=\"\",\"\",CONCAT!$G$5))","v":""},{"$f":"UPPER(IF(D100=\"\",\"\",CONCAT!$G$6))","v":""},{"$f":"UPPER(IF(D100=\"\",\"\",CONCAT!$G$7))","v":""},{"$f":"UPPER(IF(D100=\"\",\"\",CONCAT!$G$2))","v":""},{"$f":"UPPER(IF(D100=\"\",\"\",CONCAT!$G$8))","v":""},"",{"$f":"UPPER(IF(D100=\"\",\"\",'Order Form'!$J$4))","v":""},{"$f":"UPPER(IF(D100=\"\",\"\",(UPPER(IF(CONCAT!$G$2=\"SELECT\",\"SELECT \"&CONCAT!$G$3,CONCAT!$G$1&Species!$G$6&'Door Style'!$I$6&Color!$Q$6&'Drawer Head'!$H$6&'Custom Finish'!$G$6)))))","v":""},null,{"$f":"IF(D100=\"\",\"\",CONCAT!$J$2)","v":""},{"$f":"IF(D100=\"\",\"\",CONCAT!$J$3)","v":""},{"$f":"IF(D100=\"\",\"\",'Order Form'!$J$6)","v":""},{"$f":"UPPER(IF(D100=\"\",\"\",'Order Form'!$J$3&\" - \"&LEFT('Order Form'!$J$5,3)&\"-\"&MID('Order Form'!$J$5,4,3)&\"-\"&RIGHT('Order Form'!$J$5,4)))","v":""},{"$f":"UPPER(IF(D100=\"\",\"\",VLOOKUP('Misc Dropdowns'!$B$3,'Misc Dropdowns'!$B$7:$C$20,2,FALSE)))","v":""},{"$f":"IF(D100=\"\",\"\",'Order Form'!$M$3)","v":""},{"$f":"IF(D100=\"\",\"\",IF('Order Form'!$K$132=\"Delivery:\",'Order Form'!$M$132,'Order Form'!$M$131))","v":""}]
["Item List",null,{"$f":"UPPER(IF(AND('Order Form'!$M$4=\"\",D101=\"\"),\"\",IF(D101=\"\",\"\",'Order Form'!$M$4)))","v":""},{"$f":"IF(AND('Order Form'!C121=\"\",'Order Form'!J121<>\"\"),\"/C\",UPPER(IF('Order Form'!D121=0,\"\",IFERROR(CONCATENATE(CONCAT!B109,CONCAT!C109)&(CONCAT!D109),\"\"))))","v":""},{"$f":"IF(D101=\"\",\"\",IF(D101=\"/C\",\"\",'Order Form'!D121))","v":""},{"$f":"UPPER(IF(D101=\"\",\"\",IF('Order Form'!H121=\"\",\"\",\" \"&'Order Form'!H121)&IF('Order Form'!J121=\"\",\"\",\" \"&'Order Form'!J121)&'Order Form'!AO121&'Order Form'!AP121&'Order Form'!AQ121))","v":""},{"$f":"IF(D101=\"\",\"\",IF(D101=\"/C\",\"\",IF('Order Form'!L121=0,IF('Order Form'!K121=0,\"\",'Order Form'!K121/'Order Form'!D121),'Order Form'!L121+('Order Form'!K121/'Order Form'!D121))))","v":""},"",{"$f":"UPPER(IF(D101=\"\",\"\",CONCAT!$G$3))","v":""},{"$f":"UPPER(IF(D101=\"\",\"\",CONCAT!$G$4))","v":""},{"$f":"UPPER(IF(D101=\"\",\"\",CONCAT!$G$5))","v":""},{"$f":"UPPER(IF(D101=\"\",\"\",CONCAT!$G$6))","v":""},{"$f":"UPPER(IF(D101=\"\",\"\",CONCAT!$G$7))","v":""},{"$f":"UPPER(IF(D101=\"\",\"\",CONCAT!$G$2))","v":""},{"$f":"UPPER(IF(D101=\"\",\"\",CONCAT!$G$8))","v":""},"",{"$f":"UPPER(IF(D101=\"\",\"\",'Order Form'!$J$4))","v":""},{"$f":"UPPER(IF(D101=\"\",\"\",(UPPER(IF(CONCAT!$G$2=\"SELECT\",\"SELECT \"&CONCAT!$G$3,CONCAT!$G$1&Species!$G$6&'Door Style'!$I$6&Color!$Q$6&'Drawer Head'!$H$6&'Custom Finish'!$G$6)))))","v":""},null,{"$f":"IF(D101=\"\",\"\",CONCAT!$J$2)","v":""},{"$f":"IF(D101=\"\",\"\",CONCAT!$J$3)","v":""},{"$f":"IF(D101=\"\",\"\",'Order Form'!$J$6)","v":""},{"$f":"UPPER(IF(D101=\"\",\"\",'Order Form'!$J$3&\" - \"&LEFT('Order Form'!$J$5,3)&\"-\"&MID('Order Form'!$J$5,4,3)&\"-\"&RIGHT('Order Form'!$J$5,4)))","v":""},{"$f":"UPPER(IF(D101=\"\",\"\",VLOOKUP('Misc Dropdowns'!$B$3,'Misc Dropdowns'!$B$7:$C$20,2,FALSE)))","v":""},{"$f":"IF(D101=\"\",\"\",'Order Form'!$M$3)","v":""},{"$f":"IF(D101=\"\",\"\",IF('Order Form'!$K$132=\"Delivery:\",'Order Form'!$M$132,'Order Form'!$M$131))","v":""}]
["Item List",null,{"$f":"UPPER(IF(AND('Order Form'!$M$4=\"\",D102=\"\"),\"\",IF(D102=\"\",\"\",'Order Form'!$M$4)))","v":""},{"$f":"IF(AND('Order Form'!C122=\"\",'Order Form'!J122<>\"\"),\"/C\",UPPER(IF('Order Form'!D122=0,\"\",IFERROR(CONCATENATE(CONCAT!B110,CONCAT!C110)&(CONCAT!D110),\"\"))))","v":""},{"$f":"IF(D102=\"\",\"\",IF(D102=\"/C\",\"\",'Order Form'!D122))","v":""},{"$f":"UPPER(IF(D102=\"\",\"\",IF('Order Form'!H122=\"\",\"\",\" \"&'Order Form'!H122)&IF('Order Form'!J122=\"\",\"\",\" \"&'Order Form'!J122)&'Order Form'!AO122&'Order Form'!AP122&'Order Form'!AQ122))","v":""},{"$f":"IF(D102=\"\",\"\",IF(D102=\"/C\",\"\",IF('Order Form'!L122=0,IF('Order Form'!K122=0,\"\",'Order Form'!K122/'Order Form'!D122),'Order Form'!L122+('Order Form'!K122/'Order Form'!D122))))","v":""},"",{"$f":"UPPER(IF(D102=\"\",\"\",CONCAT!$G$3))","v":""},{"$f":"UPPER(IF(D102=\"\",\"\",CONCAT!$G$4))","v":""},{"$f":"UPPER(IF(D102=\"\",\"\",CONCAT!$G$5))","v":""},{"$f":"UPPER(IF(D102=\"\",\"\",CONCAT!$G$6))","v":""},{"$f":"UPPER(IF(D102=\"\",\"\",CONCAT!$G$7))","v":""},{"$f":"UPPER(IF(D102=\"\",\"\",CONCAT!$G$2))","v":""},{"$f":"UPPER(IF(D102=\"\",\"\",CONCAT!$G$8))","v":""},"",{"$f":"UPPER(IF(D102=\"\",\"\",'Order Form'!$J$4))","v":""},{"$f":"UPPER(IF(D102=\"\",\"\",(UPPER(IF(CONCAT!$G$2=\"SELECT\",\"SELECT \"&CONCAT!$G$3,CONCAT!$G$1&Species!$G$6&'Door Style'!$I$6&Color!$Q$6&'Drawer Head'!$H$6&'Custom Finish'!$G$6)))))","v":""},null,{"$f":"IF(D102=\"\",\"\",CONCAT!$J$2)","v":""},{"$f":"IF(D102=\"\",\"\",CONCAT!$J$3)","v":""},{"$f":"IF(D102=\"\",\"\",'Order Form'!$J$6)","v":""},{"$f":"UPPER(IF(D102=\"\",\"\",'Order Form'!$J$3&\" - \"&LEFT('Order Form'!$J$5,3)&\"-\"&MID('Order Form'!$J$5,4,3)&\"-\"&RIGHT('Order Form'!$J$5,4)))","v":""},{"$f":"UPPER(IF(D102=\"\",\"\",VLOOKUP('Misc Dropdowns'!$B$3,'Misc Dropdowns'!$B$7:$C$20,2,FALSE)))","v":""},{"$f":"IF(D102=\"\",\"\",'Order Form'!$M$3)","v":""},{"$f":"IF(D102=\"\",\"\",IF('Order Form'!$K$132=\"Delivery:\",'Order Form'!$M$132,'Order Form'!$M$131))","v":""}]
["Item List",null,{"$f":"UPPER(IF(AND('Order Form'!$M$4=\"\",D103=\"\"),\"\",IF(D103=\"\",\"\",'Order Form'!$M$4)))","v":""},{"$f":"IF(AND('Order Form'!C123=\"\",'Order Form'!J123<>\"\"),\"/C\",UPPER(IF('Order Form'!D123=0,\"\",IFERROR(CONCATENATE(CONCAT!B111,CONCAT!C111)&(CONCAT!D111),\"\"))))","v":""},{"$f":"IF(D103=\"\",\"\",IF(D103=\"/C\",\"\",'Order Form'!D123))","v":""},{"$f":"UPPER(IF(D103=\"\",\"\",IF('Order Form'!H123=\"\",\"\",\" \"&'Order Form'!H123)&IF('Order Form'!J123=\"\",\"\",\" \"&'Order Form'!J123)&'Order Form'!AO123&'Order Form'!AP123&'Order Form'!AQ123))","v":""},{"$f":"IF(D103=\"\",\"\",IF(D103=\"/C\",\"\",IF('Order Form'!L123=0,IF('Order Form'!K123=0,\"\",'Order Form'!K123/'Order Form'!D123),'Order Form'!L123+('Order Form'!K123/'Order Form'!D123))))","v":""},"",{"$f":"UPPER(IF(D103=\"\",\"\",CONCAT!$G$3))","v":""},{"$f":"UPPER(IF(D103=\"\",\"\",CONCAT!$G$4))","v":""},{"$f":"UPPER(IF(D103=\"\",\"\",CONCAT!$G$5))","v":""},{"$f":"UPPER(IF(D103=\"\",\"\",CONCAT!$G$6))","v":""},{"$f":"UPPER(IF(D103=\"\",\"\",CONCAT!$G$7))","v":""},{"$f":"UPPER(IF(D103=\"\",\"\",CONCAT!$G$2))","v":""},{"$f":"UPPER(IF(D103=\"\",\"\",CONCAT!$G$8))","v":""},"",{"$f":"UPPER(IF(D103=\"\",\"\",'Order Form'!$J$4))","v":""},{"$f":"UPPER(IF(D103=\"\",\"\",(UPPER(IF(CONCAT!$G$2=\"SELECT\",\"SELECT \"&CONCAT!$G$3,CONCAT!$G$1&Species!$G$6&'Door Style'!$I$6&Color!$Q$6&'Drawer Head'!$H$6&'Custom Finish'!$G$6)))))","v":""},null,{"$f":"IF(D103=\"\",\"\",CONCAT!$J$2)","v":""},{"$f":"IF(D103=\"\",\"\",CONCAT!$J$3)","v":""},{"$f":"IF(D103=\"\",\"\",'Order Form'!$J$6)","v":""},{"$f":"UPPER(IF(D103=\"\",\"\",'Order Form'!$J$3&\" - \"&LEFT('Order Form'!$J$5,3)&\"-\"&MID('Order Form'!$J$5,4,3)&\"-\"&RIGHT('Order Form'!$J$5,4)))","v":""},{"$f":"UPPER(IF(D103=\"\",\"\",VLOOKUP('Misc Dropdowns'!$B$3,'Misc Dropdowns'!$B$7:$C$20,2,FALSE)))","v":""},{"$f":"IF(D103=\"\",\"\",'Order Form'!$M$3)","v":""},{"$f":"IF(D103=\"\",\"\",IF('Order Form'!$K$132=\"Delivery:\",'Order Form'!$M$132,'Order Form'!$M$131))","v":""}]
["Item List",null,{"$f":"UPPER(IF(AND('Order Form'!$M$4=\"\",D104=\"\"),\"\",IF(D104=\"\",\"\",'Order Form'!$M$4)))","v":""},{"$f":"IF(AND('Order Form'!C124=\"\",'Order Form'!J124<>\"\"),\"/C\",UPPER(IF('Order Form'!D124=0,\"\",IFERROR(CONCATENATE(CONCAT!B112,CONCAT!C112)&(CONCAT!D112),\"\"))))","v":""},{"$f":"IF(D104=\"\",\"\",IF(D104=\"/C\",\"\",'Order Form'!D124))","v":""},{"$f":"UPPER(IF(D104=\"\",\"\",IF('Order Form'!H124=\"\",\"\",\" \"&'Order Form'!H124)&IF('Order Form'!J124=\"\",\"\",\" \"&'Order Form'!J124)&'Order Form'!AO124&'Order Form'!AP124&'Order Form'!AQ124))","v":""},{"$f":"IF(D104=\"\",\"\",IF(D104=\"/C\",\"\",IF('Order Form'!L124=0,IF('Order Form'!K124=0,\"\",'Order Form'!K124/'Order Form'!D124),'Order Form'!L124+('Order Form'!K124/'Order Form'!D124))))","v":""},"",{"$f":"UPPER(IF(D104=\"\",\"\",CONCAT!$G$3))","v":""},{"$f":"UPPER(IF(D104=\"\",\"\",CONCAT!$G$4))","v":""},{"$f":"UPPER(IF(D104=\"\",\"\",CONCAT!$G$5))","v":""},{"$f":"UPPER(IF(D104=\"\",\"\",CONCAT!$G$6))","v":""},{"$f":"UPPER(IF(D104=\"\",\"\",CONCAT!$G$7))","v":""},{"$f":"UPPER(IF(D104=\"\",\"\",CONCAT!$G$2))","v":""},{"$f":"UPPER(IF(D104=\"\",\"\",CONCAT!$G$8))","v":""},"",{"$f":"UPPER(IF(D104=\"\",\"\",'Order Form'!$J$4))","v":""},{"$f":"UPPER(IF(D104=\"\",\"\",(UPPER(IF(CONCAT!$G$2=\"SELECT\",\"SELECT \"&CONCAT!$G$3,CONCAT!$G$1&Species!$G$6&'Door Style'!$I$6&Color!$Q$6&'Drawer Head'!$H$6&'Custom Finish'!$G$6)))))","v":""},null,{"$f":"IF(D104=\"\",\"\",CONCAT!$J$2)","v":""},{"$f":"IF(D104=\"\",\"\",CONCAT!$J$3)","v":""},{"$f":"IF(D104=\"\",\"\",'Order Form'!$J$6)","v":""},{"$f":"UPPER(IF(D104=\"\",\"\",'Order Form'!$J$3&\" - \"&LEFT('Order Form'!$J$5,3)&\"-\"&MID('Order Form'!$J$5,4,3)&\"-\"&RIGHT('Order Form'!$J$5,4)))","v":""},{"$f":"UPPER(IF(D104=\"\",\"\",VLOOKUP('Misc Dropdowns'!$B$3,'Misc Dropdowns'!$B$7:$C$20,2,FALSE)))","v":""},{"$f":"IF(D104=\"\",\"\",'Order Form'!$M$3)","v":""},{"$f":"IF(D104=\"\",\"\",IF('Order Form'!$K$132=\"Delivery:\",'Order Form'!$M$132,'Order Form'!$M$131))","v":""}]
["Item List",null,{"$f":"UPPER(IF(AND('Order Form'!$M$4=\"\",D105=\"\"),\"\",IF(D105=\"\",\"\",'Order Form'!$M$4)))","v":""},{"$f":"IF(AND('Order Form'!C125=\"\",'Order Form'!J125<>\"\"),\"/C\",UPPER(IF('Order Form'!D125=0,\"\",IFERROR(CONCATENATE(CONCAT!B113,CONCAT!C113)&(CONCAT!D113),\"\"))))","v":""},{"$f":"IF(D105=\"\",\"\",IF(D105=\"/C\",\"\",'Order Form'!D125))","v":""},{"$f":"UPPER(IF(D105=\"\",\"\",IF('Order Form'!H125=\"\",\"\",\" \"&'Order Form'!H125)&IF('Order Form'!J125=\"\",\"\",\" \"&'Order Form'!J125)&'Order Form'!AO125&'Order Form'!AP125&'Order Form'!AQ125))","v":""},{"$f":"IF(D105=\"\",\"\",IF(D105=\"/C\",\"\",IF('Order Form'!L125=0,IF('Order Form'!K125=0,\"\",'Order Form'!K125/'Order Form'!D125),'Order Form'!L125+('Order Form'!K125/'Order Form'!D125))))","v":""},"",{"$f":"UPPER(IF(D105=\"\",\"\",CONCAT!$G$3))","v":""},{"$f":"UPPER(IF(D105=\"\",\"\",CONCAT!$G$4))","v":""},{"$f":"UPPER(IF(D105=\"\",\"\",CONCAT!$G$5))","v":""},{"$f":"UPPER(IF(D105=\"\",\"\",CONCAT!$G$6))","v":""},{"$f":"UPPER(IF(D105=\"\",\"\",CONCAT!$G$7))","v":""},{"$f":"UPPER(IF(D105=\"\",\"\",CONCAT!$G$2))","v":""},{"$f":"UPPER(IF(D105=\"\",\"\",CONCAT!$G$8))","v":""},"",{"$f":"UPPER(IF(D105=\"\",\"\",'Order Form'!$J$4))","v":""},{"$f":"UPPER(IF(D105=\"\",\"\",(UPPER(IF(CONCAT!$G$2=\"SELECT\",\"SELECT \"&CONCAT!$G$3,CONCAT!$G$1&Species!$G$6&'Door Style'!$I$6&Color!$Q$6&'Drawer Head'!$H$6&'Custom Finish'!$G$6)))))","v":""},null,{"$f":"IF(D105=\"\",\"\",CONCAT!$J$2)","v":""},{"$f":"IF(D105=\"\",\"\",CONCAT!$J$3)","v":""},{"$f":"IF(D105=\"\",\"\",'Order Form'!$J$6)","v":""},{"$f":"UPPER(IF(D105=\"\",\"\",'Order Form'!$J$3&\" - \"&LEFT('Order Form'!$J$5,3)&\"-\"&MID('Order Form'!$J$5,4,3)&\"-\"&RIGHT('Order Form'!$J$5,4)))","v":""},{"$f":"UPPER(IF(D105=\"\",\"\",VLOOKUP('Misc Dropdowns'!$B$3,'Misc Dropdowns'!$B$7:$C$20,2,FALSE)))","v":""},{"$f":"IF(D105=\"\",\"\",'Order Form'!$M$3)","v":""},{"$f":"IF(D105=\"\",\"\",IF('Order Form'!$K$132=\"Delivery:\",'Order Form'!$M$132,'Order Form'!$M$131))","v":""}]
["Item List",null,{"$f":"UPPER(IF(AND('Order Form'!$M$4=\"\",D106=\"\"),\"\",IF(D106=\"\",\"\",'Order Form'!$M$4)))","v":""},{"$f":"IF(AND('Order Form'!C126=\"\",'Order Form'!J126<>\"\"),\"/C\",UPPER(IF('Order Form'!D126=0,\"\",IFERROR(CONCATENATE(CONCAT!B114,CONCAT!C114)&(CONCAT!D114),\"\"))))","v":""},{"$f":"IF(D106=\"\",\"\",IF(D106=\"/C\",\"\",'Order Form'!D126))","v":""},{"$f":"UPPER(IF(D106=\"\",\"\",IF('Order Form'!H126=\"\",\"\",\" \"&'Order Form'!H126)&IF('Order Form'!J126=\"\",\"\",\" \"&'Order Form'!J126)&'Order Form'!AO126&'Order Form'!AP126&'Order Form'!AQ126))","v":""},{"$f":"IF(D106=\"\",\"\",IF(D106=\"/C\",\"\",IF('Order Form'!L126=0,IF('Order Form'!K126=0,\"\",'Order Form'!K126/'Order Form'!D126),'Order Form'!L126+('Order Form'!K126/'Order Form'!D126))))","v":""},"",{"$f":"UPPER(IF(D106=\"\",\"\",CONCAT!$G$3))","v":""},{"$f":"UPPER(IF(D106=\"\",\"\",CONCAT!$G$4))","v":""},{"$f":"UPPER(IF(D106=\"\",\"\",CONCAT!$G$5))","v":""},{"$f":"UPPER(IF(D106=\"\",\"\",CONCAT!$G$6))","v":""},{"$f":"UPPER(IF(D106=\"\",\"\",CONCAT!$G$7))","v":""},{"$f":"UPPER(IF(D106=\"\",\"\",CONCAT!$G$2))","v":""},{"$f":"UPPER(IF(D106=\"\",\"\",CONCAT!$G$8))","v":""},"",{"$f":"UPPER(IF(D106=\"\",\"\",'Order Form'!$J$4))","v":""},{"$f":"UPPER(IF(D106=\"\",\"\",(UPPER(IF(CONCAT!$G$2=\"SELECT\",\"SELECT \"&CONCAT!$G$3,CONCAT!$G$1&Species!$G$6&'Door Style'!$I$6&Color!$Q$6&'Drawer Head'!$H$6&'Custom Finish'!$G$6)))))","v":""},null,{"$f":"IF(D106=\"\",\"\",CONCAT!$J$2)","v":""},{"$f":"IF(D106=\"\",\"\",CONCAT!$J$3)","v":""},{"$f":"IF(D106=\"\",\"\",'Order Form'!$J$6)","v":""},{"$f":"UPPER(IF(D106=\"\",\"\",'Order Form'!$J$3&\" - \"&LEFT('Order Form'!$J$5,3)&\"-\"&MID('Order Form'!$J$5,4,3)&\"-\"&RIGHT('Order Form'!$J$5,4)))","v":""},{"$f":"UPPER(IF(D106=\"\",\"\",VLOOKUP('Misc Dropdowns'!$B$3,'Misc Dropdowns'!$B$7:$C$20,2,FALSE)))","v":""},{"$f":"IF(D106=\"\",\"\",'Order Form'!$M$3)","v":""},{"$f":"IF(D106=\"\",\"\",IF('Order Form'!$K$132=\"Delivery:\",'Order Form'!$M$132,'Order Form'!$M$131))","v":""}]
["Item List",null,{"$f":"UPPER(IF(AND('Order Form'!$M$4=\"\",D107=\"\"),\"\",IF(D107=\"\",\"\",'Order Form'!$M$4)))","v":""},{"$f":"IF(AND('Order Form'!C127=\"\",'Order Form'!J127<>\"\"),\"/C\",UPPER(IF('Order Form'!D127=0,\"\",IFERROR(CONCATENATE(CONCAT!B115,CONCAT!C115)&(CONCAT!D115),\"\"))))","v":""},{"$f":"IF(D107=\"\",\"\",IF(D107=\"/C\",\"\",'Order Form'!D127))","v":""},{"$f":"UPPER(IF(D107=\"\",\"\",IF('Order Form'!H127=\"\",\"\",\" \"&'Order Form'!H127)&IF('Order Form'!J127=\"\",\"\",\" \"&'Order Form'!J127)&'Order Form'!AO127&'Order Form'!AP127&'Order Form'!AQ127))","v":""},{"$f":"IF(D107=\"\",\"\",IF(D107=\"/C\",\"\",IF('Order Form'!L127=0,IF('Order Form'!K127=0,\"\",'Order Form'!K127/'Order Form'!D127),'Order Form'!L127+('Order Form'!K127/'Order Form'!D127))))","v":""},"",{"$f":"UPPER(IF(D107=\"\",\"\",CONCAT!$G$3))","v":""},{"$f":"UPPER(IF(D107=\"\",\"\",CONCAT!$G$4))","v":""},{"$f":"UPPER(IF(D107=\"\",\"\",CONCAT!$G$5))","v":""},{"$f":"UPPER(IF(D107=\"\",\"\",CONCAT!$G$6))","v":""},{"$f":"UPPER(IF(D107=\"\",\"\",CONCAT!$G$7))","v":""},{"$f":"UPPER(IF(D107=\"\",\"\",CONCAT!$G$2))","v":""},{"$f":"UPPER(IF(D107=\"\",\"\",CONCAT!$G$8))","v":""},"",{"$f":"UPPER(IF(D107=\"\",\"\",'Order Form'!$J$4))","v":""},{"$f":"UPPER(IF(D107=\"\",\"\",(UPPER(IF(CONCAT!$G$2=\"SELECT\",\"SELECT \"&CONCAT!$G$3,CONCAT!$G$1&Species!$G$6&'Door Style'!$I$6&Color!$Q$6&'Drawer Head'!$H$6&'Custom Finish'!$G$6)))))","v":""},null,{"$f":"IF(D107=\"\",\"\",CONCAT!$J$2)","v":""},{"$f":"IF(D107=\"\",\"\",CONCAT!$J$3)","v":""},{"$f":"IF(D107=\"\",\"\",'Order Form'!$J$6)","v":""},{"$f":"UPPER(IF(D107=\"\",\"\",'Order Form'!$J$3&\" - \"&LEFT('Order Form'!$J$5,3)&\"-\"&MID('Order Form'!$J$5,4,3)&\"-\"&RIGHT('Order Form'!$J$5,4)))","v":""},{"$f":"UPPER(IF(D107=\"\",\"\",VLOOKUP('Misc Dropdowns'!$B$3,'Misc Dropdowns'!$B$7:$C$20,2,FALSE)))","v":""},{"$f":"IF(D107=\"\",\"\",'Order Form'!$M$3)","v":""},{"$f":"IF(D107=\"\",\"\",IF('Order Form'!$K$132=\"Delivery:\",'Order Form'!$M$132,'Order Form'!$M$131))","v":""}]
[]
["Install Line",null,{"$f":"UPPER(IF(AND('Order Form'!$M$4=\"\",D109=\"\"),\"\",IF(D109=\"\",\"\",'Order Form'!$M$4)))","v":""},{"$f":"IF('Order Form'!AR22>0,\"/INSTALL\",\"\")","v":""},{"$f":"IF(D109=\"\",\"\",IF(D109=\"/C\",\"\",1))","v":""},null,{"$f":"IF(D109=\"\",\"\",'Install Calc'!O31)","v":""},{"$f":"IF(D109=\"/C\",4,IF(D109=\"\",\"\",IF(LEFT(D109,1)=\"/\",5,1)))","v":""},{"$f":"UPPER(IF(D109=\"\",\"\",\"N/A\"))","v":""},{"$f":"UPPER(IF(D109=\"\",\"\",\"N/A\"))","v":""},{"$f":"UPPER(IF(D109=\"\",\"\",\"N/A\"))","v":""},{"$f":"UPPER(IF(D109=\"\",\"\",\"N/A\"))","v":""},{"$f":"UPPER(IF(D109=\"\",\"\",\"N/A\"))","v":""},{"$f":"UPPER(IF(D109=\"\",\"\",\"N/A\"))","v":""},{"$f":"UPPER(IF(D109=\"\",\"\",0))","v":""},{"$f":"IFERROR(E109*G109,\"\")","v":""},{"$f":"UPPER(IF(D109=\"\",\"\",\"Install - \"&'Order Form'!$J$4))","v":""},{"$f":"IF(D109=\"\",\"\",\"INSTALL\")","v":""},null,{"$f":"IF(D109=\"\",\"\",1)","v":""},{"$f":"IF(D109=\"\",\"\",1)","v":""},{"$f":"IF(D109=\"\",\"\",'Order Form'!$J$6)","v":""},{"$f":"UPPER(IF(D109=\"\",\"\",'Install Calc'!$C$9&\" - \"&LEFT('Install Calc'!$C$10,3)&\"-\"&MID('Install Calc'!$C$10,4,3)&\"-\"&RIGHT('Install Calc'!$C$10,4)))","v":""},{"$f":"UPPER(IF(D109=\"\",\"\",\"INSTALL\"))","v":""},{"$f":"IF(D109=\"\",\"\",'Order Form'!$M$3)","v":""}]
["Install Comment",null,{"$f":"UPPER(IF(AND('Order Form'!$M$4=\"\",D110=\"\"),\"\",IF(D110=\"\",\"\",'Order Form'!$M$4)))","v":""},{"$f":"IF($D$109=\"\",\"\",IF('Install Calc'!C8=\"\",\"\",\"/C\"))","v":""},{"$f":"IF(D110=\"\",\"\",IF(D110=\"/C\",\"\",1))","v":""},{"$f":"UPPER(IF(D110=\"\",\"\",\"Related Sales Order: \"&'Install Calc'!C8))","v":""},null,{"$f":"IF(D110=\"/C\",4,IF(D110=\"\",\"\",IF(LEFT(D110,1)=\"/\",5,1)))","v":""},{"$f":"UPPER(IF(D110=\"\",\"\",\"N/A\"))","v":""},{"$f":"UPPER(IF(D110=\"\",\"\",\"N/A\"))","v":""},{"$f":"UPPER(IF(D110=\"\",\"\",\"N/A\"))","v":""},{"$f":"UPPER(IF(D110=\"\",\"\",\"N/A\"))","v":""},{"$f":"UPPER(IF(D110=\"\",\"\",\"N/A\"))","v":""},{"$f":"UPPER(IF(D110=\"\",\"\",\"N/A\"))","v":""},{"$f":"UPPER(IF(D110=\"\",\"\",0))","v":""},{"$f":"IFERROR(E110*G110,\"\")","v":""},{"$f":"UPPER(IF(D110=\"\",\"\",\"Install - \"&'Order Form'!$J$4))","v":""},{"$f":"IF(D110=\"\",\"\",\"INSTALL\")","v":""},null,{"$f":"IF(D110=\"\",\"\",1)","v":""},{"$f":"IF(D110=\"\",\"\",1)","v":""},{"$f":"IF(D110=\"\",\"\",'Order Form'!$J$6)","v":""},{"$f":"UPPER(IF(D110=\"\",\"\",'Install Calc'!$C$9&\" - \"&LEFT('Install Calc'!$C$10,3)&\"-\"&MID('Install Calc'!$C$10,4,3)&\"-\"&RIGHT('Install Calc'!$C$10,4)))","v":""},{"$f":"UPPER(IF(D110=\"\",\"\",\"INSTALL\"))","v":""},{"$f":"IF(D110=\"\",\"\",'Order Form'!$M$3)","v":""}]
["Install Comment",null,{"$f":"UPPER(IF(AND('Order Form'!$M$4=\"\",D111=\"\"),\"\",IF(D111=\"\",\"\",'Order Form'!$M$4)))","v":""},{"$f":"IF($D$109=\"\",\"\",IF(OR('Install Calc'!C31=\"\",'Install Calc'!C31=0),\"\",\"/C\"))","v":""},{"$f":"IF(D111=\"\",\"\",IF(D111=\"/C\",\"\",1))","v":""},{"$f":"UPPER(IF(D111=\"\",\"\",'Install Calc'!C31))","v":""},null,"",{"$f":"UPPER(IF(D111=\"\",\"\",\"N/A\"))","v":""},{"$f":"UPPER(IF(D111=\"\",\"\",\"N/A\"))","v":""},{"$f":"UPPER(IF(D111=\"\",\"\",\"N/A\"))","v":""},{"$f":"UPPER(IF(D111=\"\",\"\",\"N/A\"))","v":""},{"$f":"UPPER(IF(D111=\"\",\"\",\"N/A\"))","v":""},{"$f":"UPPER(IF(D111=\"\",\"\",\"N/A\"))","v":""},{"$f":"UPPER(IF(D111=\"\",\"\",0))","v":""},"",{"$f":"UPPER(IF(D111=\"\",\"\",\"Install - \"&'Order Form'!$J$4))","v":""},{"$f":"IF(D111=\"\",\"\",\"INSTALL\")","v":""},null,{"$f":"IF(D111=\"\",\"\",1)","v":""},{"$f":"IF(D111=\"\",\"\",1)","v":""},{"$f":"IF(D111=\"\",\"\",'Order Form'!$J$6)","v":""},{"$f":"UPPER(IF(D111=\"\",\"\",'Install Calc'!$C$9&\" - \"&LEFT('Install Calc'!$C$10,3)&\"-\"&MID('Install Calc'!$C$10,4,3)&\"-\"&RIGHT('Install Calc'!$C$10,4)))","v":""},{"$f":"UPPER(IF(D111=\"\",\"\",\"INSTALL\"))","v":""},{"$f":"IF(D111=\"\",\"\",'Order Form'!$M$3)","v":""}]
["Install Comment",null,{"$f":"UPPER(IF(AND('Order Form'!$M$4=\"\",D112=\"\"),\"\",IF(D112=\"\",\"\",'Order Form'!$M$4)))","v":""},{"$f":"IF($D$109=\"\",\"\",IF('Misc Dropdowns'!S17=FALSE,\"\",\"/C\"))","v":""},{"$f":"IF(D112=\"\",\"\",IF(D112=\"/C\",\"\",1))","v":""},{"$f":"IF(D112=\"\",\"\",\"ADDITIONAL COUNTERTOP ORDER-PLEASE TEMPLATE AT INSTALL\")","v":""},null,{"$f":"IF(D112=\"/C\",4,IF(D112=\"\",\"\",IF(LEFT(D112,1)=\"/\",5,1)))","v":""},{"$f":"UPPER(IF(D112=\"\",\"\",\"N/A\"))","v":""},{"$f":"UPPER(IF(D112=\"\",\"\",\"N/A\"))","v":""},{"$f":"UPPER(IF(D112=\"\",\"\",\"N/A\"))","v":""},{"$f":"UPPER(IF(D112=\"\",\"\",\"N/A\"))","v":""},{"$f":"UPPER(IF(D112=\"\",\"\",\"N/A\"))","v":""},{"$f":"UPPER(IF(D112=\"\",\"\",\"N/A\"))","v":""},{"$f":"UPPER(IF(D112=\"\",\"\",0))","v":""},{"$f":"IFERROR(E112*G112,\"\")","v":""},{"$f":"UPPER(IF(D112=\"\",\"\",\"Install - \"&'Order Form'!$J$4))","v":""},{"$f":"IF(D112=\"\",\"\",\"INSTALL\")","v":""},null,"","",{"$f":"IF(D112=\"\",\"\",'Order Form'!$J$6)","v":""},{"$f":"UPPER(IF(D112=\"\",\"\",'Install Calc'!$C$9&\" - \"&LEFT('Install Calc'!$C$10,3)&\"-\"&MID('Install Calc'!$C$10,4,3)&\"-\"&RIGHT('Install Calc'!$C$10,4)))","v":""},{"$f":"UPPER(IF(D112=\"\",\"\",\"INSTALL\"))","v":""},{"$f":"IF(D112=\"\",\"\",'Order Form'!$M$3)","v":""}]
["Install Notes","BASE/WALL/VANITY BOXES - ",{"$f":"UPPER(IF(AND('Order Form'!$M$4=\"\",D113=\"\"),\"\",IF(D113=\"\",\"\",'Order Form'!$M$4)))","v":""},{"$f":"IF($D$109=\"\",\"\",IF(OR('Install Calc'!F15=\"\",'Install Calc'!F15=0),\"\",\"/C\"))","v":""},"",{"$f":"IF(D113=\"\",\"\",B113&'Install Calc'!F15)","v":""},null,{"$f":"IF(D113=\"/C\",4,IF(D113=\"\",\"\",IF(LEFT(D113,1)=\"/\",5,1)))","v":""},{"$f":"UPPER(IF(D113=\"\",\"\",\"N/A\"))","v":""},{"$f":"UPPER(IF(D113=\"\",\"\",\"N/A\"))","v":""},{"$f":"UPPER(IF(D113=\"\",\"\",\"N/A\"))","v":""},{"$f":"UPPER(IF(D113=\"\",\"\",\"N/A\"))","v":""},{"$f":"UPPER(IF(D113=\"\",\"\",\"N/A\"))","v":""},{"$f":"UPPER(IF(D113=\"\",\"\",\"N/A\"))","v":""},{"$f":"UPPER(IF(D113=\"\",\"\",0))","v":""},{"$f":"IFERROR(E113*G113,\"\")","v":""},{"$f":"UPPER(IF(D113=\"\",\"\",\"Install - \"&'Order Form'!$J$4))","v":""},{"$f":"IF(D113=\"\",\"\",\"INSTALL\")","v":""},null,"","",{"$f":"IF(D113=\"\",\"\",'Order Form'!$J$6)","v":""},{"$f":"UPPER(IF(D113=\"\",\"\",'Install Calc'!$C$9&\" - \"&LEFT('Install Calc'!$C$10,3)&\"-\"&MID('Install Calc'!$C$10,4,3)&\"-\"&RIGHT('Install Calc'!$C$10,4)))","v":""},{"$f":"UPPER(IF(D113=\"\",\"\",\"INSTALL\"))","v":""},{"$f":"IF(D113=\"\",\"\",'Order Form'!$M$3)","v":""}]
["Install Notes","TALL BOXES  - ",{"$f":"UPPER(IF(AND('Order Form'!$M$4=\"\",D114=\"\"),\"\",IF(D114=\"\",\"\",'Order Form'!$M$4)))","v":""},{"$f":"IF($D$109=\"\",\"\",IF(OR('Install Calc'!F16=\"\",'Install Calc'!F16=0),\"\",\"/C\"))","v":""},"",{"$f":"IF(D114=\"\",\"\",B114&'Install Calc'!F16)","v":""},null,"","","","","","","","","",{"$f":"UPPER(IF(D114=\"\",\"\",\"Install - \"&'Order Form'!$J$4))","v":""},"",null,"","",{"$f":"IF(D114=\"\",\"\",'Order Form'!$J$6)","v":""},{"$f":"UPPER(IF(D114=\"\",\"\",'Install Calc'!$C$9&\" - \"&LEFT('Install Calc'!$C$10,3)&\"-\"&MID('Install Calc'!$C$10,4,3)&\"-\"&RIGHT('Install Calc'!$C$10,4)))","v":""},"",{"$f":"IF(D114=\"\",\"\",'Order Form'!$M$3)","v":""}]
["Install Notes","CROWN MOLDING - ",{"$f":"UPPER(IF(AND('Order Form'!$M$4=\"\",D115=\"\"),\"\",IF(D115=\"\",\"\",'Order Form'!$M$4)))","v":""},{"$f":"IF($D$109=\"\",\"\",IF(OR('Install Calc'!F17=\"\",'Install Calc'!F17=0),\"\",\"/C\"))","v":""},"",{"$f":"IF(D115=\"\",\"\",B115&'Install Calc'!F17)","v":""},null,"","","","","","","","","",{"$f":"UPPER(IF(D115=\"\",\"\",\"Install - \"&'Order Form'!$J$4))","v":""},"",null,"","",{"$f":"IF(D115=\"\",\"\",'Order Form'!$J$6)","v":""},{"$f":"UPPER(IF(D115=\"\",\"\",'Install Calc'!$C$9&\" - \"&LEFT('Install Calc'!$C$10,3)&\"-\"&MID('Install Calc'!$C$10,4,3)&\"-\"&RIGHT('Install Calc'!$C$10,4)))","v":""},"",{"$f":"IF(D115=\"\",\"\",'Order Form'!$M$3)","v":""}]
["Install Notes","PANELS - ",{"$f":"UPPER(IF(AND('Order Form'!$M$4=\"\",D116=\"\"),\"\",IF(D116=\"\",\"\",'Order Form'!$M$4)))","v":""},{"$f":"IF($D$109=\"\",\"\",IF(OR('Install Calc'!F18=\"\",'Install Calc'!F18=0),\"\",\"/C\"))","v":""},"",{"$f":"IF(D116=\"\",\"\",B116&'Install Calc'!F18)","v":""},null,"","","","","","","","","",{"$f":"UPPER(IF(D116=\"\",\"\",\"Install - \"&'Order Form'!$J$4))","v":""},"",null,"","",{"$f":"IF(D116=\"\",\"\",'Order Form'!$J$6)","v":""},{"$f":"UPPER(IF(D116=\"\",\"\",'Install Calc'!$C$9&\" - \"&LEFT('Install Calc'!$C$10,3)&\"-\"&MID('Install Calc'!$C$10,4,3)&\"-\"&RIGHT('Install Calc'!$C$10,4)))","v":""},"",{"$f":"IF(D116=\"\",\"\",'Order Form'!$M$3)","v":""}]
["Install Notes","SKINS - ",{"$f":"UPPER(IF(AND('Order Form'!$M$4=\"\",D117=\"\"),\"\",IF(D117=\"\",\"\",'Order Form'!$M$4)))","v":""},{"$f":"IF($D$109=\"\",\"\",IF(OR('Install Calc'!F19=\"\",'Install Calc'!F19=0),\"\",\"/C\"))","v":""},"",{"$f":"IF(D117=\"\",\"\",B117&'Install Calc'!F19)","v":""},null,"","","","","","","","","",{"$f":"UPPER(IF(D117=\"\",\"\",\"Install - \"&'Order Form'!$J$4))","v":""},"",null,"","",{"$f":"IF(D117=\"\",\"\",'Order Form'!$J$6)","v":""},{"$f":"UPPER(IF(D117=\"\",\"\",'Install Calc'!$C$9&\" - \"&LEFT('Install Calc'!$C$10,3)&\"-\"&MID('Install Calc'!$C$10,4,3)&\"-\"&RIGHT('Install Calc'!$C$10,4)))","v":""},"",{"$f":"IF(D117=\"\",\"\",'Order Form'!$M$3)","v":""}]
["Install Notes","CORBELS - ",{"$f":"UPPER(IF(AND('Order Form'!$M$4=\"\",D118=\"\"),\"\",IF(D118=\"\",\"\",'Order Form'!$M$4)))","v":""},{"$f":"IF($D$109=\"\",\"\",IF(OR('Install Calc'!F20=\"\",'Install Calc'!F20=0),\"\",\"/C\"))","v":""},"",{"$f":"IF(D118=\"\",\"\",B118&'Install Calc'!F20)","v":""},null,"","","","","","","","","",{"$f":"UPPER(IF(D118=\"\",\"\",\"Install - \"&'Order Form'!$J$4))","v":""},"",null,"","",{"$f":"IF(D118=\"\",\"\",'Order Form'!$J$6)","v":""},{"$f":"UPPER(IF(D118=\"\",\"\",'Install Calc'!$C$9&\" - \"&LEFT('Install Calc'!$C$10,3)&\"-\"&MID('Install Calc'!$C$10,4,3)&\"-\"&RIGHT('Install Calc'!$C$10,4)))","v":""},"",{"$f":"IF(D118=\"\",\"\",'Order Form'!$M$3)","v":""}]
["Install Notes","EXTRA HOURS (PER MAN HOUR) - ",{"$f":"UPPER(IF(AND('Order Form'!$M$4=\"\",D119=\"\"),\"\",IF(D119=\"\",\"\",'Order Form'!$M$4)))","v":""},{"$f":"IF($D$109=\"\",\"\",IF(OR('Install Calc'!F21=\"\",'Install Calc'!F21=0),\"\",\"/C\"))","v":""},"",{"$f":"IF(D119=\"\",\"\",B119&'Install Calc'!F21)","v":""},null,"","","","","","","","","",{"$f":"UPPER(IF(D119=\"\",\"\",\"Install - \"&'Order Form'!$J$4))","v":""},"",null,"","",{"$f":"IF(D119=\"\",\"\",'Order Form'!$J$6)","v":""},{"$f":"UPPER(IF(D119=\"\",\"\",'Install Calc'!$C$9&\" - \"&LEFT('Install Calc'!$C$10,3)&\"-\"&MID('Install Calc'!$C$10,4,3)&\"-\"&RIGHT('Install Calc'!$C$10,4)))","v":""},"",{"$f":"IF(D119=\"\",\"\",'Order Form'!$M$3)","v":""}]
["Install Notes","HARDWARE (PER HOLE) - ",{"$f":"UPPER(IF(AND('Order Form'!$M$4=\"\",D120=\"\"),\"\",IF(D120=\"\",\"\",'Order Form'!$M$4)))","v":""},{"$f":"IF($D$109=\"\",\"\",IF(OR('Install Calc'!F22=\"\",'Install Calc'!F22=0),\"\",\"/C\"))","v":""},"",{"$f":"IF(D120=\"\",\"\",B120&'Install Calc'!F22)","v":""},null,"","","","","","","","","",{"$f":"UPPER(IF(D120=\"\",\"\",\"Install - \"&'Order Form'!$J$4))","v":""},"",null,"","",{"$f":"IF(D120=\"\",\"\",'Order Form'!$J$6)","v":""},{"$f":"UPPER(IF(D120=\"\",\"\",'Install Calc'!$C$9&\" - \"&LEFT('Install Calc'!$C$10,3)&\"-\"&MID('Install Calc'!$C$10,4,3)&\"-\"&RIGHT('Install Calc'!$C$10,4)))","v":""},"",{"$f":"IF(D120=\"\",\"\",'Order Form'!$M$3)","v":""}]
["Install Notes","TEAR OUT COUNTERTOP BY SQ FT - ",{"$f":"UPPER(IF(AND('Order Form'!$M$4=\"\",D121=\"\"),\"\",IF(D121=\"\",\"\",'Order Form'!$M$4)))","v":""},{"$f":"IF($D$109=\"\",\"\",IF(OR('Install Calc'!F23=\"\",'Install Calc'!F23=0),\"\",\"/C\"))","v":""},"",{"$f":"IF(D121=\"\",\"\",B121&'Install Calc'!F23)","v":""},null,"","","","","","","","","",{"$f":"UPPER(IF(D121=\"\",\"\",\"Install - \"&'Order Form'!$J$4))","v":""},"",null,"","",{"$f":"IF(D121=\"\",\"\",'Order Form'!$J$6)","v":""},{"$f":"UPPER(IF(D121=\"\",\"\",'Install Calc'!$C$9&\" - \"&LEFT('Install Calc'!$C$10,3)&\"-\"&MID('Install Calc'!$C$10,4,3)&\"-\"&RIGHT('Install Calc'!$C$10,4)))","v":""},"",{"$f":"IF(D121=\"\",\"\",'Order Form'!$M$3)","v":""}]
["Install Notes","TEAR OUT # OF BOXES - ",{"$f":"UPPER(IF(AND('Order Form'!$M$4=\"\",D122=\"\"),\"\",IF(D122=\"\",\"\",'Order Form'!$M$4)))","v":""},{"$f":"IF($D$109=\"\",\"\",IF(OR('Install Calc'!F24=\"\",'Install Calc'!F24=0),\"\",\"/C\"))","v":""},"",{"$f":"IF(D122=\"\",\"\",B122&'Install Calc'!F24)","v":""},null,"","","","","","","","","",{"$f":"UPPER(IF(D122=\"\",\"\",\"Install - \"&'Order Form'!$J$4))","v":""},"",null,"","",{"$f":"IF(D122=\"\",\"\",'Order Form'!$J$6)","v":""},{"$f":"UPPER(IF(D122=\"\",\"\",'Install Calc'!$C$9&\" - \"&LEFT('Install Calc'!$C$10,3)&\"-\"&MID('Install Calc'!$C$10,4,3)&\"-\"&RIGHT('Install Calc'!$C$10,4)))","v":""},"",{"$f":"IF(D122=\"\",\"\",'Order Form'!$M$3)","v":""}]
["Install Notes","MILES FROM SHOP TO JOBSITE (ONE WAY ROAD MILES) - ",{"$f":"UPPER(IF(AND('Order Form'!$M$4=\"\",D123=\"\"),\"\",IF(D123=\"\",\"\",'Order Form'!$M$4)))","v":""},{"$f":"IF($D$109=\"\",\"\",IF(OR('Install Calc'!F25=\"\",'Install Calc'!F25=0),\"\",\"/C\"))","v":""},"",{"$f":"IF(D123=\"\",\"\",B123&'Install Calc'!F25)","v":""},null,"","","","","","","","","",{"$f":"UPPER(IF(D123=\"\",\"\",\"Install - \"&'Order Form'!$J$4))","v":""},"",null,"","",{"$f":"IF(D123=\"\",\"\",'Order Form'!$J$6)","v":""},{"$f":"UPPER(IF(D123=\"\",\"\",'Install Calc'!$C$9&\" - \"&LEFT('Install Calc'!$C$10,3)&\"-\"&MID('Install Calc'!$C$10,4,3)&\"-\"&RIGHT('Install Calc'!$C$10,4)))","v":""},"",{"$f":"IF(D123=\"\",\"\",'Order Form'!$M$3)","v":""}]
["Install Notes","EXTRAS - ",{"$f":"UPPER(IF(AND('Order Form'!$M$4=\"\",D124=\"\"),\"\",IF(D124=\"\",\"\",'Order Form'!$M$4)))","v":""},{"$f":"IF($D$109=\"\",\"\",IF(OR('Install Calc'!F26=\"\",'Install Calc'!F26=0),\"\",\"/C\"))","v":""},"",{"$f":"IF(D124=\"\",\"\",B124&'Install Calc'!F26)","v":""},null,"","","","","","","","","",{"$f":"UPPER(IF(D124=\"\",\"\",\"Install - \"&'Order Form'!$J$4))","v":""},"",null,"","",{"$f":"IF(D124=\"\",\"\",'Order Form'!$J$6)","v":""},{"$f":"UPPER(IF(D124=\"\",\"\",'Install Calc'!$C$9&\" - \"&LEFT('Install Calc'!$C$10,3)&\"-\"&MID('Install Calc'!$C$10,4,3)&\"-\"&RIGHT('Install Calc'!$C$10,4)))","v":""},"",{"$f":"IF(D124=\"\",\"\",'Order Form'!$M$3)","v":""}]
[]
["Dealer Install Line",null,{"$f":"UPPER(IF(AND('Order Form'!$M$4=\"\",D126=\"\"),\"\",IF(D126=\"\",\"\",'Order Form'!$M$4)))","v":""},{"$f":"UPPER(IF('Order Form'!AS22>0,\"/INSTALL-Dealer\",\"\"))","v":""},{"$f":"IF(D126=\"\",\"\",IF(D126=\"/C\",\"\",1))","v":""},null,{"$f":"IF(D126=\"\",\"\",'Dealer Install Calc'!L24)","v":""},{"$f":"IF(D126=\"/C\",4,IF(D126=\"\",\"\",IF(LEFT(D126,1)=\"/\",5,1)))","v":""},{"$f":"UPPER(IF(D126=\"\",\"\",\"N/A\"))","v":""},{"$f":"UPPER(IF(D126=\"\",\"\",\"N/A\"))","v":""},{"$f":"UPPER(IF(D126=\"\",\"\",\"N/A\"))","v":""},{"$f":"UPPER(IF(D126=\"\",\"\",\"N/A\"))","v":""},{"$f":"UPPER(IF(D126=\"\",\"\",\"N/A\"))","v":""},{"$f":"UPPER(IF(D126=\"\",\"\",\"N/A\"))","v":""},{"$f":"UPPER(IF(D126=\"\",\"\",0))","v":""},{"$f":"IFERROR(E126*G126,\"\")","v":""},{"$f":"UPPER(IF(D126=\"\",\"\",\"Install - \"&'Order Form'!$J$4))","v":""},{"$f":"IF(D126=\"\",\"\",\"INSTALL\")","v":""},null,{"$f":"IF(D126=\"\",\"\",1)","v":""},{"$f":"IF(D126=\"\",\"\",1)","v":""},{"$f":"IF(D126=\"\",\"\",'Order Form'!$J$6)","v":""},{"$f":"UPPER(IF(D126=\"\",\"\",'Dealer Install Calc'!$E$7&\" - \"&LEFT('Dealer Install Calc'!$E$8,3)&\"-\"&MID('Dealer Install Calc'!$E$8,3,3)&\"-\"&RIGHT('Dealer Install Calc'!$E$8,4)))","v":""},{"$f":"UPPER(IF(D126=\"\",\"\",\"INSTALL\"))","v":""},{"$f":"IF(D126=\"\",\"\",'Order Form'!$M$3)","v":""}]
["Dealer Install Comment",null,{"$f":"UPPER(IF(AND('Order Form'!$M$4=\"\",D127=\"\"),\"\",IF(D127=\"\",\"\",'Order Form'!$M$4)))","v":""},{"$f":"IF($D$126=\"\",\"\",IF('Dealer Install Calc'!E5=\"\",\"\",\"/C\"))","v":""},{"$f":"IF(D127=\"\",\"\",IF(D127=\"/C\",\"\",1))","v":""},{"$f":"UPPER(IF(D127=\"\",\"\",\"Related Sales Order: \"&'Dealer Install Calc'!E5))","v":""},null,"",{"$f":"UPPER(IF(D127=\"\",\"\",\"N/A\"))","v":""},{"$f":"UPPER(IF(D127=\"\",\"\",\"N/A\"))","v":""},{"$f":"UPPER(IF(D127=\"\",\"\",\"N/A\"))","v":""},{"$f":"UPPER(IF(D127=\"\",\"\",\"N/A\"))","v":""},{"$f":"UPPER(IF(D127=\"\",\"\",\"N/A\"))","v":""},{"$f":"UPPER(IF(D127=\"\",\"\",\"N/A\"))","v":""},{"$f":"UPPER(IF(D127=\"\",\"\",0))","v":""},"",{"$f":"UPPER(IF(D127=\"\",\"\",\"Install - \"&'Order Form'!$J$4))","v":""},{"$f":"IF(D127=\"\",\"\",\"INSTALL\")","v":""},null,"","",{"$f":"IF(D127=\"\",\"\",'Order Form'!$J$6)","v":""},{"$f":"UPPER(IF(D127=\"\",\"\",'Dealer Install Calc'!$E$7&\" - \"&LEFT('Dealer Install Calc'!$E$8,3)&\"-\"&MID('Dealer Install Calc'!$E$8,3,3)&\"-\"&RIGHT('Dealer Install Calc'!$E$8,4)))","v":""},{"$f":"UPPER(IF(D127=\"\",\"\",\"INSTALL\"))","v":""},{"$f":"IF(D127=\"\",\"\",'Order Form'!$M$3)","v":""}]
["Dealer Install Comment",null,{"$f":"UPPER(IF(AND('Order Form'!$M$4=\"\",D128=\"\"),\"\",IF(D128=\"\",\"\",'Order Form'!$M$4)))","v":""},{"$f":"IF($D$126=\"\",\"\",IF(OR('Dealer Install Calc'!C31=\"\",'Dealer Install Calc'!C31=0),\"\",\"/C\"))","v":""},{"$f":"IF(D128=\"\",\"\",IF(D128=\"/C\",\"\",1))","v":""},{"$f":"UPPER(IF(D128=\"\",\"\",'Dealer Install Calc'!C31))","v":""},null,{"$f":"IF(D128=\"/C\",4,IF(D128=\"\",\"\",IF(LEFT(D128,1)=\"/\",5,1)))","v":""},{"$f":"UPPER(IF(D128=\"\",\"\",\"N/A\"))","v":""},{"$f":"UPPER(IF(D128=\"\",\"\",\"N/A\"))","v":""},{"$f":"UPPER(IF(D128=\"\",\"\",\"N/A\"))","v":""},{"$f":"UPPER(IF(D128=\"\",\"\",\"N/A\"))","v":""},{"$f":"UPPER(IF(D128=\"\",\"\",\"N/A\"))","v":""},{"$f":"UPPER(IF(D128=\"\",\"\",\"N/A\"))","v":""},{"$f":"UPPER(IF(D128=\"\",\"\",0))","v":""},{"$f":"IFERROR(E128*G128,\"\")","v":""},{"$f":"UPPER(IF(D128=\"\",\"\",\"Install - \"&'Order Form'!$J$4))","v":""},{"$f":"IF(D128=\"\",\"\",\"INSTALL\")","v":""},null,{"$f":"IF(D128=\"\",\"\",1)","v":""},{"$f":"IF(D128=\"\",\"\",1)","v":""},{"$f":"IF(D128=\"\",\"\",'Order Form'!$J$6)","v":""},{"$f":"UPPER(IF(D128=\"\",\"\",'Dealer Install Calc'!$E$7&\" - \"&LEFT('Dealer Install Calc'!$E$8,3)&\"-\"&MID('Dealer Install Calc'!$E$8,3,3)&\"-\"&RIGHT('Dealer Install Calc'!$E$8,4)))","v":""},{"$f":"UPPER(IF(D128=\"\",\"\",\"INSTALL\"))","v":""},{"$f":"IF(D128=\"\",\"\",'Order Form'!$M$3)","v":""}]
["Dealer Install Comment",null,{"$f":"UPPER(IF(AND('Order Form'!$M$4=\"\",D129=\"\"),\"\",IF(D129=\"\",\"\",'Order Form'!$M$4)))","v":""},{"$f":"IF($D$126=\"\",\"\",IF('Misc Dropdowns'!S18=FALSE,\"\",\"/C\"))","v":""},"",{"$f":"IF(D129=\"\",\"\",\"ADDITIONAL COUNTERTOP ORDER-PLEASE TEMPLATE AT INSTALL\")","v":""},null,"","","","","","","","","",{"$f":"UPPER(IF(D129=\"\",\"\",\"Install - \"&'Order Form'!$J$4))","v":""},"",null,"","",{"$f":"IF(D129=\"\",\"\",'Order Form'!$J$6)","v":""},{"$f":"UPPER(IF(D129=\"\",\"\",'Dealer Install Calc'!$E$7&\" - \"&LEFT('Dealer Install Calc'!$E$8,3)&\"-\"&MID('Dealer Install Calc'!$E$8,3,3)&\"-\"&RIGHT('Dealer Install Calc'!$E$8,4)))","v":""},"",{"$f":"IF(D129=\"\",\"\",'Order Form'!$M$3)","v":""}]
["Dealer Install Notes","BASE/WALL/VANITY BOXES - ",{"$f":"UPPER(IF(AND('Order Form'!$M$4=\"\",D130=\"\"),\"\",IF(D130=\"\",\"\",'Order Form'!$M$4)))","v":""},{"$f":"IF($D$126=\"\",\"\",IF(OR('Dealer Install Calc'!J13=\"\",'Dealer Install Calc'!J13=0),\"\",\"/C\"))","v":""},"",{"$f":"IF(D130=\"\",\"\",B130&'Dealer Install Calc'!J13)","v":""},null,"","","","","","","","","",{"$f":"UPPER(IF(D130=\"\",\"\",\"Install - \"&'Order Form'!$J$4))","v":""},"",null,"","",{"$f":"IF(D130=\"\",\"\",'Order Form'!$J$6)","v":""},{"$f":"UPPER(IF(D130=\"\",\"\",'Dealer Install Calc'!$E$7&\" - \"&LEFT('Dealer Install Calc'!$E$8,3)&\"-\"&MID('Dealer Install Calc'!$E$8,3,3)&\"-\"&RIGHT('Dealer Install Calc'!$E$8,4)))","v":""},"",{"$f":"IF(D130=\"\",\"\",'Order Form'!$M$3)","v":""}]
["Dealer Install Notes","TALL BOXES  - ",{"$f":"UPPER(IF(AND('Order Form'!$M$4=\"\",D131=\"\"),\"\",IF(D131=\"\",\"\",'Order Form'!$M$4)))","v":""},{"$f":"IF($D$126=\"\",\"\",IF(OR('Dealer Install Calc'!J14=\"\",'Dealer Install Calc'!J14=0),\"\",\"/C\"))","v":""},"",{"$f":"IF(D131=\"\",\"\",B131&'Dealer Install Calc'!J14)","v":""},null,"","","","","","","","","",{"$f":"UPPER(IF(D131=\"\",\"\",\"Install - \"&'Order Form'!$J$4))","v":""},"",null,"","",{"$f":"IF(D131=\"\",\"\",'Order Form'!$J$6)","v":""},{"$f":"UPPER(IF(D131=\"\",\"\",'Dealer Install Calc'!$E$7&\" - \"&LEFT('Dealer Install Calc'!$E$8,3)&\"-\"&MID('Dealer Install Calc'!$E$8,3,3)&\"-\"&RIGHT('Dealer Install Calc'!$E$8,4)))","v":""},"",{"$f":"IF(D131=\"\",\"\",'Order Form'!$M$3)","v":""}]
["Dealer Install Notes","CROWN MOLDING - ",{"$f":"UPPER(IF(AND('Order Form'!$M$4=\"\",D132=\"\"),\"\",IF(D132=\"\",\"\",'Order Form'!$M$4)))","v":""},{"$f":"IF($D$126=\"\",\"\",IF(OR('Dealer Install Calc'!J15=\"\",'Dealer Install Calc'!J15=0),\"\",\"/C\"))","v":""},"",{"$f":"IF(D132=\"\",\"\",B132&'Dealer Install Calc'!J15)","v":""},null,"","","","","","","","","",{"$f":"UPPER(IF(D132=\"\",\"\",\"Install - \"&'Order Form'!$J$4))","v":""},"",null,"","",{"$f":"IF(D132=\"\",\"\",'Order Form'!$J$6)","v":""},{"$f":"UPPER(IF(D132=\"\",\"\",'Dealer Install Calc'!$E$7&\" - \"&LEFT('Dealer Install Calc'!$E$8,3)&\"-\"&MID('Dealer Install Calc'!$E$8,3,3)&\"-\"&RIGHT('Dealer Install Calc'!$E$8,4)))","v":""},"",{"$f":"IF(D132=\"\",\"\",'Order Form'!$M$3)","v":""}]
["Dealer Install Notes","PANELS - ",{"$f":"UPPER(IF(AND('Order Form'!$M$4=\"\",D133=\"\"),\"\",IF(D133=\"\",\"\",'Order Form'!$M$4)))","v":""},{"$f":"IF($D$126=\"\",\"\",IF(OR('Dealer Install Calc'!J16=\"\",'Dealer Install Calc'!J16=0),\"\",\"/C\"))","v":""},"",{"$f":"IF(D133=\"\",\"\",B133&'Dealer Install Calc'!J16)","v":""},null,"","","","","","","","","",{"$f":"UPPER(IF(D133=\"\",\"\",\"Install - \"&'Order Form'!$J$4))","v":""},"",null,"","",{"$f":"IF(D133=\"\",\"\",'Order Form'!$J$6)","v":""},{"$f":"UPPER(IF(D133=\"\",\"\",'Dealer Install Calc'!$E$7&\" - \"&LEFT('Dealer Install Calc'!$E$8,3)&\"-\"&MID('Dealer Install Calc'!$E$8,3,3)&\"-\"&RIGHT('Dealer Install Calc'!$E$8,4)))","v":""},"",{"$f":"IF(D133=\"\",\"\",'Order Form'!$M$3)","v":""}]
["Dealer Install Notes","SKINS - ",{"$f":"UPPER(IF(AND('Order Form'!$M$4=\"\",D134=\"\"),\"\",IF(D134=\"\",\"\",'Order Form'!$M$4)))","v":""},{"$f":"IF($D$126=\"\",\"\",IF(OR('Dealer Install Calc'!J17=\"\",'Dealer Install Calc'!J17=0),\"\",\"/C\"))","v":""},"",{"$f":"IF(D134=\"\",\"\",B134&'Dealer Install Calc'!J17)","v":""},null,"","","","","","","","","",{"$f":"UPPER(IF(D134=\"\",\"\",\"Install - \"&'Order Form'!$J$4))","v":""},"",null,"","",{"$f":"IF(D134=\"\",\"\",'Order Form'!$J$6)","v":""},{"$f":"UPPER(IF(D134=\"\",\"\",'Dealer Install Calc'!$E$7&\" - \"&LEFT('Dealer Install Calc'!$E$8,3)&\"-\"&MID('Dealer Install Calc'!$E$8,3,3)&\"-\"&RIGHT('Dealer Install Calc'!$E$8,4)))","v":""},"",{"$f":"IF(D134=\"\",\"\",'Order Form'!$M$3)","v":""}]
["Dealer Install Notes","CORBELS - ",{"$f":"UPPER(IF(AND('Order Form'!$M$4=\"\",D135=\"\"),\"\",IF(D135=\"\",\"\",'Order Form'!$M$4)))","v":""},{"$f":"IF($D$126=\"\",\"\",IF(OR('Dealer Install Calc'!J18=\"\",'Dealer Install Calc'!J18=0),\"\",\"/C\"))","v":""},"",{"$f":"IF(D135=\"\",\"\",B135&'Dealer Install Calc'!J18)","v":""},null,"","","","","","","","","",{"$f":"UPPER(IF(D135=\"\",\"\",\"Install - \"&'Order Form'!$J$4))","v":""},"",null,"","",{"$f":"IF(D135=\"\",\"\",'Order Form'!$J$6)","v":""},{"$f":"UPPER(IF(D135=\"\",\"\",'Dealer Install Calc'!$E$7&\" - \"&LEFT('Dealer Install Calc'!$E$8,3)&\"-\"&MID('Dealer Install Calc'!$E$8,3,3)&\"-\"&RIGHT('Dealer Install Calc'!$E$8,4)))","v":""},"",{"$f":"IF(D135=\"\",\"\",'Order Form'!$M$3)","v":""}]
["Dealer Install Notes","EXTRA HOURS (PER MAN HOUR) - ",{"$f":"UPPER(IF(AND('Order Form'!$M$4=\"\",D136=\"\"),\"\",IF(D136=\"\",\"\",'Order Form'!$M$4)))","v":""},{"$f":"IF($D$126=\"\",\"\",IF(OR('Dealer Install Calc'!J19=\"\",'Dealer Install Calc'!J19=0),\"\",\"/C\"))","v":""},"",{"$f":"IF(D136=\"\",\"\",B136&'Dealer Install Calc'!J19)","v":""},null,"","","","","","","","","",{"$f":"UPPER(IF(D136=\"\",\"\",\"Install - \"&'Order Form'!$J$4))","v":""},"",null,"","",{"$f":"IF(D136=\"\",\"\",'Order Form'!$J$6)","v":""},{"$f":"UPPER(IF(D136=\"\",\"\",'Dealer Install Calc'!$E$7&\" - \"&LEFT('Dealer Install Calc'!$E$8,3)&\"-\"&MID('Dealer Install Calc'!$E$8,3,3)&\"-\"&RIGHT('Dealer Install Calc'!$E$8,4)))","v":""},"",{"$f":"IF(D136=\"\",\"\",'Order Form'!$M$3)","v":""}]
["Dealer Install Notes","HARDWARE (PER HOLE) - ",{"$f":"UPPER(IF(AND('Order Form'!$M$4=\"\",D137=\"\"),\"\",IF(D137=\"\",\"\",'Order Form'!$M$4)))","v":""},{"$f":"IF($D$126=\"\",\"\",IF(OR('Dealer Install Calc'!J20=\"\",'Dealer Install Calc'!J20=0),\"\",\"/C\"))","v":""},"",{"$f":"IF(D137=\"\",\"\",B137&'Dealer Install Calc'!J20)","v":""},null,"","","","","","","","","",{"$f":"UPPER(IF(D137=\"\",\"\",\"Install - \"&'Order Form'!$J$4))","v":""},"",null,"","",{"$f":"IF(D137=\"\",\"\",'Order Form'!$J$6)","v":""},{"$f":"UPPER(IF(D137=\"\",\"\",'Dealer Install Calc'!$E$7&\" - \"&LEFT('Dealer Install Calc'!$E$8,3)&\"-\"&MID('Dealer Install Calc'!$E$8,3,3)&\"-\"&RIGHT('Dealer Install Calc'!$E$8,4)))","v":""},"",{"$f":"IF(D137=\"\",\"\",'Order Form'!$M$3)","v":""}]
["Dealer Install Notes","TEAR OUT # OF BOXES - ",{"$f":"UPPER(IF(AND('Order Form'!$M$4=\"\",D138=\"\"),\"\",IF(D138=\"\",\"\",'Order Form'!$M$4)))","v":""},{"$f":"IF($D$126=\"\",\"\",IF(OR('Dealer Install Calc'!J21=\"\",'Dealer Install Calc'!J21=0),\"\",\"/C\"))","v":""},"",{"$f":"IF(D138=\"\",\"\",B138&'Dealer Install Calc'!J21)","v":""},null,"","","","","","","","","",{"$f":"UPPER(IF(D138=\"\",\"\",\"Install - \"&'Order Form'!$J$4))","v":""},"",null,"","",{"$f":"IF(D138=\"\",\"\",'Order Form'!$J$6)","v":""},{"$f":"UPPER(IF(D138=\"\",\"\",'Dealer Install Calc'!$E$7&\" - \"&LEFT('Dealer Install Calc'!$E$8,3)&\"-\"&MID('Dealer Install Calc'!$E$8,3,3)&\"-\"&RIGHT('Dealer Install Calc'!$E$8,4)))","v":""},"",{"$f":"IF(D138=\"\",\"\",'Order Form'!$M$3)","v":""}]
["Dealer Install Notes","MILES FROM SHOP TO JOBSITE (ONE WAY ROAD MILES) - ",{"$f":"UPPER(IF(AND('Order Form'!$M$4=\"\",D139=\"\"),\"\",IF(D139=\"\",\"\",'Order Form'!$M$4)))","v":""},{"$f":"IF($D$126=\"\",\"\",IF(OR('Dealer Install Calc'!J22=\"\",'Dealer Install Calc'!J22=0),\"\",\"/C\"))","v":""},"",{"$f":"IF(D139=\"\",\"\",B139&'Dealer Install Calc'!J22)","v":""},null,"","","","","","","","","",{"$f":"UPPER(IF(D139=\"\",\"\",\"Install - \"&'Order Form'!$J$4))","v":""},"",null,"","",{"$f":"IF(D139=\"\",\"\",'Order Form'!$J$6)","v":""},{"$f":"UPPER(IF(D139=\"\",\"\",'Dealer Install Calc'!$E$7&\" - \"&LEFT('Dealer Install Calc'!$E$8,3)&\"-\"&MID('Dealer Install Calc'!$E$8,3,3)&\"-\"&RIGHT('Dealer Install Calc'!$E$8,4)))","v":""},"",{"$f":"IF(D139=\"\",\"\",'Order Form'!$M$3)","v":""}]

{"sheet":"Instructions","index":1,"n_rows":149,"n_cols":17,"rows_kept":149,"merged":[[0,1,0,14],[1,1,5,6],[1,7,4,14],[5,7,5,14],[6,1,6,14],[8,2,8,7],[8,8,8,13],[9,2,9,7],[9,8,9,9],[9,10,9,13],[11,2,13,9],[14,2,17,9],[18,2,21,9],[18,16,25,16],[22,2,25,9],[26,2,31,9],[26,16,31,16],[32,2,35,9],[36,2,38,9],[36,10,36,12],[39,2,41,9],[42,2,42,9],[43,2,45,9],[46,2,50,9],[51,2,54,9],[55,2,56,9],[57,2,57,9],[58,2,59,9],[60,2,62,9],[63,2,66,9],[67,2,69,9],[70,2,72,9],[73,2,74,9],[75,2,75,9],[76,2,77,9],[78,2,79,9],[80,2,82,9],[83,2,84,9],[85,2,87,9],[88,2,89,9],[90,2,92,9],[93,2,96,9],[97,2,98,9],[97,16,102,16],[99,2,103,9],[104,2,106,9],[107,2,111,9],[107,16,114,16],[112,2,113,9],[114,2,114,9],[115,2,119,9],[123,10,123,11],[124,10,124,11],[125,10,125,11],[126,10,126,11],[127,10,127,11],[128,2,130,3],[128,10,128,11],[129,10,129,11],[130,10,130,11],[131,10,131,11],[132,2,135,2],[132,10,132,11],[133,10,133,11],[139,2,139,3],[141,2,141,4],[145,2,145,10],[146,2,146,10]]}
[]
[{"$nulls":7},"Welcome to the Founder's Choice Order Form!"]
[]
[]
[]
[{"$nulls":7},"Please read below as our menu options have changed. "]
[null,"Instructions Page"]
[]
[null,null,"Fill out the order form as completely as possible!",{"$nulls":5}," Please check the following link to make sure you have the most updated order form.  The revision dates will match the following:"]
[null,null,"As of 2019 the order desk will only be accepting fully filled out orders. This means it needs to have a green border before sending to Orders@foundershoice.com",{"$nulls":5},"Link to Dealer Order Form:",null,"Link"]
[null,null,"Instructions:"]
[null,null,"·This Cabinet Order Form is used for both Craftsman and Select series. If you have a mixed order that is 90% Select but just a few items that are Craftsman they can be on one order form. However, if just one cabinet is added to the order that is Craftsman, it will subject the order to a Craftsman lead time."]
[]
[]
[null,null,"·Different Color Order Borders – The order desk will only accept orders that have a green border. When an order is in the process of being filled out, the form will say what you are missing in red. See the Error Message Meaning Tab, for more information about how to complete your order fully."]
[]
[]
[]
[null,null,"·Contact Information- Should be filled out for whoever is paying for the job.  This includes Customer Name, Contact Name, Customer PO #/name, Telephone, Email and Billing Information. \nTelephone Number – Please enter in the number with no spaces, dashes or parenthesis. There is a formula to ensure we are receiving a complete number.",{"$nulls":13},"Showroom"]
[]
[]
[]
[null,null,"·Customer Number, Bill to and Ship to Addresses, Ship to Method, Delivery Cost, and Same as Bill to Address – After selecting ship to method and entering customer number (if available) some unnecessary fields will disappear. This is to aid you with quick, accurate order placement. Please ask if you do not know your customer number."]
[]
[]
[]
[null,null,"·Customer Number – Customer number is a required field. It is located on all of your Sales Order confirmations, and it is integral to our accounting system. A repeat customer will always maintain the same customer number. New customers or an existing customers with new bill to information, please select the correct option from the drop down menu. \nCustomer PO - Please assign an unique identifier for each particular job that will distinguish them for billing and communication purposes.",{"$nulls":13},"Dealer"]
[]
[]
[]
[]
[]
[null,null,"·Tax Rate- Please enter the correct delivery tax rate. The blue underlined text is a hyper link that will give you the correct tax rate. Be sure to use Total Tax Rate. For customers with valid reseller permits who are exempt from tax, simply enter the text \"RESELLER\" in that field. For customers who are out of state, write \"OOS\" or \"Out of State\" to calculate a 0% tax."]
[]
[]
[]
[null,null,"·Two Delivery Drivers- The Order Form automatically calculates if a second delivery driver is needed. This applies to deliveries with tall cabinets and large cabinets, or orders with greater than 30 cabinets. The charge is an additional 50% of the delivery charge."]
[]
[]
[null,null,"· Order Specifications - Please look to the Order Specifications tab for more information about upcharges and available options."]
[]
[]
[null,null,"·Factor – Please call in to the order desk with any questions about your approved factor. "]
[null,null,"Mutual Exclusivity -  Some options are not allowed to be ordered in conjunction with others. This mostly applies to Wood Species, Paints and Stains. We will not accept orders asking to stain MDF or asking to Paint a non-Paint Grade species. "]
[]
[]
[null,null,"·Lead Times - Color, Custom Finish and Item Codes all contribute to an accurate lead time. Please note that these lead times are from the point of approval, NOT when the order is turned in.  \n                 -Craftsman is 5 weeks\n                 -Select FC Paint is 4 weeks\n                 -Select FC Stain is 4 weeks"]
[]
[]
[]
[]
[null,null,"·Item List– Only attempt to order items that are on the item list and use their proper corresponding code. If you are unsure what Item Code to use, please contact the order desk. In order to serve our customers best, Founder's Choice uploads order forms, this requires every line to be perfect. Please make sure that your orders are fee of commas ( , ) and semicolons ( ; )."]
[]
[]
[]
[null,null,"·Add lines on Order Form– There is a drop down icon just to the left of where the items are entered. Check both 1 and 2 pages in order to get more lines. The pull line is hidden for administrative purposes. "]
[]
[null,null,"· Item Code - The Items tab has a complete list of all the Item Codes available from Founder's Choice."]
[null,null,"· Count - This cell will automatically fill in the quantity 1 when you type an Item Code. It will also highlight red when there is an Item Code without a quantity."]
[]
[null,null,"·Cut For Glass (CFG)–  The drop down menu is used to select door options, the price will automatically change. The examples of each option are located to the right. The Divided option changes with cabinet size. The framed option design will stay consistent."]
[]
[]
[null,null,"· Interior Finish -  If the door option selected allows the interior to be more visible, the form will prompt for interior finish option. Our standard cabinet interior is a UV coating, all other options will be conversion varnish."]
[]
[]
[]
[null,null,"·Dual Tone – This option changes the door and drawers to a separate color from the main cabinet box. The color that is selected in Order Specifications will be the main cabinet box. Make a note on the item line for the second color. Make sure to add two touch up kits!"]
[]
[]
[null,null,"Depth Modifications- (DD=Decrease Depth, ID=Increase Depth) This automatically calculates the additional charges by each cabinet. In the notes section, please write the final depth you would like the cabinet to be, not the amount you want changed. The cell will turn red if Depth Mod is not available for that Item Code."]
[]
[]
[null,null,"· Hinge Swing - Any items that are required to say the hinge swing now warn you in the boarder if it is missing. Any bases under 24 inches require hinge swing."]
[]
[null,null,"Applied Skins/PD?: This field handles the application fee and notes, you must also add the Item Codes."]
[null,null,"·Notes, Accessories and Modifications on Items- Please make sure that the cabinet is referenced on the MOD or Accessory AND the MOD or Accessory is mentioned on the cabinet line notes. \nApplied Skins/PD?: This field handles the application fee and notes, you must also add the Item Codes."]
[]
[null,null,"·Same Items with Multiple Options- In order to help with confusion. If you are ordering multiple of the same Item Code, with different options/notes on each, please use separate lines."]
[]
[null,null,"·Furniture Bottom– Door and Frame of the cabinet is stretched towards the bottom to eliminate the toekick\n Furniture Toe kick– Face frame of the cabinet is extended to be flush with the bottom of the cabinet."]
[]
[]
[null,null,"·Custom Price - This column is used to add pricing to the order at a user level. Any Custom Cabinet Quote prices, extra fees, or value that needs to be added to the bottom line can be added here."]
[]
[null,null,"·Cabinet Price - This is the calculated price of the Item Code entered. It includes all the Order Specifications, modifications to Doors, Interior, Depth, and skin/PD application fees. Skins, PDs, inserted accessories, other modifications, and knobs/pulls need to be on separate lines."]
[]
[]
[null,null,"·Total -This is the line total. (Item Code price multiplied by quantity). Custom Price will subtotal in the Order Totals at the bottom of the form."]
[]
[null,null,"·Drawings Required - This cell identifies items that require an engineering drawing or Custom Cabinet Request. The order form will prompt when a drawing is required, use the notes field to type the Custom Cabinet Quote's exact quote number. The Custom Cabinet Quote must also be submitted to the order desk with the order."]
[]
[]
[null,null,"·Farm Sinks- We require farm sinks to be delivered to our McKinley Ave location in order to ensure that we deliver an accurate product. When there is a farm sink on the order, use the notes field to list the Manufacturer's item code for the sink and the estimated delivery date for when the sink will arrive in order for our engineering department to create a drawing."]
[]
[]
[]
[null,null,"·Order Type - Founder's Choice currently divides our orders into two categories: Craftsman, Select. This influences the order lead time."]
[]
[null,null,"·Craftsman Modifications-  There are some modifications that are craftsman only modifications, because they require more customization. These are noted on the modification tab with a CR in the order type. Please make sure the cabinet with this modification has a Craftsman (CR) order type. It can be modified by selecting \"Craftsman Pricing\" on the right hand column of the order form. This will only be used when an otherwise Select order, needs to have craftsman modification, thus switching this particular item to Craftsman order type. "]
[]
[]
[]
[]
[null,null,"·Moving Lines - When a group of Item Codes needs to be move, the best practice is to use Copy and Paste Values. Do not use the cut function - it will disrupt the formulas and the Order Form will not function properly. "]
[]
[]
[null,null,"·Install on Multiple Orders- Please use one single install bid for orders that are going to be installed on the same day. If the orders are installed on separate days, they need to be on separate install forms. Please add INSTALL as an Item Code to largest order and make notes on the other orders.  Example: (On the order for a kitchen, use the Item Code INSTALL. On a Bathroom order installing the same day, use a blank line at the bottom of the order to note \"Install Total on Kitchen Order\"",{"$nulls":13},"Showroom"]
[]
[]
[]
[]
[null,null,"·Sample Door Credits - Use the 'Less Deposit:' line to record the sample door total. And add a standalone note at the bottom of the order to indicate the SO of the sample door order."]
[]
[null,null,"Install Price - will be visible when the Item Code INSTALL is used. "]
[null,null,"Less Deposits  - Please use this for tracking deposits (including design deposits)\nProduct Cost - This is the total of the Total Column\nTotal Custom Price - Total of the Custom Price column\nDelivery - This transposes the delivery cost located in the order header\nTotal (Less Deposit) -  This is the final total."]
[]
[]
[]
[]
[]
[null,null,"New Items: "]
[]
[null,null,"Trim",null,null,"Microwave Sizes",null,null,"Custom",null,"Floating Shelves",null,null,"Oven Cabinets"]
[null,null,"SCRIBE1.5",null,null,"MWSC2418",null,null,"CUSTOM-DOOR",null,"FLOATING SHELF 21",null,null,"OC31.584"]
[null,null,"MOC901.5",null,null,"MWSC2430",{"$nulls":4},"FLOATING SHELF 24",null,null,"OC31.590"]
[{"$nulls":5},"MWSC2436",{"$nulls":4},"FLOATING SHELF 27",null,null,"OC31.596"]
[null,null,"Filler Pull Outs",null,null,"MWSC2442",{"$nulls":4},"FLOATING SHELF 30"]
[null,null,"Required fillers are now\nincluded in the price of \nthis accessory. ",null,null,"MWSC2718",{"$nulls":4},"FLOATING SHELF 33"]
[{"$nulls":5},"MWSC2730",{"$nulls":4},"FLOATING SHELF 36"]
[{"$nulls":5},"MWSC2736",{"$nulls":4},"FLOATING SHELF 39"]
[null,null,"Sample Doors",null,null,"MWSC2742",{"$nulls":4},"FLOATING SHELF 42"]
[null,null,"Sample Door Cost has \nincreased, and Custom \nColor Sample Doors are \nnow charged extra.",null,null,"MWSC3018",{"$nulls":4},"FLOATING SHELF 45"]
[{"$nulls":5},"MWSC3030",{"$nulls":4},"FLOATING SHELF 48"]
[{"$nulls":5},"MWSC3036"]
[{"$nulls":5},"MWSC3042"]
[]
[]
[]
[null,null,"MOD fee changed"]
[null,null,"MOD-LS TO SHELF"]
[null,null,"This MOD is now available at no charge."]
[]
[null,null,"Discontinued Items: "]
[]
[null,null,"All fluted filler Item Codes have discontinued been but may still be ordered with a quote as CUSTOM-TRIM"]
[null,null,"All plate rack Item Codes have been discontinued but may still be ordered with a quote as CUSTOM-CABINET"]
[]
[{"$nulls":13},{"$f":"'Order Form'!K142","v":"Revision Date: 1-8-2020"}]

{"sheet":"Error Message Meaning","index":2,"n_rows":365,"n_cols":5,"rows_kept":365,"merged":[[2,0,37,0],[2,1,37,1],[2,2,37,2],[2,3,37,3],[2,4,37,4],[38,0,71,0],[38,1,71,1],[38,2,71,2],[38,3,71,3],[38,4,71,4],[72,0,83,0],[72,1,83,1],[72,2,83,2],[72,3,83,3],[72,4,83,4],[84,0,99,0],[84,1,99,1],[84,2,99,2],[84,3,99,3],[84,4,99,4],[100,0,107,0],[100,1,107,1],[100,2,107,2],[100,3,107,3],[100,4,107,4],[108,0,145,0],[108,1,145,1],[108,2,145,2],[108,3,145,3],[146,0,196,0],[146,1,196,1],[146,2,196,2],[146,3,196,3],[146,4,196,4],[197,0,204,0],[197,1,204,1],[197,2,204,2],[197,3,204,3],[197,4,204,4],[205,0,211,0],[205,1,211,1],[205,2,211,2],[205,3,211,3],[205,4,211,4],[212,0,220,0],[212,1,220,1],[212,2,220,2],[212,3,220,3],[212,4,220,4],[221,0,237,0],[221,1,237,1],[221,2,237,2],[221,3,237,3],[221,4,237,4],[238,0,248,0],[238,1,248,1],[238,2,248,2],[238,3,248,3],[238,4,248,4],[249,0,268,0],[249,1,268,1],[249,2,268,2],[249,3,268,3],[249,4,268,4],[269,0,283,0],[269,1,283,1],[269,2,283,2],[269,3,283,3],[269,4,283,4],[284,0,293,0],[284,1,293,1],[284,2,293,2],[284,3,293,3],[284,4,293,4],[294,0,315,0],[294,1,315,1],[294,2,315,2],[294,3,315,3],[294,4,315,4],[316,0,325,0],[316,1,325,1],[316,2,325,2],[316,3,325,3],[316,4,325,4],[326,0,333,0],[326,1,333,1],[326,2,333,2],[326,3,333,3],[326,4,333,4],[334,0,350,0],[334,1,350,1],[334,2,350,2],[334,3,350,3],[334,4,350,4],[351,0,363,0],[351,1,363,1],[351,2,363,2],[351,3,363,3],[351,4,363,4],[364,0,382,0],[364,1,382,1],[364,2,382,2],[364,3,382,3],[364,4,382,4]]}
["Please look at the legend below to figure out what information needs to be added to complete the order."]
["If the Red border says:","Why","Where to Look ","How to fix it","Screenshot"]
[" - Applied PD Count is Less than Number of PDs Ordered","The section where you say you want an applied a PD, only adds on the cost of the labor to add on the skin and the PD to the cabinet. If the number of skins and PDs on order is less than the number that are marked as applied, this message will pop up.","In the item list look, for where you marked PDs to be applied. ","Be sure to add an additional line for the PDs. Note, if you select both, you have to have a quantity of two PD's and Skins added to the order","\n\n\nBad: \n\n\n\n\n\n\n\n\n\n\n\n\nGood:\n\n\n\n\n\n\n\n\n\n\n\n\nMarked \nwith \nBoth:"]
{"$rows_empty":35}
[" - Applied Skin Count is Less than Number of Skins Ordered","The section where you say you want an applied skin, only adds on the cost of the labor to add on the skin and the PD to the cabinet. If the number of skins on order is less than the number that are marked as applied, this message will pop up.","In the item list look, for where you marked Skins to be applied. ","Be sure to add an additional line for the Skins. Note, if you select both, you have to have a quantity of two Skins added to the order","\n\n\n\n\nBad: \n\n\n\n\n\n\n\n\n\nGood:\n\n\n\n\n\n\n\n\n\n\nBoth \nSelected:\n\n"]
{"$rows_empty":33}
[" - Approved Factor","We have selected different approved factor prices for each of our customers depending on the volume that they sell. If this is blank, pricing can't default in.","Contact the order desk for what factor you should be using. ","The factor has to be between 0 and 1, be sure you have the decimal point. If you need guidance on what factory you are supposed to be using, please contact the order desk."]
{"$rows_empty":11}
[" - Bill to Address","This field is dependent on what you select for customer number. If you select NEW, or Existing Cust-New Info. You are required to fill in the bill to information. If this is a repeat customer, simply add the Customer number, that you see on old orders.","See picture.","If this is a repeat customer, just enter in the customer number, then you don’t have to enter in the bill to information. If it isn't a repeat customer, we need to fill in the bill to information in order to process the order.","If customer #\nis filled in:\n\n\n\n\n\nNew or Existing \nwith new Bill to:"]
{"$rows_empty":15}
[" - Contact Information","One of the fields in the screenshot are not filled out.","See picture.","None of these fields can be blank, or you will receive this error message."]
{"$rows_empty":7}
[" - Contractor Information","If you are going to use a factor that is >.5 and <.6, you have to have to provide a valid contractor number.","At the bottom of the order form page, there is a section that appears if the factor is in that range.","If you click on the hyperlink on the word Customer number, it takes you to the Washington State Department of Labor and Industries. Search by name to find the contractor number. Please find the license number and the expiration date. Please also verify that the license is active."]
{"$rows_empty":37}
[" - Craftsman Price Override Totals don’t Match","CR only modifications require us to change our manufacturing steps significantly and require a Craftsman price. Every time that one of these Modifications is used on a Select order, the parent cabinet needs to be marked \"Craftsman Pricing.\"","Find the Modification on your items list that is marked \"CR\" in the Order Type Column. The cabinet that requires modification needs to be specified as \"Craftsman Pricing\".","Just to the right of pricing, there is a drop down to say craftsman pricing. Select only the line of the cabinet that has that modification. ","\n\n\n\n\n\n\n\n\n\n\n\n\n\n\n\n\n\n\n\n\n\n\nBad:\n\n\n\n\n\n\n\n\n\nGood:"]
{"$rows_empty":50}
[" - Custom Color","In the Order Specifications section, you made the selection of a custom color (match or catalog), since that was chosen, we need to know the vendor and color number.","Just to the right a green box appears that says to replace the text, with the custom name and number. ","Select the green box and type over the text with the correct information."]
{"$rows_empty":7}
[" - Custom Door Style","In the Order Specifications section, you made the selection of a custom door style (Raised or Recessed Panel - Custom), since that was chosen, we need to know the door style name.","Just to the right a green box appears that says to replace the text, with the custom name and number. ","Select the green box and type over the text with the correct information."]
[]
[]
[]
[]
[]
[]
[" - Customer Number","This is now a required field. You need to enter in either, New for new customer, Existing Customer with new Bill to for updated billing information, or enter the customer number.","See picture.","You can not leave this field blank. The new will trigger the order desk to enter a new customer into the system. "]
{"$rows_empty":8}
[" - Delivery Cost","The Delivery Cost field is blank. Additional Delivery Driver is calculated automatically, This applies to deliveries with Tall Cabinets (OC, LC, and UC), Sink Bases Diagonal (SBD), or orders with greater than 30 cabinets. If you have a custom cabinet, that is a OC, LC, UC or SBD, then you will have to do this manually.","See picture.","The delivery cost should be calculated by the following: One way road miles, using Google maps. Starting location: \n\n6002 McKinley Ave E.\nTacoma, WA 98404\n\nUp to 7 road miles - $50\nUp to 12 road miles - $75\nUp to 18 road miles - $100\nUp to 24 road miles - $125\nUp to 30 road miles - $150\nUp to 40 road miles - $200\n\nOver 40 Miles $200 + $5 every additional Mile up to 120 miles"]
{"$rows_empty":16}
[" - General Contractor Information (Dealer Install Tab)","On the Dealer Order form, there are different instances for who acts as the General Contractor on an install (and who pays the taxes), that is why we do not fill in the tax rate on the install tab. If you use Reseller as the tax rate for an install, the dealer is acting as the general contractor and must provide valid general contractor information.","On the Dealer INTAL Calc tab, Check that you are indeed the general contractor for this job, Fill in the general contractor information. Please verify that you are in good standing based on the link.","Fill in the General contractor information, or change to being the tax rate for the location of the job. "]
{"$rows_empty":10}
[" - Hinge Swing Information","Any base cabinets that are less than 24 inches wide, or only have one door. You need to specify which way you want the door to open. HR - Hinge Right and HL - Hinge Left","The cabinet that needs this information, will be highlighted red. Feel free to include this information on ones that aren’t required as well (Custom Cabinet, doesn’t require you to fill in hinge, but if this applies, please fill it in and the notes will be uploaded","Use the drop down menu to select HR or HL. You don’t have to enter it in the notes, it will be added in the background. ","\n\n\nCorrect any \nthat are Red:\n\n\n\n\n\n\n\n\nCorrect:"]
{"$rows_empty":19}
[" - Install Tax Rate (On install Calc)","Install Tax Rate could be different than the material tax rate, that is why it isn't automatically filled in. (Will Called material, but the install was a different tax rate, because that is to the ship to location. ","On the Install Calc page, fill in the correct tax rate. ","Look up the tax rate for the ship to location using the hyperlink."]
{"$rows_empty":14}
[" - Order Specifications","One of the drop down menus is not filled out. Please fill in Color, Species, Door Style, Custom Finish, and Drawer Head.","On the Order form Page, see picture","None of these fields can be blank or the note that says \"Please Select….\""]
{"$rows_empty":9}
[" - Please Select Finished Interior","If you pick an option that shows the inside of the cabinet, you need to acknowledge the insides of a cabinet. ","In the item list, items with a red highlight are the ones that need to be addressed.  ","In the red highlighted cell, select your interior options. If you don’t want a finished interior, select FI. Any of the Cut for glass option or Modification for no doors will make this appear. ","\n\n\n\n\nBad:\n\n\n\n\n\n\n\n\n\n\n\nGood:"]
{"$rows_empty":21}
[" - Remove Craftsman Cabinet From Pack Order","Only select stock items are available for Single Pack or Flat Pack. ","Look at the Order type column for which item has a Craftsman label to it, if they are all Craftsman, your order specifications might dictate a Craftsman Order.","Remove any lines that have a CR on it, The order specifications have to be the following. \nColor: Raw, Mocha, Espresso, White Pearl\nSpecies: White Birch\nDrawer Head: 5 Piece\nCustom Finish: N/A\nDoor style: Shaker\n\nNote: you can not have any cut for glass, no door modifications, Finished interior, or modification to these items."]
{"$rows_empty":9}
[" - Requested Work Date","We ran into a full warehouse when people would place orders before they need them done. Now with the requested date, you can narrow down when the order will be completed. This isn't a guarantee, but we will try to make this date work.","See picture.","You can not fill in with ASAP, or TBD, or leave it blank. There must be a date filled in. "]
{"$rows_empty":7}
[" - Ship to Address","Ship to address does not need to be filled in if you select Will Call, besides that we need to know where to deliver or where to send the cabinets.","See picture.","Fill in with the correct address, or mark same as bill to address, if it is the same address. "]
{"$rows_empty":16}
[" - Ship to Method","This information is needed at the time of the order, because it is printed for the shop on how to wrap and prepare the cabinets for travel. ","See picture.","Use the drop down menu to select a shipping method."]
{"$rows_empty":12}
[" - Tax Rate","We don’t fill out the tax rate for you, because it is different depending on your ship to method, ship to locations, and Reseller permits.","Click on the hyperlink and put in the address for all ship to locations, be sure to enter in the full address, because it can very by city lines. ","Fill in with the correct tax rate, or use one of the approved codes to have a 0% rate. \"Reseller\", \"NONTAX\", or \"Out of State\" or \"OOS\" if there is no Tax.  Note these are very sensitive to have the exact text listed, be sure there are no extra spaces."]

{"sheet":"Order Form","index":3,"n_rows":143,"n_cols":53,"rows_kept":143,"merged":[[0,1,0,15],[1,5,1,8],[1,12,1,13],[2,5,2,8],[2,12,2,13],[3,5,3,8],[3,12,3,13],[4,5,4,8],[4,10,5,11],[4,12,5,13],[5,5,5,8],[7,3,7,7],[7,11,7,13],[8,3,8,7],[8,11,8,13],[9,3,9,7],[9,11,9,13],[10,3,10,7],[10,11,10,13],[11,3,11,7],[11,11,11,13],[12,3,12,5],[14,2,14,14],[16,3,16,5],[16,11,16,13],[17,3,17,5],[17,11,17,13],[18,3,18,5],[18,11,18,13],[20,2,21,14],[128,3,128,4],[128,10,128,11],[128,12,128,13],[129,3,129,4],[129,10,129,11],[129,12,129,13],[130,3,130,4],[130,10,130,11],[130,12,130,13],[131,3,131,4],[131,10,131,11],[131,12,131,13],[132,10,132,11],[132,12,132,13],[133,10,133,11],[133,12,133,13],[134,10,134,11],[134,12,134,13],[135,10,135,11],[135,12,135,13],[136,3,136,8],[136,10,136,11],[136,12,136,13],[137,3,137,4],[138,11,138,13],[139,11,139,12],[140,2,141,9]]}
[null,{"$f":"'Misc Dropdowns'!L34","v":"Welcome to the Order Form Sheet"}]
[{"$nulls":5},"Customer Name:",{"$nulls":5},"Quote Date:"]
[{"$nulls":5},"Contact Name:",{"$nulls":5},"Sales Rep:"]
[{"$nulls":5},"Customer PO:",{"$nulls":5},"Customer #:"]
[{"$nulls":5},"Telephone:",{"$nulls":4},"Requested \nDelivery Date:",null,{"$f":"TODAY()+42","v":"2020-02-19"}]
[{"$nulls":5},"Email:"]
[]
[null,null,"Bill to Name:",{"$nulls":7},"Ship to Name:"]
[null,null,"Address:",{"$nulls":5},"  Ship to Method",null,"Address:"]
[null,null," City:",{"$nulls":7},"City:"]
[null,null," State:",{"$nulls":7},"State:"]
[null,null," Zip:",{"$nulls":7},"Zip:"]
[null,null,"Total Tax Rate",{"$nulls":7},"Delivery Cost",null,"Extra Delivery Driver",{"$f":"IF(L13=\"Replace with Custom Quote\",0,IF(OR(AT22>29,AU22>0),L13*0.5,0))","v":0}]
[]
[null,null,"Order Specifications"]
[]
[null,null,"Species:","Please Select a Wood Species",{"$nulls":4},"Color:","Please Select a Color (more info on the Job Options tab)",null,"Replace this text with Stain/Paint Name and/or Number.",{"$nulls":4},"Factor"]
[null,null,"Drawer Head:","Please Select a Drawer Head ",{"$nulls":12},1]
[null,null,"Custom Finish: ","Please Select Custom Finish",{"$nulls":4},"    Door Style:","Please Select a Door Style",null,"Replace this text with door style specification."]
[]
[null,null,{"$f":"IF('Misc Dropdowns'!C34=0,\"\",VLOOKUP(AD22,'Misc Dropdowns'!A45:C47,3,FALSE))","v":""},{"$nulls":42},"Sum"]
[{"$nulls":29},{"$f":"MAX(AD24:AD481)","v":3},{"$f":"MIN('Misc Dropdowns'!C34:C39)","v":0},{"$nulls":3},{"$f":"SUM(AI25:AI613)","v":0},{"$f":"SUM(AJ25:AJ127)","v":0},{"$nulls":3},{"$f":"SUM(AN25:AN600)","v":0},{"$nulls":3},{"$f":"SUM(AR25:AR615)","v":0},{"$f":"SUM(AS25:AS600)","v":0},{"$f":"SUM(AT25:AT615)","v":{"v":0,"d":"0.00"}},{"$f":"IF(SUM(AU25:AU615)>0,1,0)","v":{"v":0,"d":"0.00"}},{"$f":"IF(CONCAT!G2=\"CRAFTSMAN\",0,SUM(AV25:AV614))","v":{"v":0,"d":"0.00"}},{"$f":"IF(CONCAT!G2=\"CRAFTSMAN\",0,SUM(AW25:AW614))","v":{"v":0,"d":"0.00"}},{"$f":"SUM(AX25:AX613)","v":{"v":0,"d":"0.00"}},{"$f":"SUM(AY25:AY613)","v":{"v":0,"d":"0.00"}},{"$f":"SUM(AZ25:AZ600)","v":{"v":0,"d":"0.00"}},{"$f":"SUM(BA25:BA600)","v":{"v":0,"d":"0.00"}}]
[null,null," Item Code"," Count"," Cut for Glass-\nClear? Divided? Framed?\nNo Doors?","Finished Interior and Dual Tone?"," Depth Mod","Hinge Swing"," Applied Skins/PD?"," NOTES","Custom Price"," Cabinet Price"," Total"," Drawings?"," Order Type",null," Override Modified Item with Craftsman Price",{"$nulls":6},"List Price","Qty *List Price",null,"If Pull","Item Order Type","SO Order Type","Maximum","Minimum","Price without item Upcharges","Glass Options","Color Species options","Applied Skin","Depth Mod","Applied Skin Qty","Applied skin count","Total Skin Count","Applied PD","Proposal Notes\nDoor Mod","Proposal Notes\nFin Int /DT","Proposal Notes\nSkins and PDs","Install?","Dealer install?","Number of Cabinets","Extra Driver","CR override","Highlighting with CR Override","List Price Glass Options","List Price Color Species options","Hinge Swing","Finished Interior"]
["Uncheck",null,{"$f":"IF($AA$128>0,\"LONG SCREWS-PULLS OR KNOBS\",\"\")","v":""},{"$f":"IFERROR(IF(AA128>0,1,0),0)","v":0},{"$nulls":9},{"$f":"IF(C24=\"\",\"\",VLOOKUP(C24,Items!A:N,12,FALSE))","v":""},{"$f":"IF(Q24=\"Craftsman Pricing\",\"CR\",IF(C24=\"\",\"\",IF('Misc Dropdowns'!$C$34=0,\"\",IF(E24&F24=\"\",VLOOKUP(AD24,'Misc Dropdowns'!$A$45:$B$47,2,FALSE),\"CR\"))))","v":""},{"$nulls":8},{"$f":"ROUND(IF($Q$18=\"\",0,IF(K24<>0,K24,IF(O24=\"SEL\",VLOOKUP(C24,Items!A:Y,25,FALSE),IF(O24=\"CR\",VLOOKUP(C24,Items!A:Z,26,FALSE),0)))),2)","v":{"v":0,"d":"0.00"}},{"$f":"(X24*D24)","v":0},null,{"$f":"IFERROR(VLOOKUP(C24,#REF!,6,FALSE),0)","v":0},{"$f":"IF(C24=\"\",\"\",IF(E24&F24=\"\",VLOOKUP(C24,Items!A:D,4,FALSE),\"3\"))","v":""},{"$f":"IF(C24=\"\",\"\",'Misc Dropdowns'!$C$35)","v":""},{"$f":"MAX(AB24:AC24)","v":0},{"$f":"MIN(AC24)","v":0},{"$f":"IF($O24=\"Select\",VLOOKUP($C24,Items!A:F,6,FALSE),IF($O24=\"CR\",VLOOKUP('Order Form'!$C24,Items!A:G,7,FALSE),0))","v":0},{"$f":"IFERROR(VLOOKUP(E24,'Misc Dropdowns'!$J$12:$M$26,4,FALSE)*AF24,0)","v":0},{"$f":"IFERROR(VLOOKUP(F24,'Misc Dropdowns'!$J$12:$M$26,4,FALSE)*AF24,0)","v":0}]
["1 Page",null,"TOUCH UP",{"$f":"IF(OR(J17=\"Raw\",J17=\"Natural\",J17=\"\"),0,1)","v":1},{"$nulls":7},{"$f":"IFERROR(ROUND(SUM(AF25:AJ25),2),0)","v":{"v":0,"d":"0.00"}},{"$f":"D25*L25","v":{"v":0,"d":"0.00"}},{"$f":"IF(C25=\"\",\"\",VLOOKUP(C25,Items!A:N,12,FALSE))","v":0},{"$f":"IF(Q25=\"Craftsman Pricing\",\"CR\",IF(C25=\"\",\"\",IF('Misc Dropdowns'!$C$34=0,\"\",IF(E25&F25=\"\",VLOOKUP(AD25,'Misc Dropdowns'!$A$45:$B$47,2,FALSE),\"CR\"))))","v":""},{"$nulls":8},{"$f":"ROUND(IF($Q$18=\"\",0,IF(O25=\"SEL\",VLOOKUP(C25,Items!A:Y,25,FALSE),IF(O25=\"CR\",VLOOKUP(C25,Items!A:Z,26,FALSE),0))),2)","v":{"v":0,"d":"0.00"}},0,null,{"$f":"IFERROR(VLOOKUP(C25,Items!A:H,8,FALSE),0)","v":0},{"$f":"IF(C25=\"\",\"\",IF(E25&F25=\"\",VLOOKUP(C25,Items!A:D,4,FALSE),3))","v":2},{"$f":"IF(C25=\"\",\"\",'Misc Dropdowns'!$C$35)","v":3},{"$f":"MAX(AB25,AC25)","v":3},{"$f":"MIN(AC25)","v":3},{"$f":"IF($O25=\"SEL\",VLOOKUP($C25,Items!A:F,6,FALSE),IF($O25=\"CR\",VLOOKUP('Order Form'!$C25,Items!A:G,7,FALSE),0))","v":0},{"$f":"IFERROR(AF25*(VLOOKUP(E25,'Misc Dropdowns'!$J$12:$M$16,4,FALSE)),0)","v":0},{"$f":"IFERROR(VLOOKUP(F25,'Misc Dropdowns'!$J$23:$M$27,4,FALSE)*AF25,0)","v":0},{"$f":"IFERROR(IF(ISNUMBER(FIND(\"PD\",I25,1)),AK25*5,0)+(AK25*(15*(VLOOKUP(C25,Items!A:AE,31,FALSE)))),0)","v":0},{"$f":"IF(G25=\"\",\"\",IF(G25=\"DD\",VLOOKUP(C25,Items!A:AH,34,FALSE),IF(G25=\"ID\",VLOOKUP(C25,Items!A:AG,33,FALSE))))","v":""},{"$f":"IF(I25=\"\",0,IF(ISNUMBER(FIND(\"BOTH\",I25,1)),2,1))","v":0},{"$f":"IF(I25=\"\",0,VLOOKUP(C25,Items!A:AF,32,FALSE))","v":0},{"$f":"AK25*AT25","v":0},{"$f":"IF(ISNUMBER(FIND(\"PD\",I25,1)),1,0)*AK25*D25","v":0},{"$f":"IF(E25=\"\",\"\",\" - \"&E25)","v":""},{"$f":"IF(F25=\"\",\"\",\" - \"&F25)","v":""},{"$f":"IF(I25=\"\",\"\",IF(ISNUMBER(FIND(\"PD\",I25,1)),\"-SKN \"&I25,\"-SKN \"&I25))","v":""},{"$f":"IF(C25=\"INSTALL\",1,0)","v":0},{"$f":"IF(C25=\"INSTALL-DEALER\",1,0)","v":0},{"$f":"IF(C25=\"\",0,D25*VLOOKUP(C25,Items!A:M,13,FALSE))","v":{"v":0,"d":"0.00"}},{"$f":"IF(OR(LEFT(C25,2)=\"LC\",LEFT(C25,2)=\"UC\",LEFT(C25,2)=\"OC\",LEFT(C25,3)=\"SBD\",LEFT(C25,2)=\"LS\",LEFT(C25,4)=\"VA48\",LEFT(C25,4)=\"VA60\",LEFT(C25,5)=\"3DB33\",LEFT(C25,5)=\"3DB36\"),1,0)","v":{"v":0,"d":"0.00"}},{"$f":"IFERROR(IF(VLOOKUP(C25,'Modifications and Fees'!B:H,2,FALSE)=\"CR\",1*D25,0),0)","v":{"v":0,"d":"0.00"}},{"$f":"IF(Q25=\"Craftsman Pricing\",1*D25,0)","v":{"v":0,"d":"0.00"}},{"$f":"ROUND(IFERROR(D25*X25*(VLOOKUP(E25,'Misc Dropdowns'!$J$12:$M$16,4,FALSE)),0),2)","v":{"v":0,"d":"0.00"}},{"$f":"ROUND(IFERROR(VLOOKUP(F25,'Misc Dropdowns'!$J$23:$M$27,4,FALSE)*X25*D25,0),2)","v":{"v":0,"d":"0.00"}},{"$f":"IF(C25=\"\",\"\",IF(AND(VLOOKUP(C25,Items!A:AI,35,FALSE)=\"Y\",'Order Form'!H25=\"\"),1,0))","v":{"v":0,"d":"0.00"}},{"$f":"(IF(AND(E25<>\"\",F25=\"\"),1,0))","v":{"v":0,"d":"0.00"}}]
["1 Page",null,null,{"$f":"IF(C26>1,1,0)","v":0},{"$nulls":7},{"$f":"IFERROR(ROUND(SUM(AF26:AJ26),2),0)","v":{"v":0,"d":"0.00"}},{"v":0,"d":"0.00"},{"$f":"IF(C26=\"\",\"\",VLOOKUP(C26,Items!A:N,12,FALSE))","v":""},{"$f":"IF(Q26=\"Craftsman Pricing\",\"CR\",IF(C26=\"\",\"\",IF('Misc Dropdowns'!$C$34=0,\"\",IF(E26&F26=\"\",VLOOKUP(AD26,'Misc Dropdowns'!$A$45:$B$47,2,FALSE),\"CR\"))))","v":""},{"$nulls":8},{"$f":"ROUND(IF($Q$18=\"\",0,IF(O26=\"SEL\",VLOOKUP(C26,Items!A:Y,25,FALSE),IF(O26=\"CR\",VLOOKUP(C26,Items!A:Z,26,FALSE),0))),2)","v":{"v":0,"d":"0.00"}},0,null,{"$f":"IFERROR(VLOOKUP(C26,Items!A:H,8,FALSE),0)","v":0},{"$f":"IF(C26=\"\",\"\",IF(E26&F26=\"\",VLOOKUP(C26,Items!A:D,4,FALSE),3))","v":""},{"$f":"IF(C26=\"\",\"\",'Misc Dropdowns'!$C$35)","v":""},{"$f":"MAX(AB26,AC26)","v":0},0,{"$f":"IF($O26=\"SEL\",VLOOKUP($C26,Items!A:F,6,FALSE),IF($O26=\"CR\",VLOOKUP('Order Form'!$C26,Items!A:G,7,FALSE),0))","v":0},{"$f":"IFERROR(AF26*(VLOOKUP(E26,'Misc Dropdowns'!$J$12:$M$16,4,FALSE)),0)","v":0},{"$f":"IFERROR(VLOOKUP(F26,'Misc Dropdowns'!$J$23:$M$27,4,FALSE)*AF26,0)","v":0},{"$f":"IFERROR(IF(ISNUMBER(FIND(\"PD\",I26,1)),AK26*5,0)+(AK26*(15*(VLOOKUP(C26,Items!A:AE,31,FALSE)))),0)","v":0},{"$f":"IF(G26=\"\",\"\",IF(G26=\"DD\",VLOOKUP(C26,Items!A:AH,34,FALSE),IF(G26=\"ID\",VLOOKUP(C26,Items!A:AG,33,FALSE))))","v":""},{"$f":"IF(I26=\"\",0,IF(ISNUMBER(FIND(\"BOTH\",I26,1)),2,1))","v":0},{"$f":"IF(I26=\"\",0,VLOOKUP(C26,Items!A:AF,32,FALSE))","v":0},{"$f":"AK26*AT26","v":0},{"$f":"IF(ISNUMBER(FIND(\"PD\",I26,1)),1,0)*AK26*D26","v":0},{"$f":"IF(E26=\"\",\"\",\" - \"&E26)","v":""},{"$f":"IF(F26=\"\",\"\",\" - \"&F26)","v":""},{"$f":"IF(I26=\"\",\"\",IF(ISNUMBER(FIND(\"PD\",I26,1)),\"-SKN \"&I26,\"-SKN \"&I26))","v":""},0,0,{"$f":"IF(C26=\"\",0,D26*VLOOKUP(C26,Items!A:M,13,FALSE))","v":{"v":0,"d":"0.00"}},{"$f":"IF(OR(LEFT(C26,2)=\"LC\",LEFT(C26,2)=\"UC\",LEFT(C26,2)=\"OC\",LEFT(C26,3)=\"SBD\",LEFT(C26,2)=\"LS\",LEFT(C26,4)=\"VA48\",LEFT(C26,4)=\"VA60\",LEFT(C26,5)=\"3DB33\",LEFT(C26,5)=\"3DB36\"),1,0)","v":{"v":0,"d":"0.00"}},{"$f":"IFERROR(IF(VLOOKUP(C26,'Modifications and Fees'!B:H,2,FALSE)=\"CR\",1*D26,0),0)","v":{"v":0,"d":"0.00"}},{"v":0,"d":"0.00"},{"$f":"ROUND(IFERROR(D26*X26*(VLOOKUP(E26,'Misc Dropdowns'!$J$12:$M$16,4,FALSE)),0),2)","v":{"v":0,"d":"0.00"}},{"$f":"ROUND(IFERROR(VLOOKUP(F26,'Misc Dropdowns'!$J$23:$M$27,4,FALSE)*X26*D26,0),2)","v":{"v":0,"d":"0.00"}},{"$f":"IF(C26=\"\",\"\",IF(AND(VLOOKUP(C26,Items!A:AI,35,FALSE)=\"Y\",'Order Form'!H26=\"\"),1,0))","v":""},{"v":0,"d":"0.00"}]
["1 Page",null,null,0,{"$nulls":7},{"$f":"IFERROR(ROUND(SUM(AF27:AJ27),2),0)","v":{"v":0,"d":"0.00"}},{"v":0,"d":"0.00"},{"$f":"IF(C27=\"\",\"\",VLOOKUP(C27,Items!A:N,12,FALSE))","v":""},{"$f":"IF(Q27=\"Craftsman Pricing\",\"CR\",IF(C27=\"\",\"\",IF('Misc Dropdowns'!$C$34=0,\"\",IF(E27&F27=\"\",VLOOKUP(AD27,'Misc Dropdowns'!$A$45:$B$47,2,FALSE),\"CR\"))))","v":""},{"$nulls":8},{"$f":"ROUND(IF($Q$18=\"\",0,IF(O27=\"SEL\",VLOOKUP(C27,Items!A:Y,25,FALSE),IF(O27=\"CR\",VLOOKUP(C27,Items!A:Z,26,FALSE),0))),2)","v":{"v":0,"d":"0.00"}},0,null,{"$f":"IFERROR(VLOOKUP(C27,Items!A:H,8,FALSE),0)","v":0},{"$f":"IF(C27=\"\",\"\",IF(E27&F27=\"\",VLOOKUP(C27,Items!A:D,4,FALSE),3))","v":""},{"$f":"IF(C27=\"\",\"\",'Misc Dropdowns'!$C$35)","v":""},{"v":0,"d":"0.00"},{"v":0,"d":"0.00"},{"$f":"IF($O27=\"SEL\",VLOOKUP($C27,Items!A:F,6,FALSE),IF($O27=\"CR\",VLOOKUP('Order Form'!$C27,Items!A:G,7,FALSE),0))","v":0},{"$f":"IFERROR(AF27*(VLOOKUP(E27,'Misc Dropdowns'!$J$12:$M$16,4,FALSE)),0)","v":0},{"$f":"IFERROR(VLOOKUP(F27,'Misc Dropdowns'!$J$23:$M$27,4,FALSE)*AF27,0)","v":0},{"$f":"IFERROR(IF(ISNUMBER(FIND(\"PD\",I27,1)),AK27*5,0)+(AK27*(15*(VLOOKUP(C27,Items!A:AE,31,FALSE)))),0)","v":0},{"$f":"IF(G27=\"\",\"\",IF(G27=\"DD\",VLOOKUP(C27,Items!A:AH,34,FALSE),IF(G27=\"ID\",VLOOKUP(C27,Items!A:AG,33,FALSE))))","v":""},0,{"$f":"IF(I27=\"\",0,VLOOKUP(C27,Items!A:AF,32,FALSE))","v":0},0,0,"","","",0,0,{"$f":"IF(C27=\"\",0,D27*VLOOKUP(C27,Items!A:M,13,FALSE))","v":{"v":0,"d":"0.00"}},{"v":0,"d":"0.00"},{"$f":"IFERROR(IF(VLOOKUP(C27,'Modifications and Fees'!B:H,2,FALSE)=\"CR\",1*D27,0),0)","v":{"v":0,"d":"0.00"}},{"v":0,"d":"0.00"},{"$f":"ROUND(IFERROR(D27*X27*(VLOOKUP(E27,'Misc Dropdowns'!$J$12:$M$16,4,FALSE)),0),2)","v":{"v":0,"d":"0.00"}},{"$f":"ROUND(IFERROR(VLOOKUP(F27,'Misc Dropdowns'!$J$23:$M$27,4,FALSE)*X27*D27,0),2)","v":{"v":0,"d":"0.00"}},{"$f":"IF(C27=\"\",\"\",IF(AND(VLOOKUP(C27,Items!A:AI,35,FALSE)=\"Y\",'Order Form'!H27=\"\"),1,0))","v":""},{"v":0,"d":"0.00"}]
["1 Page",null,null,0,{"$nulls":7},{"$f":"IFERROR(ROUND(SUM(AF28:AJ28),2),0)","v":{"v":0,"d":"0.00"}},{"v":0,"d":"0.00"},{"$f":"IF(C28=\"\",\"\",VLOOKUP(C28,Items!A:N,12,FALSE))","v":""},{"$f":"IF(Q28=\"Craftsman Pricing\",\"CR\",IF(C28=\"\",\"\",IF('Misc Dropdowns'!$C$34=0,\"\",IF(E28&F28=\"\",VLOOKUP(AD28,'Misc Dropdowns'!$A$45:$B$47,2,FALSE),\"CR\"))))","v":""},{"$nulls":8},{"$f":"ROUND(IF($Q$18=\"\",0,IF(O28=\"SEL\",VLOOKUP(C28,Items!A:Y,25,FALSE),IF(O28=\"CR\",VLOOKUP(C28,Items!A:Z,26,FALSE),0))),2)","v":{"v":0,"d":"0.00"}},0,null,{"$f":"IFERROR(VLOOKUP(C28,Items!A:H,8,FALSE),0)","v":0},{"$f":"IF(C28=\"\",\"\",IF(E28&F28=\"\",VLOOKUP(C28,Items!A:D,4,FALSE),3))","v":""},{"$f":"IF(C28=\"\",\"\",'Misc Dropdowns'!$C$35)","v":""},{"v":0,"d":"0.00"},0,{"$f":"IF($O28=\"SEL\",VLOOKUP($C28,Items!A:F,6,FALSE),IF($O28=\"CR\",VLOOKUP('Order Form'!$C28,Items!A:G,7,FALSE),0))","v":0},{"$f":"IFERROR(AF28*(VLOOKUP(E28,'Misc Dropdowns'!$J$12:$M$16,4,FALSE)),0)","v":0},{"$f":"IFERROR(VLOOKUP(F28,'Misc Dropdowns'!$J$23:$M$27,4,FALSE)*AF28,0)","v":0},{"$f":"IFERROR(IF(ISNUMBER(FIND(\"PD\",I28,1)),AK28*5,0)+(AK28*(15*(VLOOKUP(C28,Items!A:AE,31,FALSE)))),0)","v":0},{"$f":"IF(G28=\"\",\"\",IF(G28=\"DD\",VLOOKUP(C28,Items!A:AH,34,FALSE),IF(G28=\"ID\",VLOOKUP(C28,Items!A:AG,33,FALSE))))","v":""},0,{"$f":"IF(I28=\"\",0,VLOOKUP(C28,Items!A:AF,32,FALSE))","v":0},0,0,"","","",0,0,{"$f":"IF(C28=\"\",0,D28*VLOOKUP(C28,Items!A:M,13,FALSE))","v":{"v":0,"d":"0.00"}},{"v":0,"d":"0.00"},{"$f":"IFERROR(IF(VLOOKUP(C28,'Modifications and Fees'!B:H,2,FALSE)=\"CR\",1*D28,0),0)","v":{"v":0,"d":"0.00"}},{"v":0,"d":"0.00"},{"$f":"ROUND(IFERROR(D28*X28*(VLOOKUP(E28,'Misc Dropdowns'!$J$12:$M$16,4,FALSE)),0),2)","v":{"v":0,"d":"0.00"}},{"$f":"ROUND(IFERROR(VLOOKUP(F28,'Misc Dropdowns'!$J$23:$M$27,4,FALSE)*X28*D28,0),2)","v":{"v":0,"d":"0.00"}},{"$f":"IF(C28=\"\",\"\",IF(AND(VLOOKUP(C28,Items!A:AI,35,FALSE)=\"Y\",'Order Form'!H28=\"\"),1,0))","v":""},{"v":0,"d":"0.00"}]
["1 Page",null,null,0,{"$nulls":7},{"v":0,"d":"0.00"},{"v":0,"d":"0.00"},{"$f":"IF(C29=\"\",\"\",VLOOKUP(C29,Items!A:N,12,FALSE))","v":""},{"$f":"IF(Q29=\"Craftsman Pricing\",\"CR\",IF(C29=\"\",\"\",IF('Misc Dropdowns'!$C$34=0,\"\",IF(E29&F29=\"\",VLOOKUP(AD29,'Misc Dropdowns'!$A$45:$B$47,2,FALSE),\"CR\"))))","v":""},{"$nulls":8},{"$f":"ROUND(IF($Q$18=\"\",0,IF(O29=\"SEL\",VLOOKUP(C29,Items!A:Y,25,FALSE),IF(O29=\"CR\",VLOOKUP(C29,Items!A:Z,26,FALSE),0))),2)","v":{"v":0,"d":"0.00"}},0,null,{"$f":"IFERROR(VLOOKUP(C29,Items!A:H,8,FALSE),0)","v":0},{"$f":"IF(C29=\"\",\"\",IF(E29&F29=\"\",VLOOKUP(C29,Items!A:D,4,FALSE),3))","v":""},{"$f":"IF(C29=\"\",\"\",'Misc Dropdowns'!$C$35)","v":""},{"v":0,"d":"0.00"},0,{"$f":"IF($O29=\"SEL\",VLOOKUP($C29,Items!A:F,6,FALSE),IF($O29=\"CR\",VLOOKUP('Order Form'!$C29,Items!A:G,7,FALSE),0))","v":0},{"$f":"IFERROR(AF29*(VLOOKUP(E29,'Misc Dropdowns'!$J$12:$M$16,4,FALSE)),0)","v":0},{"$f":"IFERROR(VLOOKUP(F29,'Misc Dropdowns'!$J$23:$M$27,4,FALSE)*AF29,0)","v":0},{"$f":"IFERROR(IF(ISNUMBER(FIND(\"PD\",I29,1)),AK29*5,0)+(AK29*(15*(VLOOKUP(C29,Items!A:AE,31,FALSE)))),0)","v":0},{"$f":"IF(G29=\"\",\"\",IF(G29=\"DD\",VLOOKUP(C29,Items!A:AH,34,FALSE),IF(G29=\"ID\",VLOOKUP(C29,Items!A:AG,33,FALSE))))","v":""},0,{"$f":"IF(I29=\"\",0,VLOOKUP(C29,Items!A:AF,32,FALSE))","v":0},0,0,"","","",0,0,{"$f":"IF(C29=\"\",0,D29*VLOOKUP(C29,Items!A:M,13,FALSE))","v":{"v":0,"d":"0.00"}},{"v":0,"d":"0.00"},{"$f":"IFERROR(IF(VLOOKUP(C29,'Modifications and Fees'!B:H,2,FALSE)=\"CR\",1*D29,0),0)","v":{"v":0,"d":"0.00"}},{"v":0,"d":"0.00"},{"$f":"ROUND(IFERROR(D29*X29*(VLOOKUP(E29,'Misc Dropdowns'!$J$12:$M$16,4,FALSE)),0),2)","v":{"v":0,"d":"0.00"}},{"$f":"ROUND(IFERROR(VLOOKUP(F29,'Misc Dropdowns'!$J$23:$M$27,4,FALSE)*X29*D29,0),2)","v":{"v":0,"d":"0.00"}},{"$f":"IF(C29=\"\",\"\",IF(AND(VLOOKUP(C29,Items!A:AI,35,FALSE)=\"Y\",'Order Form'!H29=\"\"),1,0))","v":""},{"v":0,"d":"0.00"}]
["1 Page",null,null,0,{"$nulls":7},{"v":0,"d":"0.00"},{"v":0,"d":"0.00"},{"$f":"IF(C30=\"\",\"\",VLOOKUP(C30,Items!A:N,12,FALSE))","v":""},{"$f":"IF(Q30=\"Craftsman Pricing\",\"CR\",IF(C30=\"\",\"\",IF('Misc Dropdowns'!$C$34=0,\"\",IF(E30&F30=\"\",VLOOKUP(AD30,'Misc Dropdowns'!$A$45:$B$47,2,FALSE),\"CR\"))))","v":""},{"$nulls":8},{"$f":"ROUND(IF($Q$18=\"\",0,IF(O30=\"SEL\",VLOOKUP(C30,Items!A:Y,25,FALSE),IF(O30=\"CR\",VLOOKUP(C30,Items!A:Z,26,FALSE),0))),2)","v":{"v":0,"d":"0.00"}},0,null,{"$f":"IFERROR(VLOOKUP(C30,Items!A:H,8,FALSE),0)","v":0},{"$f":"IF(C30=\"\",\"\",IF(E30&F30=\"\",VLOOKUP(C30,Items!A:D,4,FALSE),3))","v":""},{"$f":"IF(C30=\"\",\"\",'Misc Dropdowns'!$C$35)","v":""},{"v":0,"d":"0.00"},0,{"$f":"IF($O30=\"SEL\",VLOOKUP($C30,Items!A:F,6,FALSE),IF($O30=\"CR\",VLOOKUP('Order Form'!$C30,Items!A:G,7,FALSE),0))","v":0},{"$f":"IFERROR(AF30*(VLOOKUP(E30,'Misc Dropdowns'!$J$12:$M$16,4,FALSE)),0)","v":0},{"$f":"IFERROR(VLOOKUP(F30,'Misc Dropdowns'!$J$23:$M$27,4,FALSE)*AF30,0)","v":0},{"$f":"IFERROR(IF(ISNUMBER(FIND(\"PD\",I30,1)),AK30*5,0)+(AK30*(15*(VLOOKUP(C30,Items!A:AE,31,FALSE)))),0)","v":0},{"$f":"IF(G30=\"\",\"\",IF(G30=\"DD\",VLOOKUP(C30,Items!A:AH,34,FALSE),IF(G30=\"ID\",VLOOKUP(C30,Items!A:AG,33,FALSE))))","v":""},0,{"$f":"IF(I30=\"\",0,VLOOKUP(C30,Items!A:AF,32,FALSE))","v":0},0,0,"","","",0,0,{"$f":"IF(C30=\"\",0,D30*VLOOKUP(C30,Items!A:M,13,FALSE))","v":{"v":0,"d":"0.00"}},{"v":0,"d":"0.00"},{"$f":"IFERROR(IF(VLOOKUP(C30,'Modifications and Fees'!B:H,2,FALSE)=\"CR\",1*D30,0),0)","v":{"v":0,"d":"0.00"}},{"v":0,"d":"0.00"},{"$f":"ROUND(IFERROR(D30*X30*(VLOOKUP(E30,'Misc Dropdowns'!$J$12:$M$16,4,FALSE)),0),2)","v":{"v":0,"d":"0.00"}},{"$f":"ROUND(IFERROR(VLOOKUP(F30,'Misc Dropdowns'!$J$23:$M$27,4,FALSE)*X30*D30,0),2)","v":{"v":0,"d":"0.00"}},{"$f":"IF(C30=\"\",\"\",IF(AND(VLOOKUP(C30,Items!A:AI,35,FALSE)=\"Y\",'Order Form'!H30=\"\"),1,0))","v":""},{"v":0,"d":"0.00"}]
["1 Page",null,null,0,{"$nulls":7},{"v":0,"d":"0.00"},{"v":0,"d":"0.00"},{"$f":"IF(C31=\"\",\"\",VLOOKUP(C31,Items!A:N,12,FALSE))","v":""},{"$f":"IF(Q31=\"Craftsman Pricing\",\"CR\",IF(C31=\"\",\"\",IF('Misc Dropdowns'!$C$34=0,\"\",IF(E31&F31=\"\",VLOOKUP(AD31,'Misc Dropdowns'!$A$45:$B$47,2,FALSE),\"CR\"))))","v":""},{"$nulls":8},{"$f":"ROUND(IF($Q$18=\"\",0,IF(O31=\"SEL\",VLOOKUP(C31,Items!A:Y,25,FALSE),IF(O31=\"CR\",VLOOKUP(C31,Items!A:Z,26,FALSE),0))),2)","v":{"v":0,"d":"0.00"}},0,null,{"$f":"IFERROR(VLOOKUP(C31,Items!A:H,8,FALSE),0)","v":0},{"$f":"IF(C31=\"\",\"\",IF(E31&F31=\"\",VLOOKUP(C31,Items!A:D,4,FALSE),3))","v":""},{"$f":"IF(C31=\"\",\"\",'Misc Dropdowns'!$C$35)","v":""},{"v":0,"d":"0.00"},0,{"$f":"IF($O31=\"SEL\",VLOOKUP($C31,Items!A:F,6,FALSE),IF($O31=\"CR\",VLOOKUP('Order Form'!$C31,Items!A:G,7,FALSE),0))","v":{"v":0,"d":"0.00"}},{"$f":"IFERROR(AF31*(VLOOKUP(E31,'Misc Dropdowns'!$J$12:$M$16,4,FALSE)),0)","v":0},{"$f":"IFERROR(VLOOKUP(F31,'Misc Dropdowns'!$J$23:$M$27,4,FALSE)*AF31,0)","v":0},{"$f":"IFERROR(IF(ISNUMBER(FIND(\"PD\",I31,1)),AK31*5,0)+(AK31*(15*(VLOOKUP(C31,Items!A:AE,31,FALSE)))),0)","v":0},{"$f":"IF(G31=\"\",\"\",IF(G31=\"DD\",VLOOKUP(C31,Items!A:AH,34,FALSE),IF(G31=\"ID\",VLOOKUP(C31,Items!A:AG,33,FALSE))))","v":""},0,{"$f":"IF(I31=\"\",0,VLOOKUP(C31,Items!A:AF,32,FALSE))","v":0},0,0,"","","",0,0,{"$f":"IF(C31=\"\",0,D31*VLOOKUP(C31,Items!A:M,13,FALSE))","v":{"v":0,"d":"0.00"}},{"v":0,"d":"0.00"},{"$f":"IFERROR(IF(VLOOKUP(C31,'Modifications and Fees'!B:H,2,FALSE)=\"CR\",1*D31,0),0)","v":{"v":0,"d":"0.00"}},{"v":0,"d":"0.00"},{"$f":"ROUND(IFERROR(D31*X31*(VLOOKUP(E31,'Misc Dropdowns'!$J$12:$M$16,4,FALSE)),0),2)","v":{"v":0,"d":"0.00"}},{"$f":"ROUND(IFERROR(VLOOKUP(F31,'Misc Dropdowns'!$J$23:$M$27,4,FALSE)*X31*D31,0),2)","v":{"v":0,"d":"0.00"}},{"$f":"IF(C31=\"\",\"\",IF(AND(VLOOKUP(C31,Items!A:AI,35,FALSE)=\"Y\",'Order Form'!H31=\"\"),1,0))","v":""},{"v":0,"d":"0.00"}]
["1 Page",null,null,0,{"$nulls":7},{"v":0,"d":"0.00"},{"v":0,"d":"0.00"},{"$f":"IF(C32=\"\",\"\",VLOOKUP(C32,Items!A:N,12,FALSE))","v":""},{"$f":"IF(Q32=\"Craftsman Pricing\",\"CR\",IF(C32=\"\",\"\",IF('Misc Dropdowns'!$C$34=0,\"\",IF(E32&F32=\"\",VLOOKUP(AD32,'Misc Dropdowns'!$A$45:$B$47,2,FALSE),\"CR\"))))","v":""},{"$nulls":8},{"$f":"ROUND(IF($Q$18=\"\",0,IF(O32=\"SEL\",VLOOKUP(C32,Items!A:Y,25,FALSE),IF(O32=\"CR\",VLOOKUP(C32,Items!A:Z,26,FALSE),0))),2)","v":{"v":0,"d":"0.00"}},0,null,{"$f":"IFERROR(VLOOKUP(C32,Items!A:H,8,FALSE),0)","v":0},{"$f":"IF(C32=\"\",\"\",IF(E32&F32=\"\",VLOOKUP(C32,Items!A:D,4,FALSE),3))","v":""},{"$f":"IF(C32=\"\",\"\",'Misc Dropdowns'!$C$35)","v":""},{"v":0,"d":"0.00"},0,{"$f":"IF($O32=\"SEL\",VLOOKUP($C32,Items!A:F,6,FALSE),IF($O32=\"CR\",VLOOKUP('Order Form'!$C32,Items!A:G,7,FALSE),0))","v":0},{"$f":"IFERROR(AF32*(VLOOKUP(E32,'Misc Dropdowns'!$J$12:$M$16,4,FALSE)),0)","v":0},{"$f":"IFERROR(VLOOKUP(F32,'Misc Dropdowns'!$J$23:$M$27,4,FALSE)*AF32,0)","v":0},{"$f":"IFERROR(IF(ISNUMBER(FIND(\"PD\",I32,1)),AK32*5,0)+(AK32*(15*(VLOOKUP(C32,Items!A:AE,31,FALSE)))),0)","v":0},{"$f":"IF(G32=\"\",\"\",IF(G32=\"DD\",VLOOKUP(C32,Items!A:AH,34,FALSE),IF(G32=\"ID\",VLOOKUP(C32,Items!A:AG,33,FALSE))))","v":""},0,{"$f":"IF(I32=\"\",0,VLOOKUP(C32,Items!A:AF,32,FALSE))","v":0},0,0,"","","",0,0,{"$f":"IF(C32=\"\",0,D32*VLOOKUP(C32,Items!A:M,13,FALSE))","v":{"v":0,"d":"0.00"}},{"v":0,"d":"0.00"},{"$f":"IFERROR(IF(VLOOKUP(C32,'Modifications and Fees'!B:H,2,FALSE)=\"CR\",1*D32,0),0)","v":{"v":0,"d":"0.00"}},{"v":0,"d":"0.00"},{"$f":"ROUND(IFERROR(D32*X32*(VLOOKUP(E32,'Misc Dropdowns'!$J$12:$M$16,4,FALSE)),0),2)","v":{"v":0,"d":"0.00"}},{"$f":"ROUND(IFERROR(VLOOKUP(F32,'Misc Dropdowns'!$J$23:$M$27,4,FALSE)*X32*D32,0),2)","v":{"v":0,"d":"0.00"}},{"$f":"IF(C32=\"\",\"\",IF(AND(VLOOKUP(C32,Items!A:AI,35,FALSE)=\"Y\",'Order Form'!H32=\"\"),1,0))","v":""},{"v":0,"d":"0.00"}]
["1 Page",null,null,0,{"$nulls":7},{"v":0,"d":"0.00"},{"v":0,"d":"0.00"},{"$f":"IF(C33=\"\",\"\",VLOOKUP(C33,Items!A:N,12,FALSE))","v":""},{"$f":"IF(Q33=\"Craftsman Pricing\",\"CR\",IF(C33=\"\",\"\",IF('Misc Dropdowns'!$C$34=0,\"\",IF(E33&F33=\"\",VLOOKUP(AD33,'Misc Dropdowns'!$A$45:$B$47,2,FALSE),\"CR\"))))","v":""},{"$nulls":8},{"$f":"ROUND(IF($Q$18=\"\",0,IF(O33=\"SEL\",VLOOKUP(C33,Items!A:Y,25,FALSE),IF(O33=\"CR\",VLOOKUP(C33,Items!A:Z,26,FALSE),0))),2)","v":{"v":0,"d":"0.00"}},0,null,{"$f":"IFERROR(VLOOKUP(C33,Items!A:H,8,FALSE),0)","v":0},{"$f":"IF(C33=\"\",\"\",IF(E33&F33=\"\",VLOOKUP(C33,Items!A:D,4,FALSE),3))","v":""},{"$f":"IF(C33=\"\",\"\",'Misc Dropdowns'!$C$35)","v":""},{"v":0,"d":"0.00"},0,{"$f":"IF($O33=\"SEL\",VLOOKUP($C33,Items!A:F,6,FALSE),IF($O33=\"CR\",VLOOKUP('Order Form'!$C33,Items!A:G,7,FALSE),0))","v":0},{"$f":"IFERROR(AF33*(VLOOKUP(E33,'Misc Dropdowns'!$J$12:$M$16,4,FALSE)),0)","v":0},{"$f":"IFERROR(VLOOKUP(F33,'Misc Dropdowns'!$J$23:$M$27,4,FALSE)*AF33,0)","v":0},{"$f":"IFERROR(IF(ISNUMBER(FIND(\"PD\",I33,1)),AK33*5,0)+(AK33*(15*(VLOOKUP(C33,Items!A:AE,31,FALSE)))),0)","v":0},{"$f":"IF(G33=\"\",\"\",IF(G33=\"DD\",VLOOKUP(C33,Items!A:AH,34,FALSE),IF(G33=\"ID\",VLOOKUP(C33,Items!A:AG,33,FALSE))))","v":""},0,{"$f":"IF(I33=\"\",0,VLOOKUP(C33,Items!A:AF,32,FALSE))","v":0},0,0,"","","",0,0,{"$f":"IF(C33=\"\",0,D33*VLOOKUP(C33,Items!A:M,13,FALSE))","v":{"v":0,"d":"0.00"}},{"v":0,"d":"0.00"},{"$f":"IFERROR(IF(VLOOKUP(C33,'Modifications and Fees'!B:H,2,FALSE)=\"CR\",1*D33,0),0)","v":{"v":0,"d":"0.00"}},{"v":0,"d":"0.00"},{"$f":"ROUND(IFERROR(D33*X33*(VLOOKUP(E33,'Misc Dropdowns'!$J$12:$M$16,4,FALSE)),0),2)","v":{"v":0,"d":"0.00"}},{"$f":"ROUND(IFERROR(VLOOKUP(F33,'Misc Dropdowns'!$J$23:$M$27,4,FALSE)*X33*D33,0),2)","v":{"v":0,"d":"0.00"}},{"$f":"IF(C33=\"\",\"\",IF(AND(VLOOKUP(C33,Items!A:AI,35,FALSE)=\"Y\",'Order Form'!H33=\"\"),1,0))","v":""},{"v":0,"d":"0.00"}]
["1 Page",null,null,0,{"$nulls":7},{"v":0,"d":"0.00"},{"v":0,"d":"0.00"},{"$f":"IF(C34=\"\",\"\",VLOOKUP(C34,Items!A:N,12,FALSE))","v":""},{"$f":"IF(Q34=\"Craftsman Pricing\",\"CR\",IF(C34=\"\",\"\",IF('Misc Dropdowns'!$C$34=0,\"\",IF(E34&F34=\"\",VLOOKUP(AD34,'Misc Dropdowns'!$A$45:$B$47,2,FALSE),\"CR\"))))","v":""},{"$nulls":8},{"$f":"ROUND(IF($Q$18=\"\",0,IF(O34=\"SEL\",VLOOKUP(C34,Items!A:Y,25,FALSE),IF(O34=\"CR\",VLOOKUP(C34,Items!A:Z,26,FALSE),0))),2)","v":{"v":0,"d":"0.00"}},0,null,{"$f":"IFERROR(VLOOKUP(C34,Items!A:H,8,FALSE),0)","v":0},{"$f":"IF(C34=\"\",\"\",IF(E34&F34=\"\",VLOOKUP(C34,Items!A:D,4,FALSE),3))","v":""},{"$f":"IF(C34=\"\",\"\",'Misc Dropdowns'!$C$35)","v":""},{"v":0,"d":"0.00"},0,{"$f":"IF($O34=\"SEL\",VLOOKUP($C34,Items!A:F,6,FALSE),IF($O34=\"CR\",VLOOKUP('Order Form'!$C34,Items!A:G,7,FALSE),0))","v":0},{"$f":"IFERROR(AF34*(VLOOKUP(E34,'Misc Dropdowns'!$J$12:$M$16,4,FALSE)),0)","v":0},{"$f":"IFERROR(VLOOKUP(F34,'Misc Dropdowns'!$J$23:$M$27,4,FALSE)*AF34,0)","v":0},{"$f":"IFERROR(IF(ISNUMBER(FIND(\"PD\",I34,1)),AK34*5,0)+(AK34*(15*(VLOOKUP(C34,Items!A:AE,31,FALSE)))),0)","v":0},{"$f":"IF(G34=\"\",\"\",IF(G34=\"DD\",VLOOKUP(C34,Items!A:AH,34,FALSE),IF(G34=\"ID\",VLOOKUP(C34,Items!A:AG,33,FALSE))))","v":""},0,{"$f":"IF(I34=\"\",0,VLOOKUP(C34,Items!A:AF,32,FALSE))","v":0},0,0,"","","",0,0,{"$f":"IF(C34=\"\",0,D34*VLOOKUP(C34,Items!A:M,13,FALSE))","v":{"v":0,"d":"0.00"}},{"v":0,"d":"0.00"},{"$f":"IFERROR(IF(VLOOKUP(C34,'Modifications and Fees'!B:H,2,FALSE)=\"CR\",1*D34,0),0)","v":{"v":0,"d":"0.00"}},{"v":0,"d":"0.00"},{"$f":"ROUND(IFERROR(D34*X34*(VLOOKUP(E34,'Misc Dropdowns'!$J$12:$M$16,4,FALSE)),0),2)","v":{"v":0,"d":"0.00"}},{"$f":"ROUND(IFERROR(VLOOKUP(F34,'Misc Dropdowns'!$J$23:$M$27,4,FALSE)*X34*D34,0),2)","v":{"v":0,"d":"0.00"}},{"$f":"IF(C34=\"\",\"\",IF(AND(VLOOKUP(C34,Items!A:AI,35,FALSE)=\"Y\",'Order Form'!H34=\"\"),1,0))","v":""},{"v":0,"d":"0.00"}]
["1 Page",null,null,0,{"$nulls":7},{"v":0,"d":"0.00"},{"v":0,"d":"0.00"},{"$f":"IF(C35=\"\",\"\",VLOOKUP(C35,Items!A:N,12,FALSE))","v":""},{"$f":"IF(Q35=\"Craftsman Pricing\",\"CR\",IF(C35=\"\",\"\",IF('Misc Dropdowns'!$C$34=0,\"\",IF(E35&F35=\"\",VLOOKUP(AD35,'Misc Dropdowns'!$A$45:$B$47,2,FALSE),\"CR\"))))","v":""},{"$nulls":8},{"$f":"ROUND(IF($Q$18=\"\",0,IF(O35=\"SEL\",VLOOKUP(C35,Items!A:Y,25,FALSE),IF(O35=\"CR\",VLOOKUP(C35,Items!A:Z,26,FALSE),0))),2)","v":{"v":0,"d":"0.00"}},0,null,{"$f":"IFERROR(VLOOKUP(C35,Items!A:H,8,FALSE),0)","v":0},{"$f":"IF(C35=\"\",\"\",IF(E35&F35=\"\",VLOOKUP(C35,Items!A:D,4,FALSE),3))","v":""},{"$f":"IF(C35=\"\",\"\",'Misc Dropdowns'!$C$35)","v":""},{"v":0,"d":"0.00"},0,{"$f":"IF($O35=\"SEL\",VLOOKUP($C35,Items!A:F,6,FALSE),IF($O35=\"CR\",VLOOKUP('Order Form'!$C35,Items!A:G,7,FALSE),0))","v":0},{"$f":"IFERROR(AF35*(VLOOKUP(E35,'Misc Dropdowns'!$J$12:$M$16,4,FALSE)),0)","v":0},{"$f":"IFERROR(VLOOKUP(F35,'Misc Dropdowns'!$J$23:$M$27,4,FALSE)*AF35,0)","v":0},{"$f":"IFERROR(IF(ISNUMBER(FIND(\"PD\",I35,1)),AK35*5,0)+(AK35*(15*(VLOOKUP(C35,Items!A:AE,31,FALSE)))),0)","v":0},{"$f":"IF(G35=\"\",\"\",IF(G35=\"DD\",VLOOKUP(C35,Items!A:AH,34,FALSE),IF(G35=\"ID\",VLOOKUP(C35,Items!A:AG,33,FALSE))))","v":""},0,{"$f":"IF(I35=\"\",0,VLOOKUP(C35,Items!A:AF,32,FALSE))","v":0},0,0,"","","",0,0,{"$f":"IF(C35=\"\",0,D35*VLOOKUP(C35,Items!A:M,13,FALSE))","v":{"v":0,"d":"0.00"}},{"v":0,"d":"0.00"},{"$f":"IFERROR(IF(VLOOKUP(C35,'Modifications and Fees'!B:H,2,FALSE)=\"CR\",1*D35,0),0)","v":{"v":0,"d":"0.00"}},{"v":0,"d":"0.00"},{"$f":"ROUND(IFERROR(D35*X35*(VLOOKUP(E35,'Misc Dropdowns'!$J$12:$M$16,4,FALSE)),0),2)","v":{"v":0,"d":"0.00"}},{"$f":"ROUND(IFERROR(VLOOKUP(F35,'Misc Dropdowns'!$J$23:$M$27,4,FALSE)*X35*D35,0),2)","v":{"v":0,"d":"0.00"}},{"$f":"IF(C35=\"\",\"\",IF(AND(VLOOKUP(C35,Items!A:AI,35,FALSE)=\"Y\",'Order Form'!H35=\"\"),1,0))","v":""},{"v":0,"d":"0.00"}]
["1 Page",null,null,0,{"$nulls":7},{"v":0,"d":"0.00"},{"v":0,"d":"0.00"},{"$f":"IF(C36=\"\",\"\",VLOOKUP(C36,Items!A:N,12,FALSE))","v":""},{"$f":"IF(Q36=\"Craftsman Pricing\",\"CR\",IF(C36=\"\",\"\",IF('Misc Dropdowns'!$C$34=0,\"\",IF(E36&F36=\"\",VLOOKUP(AD36,'Misc Dropdowns'!$A$45:$B$47,2,FALSE),\"CR\"))))","v":""},{"$nulls":8},{"$f":"ROUND(IF($Q$18=\"\",0,IF(O36=\"SEL\",VLOOKUP(C36,Items!A:Y,25,FALSE),IF(O36=\"CR\",VLOOKUP(C36,Items!A:Z,26,FALSE),0))),2)","v":{"v":0,"d":"0.00"}},0,null,{"$f":"IFERROR(VLOOKUP(C36,Items!A:H,8,FALSE),0)","v":0},{"$f":"IF(C36=\"\",\"\",IF(E36&F36=\"\",VLOOKUP(C36,Items!A:D,4,FALSE),3))","v":""},{"$f":"IF(C36=\"\",\"\",'Misc Dropdowns'!$C$35)","v":""},{"v":0,"d":"0.00"},0,{"$f":"IF($O36=\"SEL\",VLOOKUP($C36,Items!A:F,6,FALSE),IF($O36=\"CR\",VLOOKUP('Order Form'!$C36,Items!A:G,7,FALSE),0))","v":0},{"$f":"IFERROR(AF36*(VLOOKUP(E36,'Misc Dropdowns'!$J$12:$M$16,4,FALSE)),0)","v":0},{"$f":"IFERROR(VLOOKUP(F36,'Misc Dropdowns'!$J$23:$M$27,4,FALSE)*AF36,0)","v":0},{"$f":"IFERROR(IF(ISNUMBER(FIND(\"PD\",I36,1)),AK36*5,0)+(AK36*(15*(VLOOKUP(C36,Items!A:AE,31,FALSE)))),0)","v":0},{"$f":"IF(G36=\"\",\"\",IF(G36=\"DD\",VLOOKUP(C36,Items!A:AH,34,FALSE),IF(G36=\"ID\",VLOOKUP(C36,Items!A:AG,33,FALSE))))","v":""},0,{"$f":"IF(I36=\"\",0,VLOOKUP(C36,Items!A:AF,32,FALSE))","v":0},0,0,"","","",0,0,{"$f":"IF(C36=\"\",0,D36*VLOOKUP(C36,Items!A:M,13,FALSE))","v":{"v":0,"d":"0.00"}},{"v":0,"d":"0.00"},{"$f":"IFERROR(IF(VLOOKUP(C36,'Modifications and Fees'!B:H,2,FALSE)=\"CR\",1*D36,0),0)","v":{"v":0,"d":"0.00"}},{"v":0,"d":"0.00"},{"$f":"ROUND(IFERROR(D36*X36*(VLOOKUP(E36,'Misc Dropdowns'!$J$12:$M$16,4,FALSE)),0),2)","v":{"v":0,"d":"0.00"}},{"$f":"ROUND(IFERROR(VLOOKUP(F36,'Misc Dropdowns'!$J$23:$M$27,4,FALSE)*X36*D36,0),2)","v":{"v":0,"d":"0.00"}},{"$f":"IF(C36=\"\",\"\",IF(AND(VLOOKUP(C36,Items!A:AI,35,FALSE)=\"Y\",'Order Form'!H36=\"\"),1,0))","v":""},{"v":0,"d":"0.00"}]
["1 Page",null,null,0,{"$nulls":7},{"v":0,"d":"0.00"},{"v":0,"d":"0.00"},{"$f":"IF(C37=\"\",\"\",VLOOKUP(C37,Items!A:N,12,FALSE))","v":""},{"$f":"IF(Q37=\"Craftsman Pricing\",\"CR\",IF(C37=\"\",\"\",IF('Misc Dropdowns'!$C$34=0,\"\",IF(E37&F37=\"\",VLOOKUP(AD37,'Misc Dropdowns'!$A$45:$B$47,2,FALSE),\"CR\"))))","v":""},{"$nulls":8},{"$f":"ROUND(IF($Q$18=\"\",0,IF(O37=\"SEL\",VLOOKUP(C37,Items!A:Y,25,FALSE),IF(O37=\"CR\",VLOOKUP(C37,Items!A:Z,26,FALSE),0))),2)","v":{"v":0,"d":"0.00"}},0,null,{"$f":"IFERROR(VLOOKUP(C37,Items!A:H,8,FALSE),0)","v":0},{"$f":"IF(C37=\"\",\"\",IF(E37&F37=\"\",VLOOKUP(C37,Items!A:D,4,FALSE),3))","v":""},{"$f":"IF(C37=\"\",\"\",'Misc Dropdowns'!$C$35)","v":""},{"v":0,"d":"0.00"},0,{"$f":"IF($O37=\"SEL\",VLOOKUP($C37,Items!A:F,6,FALSE),IF($O37=\"CR\",VLOOKUP('Order Form'!$C37,Items!A:G,7,FALSE),0))","v":0},{"$f":"IFERROR(AF37*(VLOOKUP(E37,'Misc Dropdowns'!$J$12:$M$16,4,FALSE)),0)","v":0},{"$f":"IFERROR(VLOOKUP(F37,'Misc Dropdowns'!$J$23:$M$27,4,FALSE)*AF37,0)","v":0},{"$f":"IFERROR(IF(ISNUMBER(FIND(\"PD\",I37,1)),AK37*5,0)+(AK37*(15*(VLOOKUP(C37,Items!A:AE,31,FALSE)))),0)","v":0},{"$f":"IF(G37=\"\",\"\",IF(G37=\"DD\",VLOOKUP(C37,Items!A:AH,34,FALSE),IF(G37=\"ID\",VLOOKUP(C37,Items!A:AG,33,FALSE))))","v":""},0,{"$f":"IF(I37=\"\",0,VLOOKUP(C37,Items!A:AF,32,FALSE))","v":0},0,0,"","","",0,0,{"$f":"IF(C37=\"\",0,D37*VLOOKUP(C37,Items!A:M,13,FALSE))","v":{"v":0,"d":"0.00"}},{"v":0,"d":"0.00"},{"$f":"IFERROR(IF(VLOOKUP(C37,'Modifications and Fees'!B:H,2,FALSE)=\"CR\",1*D37,0),0)","v":{"v":0,"d":"0.00"}},{"v":0,"d":"0.00"},{"$f":"ROUND(IFERROR(D37*X37*(VLOOKUP(E37,'Misc Dropdowns'!$J$12:$M$16,4,FALSE)),0),2)","v":{"v":0,"d":"0.00"}},{"$f":"ROUND(IFERROR(VLOOKUP(F37,'Misc Dropdowns'!$J$23:$M$27,4,FALSE)*X37*D37,0),2)","v":{"v":0,"d":"0.00"}},{"$f":"IF(C37=\"\",\"\",IF(AND(VLOOKUP(C37,Items!A:AI,35,FALSE)=\"Y\",'Order Form'!H37=\"\"),1,0))","v":""},{"v":0,"d":"0.00"}]
["1 Page",null,null,0,{"$nulls":7},{"v":0,"d":"0.00"},{"v":0,"d":"0.00"},{"$f":"IF(C38=\"\",\"\",VLOOKUP(C38,Items!A:N,12,FALSE))","v":""},{"$f":"IF(Q38=\"Craftsman Pricing\",\"CR\",IF(C38=\"\",\"\",IF('Misc Dropdowns'!$C$34=0,\"\",IF(E38&F38=\"\",VLOOKUP(AD38,'Misc Dropdowns'!$A$45:$B$47,2,FALSE),\"CR\"))))","v":""},{"$nulls":8},{"$f":"ROUND(IF($Q$18=\"\",0,IF(O38=\"SEL\",VLOOKUP(C38,Items!A:Y,25,FALSE),IF(O38=\"CR\",VLOOKUP(C38,Items!A:Z,26,FALSE),0))),2)","v":{"v":0,"d":"0.00"}},0,null,{"$f":"IFERROR(VLOOKUP(C38,Items!A:H,8,FALSE),0)","v":0},{"$f":"IF(C38=\"\",\"\",IF(E38&F38=\"\",VLOOKUP(C38,Items!A:D,4,FALSE),3))","v":""},{"$f":"IF(C38=\"\",\"\",'Misc Dropdowns'!$C$35)","v":""},{"v":0,"d":"0.00"},0,{"$f":"IF($O38=\"SEL\",VLOOKUP($C38,Items!A:F,6,FALSE),IF($O38=\"CR\",VLOOKUP('Order Form'!$C38,Items!A:G,7,FALSE),0))","v":0},{"$f":"IFERROR(AF38*(VLOOKUP(E38,'Misc Dropdowns'!$J$12:$M$16,4,FALSE)),0)","v":0},{"$f":"IFERROR(VLOOKUP(F38,'Misc Dropdowns'!$J$23:$M$27,4,FALSE)*AF38,0)","v":0},{"$f":"IFERROR(IF(ISNUMBER(FIND(\"PD\",I38,1)),AK38*5,0)+(AK38*(15*(VLOOKUP(C38,Items!A:AE,31,FALSE)))),0)","v":0},{"$f":"IF(G38=\"\",\"\",IF(G38=\"DD\",VLOOKUP(C38,Items!A:AH,34,FALSE),IF(G38=\"ID\",VLOOKUP(C38,Items!A:AG,33,FALSE))))","v":""},0,{"$f":"IF(I38=\"\",0,VLOOKUP(C38,Items!A:AF,32,FALSE))","v":0},0,0,"","","",0,0,{"$f":"IF(C38=\"\",0,D38*VLOOKUP(C38,Items!A:M,13,FALSE))","v":{"v":0,"d":"0.00"}},{"v":0,"d":"0.00"},{"$f":"IFERROR(IF(VLOOKUP(C38,'Modifications and Fees'!B:H,2,FALSE)=\"CR\",1*D38,0),0)","v":{"v":0,"d":"0.00"}},{"v":0,"d":"0.00"},{"$f":"ROUND(IFERROR(D38*X38*(VLOOKUP(E38,'Misc Dropdowns'!$J$12:$M$16,4,FALSE)),0),2)","v":{"v":0,"d":"0.00"}},{"$f":"ROUND(IFERROR(VLOOKUP(F38,'Misc Dropdowns'!$J$23:$M$27,4,FALSE)*X38*D38,0),2)","v":{"v":0,"d":"0.00"}},{"$f":"IF(C38=\"\",\"\",IF(AND(VLOOKUP(C38,Items!A:AI,35,FALSE)=\"Y\",'Order Form'!H38=\"\"),1,0))","v":""},{"v":0,"d":"0.00"}]
["1 Page",null,null,0,{"$nulls":7},{"v":0,"d":"0.00"},{"v":0,"d":"0.00"},{"$f":"IF(C39=\"\",\"\",VLOOKUP(C39,Items!A:N,12,FALSE))","v":""},{"$f":"IF(Q39=\"Craftsman Pricing\",\"CR\",IF(C39=\"\",\"\",IF('Misc Dropdowns'!$C$34=0,\"\",IF(E39&F39=\"\",VLOOKUP(AD39,'Misc Dropdowns'!$A$45:$B$47,2,FALSE),\"CR\"))))","v":""},{"$nulls":8},{"$f":"ROUND(IF($Q$18=\"\",0,IF(O39=\"SEL\",VLOOKUP(C39,Items!A:Y,25,FALSE),IF(O39=\"CR\",VLOOKUP(C39,Items!A:Z,26,FALSE),0))),2)","v":{"v":0,"d":"0.00"}},0,null,{"$f":"IFERROR(VLOOKUP(C39,Items!A:H,8,FALSE),0)","v":0},{"$f":"IF(C39=\"\",\"\",IF(E39&F39=\"\",VLOOKUP(C39,Items!A:D,4,FALSE),3))","v":""},{"$f":"IF(C39=\"\",\"\",'Misc Dropdowns'!$C$35)","v":""},{"v":0,"d":"0.00"},0,{"$f":"IF($O39=\"SEL\",VLOOKUP($C39,Items!A:F,6,FALSE),IF($O39=\"CR\",VLOOKUP('Order Form'!$C39,Items!A:G,7,FALSE),0))","v":0},{"$f":"IFERROR(AF39*(VLOOKUP(E39,'Misc Dropdowns'!$J$12:$M$16,4,FALSE)),0)","v":0},{"$f":"IFERROR(VLOOKUP(F39,'Misc Dropdowns'!$J$23:$M$27,4,FALSE)*AF39,0)","v":0},{"$f":"IFERROR(IF(ISNUMBER(FIND(\"PD\",I39,1)),AK39*5,0)+(AK39*(15*(VLOOKUP(C39,Items!A:AE,31,FALSE)))),0)","v":0},{"$f":"IF(G39=\"\",\"\",IF(G39=\"DD\",VLOOKUP(C39,Items!A:AH,34,FALSE),IF(G39=\"ID\",VLOOKUP(C39,Items!A:AG,33,FALSE))))","v":""},0,{"$f":"IF(I39=\"\",0,VLOOKUP(C39,Items!A:AF,32,FALSE))","v":0},0,0,"","","",0,0,{"$f":"IF(C39=\"\",0,D39*VLOOKUP(C39,Items!A:M,13,FALSE))","v":{"v":0,"d":"0.00"}},{"v":0,"d":"0.00"},{"$f":"IFERROR(IF(VLOOKUP(C39,'Modifications and Fees'!B:H,2,FALSE)=\"CR\",1*D39,0),0)","v":{"v":0,"d":"0.00"}},{"v":0,"d":"0.00"},{"$f":"ROUND(IFERROR(D39*X39*(VLOOKUP(E39,'Misc Dropdowns'!$J$12:$M$16,4,FALSE)),0),2)","v":{"v":0,"d":"0.00"}},{"$f":"ROUND(IFERROR(VLOOKUP(F39,'Misc Dropdowns'!$J$23:$M$27,4,FALSE)*X39*D39,0),2)","v":{"v":0,"d":"0.00"}},{"$f":"IF(C39=\"\",\"\",IF(AND(VLOOKUP(C39,Items!A:AI,35,FALSE)=\"Y\",'Order Form'!H39=\"\"),1,0))","v":""},{"v":0,"d":"0.00"}]
["1 Page",null,null,0,{"$nulls":7},{"v":0,"d":"0.00"},{"v":0,"d":"0.00"},{"$f":"IF(C40=\"\",\"\",VLOOKUP(C40,Items!A:N,12,FALSE))","v":""},{"$f":"IF(Q40=\"Craftsman Pricing\",\"CR\",IF(C40=\"\",\"\",IF('Misc Dropdowns'!$C$34=0,\"\",IF(E40&F40=\"\",VLOOKUP(AD40,'Misc Dropdowns'!$A$45:$B$47,2,FALSE),\"CR\"))))","v":""},{"$nulls":8},{"$f":"ROUND(IF($Q$18=\"\",0,IF(O40=\"SEL\",VLOOKUP(C40,Items!A:Y,25,FALSE),IF(O40=\"CR\",VLOOKUP(C40,Items!A:Z,26,FALSE),0))),2)","v":{"v":0,"d":"0.00"}},0,null,{"$f":"IFERROR(VLOOKUP(C40,Items!A:H,8,FALSE),0)","v":0},{"$f":"IF(C40=\"\",\"\",IF(E40&F40=\"\",VLOOKUP(C40,Items!A:D,4,FALSE),3))","v":""},{"$f":"IF(C40=\"\",\"\",'Misc Dropdowns'!$C$35)","v":""},{"v":0,"d":"0.00"},0,{"$f":"IF($O40=\"SEL\",VLOOKUP($C40,Items!A:F,6,FALSE),IF($O40=\"CR\",VLOOKUP('Order Form'!$C40,Items!A:G,7,FALSE),0))","v":0},{"$f":"IFERROR(AF40*(VLOOKUP(E40,'Misc Dropdowns'!$J$12:$M$16,4,FALSE)),0)","v":0},{"$f":"IFERROR(VLOOKUP(F40,'Misc Dropdowns'!$J$23:$M$27,4,FALSE)*AF40,0)","v":0},{"$f":"IFERROR(IF(ISNUMBER(FIND(\"PD\",I40,1)),AK40*5,0)+(AK40*(15*(VLOOKUP(C40,Items!A:AE,31,FALSE)))),0)","v":0},{"$f":"IF(G40=\"\",\"\",IF(G40=\"DD\",VLOOKUP(C40,Items!A:AH,34,FALSE),IF(G40=\"ID\",VLOOKUP(C40,Items!A:AG,33,FALSE))))","v":""},0,{"$f":"IF(I40=\"\",0,VLOOKUP(C40,Items!A:AF,32,FALSE))","v":0},0,0,"","","",0,0,{"$f":"IF(C40=\"\",0,D40*VLOOKUP(C40,Items!A:M,13,FALSE))","v":{"v":0,"d":"0.00"}},{"v":0,"d":"0.00"},{"$f":"IFERROR(IF(VLOOKUP(C40,'Modifications and Fees'!B:H,2,FALSE)=\"CR\",1*D40,0),0)","v":{"v":0,"d":"0.00"}},{"v":0,"d":"0.00"},{"$f":"ROUND(IFERROR(D40*X40*(VLOOKUP(E40,'Misc Dropdowns'!$J$12:$M$16,4,FALSE)),0),2)","v":{"v":0,"d":"0.00"}},{"$f":"ROUND(IFERROR(VLOOKUP(F40,'Misc Dropdowns'!$J$23:$M$27,4,FALSE)*X40*D40,0),2)","v":{"v":0,"d":"0.00"}},{"$f":"IF(C40=\"\",\"\",IF(AND(VLOOKUP(C40,Items!A:AI,35,FALSE)=\"Y\",'Order Form'!H40=\"\"),1,0))","v":""},{"v":0,"d":"0.00"}]
["1 Page",null,null,0,{"$nulls":7},{"v":0,"d":"0.00"},{"v":0,"d":"0.00"},{"$f":"IF(C41=\"\",\"\",VLOOKUP(C41,Items!A:N,12,FALSE))","v":""},{"$f":"IF(Q41=\"Craftsman Pricing\",\"CR\",IF(C41=\"\",\"\",IF('Misc Dropdowns'!$C$34=0,\"\",IF(E41&F41=\"\",VLOOKUP(AD41,'Misc Dropdowns'!$A$45:$B$47,2,FALSE),\"CR\"))))","v":""},{"$nulls":8},{"$f":"ROUND(IF($Q$18=\"\",0,IF(O41=\"SEL\",VLOOKUP(C41,Items!A:Y,25,FALSE),IF(O41=\"CR\",VLOOKUP(C41,Items!A:Z,26,FALSE),0))),2)","v":{"v":0,"d":"0.00"}},0,null,{"$f":"IFERROR(VLOOKUP(C41,Items!A:H,8,FALSE),0)","v":0},{"$f":"IF(C41=\"\",\"\",IF(E41&F41=\"\",VLOOKUP(C41,Items!A:D,4,FALSE),3))","v":""},{"$f":"IF(C41=\"\",\"\",'Misc Dropdowns'!$C$35)","v":""},{"v":0,"d":"0.00"},0,{"$f":"IF($O41=\"SEL\",VLOOKUP($C41,Items!A:F,6,FALSE),IF($O41=\"CR\",VLOOKUP('Order Form'!$C41,Items!A:G,7,FALSE),0))","v":0},{"$f":"IFERROR(AF41*(VLOOKUP(E41,'Misc Dropdowns'!$J$12:$M$16,4,FALSE)),0)","v":0},{"$f":"IFERROR(VLOOKUP(F41,'Misc Dropdowns'!$J$23:$M$27,4,FALSE)*AF41,0)","v":0},{"$f":"IFERROR(IF(ISNUMBER(FIND(\"PD\",I41,1)),AK41*5,0)+(AK41*(15*(VLOOKUP(C41,Items!A:AE,31,FALSE)))),0)","v":0},{"$f":"IF(G41=\"\",\"\",IF(G41=\"DD\",VLOOKUP(C41,Items!A:AH,34,FALSE),IF(G41=\"ID\",VLOOKUP(C41,Items!A:AG,33,FALSE))))","v":""},0,{"$f":"IF(I41=\"\",0,VLOOKUP(C41,Items!A:AF,32,FALSE))","v":0},0,0,"","","",0,0,{"$f":"IF(C41=\"\",0,D41*VLOOKUP(C41,Items!A:M,13,FALSE))","v":{"v":0,"d":"0.00"}},{"v":0,"d":"0.00"},{"$f":"IFERROR(IF(VLOOKUP(C41,'Modifications and Fees'!B:H,2,FALSE)=\"CR\",1*D41,0),0)","v":{"v":0,"d":"0.00"}},{"v":0,"d":"0.00"},{"$f":"ROUND(IFERROR(D41*X41*(VLOOKUP(E41,'Misc Dropdowns'!$J$12:$M$16,4,FALSE)),0),2)","v":{"v":0,"d":"0.00"}},{"$f":"ROUND(IFERROR(VLOOKUP(F41,'Misc Dropdowns'!$J$23:$M$27,4,FALSE)*X41*D41,0),2)","v":{"v":0,"d":"0.00"}},{"$f":"IF(C41=\"\",\"\",IF(AND(VLOOKUP(C41,Items!A:AI,35,FALSE)=\"Y\",'Order Form'!H41=\"\"),1,0))","v":""},{"v":0,"d":"0.00"}]
["1 Page",null,null,0,{"$nulls":7},{"v":0,"d":"0.00"},{"v":0,"d":"0.00"},{"$f":"IF(C42=\"\",\"\",VLOOKUP(C42,Items!A:N,12,FALSE))","v":""},{"$f":"IF(Q42=\"Craftsman Pricing\",\"CR\",IF(C42=\"\",\"\",IF('Misc Dropdowns'!$C$34=0,\"\",IF(E42&F42=\"\",VLOOKUP(AD42,'Misc Dropdowns'!$A$45:$B$47,2,FALSE),\"CR\"))))","v":""},{"$nulls":8},{"$f":"ROUND(IF($Q$18=\"\",0,IF(O42=\"SEL\",VLOOKUP(C42,Items!A:Y,25,FALSE),IF(O42=\"CR\",VLOOKUP(C42,Items!A:Z,26,FALSE),0))),2)","v":{"v":0,"d":"0.00"}},0,null,{"$f":"IFERROR(VLOOKUP(C42,Items!A:H,8,FALSE),0)","v":0},{"$f":"IF(C42=\"\",\"\",IF(E42&F42=\"\",VLOOKUP(C42,Items!A:D,4,FALSE),3))","v":""},{"$f":"IF(C42=\"\",\"\",'Misc Dropdowns'!$C$35)","v":""},{"v":0,"d":"0.00"},0,{"$f":"IF($O42=\"SEL\",VLOOKUP($C42,Items!A:F,6,FALSE),IF($O42=\"CR\",VLOOKUP('Order Form'!$C42,Items!A:G,7,FALSE),0))","v":0},{"$f":"IFERROR(AF42*(VLOOKUP(E42,'Misc Dropdowns'!$J$12:$M$16,4,FALSE)),0)","v":0},{"$f":"IFERROR(VLOOKUP(F42,'Misc Dropdowns'!$J$23:$M$27,4,FALSE)*AF42,0)","v":0},{"$f":"IFERROR(IF(ISNUMBER(FIND(\"PD\",I42,1)),AK42*5,0)+(AK42*(15*(VLOOKUP(C42,Items!A:AE,31,FALSE)))),0)","v":0},{"$f":"IF(G42=\"\",\"\",IF(G42=\"DD\",VLOOKUP(C42,Items!A:AH,34,FALSE),IF(G42=\"ID\",VLOOKUP(C42,Items!A:AG,33,FALSE))))","v":""},0,{"$f":"IF(I42=\"\",0,VLOOKUP(C42,Items!A:AF,32,FALSE))","v":0},0,0,"","","",0,0,{"$f":"IF(C42=\"\",0,D42*VLOOKUP(C42,Items!A:M,13,FALSE))","v":{"v":0,"d":"0.00"}},{"v":0,"d":"0.00"},{"$f":"IFERROR(IF(VLOOKUP(C42,'Modifications and Fees'!B:H,2,FALSE)=\"CR\",1*D42,0),0)","v":{"v":0,"d":"0.00"}},{"v":0,"d":"0.00"},{"$f":"ROUND(IFERROR(D42*X42*(VLOOKUP(E42,'Misc Dropdowns'!$J$12:$M$16,4,FALSE)),0),2)","v":{"v":0,"d":"0.00"}},{"$f":"ROUND(IFERROR(VLOOKUP(F42,'Misc Dropdowns'!$J$23:$M$27,4,FALSE)*X42*D42,0),2)","v":{"v":0,"d":"0.00"}},{"$f":"IF(C42=\"\",\"\",IF(AND(VLOOKUP(C42,Items!A:AI,35,FALSE)=\"Y\",'Order Form'!H42=\"\"),1,0))","v":""},{"v":0,"d":"0.00"}]
["1 Page",null,null,0,{"$nulls":7},{"v":0,"d":"0.00"},{"v":0,"d":"0.00"},{"$f":"IF(C43=\"\",\"\",VLOOKUP(C43,Items!A:N,12,FALSE))","v":""},{"$f":"IF(Q43=\"Craftsman Pricing\",\"CR\",IF(C43=\"\",\"\",IF('Misc Dropdowns'!$C$34=0,\"\",IF(E43&F43=\"\",VLOOKUP(AD43,'Misc Dropdowns'!$A$45:$B$47,2,FALSE),\"CR\"))))","v":""},{"$nulls":8},{"$f":"ROUND(IF($Q$18=\"\",0,IF(O43=\"SEL\",VLOOKUP(C43,Items!A:Y,25,FALSE),IF(O43=\"CR\",VLOOKUP(C43,Items!A:Z,26,FALSE),0))),2)","v":{"v":0,"d":"0.00"}},0,null,{"$f":"IFERROR(VLOOKUP(C43,Items!A:H,8,FALSE),0)","v":0},{"$f":"IF(C43=\"\",\"\",IF(E43&F43=\"\",VLOOKUP(C43,Items!A:D,4,FALSE),3))","v":""},{"$f":"IF(C43=\"\",\"\",'Misc Dropdowns'!$C$35)","v":""},{"v":0,"d":"0.00"},0,{"$f":"IF($O43=\"SEL\",VLOOKUP($C43,Items!A:F,6,FALSE),IF($O43=\"CR\",VLOOKUP('Order Form'!$C43,Items!A:G,7,FALSE),0))","v":0},{"$f":"IFERROR(AF43*(VLOOKUP(E43,'Misc Dropdowns'!$J$12:$M$16,4,FALSE)),0)","v":0},{"$f":"IFERROR(VLOOKUP(F43,'Misc Dropdowns'!$J$23:$M$27,4,FALSE)*AF43,0)","v":0},{"$f":"IFERROR(IF(ISNUMBER(FIND(\"PD\",I43,1)),AK43*5,0)+(AK43*(15*(VLOOKUP(C43,Items!A:AE,31,FALSE)))),0)","v":0},{"$f":"IF(G43=\"\",\"\",IF(G43=\"DD\",VLOOKUP(C43,Items!A:AH,34,FALSE),IF(G43=\"ID\",VLOOKUP(C43,Items!A:AG,33,FALSE))))","v":""},0,{"$f":"IF(I43=\"\",0,VLOOKUP(C43,Items!A:AF,32,FALSE))","v":0},0,0,"","","",0,0,{"$f":"IF(C43=\"\",0,D43*VLOOKUP(C43,Items!A:M,13,FALSE))","v":{"v":0,"d":"0.00"}},{"v":0,"d":"0.00"},{"$f":"IFERROR(IF(VLOOKUP(C43,'Modifications and Fees'!B:H,2,FALSE)=\"CR\",1*D43,0),0)","v":{"v":0,"d":"0.00"}},{"v":0,"d":"0.00"},{"$f":"ROUND(IFERROR(D43*X43*(VLOOKUP(E43,'Misc Dropdowns'!$J$12:$M$16,4,FALSE)),0),2)","v":{"v":0,"d":"0.00"}},{"$f":"ROUND(IFERROR(VLOOKUP(F43,'Misc Dropdowns'!$J$23:$M$27,4,FALSE)*X43*D43,0),2)","v":{"v":0,"d":"0.00"}},{"$f":"IF(C43=\"\",\"\",IF(AND(VLOOKUP(C43,Items!A:AI,35,FALSE)=\"Y\",'Order Form'!H43=\"\"),1,0))","v":""},{"v":0,"d":"0.00"}]
["1 Page",null,null,0,{"$nulls":7},{"v":0,"d":"0.00"},{"v":0,"d":"0.00"},{"$f":"IF(C44=\"\",\"\",VLOOKUP(C44,Items!A:N,12,FALSE))","v":""},{"$f":"IF(Q44=\"Craftsman Pricing\",\"CR\",IF(C44=\"\",\"\",IF('Misc Dropdowns'!$C$34=0,\"\",IF(E44&F44=\"\",VLOOKUP(AD44,'Misc Dropdowns'!$A$45:$B$47,2,FALSE),\"CR\"))))","v":""},{"$nulls":8},{"$f":"ROUND(IF($Q$18=\"\",0,IF(O44=\"SEL\",VLOOKUP(C44,Items!A:Y,25,FALSE),IF(O44=\"CR\",VLOOKUP(C44,Items!A:Z,26,FALSE),0))),2)","v":{"v":0,"d":"0.00"}},0,null,{"$f":"IFERROR(VLOOKUP(C44,Items!A:H,8,FALSE),0)","v":0},{"$f":"IF(C44=\"\",\"\",IF(E44&F44=\"\",VLOOKUP(C44,Items!A:D,4,FALSE),3))","v":""},{"$f":"IF(C44=\"\",\"\",'Misc Dropdowns'!$C$35)","v":""},{"v":0,"d":"0.00"},0,{"$f":"IF($O44=\"SEL\",VLOOKUP($C44,Items!A:F,6,FALSE),IF($O44=\"CR\",VLOOKUP('Order Form'!$C44,Items!A:G,7,FALSE),0))","v":0},{"$f":"IFERROR(AF44*(VLOOKUP(E44,'Misc Dropdowns'!$J$12:$M$16,4,FALSE)),0)","v":0},{"$f":"IFERROR(VLOOKUP(F44,'Misc Dropdowns'!$J$23:$M$27,4,FALSE)*AF44,0)","v":0},{"$f":"IFERROR(IF(ISNUMBER(FIND(\"PD\",I44,1)),AK44*5,0)+(AK44*(15*(VLOOKUP(C44,Items!A:AE,31,FALSE)))),0)","v":0},{"$f":"IF(G44=\"\",\"\",IF(G44=\"DD\",VLOOKUP(C44,Items!A:AH,34,FALSE),IF(G44=\"ID\",VLOOKUP(C44,Items!A:AG,33,FALSE))))","v":""},0,{"$f":"IF(I44=\"\",0,VLOOKUP(C44,Items!A:AF,32,FALSE))","v":0},0,0,"","","",0,0,{"$f":"IF(C44=\"\",0,D44*VLOOKUP(C44,Items!A:M,13,FALSE))","v":{"v":0,"d":"0.00"}},{"v":0,"d":"0.00"},{"$f":"IFERROR(IF(VLOOKUP(C44,'Modifications and Fees'!B:H,2,FALSE)=\"CR\",1*D44,0),0)","v":{"v":0,"d":"0.00"}},{"v":0,"d":"0.00"},{"$f":"ROUND(IFERROR(D44*X44*(VLOOKUP(E44,'Misc Dropdowns'!$J$12:$M$16,4,FALSE)),0),2)","v":{"v":0,"d":"0.00"}},{"$f":"ROUND(IFERROR(VLOOKUP(F44,'Misc Dropdowns'!$J$23:$M$27,4,FALSE)*X44*D44,0),2)","v":{"v":0,"d":"0.00"}},{"$f":"IF(C44=\"\",\"\",IF(AND(VLOOKUP(C44,Items!A:AI,35,FALSE)=\"Y\",'Order Form'!H44=\"\"),1,0))","v":""},{"v":0,"d":"0.00"}]
["1 Page",null,null,0,{"$nulls":7},{"v":0,"d":"0.00"},{"v":0,"d":"0.00"},{"$f":"IF(C45=\"\",\"\",VLOOKUP(C45,Items!A:N,12,FALSE))","v":""},{"$f":"IF(Q45=\"Craftsman Pricing\",\"CR\",IF(C45=\"\",\"\",IF('Misc Dropdowns'!$C$34=0,\"\",IF(E45&F45=\"\",VLOOKUP(AD45,'Misc Dropdowns'!$A$45:$B$47,2,FALSE),\"CR\"))))","v":""},{"$nulls":8},{"$f":"ROUND(IF($Q$18=\"\",0,IF(O45=\"SEL\",VLOOKUP(C45,Items!A:Y,25,FALSE),IF(O45=\"CR\",VLOOKUP(C45,Items!A:Z,26,FALSE),0))),2)","v":{"v":0,"d":"0.00"}},0,null,{"$f":"IFERROR(VLOOKUP(C45,Items!A:H,8,FALSE),0)","v":0},{"$f":"IF(C45=\"\",\"\",IF(E45&F45=\"\",VLOOKUP(C45,Items!A:D,4,FALSE),3))","v":""},{"$f":"IF(C45=\"\",\"\",'Misc Dropdowns'!$C$35)","v":""},{"v":0,"d":"0.00"},0,{"$f":"IF($O45=\"SEL\",VLOOKUP($C45,Items!A:F,6,FALSE),IF($O45=\"CR\",VLOOKUP('Order Form'!$C45,Items!A:G,7,FALSE),0))","v":0},{"$f":"IFERROR(AF45*(VLOOKUP(E45,'Misc Dropdowns'!$J$12:$M$16,4,FALSE)),0)","v":0},{"$f":"IFERROR(VLOOKUP(F45,'Misc Dropdowns'!$J$23:$M$27,4,FALSE)*AF45,0)","v":0},{"$f":"IFERROR(IF(ISNUMBER(FIND(\"PD\",I45,1)),AK45*5,0)+(AK45*(15*(VLOOKUP(C45,Items!A:AE,31,FALSE)))),0)","v":0},{"$f":"IF(G45=\"\",\"\",IF(G45=\"DD\",VLOOKUP(C45,Items!A:AH,34,FALSE),IF(G45=\"ID\",VLOOKUP(C45,Items!A:AG,33,FALSE))))","v":""},0,{"$f":"IF(I45=\"\",0,VLOOKUP(C45,Items!A:AF,32,FALSE))","v":0},0,0,"","","",0,0,{"$f":"IF(C45=\"\",0,D45*VLOOKUP(C45,Items!A:M,13,FALSE))","v":{"v":0,"d":"0.00"}},{"v":0,"d":"0.00"},{"$f":"IFERROR(IF(VLOOKUP(C45,'Modifications and Fees'!B:H,2,FALSE)=\"CR\",1*D45,0),0)","v":{"v":0,"d":"0.00"}},{"v":0,"d":"0.00"},{"$f":"ROUND(IFERROR(D45*X45*(VLOOKUP(E45,'Misc Dropdowns'!$J$12:$M$16,4,FALSE)),0),2)","v":{"v":0,"d":"0.00"}},{"$f":"ROUND(IFERROR(VLOOKUP(F45,'Misc Dropdowns'!$J$23:$M$27,4,FALSE)*X45*D45,0),2)","v":{"v":0,"d":"0.00"}},{"$f":"IF(C45=\"\",\"\",IF(AND(VLOOKUP(C45,Items!A:AI,35,FALSE)=\"Y\",'Order Form'!H45=\"\"),1,0))","v":""},{"v":0,"d":"0.00"}]
["1 Page",null,null,0,{"$nulls":7},{"v":0,"d":"0.00"},{"v":0,"d":"0.00"},{"$f":"IF(C46=\"\",\"\",VLOOKUP(C46,Items!A:N,12,FALSE))","v":""},{"$f":"IF(Q46=\"Craftsman Pricing\",\"CR\",IF(C46=\"\",\"\",IF('Misc Dropdowns'!$C$34=0,\"\",IF(E46&F46=\"\",VLOOKUP(AD46,'Misc Dropdowns'!$A$45:$B$47,2,FALSE),\"CR\"))))","v":""},{"$nulls":8},{"$f":"ROUND(IF($Q$18=\"\",0,IF(O46=\"SEL\",VLOOKUP(C46,Items!A:Y,25,FALSE),IF(O46=\"CR\",VLOOKUP(C46,Items!A:Z,26,FALSE),0))),2)","v":{"v":0,"d":"0.00"}},0,null,{"$f":"IFERROR(VLOOKUP(C46,Items!A:H,8,FALSE),0)","v":0},{"$f":"IF(C46=\"\",\"\",IF(E46&F46=\"\",VLOOKUP(C46,Items!A:D,4,FALSE),3))","v":""},{"$f":"IF(C46=\"\",\"\",'Misc Dropdowns'!$C$35)","v":""},{"v":0,"d":"0.00"},0,{"$f":"IF($O46=\"SEL\",VLOOKUP($C46,Items!A:F,6,FALSE),IF($O46=\"CR\",VLOOKUP('Order Form'!$C46,Items!A:G,7,FALSE),0))","v":0},{"$f":"IFERROR(AF46*(VLOOKUP(E46,'Misc Dropdowns'!$J$12:$M$16,4,FALSE)),0)","v":0},{"$f":"IFERROR(VLOOKUP(F46,'Misc Dropdowns'!$J$23:$M$27,4,FALSE)*AF46,0)","v":0},{"$f":"IFERROR(IF(ISNUMBER(FIND(\"PD\",I46,1)),AK46*5,0)+(AK46*(15*(VLOOKUP(C46,Items!A:AE,31,FALSE)))),0)","v":0},{"$f":"IF(G46=\"\",\"\",IF(G46=\"DD\",VLOOKUP(C46,Items!A:AH,34,FALSE),IF(G46=\"ID\",VLOOKUP(C46,Items!A:AG,33,FALSE))))","v":""},0,{"$f":"IF(I46=\"\",0,VLOOKUP(C46,Items!A:AF,32,FALSE))","v":0},0,0,"","","",0,0,{"$f":"IF(C46=\"\",0,D46*VLOOKUP(C46,Items!A:M,13,FALSE))","v":{"v":0,"d":"0.00"}},{"v":0,"d":"0.00"},{"$f":"IFERROR(IF(VLOOKUP(C46,'Modifications and Fees'!B:H,2,FALSE)=\"CR\",1*D46,0),0)","v":{"v":0,"d":"0.00"}},{"v":0,"d":"0.00"},{"$f":"ROUND(IFERROR(D46*X46*(VLOOKUP(E46,'Misc Dropdowns'!$J$12:$M$16,4,FALSE)),0),2)","v":{"v":0,"d":"0.00"}},{"$f":"ROUND(IFERROR(VLOOKUP(F46,'Misc Dropdowns'!$J$23:$M$27,4,FALSE)*X46*D46,0),2)","v":{"v":0,"d":"0.00"}},{"$f":"IF(C46=\"\",\"\",IF(AND(VLOOKUP(C46,Items!A:AI,35,FALSE)=\"Y\",'Order Form'!H46=\"\"),1,0))","v":""},{"v":0,"d":"0.00"}]
["1 Page",null,null,0,{"$nulls":7},{"v":0,"d":"0.00"},{"v":0,"d":"0.00"},{"$f":"IF(C47=\"\",\"\",VLOOKUP(C47,Items!A:N,12,FALSE))","v":""},{"$f":"IF(Q47=\"Craftsman Pricing\",\"CR\",IF(C47=\"\",\"\",IF('Misc Dropdowns'!$C$34=0,\"\",IF(E47&F47=\"\",VLOOKUP(AD47,'Misc Dropdowns'!$A$45:$B$47,2,FALSE),\"CR\"))))","v":""},{"$nulls":8},{"$f":"ROUND(IF($Q$18=\"\",0,IF(O47=\"SEL\",VLOOKUP(C47,Items!A:Y,25,FALSE),IF(O47=\"CR\",VLOOKUP(C47,Items!A:Z,26,FALSE),0))),2)","v":{"v":0,"d":"0.00"}},0,null,{"$f":"IFERROR(VLOOKUP(C47,Items!A:H,8,FALSE),0)","v":0},{"$f":"IF(C47=\"\",\"\",IF(E47&F47=\"\",VLOOKUP(C47,Items!A:D,4,FALSE),3))","v":""},{"$f":"IF(C47=\"\",\"\",'Misc Dropdowns'!$C$35)","v":""},{"v":0,"d":"0.00"},0,{"$f":"IF($O47=\"SEL\",VLOOKUP($C47,Items!A:F,6,FALSE),IF($O47=\"CR\",VLOOKUP('Order Form'!$C47,Items!A:G,7,FALSE),0))","v":0},{"$f":"IFERROR(AF47*(VLOOKUP(E47,'Misc Dropdowns'!$J$12:$M$16,4,FALSE)),0)","v":0},{"$f":"IFERROR(VLOOKUP(F47,'Misc Dropdowns'!$J$23:$M$27,4,FALSE)*AF47,0)","v":0},{"$f":"IFERROR(IF(ISNUMBER(FIND(\"PD\",I47,1)),AK47*5,0)+(AK47*(15*(VLOOKUP(C47,Items!A:AE,31,FALSE)))),0)","v":0},{"$f":"IF(G47=\"\",\"\",IF(G47=\"DD\",VLOOKUP(C47,Items!A:AH,34,FALSE),IF(G47=\"ID\",VLOOKUP(C47,Items!A:AG,33,FALSE))))","v":""},0,{"$f":"IF(I47=\"\",0,VLOOKUP(C47,Items!A:AF,32,FALSE))","v":0},0,0,"","","",0,0,{"$f":"IF(C47=\"\",0,D47*VLOOKUP(C47,Items!A:M,13,FALSE))","v":{"v":0,"d":"0.00"}},{"v":0,"d":"0.00"},{"$f":"IFERROR(IF(VLOOKUP(C47,'Modifications and Fees'!B:H,2,FALSE)=\"CR\",1*D47,0),0)","v":{"v":0,"d":"0.00"}},{"v":0,"d":"0.00"},{"$f":"ROUND(IFERROR(D47*X47*(VLOOKUP(E47,'Misc Dropdowns'!$J$12:$M$16,4,FALSE)),0),2)","v":{"v":0,"d":"0.00"}},{"$f":"ROUND(IFERROR(VLOOKUP(F47,'Misc Dropdowns'!$J$23:$M$27,4,FALSE)*X47*D47,0),2)","v":{"v":0,"d":"0.00"}},{"$f":"IF(C47=\"\",\"\",IF(AND(VLOOKUP(C47,Items!A:AI,35,FALSE)=\"Y\",'Order Form'!H47=\"\"),1,0))","v":""},{"v":0,"d":"0.00"}]
["1 Page",null,null,0,{"$nulls":7},{"$f":"IFERROR(ROUND(SUM(AF48:AJ48),2),0)","v":{"v":0,"d":"0.00"}},{"v":0,"d":"0.00"},{"$f":"IF(C48=\"\",\"\",VLOOKUP(C48,Items!A:N,12,FALSE))","v":""},{"$f":"IF(Q48=\"Craftsman Pricing\",\"CR\",IF(C48=\"\",\"\",IF('Misc Dropdowns'!$C$34=0,\"\",IF(E48&F48=\"\",VLOOKUP(AD48,'Misc Dropdowns'!$A$45:$B$47,2,FALSE),\"CR\"))))","v":""},{"$nulls":8},{"$f":"ROUND(IF($Q$18=\"\",0,IF(O48=\"SEL\",VLOOKUP(C48,Items!A:Y,25,FALSE),IF(O48=\"CR\",VLOOKUP(C48,Items!A:Z,26,FALSE),0))),2)","v":{"v":0,"d":"0.00"}},0,null,{"$f":"IFERROR(VLOOKUP(C48,Items!A:H,8,FALSE),0)","v":0},{"$f":"IF(C48=\"\",\"\",IF(E48&F48=\"\",VLOOKUP(C48,Items!A:D,4,FALSE),3))","v":""},{"$f":"IF(C48=\"\",\"\",'Misc Dropdowns'!$C$35)","v":""},{"$f":"MAX(AB48,AC48)","v":{"v":0,"d":"0.00"}},{"$f":"MIN(AC48)","v":0},{"$f":"IF($O48=\"SEL\",VLOOKUP($C48,Items!A:F,6,FALSE),IF($O48=\"CR\",VLOOKUP('Order Form'!$C48,Items!A:G,7,FALSE),0))","v":0},{"$f":"IFERROR(AF48*(VLOOKUP(E48,'Misc Dropdowns'!$J$12:$M$16,4,FALSE)),0)","v":0},{"$f":"IFERROR(VLOOKUP(F48,'Misc Dropdowns'!$J$23:$M$27,4,FALSE)*AF48,0)","v":0},{"$f":"IFERROR(IF(ISNUMBER(FIND(\"PD\",I48,1)),AK48*5,0)+(AK48*(15*(VLOOKUP(C48,Items!A:AE,31,FALSE)))),0)","v":0},{"$f":"IF(G48=\"\",\"\",IF(G48=\"DD\",VLOOKUP(C48,Items!A:AH,34,FALSE),IF(G48=\"ID\",VLOOKUP(C48,Items!A:AG,33,FALSE))))","v":""},0,{"$f":"IF(I48=\"\",0,VLOOKUP(C48,Items!A:AF,32,FALSE))","v":0},0,0,"","","",0,0,{"$f":"IF(C48=\"\",0,D48*VLOOKUP(C48,Items!A:M,13,FALSE))","v":{"v":0,"d":"0.00"}},{"v":0,"d":"0.00"},{"$f":"IFERROR(IF(VLOOKUP(C48,'Modifications and Fees'!B:H,2,FALSE)=\"CR\",1*D48,0),0)","v":{"v":0,"d":"0.00"}},{"v":0,"d":"0.00"},{"$f":"ROUND(IFERROR(D48*X48*(VLOOKUP(E48,'Misc Dropdowns'!$J$12:$M$16,4,FALSE)),0),2)","v":{"v":0,"d":"0.00"}},{"$f":"ROUND(IFERROR(VLOOKUP(F48,'Misc Dropdowns'!$J$23:$M$27,4,FALSE)*X48*D48,0),2)","v":{"v":0,"d":"0.00"}},{"$f":"IF(C48=\"\",\"\",IF(AND(VLOOKUP(C48,Items!A:AI,35,FALSE)=\"Y\",'Order Form'!H48=\"\"),1,0))","v":""},{"v":0,"d":"0.00"}]
["1 Page",null,null,0,{"$nulls":7},{"v":0,"d":"0.00"},{"v":0,"d":"0.00"},{"$f":"IF(C49=\"\",\"\",VLOOKUP(C49,Items!A:N,12,FALSE))","v":""},{"$f":"IF(Q49=\"Craftsman Pricing\",\"CR\",IF(C49=\"\",\"\",IF('Misc Dropdowns'!$C$34=0,\"\",IF(E49&F49=\"\",VLOOKUP(AD49,'Misc Dropdowns'!$A$45:$B$47,2,FALSE),\"CR\"))))","v":""},{"$nulls":8},{"$f":"ROUND(IF($Q$18=\"\",0,IF(O49=\"SEL\",VLOOKUP(C49,Items!A:Y,25,FALSE),IF(O49=\"CR\",VLOOKUP(C49,Items!A:Z,26,FALSE),0))),2)","v":{"v":0,"d":"0.00"}},0,null,{"$f":"IFERROR(VLOOKUP(C49,Items!A:H,8,FALSE),0)","v":0},{"$f":"IF(C49=\"\",\"\",IF(E49&F49=\"\",VLOOKUP(C49,Items!A:D,4,FALSE),3))","v":""},{"$f":"IF(C49=\"\",\"\",'Misc Dropdowns'!$C$35)","v":""},{"v":0,"d":"0.00"},0,{"$f":"IF($O49=\"SEL\",VLOOKUP($C49,Items!A:F,6,FALSE),IF($O49=\"CR\",VLOOKUP('Order Form'!$C49,Items!A:G,7,FALSE),0))","v":0},{"$f":"IFERROR(AF49*(VLOOKUP(E49,'Misc Dropdowns'!$J$12:$M$16,4,FALSE)),0)","v":0},{"$f":"IFERROR(VLOOKUP(F49,'Misc Dropdowns'!$J$23:$M$27,4,FALSE)*AF49,0)","v":0},{"$f":"IFERROR(IF(ISNUMBER(FIND(\"PD\",I49,1)),AK49*5,0)+(AK49*(15*(VLOOKUP(C49,Items!A:AE,31,FALSE)))),0)","v":0},{"$f":"IF(G49=\"\",\"\",IF(G49=\"DD\",VLOOKUP(C49,Items!A:AH,34,FALSE),IF(G49=\"ID\",VLOOKUP(C49,Items!A:AG,33,FALSE))))","v":""},0,{"$f":"IF(I49=\"\",0,VLOOKUP(C49,Items!A:AF,32,FALSE))","v":0},0,0,"","","",0,0,{"$f":"IF(C49=\"\",0,D49*VLOOKUP(C49,Items!A:M,13,FALSE))","v":{"v":0,"d":"0.00"}},{"v":0,"d":"0.00"},{"$f":"IFERROR(IF(VLOOKUP(C49,'Modifications and Fees'!B:H,2,FALSE)=\"CR\",1*D49,0),0)","v":{"v":0,"d":"0.00"}},{"v":0,"d":"0.00"},{"$f":"ROUND(IFERROR(D49*X49*(VLOOKUP(E49,'Misc Dropdowns'!$J$12:$M$16,4,FALSE)),0),2)","v":{"v":0,"d":"0.00"}},{"$f":"ROUND(IFERROR(VLOOKUP(F49,'Misc Dropdowns'!$J$23:$M$27,4,FALSE)*X49*D49,0),2)","v":{"v":0,"d":"0.00"}},{"$f":"IF(C49=\"\",\"\",IF(AND(VLOOKUP(C49,Items!A:AI,35,FALSE)=\"Y\",'Order Form'!H49=\"\"),1,0))","v":""},{"v":0,"d":"0.00"}]
["1 Page",null,null,0,{"$nulls":7},{"v":0,"d":"0.00"},{"v":0,"d":"0.00"},{"$f":"IF(C50=\"\",\"\",VLOOKUP(C50,Items!A:N,12,FALSE))","v":""},{"$f":"IF(Q50=\"Craftsman Pricing\",\"CR\",IF(C50=\"\",\"\",IF('Misc Dropdowns'!$C$34=0,\"\",IF(E50&F50=\"\",VLOOKUP(AD50,'Misc Dropdowns'!$A$45:$B$47,2,FALSE),\"CR\"))))","v":""},{"$nulls":8},{"$f":"ROUND(IF($Q$18=\"\",0,IF(O50=\"SEL\",VLOOKUP(C50,Items!A:Y,25,FALSE),IF(O50=\"CR\",VLOOKUP(C50,Items!A:Z,26,FALSE),0))),2)","v":{"v":0,"d":"0.00"}},0,null,{"$f":"IFERROR(VLOOKUP(C50,Items!A:H,8,FALSE),0)","v":0},{"$f":"IF(C50=\"\",\"\",IF(E50&F50=\"\",VLOOKUP(C50,Items!A:D,4,FALSE),3))","v":""},{"$f":"IF(C50=\"\",\"\",'Misc Dropdowns'!$C$35)","v":""},{"v":0,"d":"0.00"},0,{"$f":"IF($O50=\"SEL\",VLOOKUP($C50,Items!A:F,6,FALSE),IF($O50=\"CR\",VLOOKUP('Order Form'!$C50,Items!A:G,7,FALSE),0))","v":0},{"$f":"IFERROR(AF50*(VLOOKUP(E50,'Misc Dropdowns'!$J$12:$M$16,4,FALSE)),0)","v":0},{"$f":"IFERROR(VLOOKUP(F50,'Misc Dropdowns'!$J$23:$M$27,4,FALSE)*AF50,0)","v":0},{"$f":"IFERROR(IF(ISNUMBER(FIND(\"PD\",I50,1)),AK50*5,0)+(AK50*(15*(VLOOKUP(C50,Items!A:AE,31,FALSE)))),0)","v":0},{"$f":"IF(G50=\"\",\"\",IF(G50=\"DD\",VLOOKUP(C50,Items!A:AH,34,FALSE),IF(G50=\"ID\",VLOOKUP(C50,Items!A:AG,33,FALSE))))","v":""},0,{"$f":"IF(I50=\"\",0,VLOOKUP(C50,Items!A:AF,32,FALSE))","v":0},0,0,"","","",0,0,{"$f":"IF(C50=\"\",0,D50*VLOOKUP(C50,Items!A:M,13,FALSE))","v":{"v":0,"d":"0.00"}},{"v":0,"d":"0.00"},{"$f":"IFERROR(IF(VLOOKUP(C50,'Modifications and Fees'!B:H,2,FALSE)=\"CR\",1*D50,0),0)","v":{"v":0,"d":"0.00"}},{"v":0,"d":"0.00"},{"$f":"ROUND(IFERROR(D50*X50*(VLOOKUP(E50,'Misc Dropdowns'!$J$12:$M$16,4,FALSE)),0),2)","v":{"v":0,"d":"0.00"}},{"$f":"ROUND(IFERROR(VLOOKUP(F50,'Misc Dropdowns'!$J$23:$M$27,4,FALSE)*X50*D50,0),2)","v":{"v":0,"d":"0.00"}},{"$f":"IF(C50=\"\",\"\",IF(AND(VLOOKUP(C50,Items!A:AI,35,FALSE)=\"Y\",'Order Form'!H50=\"\"),1,0))","v":""},{"v":0,"d":"0.00"}]
["1 Page",null,null,0,{"$nulls":7},{"v":0,"d":"0.00"},{"v":0,"d":"0.00"},{"$f":"IF(C51=\"\",\"\",VLOOKUP(C51,Items!A:N,12,FALSE))","v":""},{"$f":"IF(Q51=\"Craftsman Pricing\",\"CR\",IF(C51=\"\",\"\",IF('Misc Dropdowns'!$C$34=0,\"\",IF(E51&F51=\"\",VLOOKUP(AD51,'Misc Dropdowns'!$A$45:$B$47,2,FALSE),\"CR\"))))","v":""},{"$nulls":8},{"$f":"ROUND(IF($Q$18=\"\",0,IF(O51=\"SEL\",VLOOKUP(C51,Items!A:Y,25,FALSE),IF(O51=\"CR\",VLOOKUP(C51,Items!A:Z,26,FALSE),0))),2)","v":{"v":0,"d":"0.00"}},0,null,{"$f":"IFERROR(VLOOKUP(C51,Items!A:H,8,FALSE),0)","v":0},{"$f":"IF(C51=\"\",\"\",IF(E51&F51=\"\",VLOOKUP(C51,Items!A:D,4,FALSE),3))","v":""},{"$f":"IF(C51=\"\",\"\",'Misc Dropdowns'!$C$35)","v":""},{"v":0,"d":"0.00"},0,{"$f":"IF($O51=\"SEL\",VLOOKUP($C51,Items!A:F,6,FALSE),IF($O51=\"CR\",VLOOKUP('Order Form'!$C51,Items!A:G,7,FALSE),0))","v":0},{"$f":"IFERROR(AF51*(VLOOKUP(E51,'Misc Dropdowns'!$J$12:$M$16,4,FALSE)),0)","v":0},{"$f":"IFERROR(VLOOKUP(F51,'Misc Dropdowns'!$J$23:$M$27,4,FALSE)*AF51,0)","v":0},{"$f":"IFERROR(IF(ISNUMBER(FIND(\"PD\",I51,1)),AK51*5,0)+(AK51*(15*(VLOOKUP(C51,Items!A:AE,31,FALSE)))),0)","v":0},{"$f":"IF(G51=\"\",\"\",IF(G51=\"DD\",VLOOKUP(C51,Items!A:AH,34,FALSE),IF(G51=\"ID\",VLOOKUP(C51,Items!A:AG,33,FALSE))))","v":""},0,{"$f":"IF(I51=\"\",0,VLOOKUP(C51,Items!A:AF,32,FALSE))","v":0},0,0,"","","",0,0,{"$f":"IF(C51=\"\",0,D51*VLOOKUP(C51,Items!A:M,13,FALSE))","v":{"v":0,"d":"0.00"}},{"v":0,"d":"0.00"},{"$f":"IFERROR(IF(VLOOKUP(C51,'Modifications and Fees'!B:H,2,FALSE)=\"CR\",1*D51,0),0)","v":{"v":0,"d":"0.00"}},{"v":0,"d":"0.00"},{"$f":"ROUND(IFERROR(D51*X51*(VLOOKUP(E51,'Misc Dropdowns'!$J$12:$M$16,4,FALSE)),0),2)","v":{"v":0,"d":"0.00"}},{"$f":"ROUND(IFERROR(VLOOKUP(F51,'Misc Dropdowns'!$J$23:$M$27,4,FALSE)*X51*D51,0),2)","v":{"v":0,"d":"0.00"}},{"$f":"IF(C51=\"\",\"\",IF(AND(VLOOKUP(C51,Items!A:AI,35,FALSE)=\"Y\",'Order Form'!H51=\"\"),1,0))","v":""},{"v":0,"d":"0.00"}]
["1 Page",null,null,0,{"$nulls":7},{"v":0,"d":"0.00"},{"v":0,"d":"0.00"},{"$f":"IF(C52=\"\",\"\",VLOOKUP(C52,Items!A:N,12,FALSE))","v":""},{"$f":"IF(Q52=\"Craftsman Pricing\",\"CR\",IF(C52=\"\",\"\",IF('Misc Dropdowns'!$C$34=0,\"\",IF(E52&F52=\"\",VLOOKUP(AD52,'Misc Dropdowns'!$A$45:$B$47,2,FALSE),\"CR\"))))","v":""},{"$nulls":8},{"$f":"ROUND(IF($Q$18=\"\",0,IF(O52=\"SEL\",VLOOKUP(C52,Items!A:Y,25,FALSE),IF(O52=\"CR\",VLOOKUP(C52,Items!A:Z,26,FALSE),0))),2)","v":{"v":0,"d":"0.00"}},0,null,{"$f":"IFERROR(VLOOKUP(C52,Items!A:H,8,FALSE),0)","v":0},{"$f":"IF(C52=\"\",\"\",IF(E52&F52=\"\",VLOOKUP(C52,Items!A:D,4,FALSE),3))","v":""},{"$f":"IF(C52=\"\",\"\",'Misc Dropdowns'!$C$35)","v":""},{"v":0,"d":"0.00"},0,{"$f":"IF($O52=\"SEL\",VLOOKUP($C52,Items!A:F,6,FALSE),IF($O52=\"CR\",VLOOKUP('Order Form'!$C52,Items!A:G,7,FALSE),0))","v":0},{"$f":"IFERROR(AF52*(VLOOKUP(E52,'Misc Dropdowns'!$J$12:$M$16,4,FALSE)),0)","v":0},{"$f":"IFERROR(VLOOKUP(F52,'Misc Dropdowns'!$J$23:$M$27,4,FALSE)*AF52,0)","v":0},{"$f":"IFERROR(IF(ISNUMBER(FIND(\"PD\",I52,1)),AK52*5,0)+(AK52*(15*(VLOOKUP(C52,Items!A:AE,31,FALSE)))),0)","v":0},{"$f":"IF(G52=\"\",\"\",IF(G52=\"DD\",VLOOKUP(C52,Items!A:AH,34,FALSE),IF(G52=\"ID\",VLOOKUP(C52,Items!A:AG,33,FALSE))))","v":""},0,{"$f":"IF(I52=\"\",0,VLOOKUP(C52,Items!A:AF,32,FALSE))","v":0},0,0,"","","",0,0,{"$f":"IF(C52=\"\",0,D52*VLOOKUP(C52,Items!A:M,13,FALSE))","v":{"v":0,"d":"0.00"}},{"v":0,"d":"0.00"},{"$f":"IFERROR(IF(VLOOKUP(C52,'Modifications and Fees'!B:H,2,FALSE)=\"CR\",1*D52,0),0)","v":{"v":0,"d":"0.00"}},{"v":0,"d":"0.00"},{"$f":"ROUND(IFERROR(D52*X52*(VLOOKUP(E52,'Misc Dropdowns'!$J$12:$M$16,4,FALSE)),0),2)","v":{"v":0,"d":"0.00"}},{"$f":"ROUND(IFERROR(VLOOKUP(F52,'Misc Dropdowns'!$J$23:$M$27,4,FALSE)*X52*D52,0),2)","v":{"v":0,"d":"0.00"}},{"$f":"IF(C52=\"\",\"\",IF(AND(VLOOKUP(C52,Items!A:AI,35,FALSE)=\"Y\",'Order Form'!H52=\"\"),1,0))","v":""},{"v":0,"d":"0.00"}]
["1 Page",null,null,0,{"$nulls":7},{"v":0,"d":"0.00"},{"v":0,"d":"0.00"},{"$f":"IF(C53=\"\",\"\",VLOOKUP(C53,Items!A:N,12,FALSE))","v":""},{"$f":"IF(Q53=\"Craftsman Pricing\",\"CR\",IF(C53=\"\",\"\",IF('Misc Dropdowns'!$C$34=0,\"\",IF(E53&F53=\"\",VLOOKUP(AD53,'Misc Dropdowns'!$A$45:$B$47,2,FALSE),\"CR\"))))","v":""},{"$nulls":8},{"$f":"ROUND(IF($Q$18=\"\",0,IF(O53=\"SEL\",VLOOKUP(C53,Items!A:Y,25,FALSE),IF(O53=\"CR\",VLOOKUP(C53,Items!A:Z,26,FALSE),0))),2)","v":{"v":0,"d":"0.00"}},0,null,{"$f":"IFERROR(VLOOKUP(C53,Items!A:H,8,FALSE),0)","v":0},{"$f":"IF(C53=\"\",\"\",IF(E53&F53=\"\",VLOOKUP(C53,Items!A:D,4,FALSE),3))","v":""},{"$f":"IF(C53=\"\",\"\",'Misc Dropdowns'!$C$35)","v":""},{"v":0,"d":"0.00"},0,{"$f":"IF($O53=\"SEL\",VLOOKUP($C53,Items!A:F,6,FALSE),IF($O53=\"CR\",VLOOKUP('Order Form'!$C53,Items!A:G,7,FALSE),0))","v":0},{"$f":"IFERROR(AF53*(VLOOKUP(E53,'Misc Dropdowns'!$J$12:$M$16,4,FALSE)),0)","v":0},{"$f":"IFERROR(VLOOKUP(F53,'Misc Dropdowns'!$J$23:$M$27,4,FALSE)*AF53,0)","v":0},{"$f":"IFERROR(IF(ISNUMBER(FIND(\"PD\",I53,1)),AK53*5,0)+(AK53*(15*(VLOOKUP(C53,Items!A:AE,31,FALSE)))),0)","v":0},{"$f":"IF(G53=\"\",\"\",IF(G53=\"DD\",VLOOKUP(C53,Items!A:AH,34,FALSE),IF(G53=\"ID\",VLOOKUP(C53,Items!A:AG,33,FALSE))))","v":""},0,{"$f":"IF(I53=\"\",0,VLOOKUP(C53,Items!A:AF,32,FALSE))","v":0},0,0,"","","",0,0,{"$f":"IF(C53=\"\",0,D53*VLOOKUP(C53,Items!A:M,13,FALSE))","v":{"v":0,"d":"0.00"}},{"v":0,"d":"0.00"},{"$f":"IFERROR(IF(VLOOKUP(C53,'Modifications and Fees'!B:H,2,FALSE)=\"CR\",1*D53,0),0)","v":{"v":0,"d":"0.00"}},{"v":0,"d":"0.00"},{"$f":"ROUND(IFERROR(D53*X53*(VLOOKUP(E53,'Misc Dropdowns'!$J$12:$M$16,4,FALSE)),0),2)","v":{"v":0,"d":"0.00"}},{"$f":"ROUND(IFERROR(VLOOKUP(F53,'Misc Dropdowns'!$J$23:$M$27,4,FALSE)*X53*D53,0),2)","v":{"v":0,"d":"0.00"}},{"$f":"IF(C53=\"\",\"\",IF(AND(VLOOKUP(C53,Items!A:AI,35,FALSE)=\"Y\",'Order Form'!H53=\"\"),1,0))","v":""},{"v":0,"d":"0.00"}]
["1 Page",null,null,0,{"$nulls":7},{"v":0,"d":"0.00"},{"v":0,"d":"0.00"},{"$f":"IF(C54=\"\",\"\",VLOOKUP(C54,Items!A:N,12,FALSE))","v":""},{"$f":"IF(Q54=\"Craftsman Pricing\",\"CR\",IF(C54=\"\",\"\",IF('Misc Dropdowns'!$C$34=0,\"\",IF(E54&F54=\"\",VLOOKUP(AD54,'Misc Dropdowns'!$A$45:$B$47,2,FALSE),\"CR\"))))","v":""},{"$nulls":8},{"$f":"ROUND(IF($Q$18=\"\",0,IF(O54=\"SEL\",VLOOKUP(C54,Items!A:Y,25,FALSE),IF(O54=\"CR\",VLOOKUP(C54,Items!A:Z,26,FALSE),0))),2)","v":{"v":0,"d":"0.00"}},0,null,{"$f":"IFERROR(VLOOKUP(C54,Items!A:H,8,FALSE),0)","v":0},{"$f":"IF(C54=\"\",\"\",IF(E54&F54=\"\",VLOOKUP(C54,Items!A:D,4,FALSE),3))","v":""},{"$f":"IF(C54=\"\",\"\",'Misc Dropdowns'!$C$35)","v":""},{"v":0,"d":"0.00"},0,{"$f":"IF($O54=\"SEL\",VLOOKUP($C54,Items!A:F,6,FALSE),IF($O54=\"CR\",VLOOKUP('Order Form'!$C54,Items!A:G,7,FALSE),0))","v":0},{"$f":"IFERROR(AF54*(VLOOKUP(E54,'Misc Dropdowns'!$J$12:$M$16,4,FALSE)),0)","v":0},{"$f":"IFERROR(VLOOKUP(F54,'Misc Dropdowns'!$J$23:$M$27,4,FALSE)*AF54,0)","v":0},{"$f":"IFERROR(IF(ISNUMBER(FIND(\"PD\",I54,1)),AK54*5,0)+(AK54*(15*(VLOOKUP(C54,Items!A:AE,31,FALSE)))),0)","v":0},{"$f":"IF(G54=\"\",\"\",IF(G54=\"DD\",VLOOKUP(C54,Items!A:AH,34,FALSE),IF(G54=\"ID\",VLOOKUP(C54,Items!A:AG,33,FALSE))))","v":""},0,{"$f":"IF(I54=\"\",0,VLOOKUP(C54,Items!A:AF,32,FALSE))","v":0},0,0,"","","",0,0,{"$f":"IF(C54=\"\",0,D54*VLOOKUP(C54,Items!A:M,13,FALSE))","v":{"v":0,"d":"0.00"}},{"v":0,"d":"0.00"},{"$f":"IFERROR(IF(VLOOKUP(C54,'Modifications and Fees'!B:H,2,FALSE)=\"CR\",1*D54,0),0)","v":{"v":0,"d":"0.00"}},{"v":0,"d":"0.00"},{"$f":"ROUND(IFERROR(D54*X54*(VLOOKUP(E54,'Misc Dropdowns'!$J$12:$M$16,4,FALSE)),0),2)","v":{"v":0,"d":"0.00"}},{"$f":"ROUND(IFERROR(VLOOKUP(F54,'Misc Dropdowns'!$J$23:$M$27,4,FALSE)*X54*D54,0),2)","v":{"v":0,"d":"0.00"}},{"$f":"IF(C54=\"\",\"\",IF(AND(VLOOKUP(C54,Items!A:AI,35,FALSE)=\"Y\",'Order Form'!H54=\"\"),1,0))","v":""},{"v":0,"d":"0.00"}]
["1 Page",null,null,0,{"$nulls":7},{"v":0,"d":"0.00"},{"v":0,"d":"0.00"},{"$f":"IF(C55=\"\",\"\",VLOOKUP(C55,Items!A:N,12,FALSE))","v":""},{"$f":"IF(Q55=\"Craftsman Pricing\",\"CR\",IF(C55=\"\",\"\",IF('Misc Dropdowns'!$C$34=0,\"\",IF(E55&F55=\"\",VLOOKUP(AD55,'Misc Dropdowns'!$A$45:$B$47,2,FALSE),\"CR\"))))","v":""},{"$nulls":8},{"$f":"ROUND(IF($Q$18=\"\",0,IF(O55=\"SEL\",VLOOKUP(C55,Items!A:Y,25,FALSE),IF(O55=\"CR\",VLOOKUP(C55,Items!A:Z,26,FALSE),0))),2)","v":{"v":0,"d":"0.00"}},0,null,{"$f":"IFERROR(VLOOKUP(C55,Items!A:H,8,FALSE),0)","v":0},{"$f":"IF(C55=\"\",\"\",IF(E55&F55=\"\",VLOOKUP(C55,Items!A:D,4,FALSE),3))","v":""},{"$f":"IF(C55=\"\",\"\",'Misc Dropdowns'!$C$35)","v":""},{"v":0,"d":"0.00"},0,{"$f":"IF($O55=\"SEL\",VLOOKUP($C55,Items!A:F,6,FALSE),IF($O55=\"CR\",VLOOKUP('Order Form'!$C55,Items!A:G,7,FALSE),0))","v":0},{"$f":"IFERROR(AF55*(VLOOKUP(E55,'Misc Dropdowns'!$J$12:$M$16,4,FALSE)),0)","v":0},{"$f":"IFERROR(VLOOKUP(F55,'Misc Dropdowns'!$J$23:$M$27,4,FALSE)*AF55,0)","v":0},{"$f":"IFERROR(IF(ISNUMBER(FIND(\"PD\",I55,1)),AK55*5,0)+(AK55*(15*(VLOOKUP(C55,Items!A:AE,31,FALSE)))),0)","v":0},{"$f":"IF(G55=\"\",\"\",IF(G55=\"DD\",VLOOKUP(C55,Items!A:AH,34,FALSE),IF(G55=\"ID\",VLOOKUP(C55,Items!A:AG,33,FALSE))))","v":""},0,{"$f":"IF(I55=\"\",0,VLOOKUP(C55,Items!A:AF,32,FALSE))","v":0},0,0,"","","",0,0,{"$f":"IF(C55=\"\",0,D55*VLOOKUP(C55,Items!A:M,13,FALSE))","v":{"v":0,"d":"0.00"}},{"v":0,"d":"0.00"},{"$f":"IFERROR(IF(VLOOKUP(C55,'Modifications and Fees'!B:H,2,FALSE)=\"CR\",1*D55,0),0)","v":{"v":0,"d":"0.00"}},{"v":0,"d":"0.00"},{"$f":"ROUND(IFERROR(D55*X55*(VLOOKUP(E55,'Misc Dropdowns'!$J$12:$M$16,4,FALSE)),0),2)","v":{"v":0,"d":"0.00"}},{"$f":"ROUND(IFERROR(VLOOKUP(F55,'Misc Dropdowns'!$J$23:$M$27,4,FALSE)*X55*D55,0),2)","v":{"v":0,"d":"0.00"}},{"$f":"IF(C55=\"\",\"\",IF(AND(VLOOKUP(C55,Items!A:AI,35,FALSE)=\"Y\",'Order Form'!H55=\"\"),1,0))","v":""},{"v":0,"d":"0.00"}]
["2 pages",null,null,0,{"$nulls":7},{"v":0,"d":"0.00"},{"v":0,"d":"0.00"},{"$f":"IF(C56=\"\",\"\",VLOOKUP(C56,Items!A:N,12,FALSE))","v":""},{"$f":"IF(Q56=\"Craftsman Pricing\",\"CR\",IF(C56=\"\",\"\",IF('Misc Dropdowns'!$C$34=0,\"\",IF(E56&F56=\"\",VLOOKUP(AD56,'Misc Dropdowns'!$A$45:$B$47,2,FALSE),\"CR\"))))","v":""},{"$nulls":8},{"$f":"ROUND(IF($Q$18=\"\",0,IF(O56=\"SEL\",VLOOKUP(C56,Items!A:Y,25,FALSE),IF(O56=\"CR\",VLOOKUP(C56,Items!A:Z,26,FALSE),0))),2)","v":{"v":0,"d":"0.00"}},{"$f":"(X56*D56)","v":0},null,{"$f":"IFERROR(VLOOKUP(C56,Items!A:H,8,FALSE),0)","v":0},{"$f":"IF(C56=\"\",\"\",IF(E56&F56=\"\",VLOOKUP(C56,Items!A:D,4,FALSE),3))","v":""},{"$f":"IF(C56=\"\",\"\",'Misc Dropdowns'!$C$35)","v":""},{"v":0,"d":"0.00"},0,{"$f":"IF($O56=\"SEL\",VLOOKUP($C56,Items!A:F,6,FALSE),IF($O56=\"CR\",VLOOKUP('Order Form'!$C56,Items!A:G,7,FALSE),0))","v":0},{"$f":"IFERROR(AF56*(VLOOKUP(E56,'Misc Dropdowns'!$J$12:$M$16,4,FALSE)),0)","v":0},{"$f":"IFERROR(VLOOKUP(F56,'Misc Dropdowns'!$J$23:$M$27,4,FALSE)*AF56,0)","v":0},{"$f":"IFERROR(IF(ISNUMBER(FIND(\"PD\",I56,1)),AK56*5,0)+(AK56*(15*(VLOOKUP(C56,Items!A:AE,31,FALSE)))),0)","v":0},{"$f":"IF(G56=\"\",\"\",IF(G56=\"DD\",VLOOKUP(C56,Items!A:AH,34,FALSE),IF(G56=\"ID\",VLOOKUP(C56,Items!A:AG,33,FALSE))))","v":""},0,{"$f":"IF(I56=\"\",0,VLOOKUP(C56,Items!A:AF,32,FALSE))","v":0},0,0,"","","",0,0,{"$f":"IF(C56=\"\",0,D56*VLOOKUP(C56,Items!A:M,13,FALSE))","v":{"v":0,"d":"0.00"}},{"v":0,"d":"0.00"},{"$f":"IFERROR(IF(VLOOKUP(C56,'Modifications and Fees'!B:H,2,FALSE)=\"CR\",1*D56,0),0)","v":{"v":0,"d":"0.00"}},{"v":0,"d":"0.00"},{"$f":"ROUND(IFERROR(D56*X56*(VLOOKUP(E56,'Misc Dropdowns'!$J$12:$M$16,4,FALSE)),0),2)","v":{"v":0,"d":"0.00"}},{"$f":"ROUND(IFERROR(VLOOKUP(F56,'Misc Dropdowns'!$J$23:$M$27,4,FALSE)*X56*D56,0),2)","v":{"v":0,"d":"0.00"}},{"$f":"IF(C56=\"\",\"\",IF(AND(VLOOKUP(C56,Items!A:AI,35,FALSE)=\"Y\",'Order Form'!H56=\"\"),1,0))","v":""},{"v":0,"d":"0.00"}]
["2 pages",null,null,0,{"$nulls":7},{"v":0,"d":"0.00"},{"$f":"D57*L57","v":{"v":0,"d":"0.00"}},{"$f":"IF(C57=\"\",\"\",VLOOKUP(C57,Items!A:N,12,FALSE))","v":""},{"$f":"IF(Q57=\"Craftsman Pricing\",\"CR\",IF(C57=\"\",\"\",IF('Misc Dropdowns'!$C$34=0,\"\",IF(E57&F57=\"\",VLOOKUP(AD57,'Misc Dropdowns'!$A$45:$B$47,2,FALSE),\"CR\"))))","v":""},{"$nulls":8},{"$f":"ROUND(IF($Q$18=\"\",0,IF(O57=\"SEL\",VLOOKUP(C57,Items!A:Y,25,FALSE),IF(O57=\"CR\",VLOOKUP(C57,Items!A:Z,26,FALSE),0))),2)","v":{"v":0,"d":"0.00"}},0,null,{"$f":"IFERROR(VLOOKUP(C57,Items!A:H,8,FALSE),0)","v":0},{"$f":"IF(C57=\"\",\"\",IF(E57&F57=\"\",VLOOKUP(C57,Items!A:D,4,FALSE),3))","v":""},{"$f":"IF(C57=\"\",\"\",'Misc Dropdowns'!$C$35)","v":""},{"v":0,"d":"0.00"},0,{"$f":"IF($O57=\"SEL\",VLOOKUP($C57,Items!A:F,6,FALSE),IF($O57=\"CR\",VLOOKUP('Order Form'!$C57,Items!A:G,7,FALSE),0))","v":0},{"$f":"IFERROR(AF57*(VLOOKUP(E57,'Misc Dropdowns'!$J$12:$M$16,4,FALSE)),0)","v":0},{"$f":"IFERROR(VLOOKUP(F57,'Misc Dropdowns'!$J$23:$M$27,4,FALSE)*AF57,0)","v":0},{"$f":"IFERROR(IF(ISNUMBER(FIND(\"PD\",I57,1)),AK57*5,0)+(AK57*(15*(VLOOKUP(C57,Items!A:AE,31,FALSE)))),0)","v":0},{"$f":"IF(G57=\"\",\"\",IF(G57=\"DD\",VLOOKUP(C57,Items!A:AH,34,FALSE),IF(G57=\"ID\",VLOOKUP(C57,Items!A:AG,33,FALSE))))","v":""},0,{"$f":"IF(I57=\"\",0,VLOOKUP(C57,Items!A:AF,32,FALSE))","v":0},0,0,"","","",{"$f":"IF(C57=\"INSTALL\",1,0)","v":0},{"$f":"IF(C57=\"INSTALL-DEALER\",1,0)","v":0},{"$f":"IF(C57=\"\",0,D57*VLOOKUP(C57,Items!A:M,13,FALSE))","v":{"v":0,"d":"0.00"}},{"v":0,"d":"0.00"},{"$f":"IFERROR(IF(VLOOKUP(C57,'Modifications and Fees'!B:H,2,FALSE)=\"CR\",1*D57,0),0)","v":{"v":0,"d":"0.00"}},{"$f":"IF(Q57=\"Craftsman Pricing\",1*D57,0)","v":{"v":0,"d":"0.00"}},{"$f":"ROUND(IFERROR(D57*X57*(VLOOKUP(E57,'Misc Dropdowns'!$J$12:$M$16,4,FALSE)),0),2)","v":{"v":0,"d":"0.00"}},{"$f":"ROUND(IFERROR(VLOOKUP(F57,'Misc Dropdowns'!$J$23:$M$27,4,FALSE)*X57*D57,0),2)","v":{"v":0,"d":"0.00"}},{"$f":"IF(C57=\"\",\"\",IF(AND(VLOOKUP(C57,Items!A:AI,35,FALSE)=\"Y\",'Order Form'!H57=\"\"),1,0))","v":""},{"$f":"(IF(AND(E57<>\"\",F57=\"\"),1,0))","v":{"v":0,"d":"0.00"}}]
["2 pages",null,null,0,{"$nulls":7},{"v":0,"d":"0.00"},{"v":0,"d":"0.00"},{"$f":"IF(C58=\"\",\"\",VLOOKUP(C58,Items!A:N,12,FALSE))","v":""},{"$f":"IF(Q58=\"Craftsman Pricing\",\"CR\",IF(C58=\"\",\"\",IF('Misc Dropdowns'!$C$34=0,\"\",IF(E58&F58=\"\",VLOOKUP(AD58,'Misc Dropdowns'!$A$45:$B$47,2,FALSE),\"CR\"))))","v":""},{"$nulls":8},{"$f":"ROUND(IF($Q$18=\"\",0,IF(O58=\"SEL\",VLOOKUP(C58,Items!A:Y,25,FALSE),IF(O58=\"CR\",VLOOKUP(C58,Items!A:Z,26,FALSE),0))),2)","v":{"v":0,"d":"0.00"}},0,null,{"$f":"IFERROR(VLOOKUP(C58,Items!A:H,8,FALSE),0)","v":0},{"$f":"IF(C58=\"\",\"\",IF(E58&F58=\"\",VLOOKUP(C58,Items!A:D,4,FALSE),3))","v":""},{"$f":"IF(C58=\"\",\"\",'Misc Dropdowns'!$C$35)","v":""},{"v":0,"d":"0.00"},0,{"$f":"IF($O58=\"SEL\",VLOOKUP($C58,Items!A:F,6,FALSE),IF($O58=\"CR\",VLOOKUP('Order Form'!$C58,Items!A:G,7,FALSE),0))","v":0},{"$f":"IFERROR(AF58*(VLOOKUP(E58,'Misc Dropdowns'!$J$12:$M$16,4,FALSE)),0)","v":0},{"$f":"IFERROR(VLOOKUP(F58,'Misc Dropdowns'!$J$23:$M$27,4,FALSE)*AF58,0)","v":0},{"$f":"IFERROR(IF(ISNUMBER(FIND(\"PD\",I58,1)),AK58*5,0)+(AK58*(15*(VLOOKUP(C58,Items!A:AE,31,FALSE)))),0)","v":0},{"$f":"IF(G58=\"\",\"\",IF(G58=\"DD\",VLOOKUP(C58,Items!A:AH,34,FALSE),IF(G58=\"ID\",VLOOKUP(C58,Items!A:AG,33,FALSE))))","v":""},0,{"$f":"IF(I58=\"\",0,VLOOKUP(C58,Items!A:AF,32,FALSE))","v":0},0,0,"","","",0,0,{"$f":"IF(C58=\"\",0,D58*VLOOKUP(C58,Items!A:M,13,FALSE))","v":{"v":0,"d":"0.00"}},{"v":0,"d":"0.00"},{"$f":"IFERROR(IF(VLOOKUP(C58,'Modifications and Fees'!B:H,2,FALSE)=\"CR\",1*D58,0),0)","v":{"v":0,"d":"0.00"}},{"v":0,"d":"0.00"},{"$f":"ROUND(IFERROR(D58*X58*(VLOOKUP(E58,'Misc Dropdowns'!$J$12:$M$16,4,FALSE)),0),2)","v":{"v":0,"d":"0.00"}},{"$f":"ROUND(IFERROR(VLOOKUP(F58,'Misc Dropdowns'!$J$23:$M$27,4,FALSE)*X58*D58,0),2)","v":{"v":0,"d":"0.00"}},{"$f":"IF(C58=\"\",\"\",IF(AND(VLOOKUP(C58,Items!A:AI,35,FALSE)=\"Y\",'Order Form'!H58=\"\"),1,0))","v":""},{"v":0,"d":"0.00"}]
["2 pages",null,null,0,{"$nulls":7},{"v":0,"d":"0.00"},{"v":0,"d":"0.00"},{"$f":"IF(C59=\"\",\"\",VLOOKUP(C59,Items!A:N,12,FALSE))","v":""},{"$f":"IF(Q59=\"Craftsman Pricing\",\"CR\",IF(C59=\"\",\"\",IF('Misc Dropdowns'!$C$34=0,\"\",IF(E59&F59=\"\",VLOOKUP(AD59,'Misc Dropdowns'!$A$45:$B$47,2,FALSE),\"CR\"))))","v":""},{"$nulls":8},{"$f":"ROUND(IF($Q$18=\"\",0,IF(O59=\"SEL\",VLOOKUP(C59,Items!A:Y,25,FALSE),IF(O59=\"CR\",VLOOKUP(C59,Items!A:Z,26,FALSE),0))),2)","v":{"v":0,"d":"0.00"}},0,null,{"$f":"IFERROR(VLOOKUP(C59,Items!A:H,8,FALSE),0)","v":0},{"$f":"IF(C59=\"\",\"\",IF(E59&F59=\"\",VLOOKUP(C59,Items!A:D,4,FALSE),3))","v":""},{"$f":"IF(C59=\"\",\"\",'Misc Dropdowns'!$C$35)","v":""},{"v":0,"d":"0.00"},0,{"$f":"IF($O59=\"SEL\",VLOOKUP($C59,Items!A:F,6,FALSE),IF($O59=\"CR\",VLOOKUP('Order Form'!$C59,Items!A:G,7,FALSE),0))","v":0},{"$f":"IFERROR(AF59*(VLOOKUP(E59,'Misc Dropdowns'!$J$12:$M$16,4,FALSE)),0)","v":0},{"$f":"IFERROR(VLOOKUP(F59,'Misc Dropdowns'!$J$23:$M$27,4,FALSE)*AF59,0)","v":0},{"$f":"IFERROR(IF(ISNUMBER(FIND(\"PD\",I59,1)),AK59*5,0)+(AK59*(15*(VLOOKUP(C59,Items!A:AE,31,FALSE)))),0)","v":0},{"$f":"IF(G59=\"\",\"\",IF(G59=\"DD\",VLOOKUP(C59,Items!A:AH,34,FALSE),IF(G59=\"ID\",VLOOKUP(C59,Items!A:AG,33,FALSE))))","v":""},0,{"$f":"IF(I59=\"\",0,VLOOKUP(C59,Items!A:AF,32,FALSE))","v":0},0,0,"","","",0,0,{"$f":"IF(C59=\"\",0,D59*VLOOKUP(C59,Items!A:M,13,FALSE))","v":{"v":0,"d":"0.00"}},{"v":0,"d":"0.00"},{"$f":"IFERROR(IF(VLOOKUP(C59,'Modifications and Fees'!B:H,2,FALSE)=\"CR\",1*D59,0),0)","v":{"v":0,"d":"0.00"}},{"v":0,"d":"0.00"},{"$f":"ROUND(IFERROR(D59*X59*(VLOOKUP(E59,'Misc Dropdowns'!$J$12:$M$16,4,FALSE)),0),2)","v":{"v":0,"d":"0.00"}},{"$f":"ROUND(IFERROR(VLOOKUP(F59,'Misc Dropdowns'!$J$23:$M$27,4,FALSE)*X59*D59,0),2)","v":{"v":0,"d":"0.00"}},{"$f":"IF(C59=\"\",\"\",IF(AND(VLOOKUP(C59,Items!A:AI,35,FALSE)=\"Y\",'Order Form'!H59=\"\"),1,0))","v":""},{"v":0,"d":"0.00"}]
["2 pages",null,null,0,{"$nulls":7},{"v":0,"d":"0.00"},{"v":0,"d":"0.00"},{"$f":"IF(C60=\"\",\"\",VLOOKUP(C60,Items!A:N,12,FALSE))","v":""},{"$f":"IF(Q60=\"Craftsman Pricing\",\"CR\",IF(C60=\"\",\"\",IF('Misc Dropdowns'!$C$34=0,\"\",IF(E60&F60=\"\",VLOOKUP(AD60,'Misc Dropdowns'!$A$45:$B$47,2,FALSE),\"CR\"))))","v":""},{"$nulls":8},{"$f":"ROUND(IF($Q$18=\"\",0,IF(O60=\"SEL\",VLOOKUP(C60,Items!A:Y,25,FALSE),IF(O60=\"CR\",VLOOKUP(C60,Items!A:Z,26,FALSE),0))),2)","v":{"v":0,"d":"0.00"}},0,null,{"$f":"IFERROR(VLOOKUP(C60,Items!A:H,8,FALSE),0)","v":0},{"$f":"IF(C60=\"\",\"\",IF(E60&F60=\"\",VLOOKUP(C60,Items!A:D,4,FALSE),3))","v":""},{"$f":"IF(C60=\"\",\"\",'Misc Dropdowns'!$C$35)","v":""},{"v":0,"d":"0.00"},0,{"$f":"IF($O60=\"SEL\",VLOOKUP($C60,Items!A:F,6,FALSE),IF($O60=\"CR\",VLOOKUP('Order Form'!$C60,Items!A:G,7,FALSE),0))","v":0},{"$f":"IFERROR(AF60*(VLOOKUP(E60,'Misc Dropdowns'!$J$12:$M$16,4,FALSE)),0)","v":0},{"$f":"IFERROR(VLOOKUP(F60,'Misc Dropdowns'!$J$23:$M$27,4,FALSE)*AF60,0)","v":0},{"$f":"IFERROR(IF(ISNUMBER(FIND(\"PD\",I60,1)),AK60*5,0)+(AK60*(15*(VLOOKUP(C60,Items!A:AE,31,FALSE)))),0)","v":0},{"$f":"IF(G60=\"\",\"\",IF(G60=\"DD\",VLOOKUP(C60,Items!A:AH,34,FALSE),IF(G60=\"ID\",VLOOKUP(C60,Items!A:AG,33,FALSE))))","v":""},0,{"$f":"IF(I60=\"\",0,VLOOKUP(C60,Items!A:AF,32,FALSE))","v":0},0,0,"","","",0,0,{"$f":"IF(C60=\"\",0,D60*VLOOKUP(C60,Items!A:M,13,FALSE))","v":{"v":0,"d":"0.00"}},{"v":0,"d":"0.00"},{"$f":"IFERROR(IF(VLOOKUP(C60,'Modifications and Fees'!B:H,2,FALSE)=\"CR\",1*D60,0),0)","v":{"v":0,"d":"0.00"}},{"v":0,"d":"0.00"},{"$f":"ROUND(IFERROR(D60*X60*(VLOOKUP(E60,'Misc Dropdowns'!$J$12:$M$16,4,FALSE)),0),2)","v":{"v":0,"d":"0.00"}},{"$f":"ROUND(IFERROR(VLOOKUP(F60,'Misc Dropdowns'!$J$23:$M$27,4,FALSE)*X60*D60,0),2)","v":{"v":0,"d":"0.00"}},{"$f":"IF(C60=\"\",\"\",IF(AND(VLOOKUP(C60,Items!A:AI,35,FALSE)=\"Y\",'Order Form'!H60=\"\"),1,0))","v":""},{"v":0,"d":"0.00"}]
["2 pages",null,null,0,{"$nulls":7},{"v":0,"d":"0.00"},{"v":0,"d":"0.00"},{"$f":"IF(C61=\"\",\"\",VLOOKUP(C61,Items!A:N,12,FALSE))","v":""},{"$f":"IF(Q61=\"Craftsman Pricing\",\"CR\",IF(C61=\"\",\"\",IF('Misc Dropdowns'!$C$34=0,\"\",IF(E61&F61=\"\",VLOOKUP(AD61,'Misc Dropdowns'!$A$45:$B$47,2,FALSE),\"CR\"))))","v":""},{"$nulls":8},{"$f":"ROUND(IF($Q$18=\"\",0,IF(O61=\"SEL\",VLOOKUP(C61,Items!A:Y,25,FALSE),IF(O61=\"CR\",VLOOKUP(C61,Items!A:Z,26,FALSE),0))),2)","v":{"v":0,"d":"0.00"}},0,null,{"$f":"IFERROR(VLOOKUP(C61,Items!A:H,8,FALSE),0)","v":0},{"$f":"IF(C61=\"\",\"\",IF(E61&F61=\"\",VLOOKUP(C61,Items!A:D,4,FALSE),3))","v":""},{"$f":"IF(C61=\"\",\"\",'Misc Dropdowns'!$C$35)","v":""},{"v":0,"d":"0.00"},0,{"$f":"IF($O61=\"SEL\",VLOOKUP($C61,Items!A:F,6,FALSE),IF($O61=\"CR\",VLOOKUP('Order Form'!$C61,Items!A:G,7,FALSE),0))","v":0},{"$f":"IFERROR(AF61*(VLOOKUP(E61,'Misc Dropdowns'!$J$12:$M$16,4,FALSE)),0)","v":0},{"$f":"IFERROR(VLOOKUP(F61,'Misc Dropdowns'!$J$23:$M$27,4,FALSE)*AF61,0)","v":0},{"$f":"IFERROR(IF(ISNUMBER(FIND(\"PD\",I61,1)),AK61*5,0)+(AK61*(15*(VLOOKUP(C61,Items!A:AE,31,FALSE)))),0)","v":0},{"$f":"IF(G61=\"\",\"\",IF(G61=\"DD\",VLOOKUP(C61,Items!A:AH,34,FALSE),IF(G61=\"ID\",VLOOKUP(C61,Items!A:AG,33,FALSE))))","v":""},0,{"$f":"IF(I61=\"\",0,VLOOKUP(C61,Items!A:AF,32,FALSE))","v":0},0,0,"","","",0,0,{"$f":"IF(C61=\"\",0,D61*VLOOKUP(C61,Items!A:M,13,FALSE))","v":{"v":0,"d":"0.00"}},{"v":0,"d":"0.00"},{"$f":"IFERROR(IF(VLOOKUP(C61,'Modifications and Fees'!B:H,2,FALSE)=\"CR\",1*D61,0),0)","v":{"v":0,"d":"0.00"}},{"v":0,"d":"0.00"},{"$f":"ROUND(IFERROR(D61*X61*(VLOOKUP(E61,'Misc Dropdowns'!$J$12:$M$16,4,FALSE)),0),2)","v":{"v":0,"d":"0.00"}},{"$f":"ROUND(IFERROR(VLOOKUP(F61,'Misc Dropdowns'!$J$23:$M$27,4,FALSE)*X61*D61,0),2)","v":{"v":0,"d":"0.00"}},{"$f":"IF(C61=\"\",\"\",IF(AND(VLOOKUP(C61,Items!A:AI,35,FALSE)=\"Y\",'Order Form'!H61=\"\"),1,0))","v":""},{"v":0,"d":"0.00"}]
["2 pages",null,null,0,{"$nulls":7},{"v":0,"d":"0.00"},{"v":0,"d":"0.00"},{"$f":"IF(C62=\"\",\"\",VLOOKUP(C62,Items!A:N,12,FALSE))","v":""},{"$f":"IF(Q62=\"Craftsman Pricing\",\"CR\",IF(C62=\"\",\"\",IF('Misc Dropdowns'!$C$34=0,\"\",IF(E62&F62=\"\",VLOOKUP(AD62,'Misc Dropdowns'!$A$45:$B$47,2,FALSE),\"CR\"))))","v":""},{"$nulls":8},{"$f":"ROUND(IF($Q$18=\"\",0,IF(O62=\"SEL\",VLOOKUP(C62,Items!A:Y,25,FALSE),IF(O62=\"CR\",VLOOKUP(C62,Items!A:Z,26,FALSE),0))),2)","v":{"v":0,"d":"0.00"}},0,null,{"$f":"IFERROR(VLOOKUP(C62,Items!A:H,8,FALSE),0)","v":0},{"$f":"IF(C62=\"\",\"\",IF(E62&F62=\"\",VLOOKUP(C62,Items!A:D,4,FALSE),3))","v":""},{"$f":"IF(C62=\"\",\"\",'Misc Dropdowns'!$C$35)","v":""},{"v":0,"d":"0.00"},0,{"$f":"IF($O62=\"SEL\",VLOOKUP($C62,Items!A:F,6,FALSE),IF($O62=\"CR\",VLOOKUP('Order Form'!$C62,Items!A:G,7,FALSE),0))","v":0},{"$f":"IFERROR(AF62*(VLOOKUP(E62,'Misc Dropdowns'!$J$12:$M$16,4,FALSE)),0)","v":0},{"$f":"IFERROR(VLOOKUP(F62,'Misc Dropdowns'!$J$23:$M$27,4,FALSE)*AF62,0)","v":0},{"$f":"IFERROR(IF(ISNUMBER(FIND(\"PD\",I62,1)),AK62*5,0)+(AK62*(15*(VLOOKUP(C62,Items!A:AE,31,FALSE)))),0)","v":0},{"$f":"IF(G62=\"\",\"\",IF(G62=\"DD\",VLOOKUP(C62,Items!A:AH,34,FALSE),IF(G62=\"ID\",VLOOKUP(C62,Items!A:AG,33,FALSE))))","v":""},0,{"$f":"IF(I62=\"\",0,VLOOKUP(C62,Items!A:AF,32,FALSE))","v":0},0,0,"","","",0,0,{"$f":"IF(C62=\"\",0,D62*VLOOKUP(C62,Items!A:M,13,FALSE))","v":{"v":0,"d":"0.00"}},{"v":0,"d":"0.00"},{"$f":"IFERROR(IF(VLOOKUP(C62,'Modifications and Fees'!B:H,2,FALSE)=\"CR\",1*D62,0),0)","v":{"v":0,"d":"0.00"}},{"v":0,"d":"0.00"},{"$f":"ROUND(IFERROR(D62*X62*(VLOOKUP(E62,'Misc Dropdowns'!$J$12:$M$16,4,FALSE)),0),2)","v":{"v":0,"d":"0.00"}},{"$f":"ROUND(IFERROR(VLOOKUP(F62,'Misc Dropdowns'!$J$23:$M$27,4,FALSE)*X62*D62,0),2)","v":{"v":0,"d":"0.00"}},{"$f":"IF(C62=\"\",\"\",IF(AND(VLOOKUP(C62,Items!A:AI,35,FALSE)=\"Y\",'Order Form'!H62=\"\"),1,0))","v":""},{"v":0,"d":"0.00"}]
["2 pages",null,null,0,{"$nulls":7},{"v":0,"d":"0.00"},{"v":0,"d":"0.00"},{"$f":"IF(C63=\"\",\"\",VLOOKUP(C63,Items!A:N,12,FALSE))","v":""},{"$f":"IF(Q63=\"Craftsman Pricing\",\"CR\",IF(C63=\"\",\"\",IF('Misc Dropdowns'!$C$34=0,\"\",IF(E63&F63=\"\",VLOOKUP(AD63,'Misc Dropdowns'!$A$45:$B$47,2,FALSE),\"CR\"))))","v":""},{"$nulls":8},{"$f":"ROUND(IF($Q$18=\"\",0,IF(O63=\"SEL\",VLOOKUP(C63,Items!A:Y,25,FALSE),IF(O63=\"CR\",VLOOKUP(C63,Items!A:Z,26,FALSE),0))),2)","v":{"v":0,"d":"0.00"}},0,null,{"$f":"IFERROR(VLOOKUP(C63,Items!A:H,8,FALSE),0)","v":0},{"$f":"IF(C63=\"\",\"\",IF(E63&F63=\"\",VLOOKUP(C63,Items!A:D,4,FALSE),3))","v":""},{"$f":"IF(C63=\"\",\"\",'Misc Dropdowns'!$C$35)","v":""},{"v":0,"d":"0.00"},0,{"$f":"IF($O63=\"SEL\",VLOOKUP($C63,Items!A:F,6,FALSE),IF($O63=\"CR\",VLOOKUP('Order Form'!$C63,Items!A:G,7,FALSE),0))","v":0},{"$f":"IFERROR(AF63*(VLOOKUP(E63,'Misc Dropdowns'!$J$12:$M$16,4,FALSE)),0)","v":0},{"$f":"IFERROR(VLOOKUP(F63,'Misc Dropdowns'!$J$23:$M$27,4,FALSE)*AF63,0)","v":0},{"$f":"IFERROR(IF(ISNUMBER(FIND(\"PD\",I63,1)),AK63*5,0)+(AK63*(15*(VLOOKUP(C63,Items!A:AE,31,FALSE)))),0)","v":0},{"$f":"IF(G63=\"\",\"\",IF(G63=\"DD\",VLOOKUP(C63,Items!A:AH,34,FALSE),IF(G63=\"ID\",VLOOKUP(C63,Items!A:AG,33,FALSE))))","v":""},0,{"$f":"IF(I63=\"\",0,VLOOKUP(C63,Items!A:AF,32,FALSE))","v":0},0,0,"","","",0,0,{"$f":"IF(C63=\"\",0,D63*VLOOKUP(C63,Items!A:M,13,FALSE))","v":{"v":0,"d":"0.00"}},{"v":0,"d":"0.00"},{"$f":"IFERROR(IF(VLOOKUP(C63,'Modifications and Fees'!B:H,2,FALSE)=\"CR\",1*D63,0),0)","v":{"v":0,"d":"0.00"}},{"v":0,"d":"0.00"},{"$f":"ROUND(IFERROR(D63*X63*(VLOOKUP(E63,'Misc Dropdowns'!$J$12:$M$16,4,FALSE)),0),2)","v":{"v":0,"d":"0.00"}},{"$f":"ROUND(IFERROR(VLOOKUP(F63,'Misc Dropdowns'!$J$23:$M$27,4,FALSE)*X63*D63,0),2)","v":{"v":0,"d":"0.00"}},{"$f":"IF(C63=\"\",\"\",IF(AND(VLOOKUP(C63,Items!A:AI,35,FALSE)=\"Y\",'Order Form'!H63=\"\"),1,0))","v":""},{"v":0,"d":"0.00"}]
["2 pages",null,null,0,{"$nulls":7},{"v":0,"d":"0.00"},{"v":0,"d":"0.00"},{"$f":"IF(C64=\"\",\"\",VLOOKUP(C64,Items!A:N,12,FALSE))","v":""},{"$f":"IF(Q64=\"Craftsman Pricing\",\"CR\",IF(C64=\"\",\"\",IF('Misc Dropdowns'!$C$34=0,\"\",IF(E64&F64=\"\",VLOOKUP(AD64,'Misc Dropdowns'!$A$45:$B$47,2,FALSE),\"CR\"))))","v":""},{"$nulls":8},{"$f":"ROUND(IF($Q$18=\"\",0,IF(O64=\"SEL\",VLOOKUP(C64,Items!A:Y,25,FALSE),IF(O64=\"CR\",VLOOKUP(C64,Items!A:Z,26,FALSE),0))),2)","v":{"v":0,"d":"0.00"}},0,null,{"$f":"IFERROR(VLOOKUP(C64,Items!A:H,8,FALSE),0)","v":0},{"$f":"IF(C64=\"\",\"\",IF(E64&F64=\"\",VLOOKUP(C64,Items!A:D,4,FALSE),3))","v":""},{"$f":"IF(C64=\"\",\"\",'Misc Dropdowns'!$C$35)","v":""},{"v":0,"d":"0.00"},0,{"$f":"IF($O64=\"SEL\",VLOOKUP($C64,Items!A:F,6,FALSE),IF($O64=\"CR\",VLOOKUP('Order Form'!$C64,Items!A:G,7,FALSE),0))","v":0},{"$f":"IFERROR(AF64*(VLOOKUP(E64,'Misc Dropdowns'!$J$12:$M$16,4,FALSE)),0)","v":0},{"$f":"IFERROR(VLOOKUP(F64,'Misc Dropdowns'!$J$23:$M$27,4,FALSE)*AF64,0)","v":0},{"$f":"IFERROR(IF(ISNUMBER(FIND(\"PD\",I64,1)),AK64*5,0)+(AK64*(15*(VLOOKUP(C64,Items!A:AE,31,FALSE)))),0)","v":0},{"$f":"IF(G64=\"\",\"\",IF(G64=\"DD\",VLOOKUP(C64,Items!A:AH,34,FALSE),IF(G64=\"ID\",VLOOKUP(C64,Items!A:AG,33,FALSE))))","v":""},0,{"$f":"IF(I64=\"\",0,VLOOKUP(C64,Items!A:AF,32,FALSE))","v":0},0,0,"","","",0,0,{"$f":"IF(C64=\"\",0,D64*VLOOKUP(C64,Items!A:M,13,FALSE))","v":{"v":0,"d":"0.00"}},{"v":0,"d":"0.00"},{"$f":"IFERROR(IF(VLOOKUP(C64,'Modifications and Fees'!B:H,2,FALSE)=\"CR\",1*D64,0),0)","v":{"v":0,"d":"0.00"}},{"v":0,"d":"0.00"},{"$f":"ROUND(IFERROR(D64*X64*(VLOOKUP(E64,'Misc Dropdowns'!$J$12:$M$16,4,FALSE)),0),2)","v":{"v":0,"d":"0.00"}},{"$f":"ROUND(IFERROR(VLOOKUP(F64,'Misc Dropdowns'!$J$23:$M$27,4,FALSE)*X64*D64,0),2)","v":{"v":0,"d":"0.00"}},{"$f":"IF(C64=\"\",\"\",IF(AND(VLOOKUP(C64,Items!A:AI,35,FALSE)=\"Y\",'Order Form'!H64=\"\"),1,0))","v":""},{"v":0,"d":"0.00"}]
["2 pages",null,null,0,{"$nulls":7},{"v":0,"d":"0.00"},{"v":0,"d":"0.00"},{"$f":"IF(C65=\"\",\"\",VLOOKUP(C65,Items!A:N,12,FALSE))","v":""},{"$f":"IF(Q65=\"Craftsman Pricing\",\"CR\",IF(C65=\"\",\"\",IF('Misc Dropdowns'!$C$34=0,\"\",IF(E65&F65=\"\",VLOOKUP(AD65,'Misc Dropdowns'!$A$45:$B$47,2,FALSE),\"CR\"))))","v":""},{"$nulls":8},{"$f":"ROUND(IF($Q$18=\"\",0,IF(O65=\"SEL\",VLOOKUP(C65,Items!A:Y,25,FALSE),IF(O65=\"CR\",VLOOKUP(C65,Items!A:Z,26,FALSE),0))),2)","v":{"v":0,"d":"0.00"}},0,null,{"$f":"IFERROR(VLOOKUP(C65,Items!A:H,8,FALSE),0)","v":0},{"$f":"IF(C65=\"\",\"\",IF(E65&F65=\"\",VLOOKUP(C65,Items!A:D,4,FALSE),3))","v":""},{"$f":"IF(C65=\"\",\"\",'Misc Dropdowns'!$C$35)","v":""},{"v":0,"d":"0.00"},0,{"$f":"IF($O65=\"SEL\",VLOOKUP($C65,Items!A:F,6,FALSE),IF($O65=\"CR\",VLOOKUP('Order Form'!$C65,Items!A:G,7,FALSE),0))","v":0},{"$f":"IFERROR(AF65*(VLOOKUP(E65,'Misc Dropdowns'!$J$12:$M$16,4,FALSE)),0)","v":0},{"$f":"IFERROR(VLOOKUP(F65,'Misc Dropdowns'!$J$23:$M$27,4,FALSE)*AF65,0)","v":0},{"$f":"IFERROR(IF(ISNUMBER(FIND(\"PD\",I65,1)),AK65*5,0)+(AK65*(15*(VLOOKUP(C65,Items!A:AE,31,FALSE)))),0)","v":0},{"$f":"IF(G65=\"\",\"\",IF(G65=\"DD\",VLOOKUP(C65,Items!A:AH,34,FALSE),IF(G65=\"ID\",VLOOKUP(C65,Items!A:AG,33,FALSE))))","v":""},0,{"$f":"IF(I65=\"\",0,VLOOKUP(C65,Items!A:AF,32,FALSE))","v":0},0,0,"","","",0,0,{"$f":"IF(C65=\"\",0,D65*VLOOKUP(C65,Items!A:M,13,FALSE))","v":{"v":0,"d":"0.00"}},{"v":0,"d":"0.00"},{"$f":"IFERROR(IF(VLOOKUP(C65,'Modifications and Fees'!B:H,2,FALSE)=\"CR\",1*D65,0),0)","v":{"v":0,"d":"0.00"}},{"v":0,"d":"0.00"},{"$f":"ROUND(IFERROR(D65*X65*(VLOOKUP(E65,'Misc Dropdowns'!$J$12:$M$16,4,FALSE)),0),2)","v":{"v":0,"d":"0.00"}},{"$f":"ROUND(IFERROR(VLOOKUP(F65,'Misc Dropdowns'!$J$23:$M$27,4,FALSE)*X65*D65,0),2)","v":{"v":0,"d":"0.00"}},{"$f":"IF(C65=\"\",\"\",IF(AND(VLOOKUP(C65,Items!A:AI,35,FALSE)=\"Y\",'Order Form'!H65=\"\"),1,0))","v":""},{"v":0,"d":"0.00"}]
["2 pages",null,null,0,{"$nulls":7},{"v":0,"d":"0.00"},{"v":0,"d":"0.00"},{"$f":"IF(C66=\"\",\"\",VLOOKUP(C66,Items!A:N,12,FALSE))","v":""},{"$f":"IF(Q66=\"Craftsman Pricing\",\"CR\",IF(C66=\"\",\"\",IF('Misc Dropdowns'!$C$34=0,\"\",IF(E66&F66=\"\",VLOOKUP(AD66,'Misc Dropdowns'!$A$45:$B$47,2,FALSE),\"CR\"))))","v":""},{"$nulls":8},{"$f":"ROUND(IF($Q$18=\"\",0,IF(O66=\"SEL\",VLOOKUP(C66,Items!A:Y,25,FALSE),IF(O66=\"CR\",VLOOKUP(C66,Items!A:Z,26,FALSE),0))),2)","v":{"v":0,"d":"0.00"}},0,null,{"$f":"IFERROR(VLOOKUP(C66,Items!A:H,8,FALSE),0)","v":0},{"$f":"IF(C66=\"\",\"\",IF(E66&F66=\"\",VLOOKUP(C66,Items!A:D,4,FALSE),3))","v":""},{"$f":"IF(C66=\"\",\"\",'Misc Dropdowns'!$C$35)","v":""},{"v":0,"d":"0.00"},0,{"$f":"IF($O66=\"SEL\",VLOOKUP($C66,Items!A:F,6,FALSE),IF($O66=\"CR\",VLOOKUP('Order Form'!$C66,Items!A:G,7,FALSE),0))","v":0},{"$f":"IFERROR(AF66*(VLOOKUP(E66,'Misc Dropdowns'!$J$12:$M$16,4,FALSE)),0)","v":0},{"$f":"IFERROR(VLOOKUP(F66,'Misc Dropdowns'!$J$23:$M$27,4,FALSE)*AF66,0)","v":0},{"$f":"IFERROR(IF(ISNUMBER(FIND(\"PD\",I66,1)),AK66*5,0)+(AK66*(15*(VLOOKUP(C66,Items!A:AE,31,FALSE)))),0)","v":0},{"$f":"IF(G66=\"\",\"\",IF(G66=\"DD\",VLOOKUP(C66,Items!A:AH,34,FALSE),IF(G66=\"ID\",VLOOKUP(C66,Items!A:AG,33,FALSE))))","v":""},0,{"$f":"IF(I66=\"\",0,VLOOKUP(C66,Items!A:AF,32,FALSE))","v":0},0,0,"","","",0,0,{"$f":"IF(C66=\"\",0,D66*VLOOKUP(C66,Items!A:M,13,FALSE))","v":{"v":0,"d":"0.00"}},{"v":0,"d":"0.00"},{"$f":"IFERROR(IF(VLOOKUP(C66,'Modifications and Fees'!B:H,2,FALSE)=\"CR\",1*D66,0),0)","v":{"v":0,"d":"0.00"}},{"v":0,"d":"0.00"},{"$f":"ROUND(IFERROR(D66*X66*(VLOOKUP(E66,'Misc Dropdowns'!$J$12:$M$16,4,FALSE)),0),2)","v":{"v":0,"d":"0.00"}},{"$f":"ROUND(IFERROR(VLOOKUP(F66,'Misc Dropdowns'!$J$23:$M$27,4,FALSE)*X66*D66,0),2)","v":{"v":0,"d":"0.00"}},{"$f":"IF(C66=\"\",\"\",IF(AND(VLOOKUP(C66,Items!A:AI,35,FALSE)=\"Y\",'Order Form'!H66=\"\"),1,0))","v":""},{"v":0,"d":"0.00"}]
["2 pages",null,null,0,{"$nulls":7},{"v":0,"d":"0.00"},{"v":0,"d":"0.00"},{"$f":"IF(C67=\"\",\"\",VLOOKUP(C67,Items!A:N,12,FALSE))","v":""},{"$f":"IF(Q67=\"Craftsman Pricing\",\"CR\",IF(C67=\"\",\"\",IF('Misc Dropdowns'!$C$34=0,\"\",IF(E67&F67=\"\",VLOOKUP(AD67,'Misc Dropdowns'!$A$45:$B$47,2,FALSE),\"CR\"))))","v":""},{"$nulls":8},{"$f":"ROUND(IF($Q$18=\"\",0,IF(O67=\"SEL\",VLOOKUP(C67,Items!A:Y,25,FALSE),IF(O67=\"CR\",VLOOKUP(C67,Items!A:Z,26,FALSE),0))),2)","v":{"v":0,"d":"0.00"}},0,null,{"$f":"IFERROR(VLOOKUP(C67,Items!A:H,8,FALSE),0)","v":0},{"$f":"IF(C67=\"\",\"\",IF(E67&F67=\"\",VLOOKUP(C67,Items!A:D,4,FALSE),3))","v":""},{"$f":"IF(C67=\"\",\"\",'Misc Dropdowns'!$C$35)","v":""},{"v":0,"d":"0.00"},0,{"$f":"IF($O67=\"SEL\",VLOOKUP($C67,Items!A:F,6,FALSE),IF($O67=\"CR\",VLOOKUP('Order Form'!$C67,Items!A:G,7,FALSE),0))","v":0},{"$f":"IFERROR(AF67*(VLOOKUP(E67,'Misc Dropdowns'!$J$12:$M$16,4,FALSE)),0)","v":0},{"$f":"IFERROR(VLOOKUP(F67,'Misc Dropdowns'!$J$23:$M$27,4,FALSE)*AF67,0)","v":0},{"$f":"IFERROR(IF(ISNUMBER(FIND(\"PD\",I67,1)),AK67*5,0)+(AK67*(15*(VLOOKUP(C67,Items!A:AE,31,FALSE)))),0)","v":0},{"$f":"IF(G67=\"\",\"\",IF(G67=\"DD\",VLOOKUP(C67,Items!A:AH,34,FALSE),IF(G67=\"ID\",VLOOKUP(C67,Items!A:AG,33,FALSE))))","v":""},0,{"$f":"IF(I67=\"\",0,VLOOKUP(C67,Items!A:AF,32,FALSE))","v":0},0,0,"","","",0,0,{"$f":"IF(C67=\"\",0,D67*VLOOKUP(C67,Items!A:M,13,FALSE))","v":{"v":0,"d":"0.00"}},{"v":0,"d":"0.00"},{"$f":"IFERROR(IF(VLOOKUP(C67,'Modifications and Fees'!B:H,2,FALSE)=\"CR\",1*D67,0),0)","v":{"v":0,"d":"0.00"}},{"v":0,"d":"0.00"},{"$f":"ROUND(IFERROR(D67*X67*(VLOOKUP(E67,'Misc Dropdowns'!$J$12:$M$16,4,FALSE)),0),2)","v":{"v":0,"d":"0.00"}},{"$f":"ROUND(IFERROR(VLOOKUP(F67,'Misc Dropdowns'!$J$23:$M$27,4,FALSE)*X67*D67,0),2)","v":{"v":0,"d":"0.00"}},{"$f":"IF(C67=\"\",\"\",IF(AND(VLOOKUP(C67,Items!A:AI,35,FALSE)=\"Y\",'Order Form'!H67=\"\"),1,0))","v":""},{"v":0,"d":"0.00"}]
["2 pages",null,null,0,{"$nulls":7},{"v":0,"d":"0.00"},{"v":0,"d":"0.00"},{"$f":"IF(C68=\"\",\"\",VLOOKUP(C68,Items!A:N,12,FALSE))","v":""},{"$f":"IF(Q68=\"Craftsman Pricing\",\"CR\",IF(C68=\"\",\"\",IF('Misc Dropdowns'!$C$34=0,\"\",IF(E68&F68=\"\",VLOOKUP(AD68,'Misc Dropdowns'!$A$45:$B$47,2,FALSE),\"CR\"))))","v":""},{"$nulls":8},{"$f":"ROUND(IF($Q$18=\"\",0,IF(O68=\"SEL\",VLOOKUP(C68,Items!A:Y,25,FALSE),IF(O68=\"CR\",VLOOKUP(C68,Items!A:Z,26,FALSE),0))),2)","v":{"v":0,"d":"0.00"}},0,null,{"$f":"IFERROR(VLOOKUP(C68,Items!A:H,8,FALSE),0)","v":0},{"$f":"IF(C68=\"\",\"\",IF(E68&F68=\"\",VLOOKUP(C68,Items!A:D,4,FALSE),3))","v":""},{"$f":"IF(C68=\"\",\"\",'Misc Dropdowns'!$C$35)","v":""},{"v":0,"d":"0.00"},0,{"$f":"IF($O68=\"SEL\",VLOOKUP($C68,Items!A:F,6,FALSE),IF($O68=\"CR\",VLOOKUP('Order Form'!$C68,Items!A:G,7,FALSE),0))","v":0},{"$f":"IFERROR(AF68*(VLOOKUP(E68,'Misc Dropdowns'!$J$12:$M$16,4,FALSE)),0)","v":0},{"$f":"IFERROR(VLOOKUP(F68,'Misc Dropdowns'!$J$23:$M$27,4,FALSE)*AF68,0)","v":0},{"$f":"IFERROR(IF(ISNUMBER(FIND(\"PD\",I68,1)),AK68*5,0)+(AK68*(15*(VLOOKUP(C68,Items!A:AE,31,FALSE)))),0)","v":0},{"$f":"IF(G68=\"\",\"\",IF(G68=\"DD\",VLOOKUP(C68,Items!A:AH,34,FALSE),IF(G68=\"ID\",VLOOKUP(C68,Items!A:AG,33,FALSE))))","v":""},0,{"$f":"IF(I68=\"\",0,VLOOKUP(C68,Items!A:AF,32,FALSE))","v":0},0,0,"","","",0,0,{"$f":"IF(C68=\"\",0,D68*VLOOKUP(C68,Items!A:M,13,FALSE))","v":{"v":0,"d":"0.00"}},{"v":0,"d":"0.00"},{"$f":"IFERROR(IF(VLOOKUP(C68,'Modifications and Fees'!B:H,2,FALSE)=\"CR\",1*D68,0),0)","v":{"v":0,"d":"0.00"}},{"v":0,"d":"0.00"},{"$f":"ROUND(IFERROR(D68*X68*(VLOOKUP(E68,'Misc Dropdowns'!$J$12:$M$16,4,FALSE)),0),2)","v":{"v":0,"d":"0.00"}},{"$f":"ROUND(IFERROR(VLOOKUP(F68,'Misc Dropdowns'!$J$23:$M$27,4,FALSE)*X68*D68,0),2)","v":{"v":0,"d":"0.00"}},{"$f":"IF(C68=\"\",\"\",IF(AND(VLOOKUP(C68,Items!A:AI,35,FALSE)=\"Y\",'Order Form'!H68=\"\"),1,0))","v":""},{"v":0,"d":"0.00"}]
["2 pages",null,null,0,{"$nulls":7},{"v":0,"d":"0.00"},{"v":0,"d":"0.00"},{"$f":"IF(C69=\"\",\"\",VLOOKUP(C69,Items!A:N,12,FALSE))","v":""},{"$f":"IF(Q69=\"Craftsman Pricing\",\"CR\",IF(C69=\"\",\"\",IF('Misc Dropdowns'!$C$34=0,\"\",IF(E69&F69=\"\",VLOOKUP(AD69,'Misc Dropdowns'!$A$45:$B$47,2,FALSE),\"CR\"))))","v":""},{"$nulls":8},{"$f":"ROUND(IF($Q$18=\"\",0,IF(O69=\"SEL\",VLOOKUP(C69,Items!A:Y,25,FALSE),IF(O69=\"CR\",VLOOKUP(C69,Items!A:Z,26,FALSE),0))),2)","v":{"v":0,"d":"0.00"}},0,null,{"$f":"IFERROR(VLOOKUP(C69,Items!A:H,8,FALSE),0)","v":0},{"$f":"IF(C69=\"\",\"\",IF(E69&F69=\"\",VLOOKUP(C69,Items!A:D,4,FALSE),3))","v":""},{"$f":"IF(C69=\"\",\"\",'Misc Dropdowns'!$C$35)","v":""},{"v":0,"d":"0.00"},0,{"$f":"IF($O69=\"SEL\",VLOOKUP($C69,Items!A:F,6,FALSE),IF($O69=\"CR\",VLOOKUP('Order Form'!$C69,Items!A:G,7,FALSE),0))","v":0},{"$f":"IFERROR(AF69*(VLOOKUP(E69,'Misc Dropdowns'!$J$12:$M$16,4,FALSE)),0)","v":0},{"$f":"IFERROR(VLOOKUP(F69,'Misc Dropdowns'!$J$23:$M$27,4,FALSE)*AF69,0)","v":0},{"$f":"IFERROR(IF(ISNUMBER(FIND(\"PD\",I69,1)),AK69*5,0)+(AK69*(15*(VLOOKUP(C69,Items!A:AE,31,FALSE)))),0)","v":0},{"$f":"IF(G69=\"\",\"\",IF(G69=\"DD\",VLOOKUP(C69,Items!A:AH,34,FALSE),IF(G69=\"ID\",VLOOKUP(C69,Items!A:AG,33,FALSE))))","v":""},0,{"$f":"IF(I69=\"\",0,VLOOKUP(C69,Items!A:AF,32,FALSE))","v":0},0,0,"","","",0,0,{"$f":"IF(C69=\"\",0,D69*VLOOKUP(C69,Items!A:M,13,FALSE))","v":{"v":0,"d":"0.00"}},{"v":0,"d":"0.00"},{"$f":"IFERROR(IF(VLOOKUP(C69,'Modifications and Fees'!B:H,2,FALSE)=\"CR\",1*D69,0),0)","v":{"v":0,"d":"0.00"}},{"v":0,"d":"0.00"},{"$f":"ROUND(IFERROR(D69*X69*(VLOOKUP(E69,'Misc Dropdowns'!$J$12:$M$16,4,FALSE)),0),2)","v":{"v":0,"d":"0.00"}},{"$f":"ROUND(IFERROR(VLOOKUP(F69,'Misc Dropdowns'!$J$23:$M$27,4,FALSE)*X69*D69,0),2)","v":{"v":0,"d":"0.00"}},{"$f":"IF(C69=\"\",\"\",IF(AND(VLOOKUP(C69,Items!A:AI,35,FALSE)=\"Y\",'Order Form'!H69=\"\"),1,0))","v":""},{"v":0,"d":"0.00"}]
["2 pages",null,null,0,{"$nulls":7},{"v":0,"d":"0.00"},{"v":0,"d":"0.00"},{"$f":"IF(C70=\"\",\"\",VLOOKUP(C70,Items!A:N,12,FALSE))","v":""},{"$f":"IF(Q70=\"Craftsman Pricing\",\"CR\",IF(C70=\"\",\"\",IF('Misc Dropdowns'!$C$34=0,\"\",IF(E70&F70=\"\",VLOOKUP(AD70,'Misc Dropdowns'!$A$45:$B$47,2,FALSE),\"CR\"))))","v":""},{"$nulls":8},{"$f":"ROUND(IF($Q$18=\"\",0,IF(O70=\"SEL\",VLOOKUP(C70,Items!A:Y,25,FALSE),IF(O70=\"CR\",VLOOKUP(C70,Items!A:Z,26,FALSE),0))),2)","v":{"v":0,"d":"0.00"}},0,null,{"$f":"IFERROR(VLOOKUP(C70,Items!A:H,8,FALSE),0)","v":0},{"$f":"IF(C70=\"\",\"\",IF(E70&F70=\"\",VLOOKUP(C70,Items!A:D,4,FALSE),3))","v":""},{"$f":"IF(C70=\"\",\"\",'Misc Dropdowns'!$C$35)","v":""},{"v":0,"d":"0.00"},0,{"$f":"IF($O70=\"SEL\",VLOOKUP($C70,Items!A:F,6,FALSE),IF($O70=\"CR\",VLOOKUP('Order Form'!$C70,Items!A:G,7,FALSE),0))","v":0},{"$f":"IFERROR(AF70*(VLOOKUP(E70,'Misc Dropdowns'!$J$12:$M$16,4,FALSE)),0)","v":0},{"$f":"IFERROR(VLOOKUP(F70,'Misc Dropdowns'!$J$23:$M$27,4,FALSE)*AF70,0)","v":0},{"$f":"IFERROR(IF(ISNUMBER(FIND(\"PD\",I70,1)),AK70*5,0)+(AK70*(15*(VLOOKUP(C70,Items!A:AE,31,FALSE)))),0)","v":0},{"$f":"IF(G70=\"\",\"\",IF(G70=\"DD\",VLOOKUP(C70,Items!A:AH,34,FALSE),IF(G70=\"ID\",VLOOKUP(C70,Items!A:AG,33,FALSE))))","v":""},0,{"$f":"IF(I70=\"\",0,VLOOKUP(C70,Items!A:AF,32,FALSE))","v":0},0,0,"","","",0,0,{"$f":"IF(C70=\"\",0,D70*VLOOKUP(C70,Items!A:M,13,FALSE))","v":{"v":0,"d":"0.00"}},{"v":0,"d":"0.00"},{"$f":"IFERROR(IF(VLOOKUP(C70,'Modifications and Fees'!B:H,2,FALSE)=\"CR\",1*D70,0),0)","v":{"v":0,"d":"0.00"}},{"v":0,"d":"0.00"},{"$f":"ROUND(IFERROR(D70*X70*(VLOOKUP(E70,'Misc Dropdowns'!$J$12:$M$16,4,FALSE)),0),2)","v":{"v":0,"d":"0.00"}},{"$f":"ROUND(IFERROR(VLOOKUP(F70,'Misc Dropdowns'!$J$23:$M$27,4,FALSE)*X70*D70,0),2)","v":{"v":0,"d":"0.00"}},{"$f":"IF(C70=\"\",\"\",IF(AND(VLOOKUP(C70,Items!A:AI,35,FALSE)=\"Y\",'Order Form'!H70=\"\"),1,0))","v":""},{"v":0,"d":"0.00"}]
["2 pages",null,null,0,{"$nulls":7},{"v":0,"d":"0.00"},{"v":0,"d":"0.00"},{"$f":"IF(C71=\"\",\"\",VLOOKUP(C71,Items!A:N,12,FALSE))","v":""},{"$f":"IF(Q71=\"Craftsman Pricing\",\"CR\",IF(C71=\"\",\"\",IF('Misc Dropdowns'!$C$34=0,\"\",IF(E71&F71=\"\",VLOOKUP(AD71,'Misc Dropdowns'!$A$45:$B$47,2,FALSE),\"CR\"))))","v":""},{"$nulls":8},{"$f":"ROUND(IF($Q$18=\"\",0,IF(O71=\"SEL\",VLOOKUP(C71,Items!A:Y,25,FALSE),IF(O71=\"CR\",VLOOKUP(C71,Items!A:Z,26,FALSE),0))),2)","v":{"v":0,"d":"0.00"}},0,null,{"$f":"IFERROR(VLOOKUP(C71,Items!A:H,8,FALSE),0)","v":0},{"$f":"IF(C71=\"\",\"\",IF(E71&F71=\"\",VLOOKUP(C71,Items!A:D,4,FALSE),3))","v":""},{"$f":"IF(C71=\"\",\"\",'Misc Dropdowns'!$C$35)","v":""},{"v":0,"d":"0.00"},0,{"$f":"IF($O71=\"SEL\",VLOOKUP($C71,Items!A:F,6,FALSE),IF($O71=\"CR\",VLOOKUP('Order Form'!$C71,Items!A:G,7,FALSE),0))","v":0},{"$f":"IFERROR(AF71*(VLOOKUP(E71,'Misc Dropdowns'!$J$12:$M$16,4,FALSE)),0)","v":0},{"$f":"IFERROR(VLOOKUP(F71,'Misc Dropdowns'!$J$23:$M$27,4,FALSE)*AF71,0)","v":0},{"$f":"IFERROR(IF(ISNUMBER(FIND(\"PD\",I71,1)),AK71*5,0)+(AK71*(15*(VLOOKUP(C71,Items!A:AE,31,FALSE)))),0)","v":0},{"$f":"IF(G71=\"\",\"\",IF(G71=\"DD\",VLOOKUP(C71,Items!A:AH,34,FALSE),IF(G71=\"ID\",VLOOKUP(C71,Items!A:AG,33,FALSE))))","v":""},0,{"$f":"IF(I71=\"\",0,VLOOKUP(C71,Items!A:AF,32,FALSE))","v":0},0,0,"","","",0,0,{"$f":"IF(C71=\"\",0,D71*VLOOKUP(C71,Items!A:M,13,FALSE))","v":{"v":0,"d":"0.00"}},{"v":0,"d":"0.00"},{"$f":"IFERROR(IF(VLOOKUP(C71,'Modifications and Fees'!B:H,2,FALSE)=\"CR\",1*D71,0),0)","v":{"v":0,"d":"0.00"}},{"v":0,"d":"0.00"},{"$f":"ROUND(IFERROR(D71*X71*(VLOOKUP(E71,'Misc Dropdowns'!$J$12:$M$16,4,FALSE)),0),2)","v":{"v":0,"d":"0.00"}},{"$f":"ROUND(IFERROR(VLOOKUP(F71,'Misc Dropdowns'!$J$23:$M$27,4,FALSE)*X71*D71,0),2)","v":{"v":0,"d":"0.00"}},{"$f":"IF(C71=\"\",\"\",IF(AND(VLOOKUP(C71,Items!A:AI,35,FALSE)=\"Y\",'Order Form'!H71=\"\"),1,0))","v":""},{"v":0,"d":"0.00"}]
["2 pages",null,null,0,{"$nulls":7},{"v":0,"d":"0.00"},{"v":0,"d":"0.00"},{"$f":"IF(C72=\"\",\"\",VLOOKUP(C72,Items!A:N,12,FALSE))","v":""},{"$f":"IF(Q72=\"Craftsman Pricing\",\"CR\",IF(C72=\"\",\"\",IF('Misc Dropdowns'!$C$34=0,\"\",IF(E72&F72=\"\",VLOOKUP(AD72,'Misc Dropdowns'!$A$45:$B$47,2,FALSE),\"CR\"))))","v":""},{"$nulls":8},{"$f":"ROUND(IF($Q$18=\"\",0,IF(O72=\"SEL\",VLOOKUP(C72,Items!A:Y,25,FALSE),IF(O72=\"CR\",VLOOKUP(C72,Items!A:Z,26,FALSE),0))),2)","v":{"v":0,"d":"0.00"}},0,null,{"$f":"IFERROR(VLOOKUP(C72,Items!A:H,8,FALSE),0)","v":0},{"$f":"IF(C72=\"\",\"\",IF(E72&F72=\"\",VLOOKUP(C72,Items!A:D,4,FALSE),3))","v":""},{"$f":"IF(C72=\"\",\"\",'Misc Dropdowns'!$C$35)","v":""},{"v":0,"d":"0.00"},{"$f":"MIN(AC72)","v":0},{"$f":"IF($O72=\"SEL\",VLOOKUP($C72,Items!A:F,6,FALSE),IF($O72=\"CR\",VLOOKUP('Order Form'!$C72,Items!A:G,7,FALSE),0))","v":0},{"$f":"IFERROR(AF72*(VLOOKUP(E72,'Misc Dropdowns'!$J$12:$M$16,4,FALSE)),0)","v":0},{"$f":"IFERROR(VLOOKUP(F72,'Misc Dropdowns'!$J$23:$M$27,4,FALSE)*AF72,0)","v":0},{"$f":"IFERROR(IF(ISNUMBER(FIND(\"PD\",I72,1)),AK72*5,0)+(AK72*(15*(VLOOKUP(C72,Items!A:AE,31,FALSE)))),0)","v":0},{"$f":"IF(G72=\"\",\"\",IF(G72=\"DD\",VLOOKUP(C72,Items!A:AH,34,FALSE),IF(G72=\"ID\",VLOOKUP(C72,Items!A:AG,33,FALSE))))","v":""},0,{"$f":"IF(I72=\"\",0,VLOOKUP(C72,Items!A:AF,32,FALSE))","v":0},0,0,"","","",0,0,{"$f":"IF(C72=\"\",0,D72*VLOOKUP(C72,Items!A:M,13,FALSE))","v":{"v":0,"d":"0.00"}},{"v":0,"d":"0.00"},{"$f":"IFERROR(IF(VLOOKUP(C72,'Modifications and Fees'!B:H,2,FALSE)=\"CR\",1*D72,0),0)","v":{"v":0,"d":"0.00"}},{"v":0,"d":"0.00"},{"$f":"ROUND(IFERROR(D72*X72*(VLOOKUP(E72,'Misc Dropdowns'!$J$12:$M$16,4,FALSE)),0),2)","v":{"v":0,"d":"0.00"}},{"$f":"ROUND(IFERROR(VLOOKUP(F72,'Misc Dropdowns'!$J$23:$M$27,4,FALSE)*X72*D72,0),2)","v":{"v":0,"d":"0.00"}},{"$f":"IF(C72=\"\",\"\",IF(AND(VLOOKUP(C72,Items!A:AI,35,FALSE)=\"Y\",'Order Form'!H72=\"\"),1,0))","v":""},{"v":0,"d":"0.00"}]
["2 pages",null,null,0,{"$nulls":7},{"v":0,"d":"0.00"},{"v":0,"d":"0.00"},{"$f":"IF(C73=\"\",\"\",VLOOKUP(C73,Items!A:N,12,FALSE))","v":""},{"$f":"IF(Q73=\"Craftsman Pricing\",\"CR\",IF(C73=\"\",\"\",IF('Misc Dropdowns'!$C$34=0,\"\",IF(E73&F73=\"\",VLOOKUP(AD73,'Misc Dropdowns'!$A$45:$B$47,2,FALSE),\"CR\"))))","v":""},{"$nulls":8},{"$f":"ROUND(IF($Q$18=\"\",0,IF(O73=\"SEL\",VLOOKUP(C73,Items!A:Y,25,FALSE),IF(O73=\"CR\",VLOOKUP(C73,Items!A:Z,26,FALSE),0))),2)","v":{"v":0,"d":"0.00"}},0,null,{"$f":"IFERROR(VLOOKUP(C73,Items!A:H,8,FALSE),0)","v":0},{"$f":"IF(C73=\"\",\"\",IF(E73&F73=\"\",VLOOKUP(C73,Items!A:D,4,FALSE),3))","v":""},{"$f":"IF(C73=\"\",\"\",'Misc Dropdowns'!$C$35)","v":""},{"$f":"MAX(AB73,AC73)","v":{"v":0,"d":"0.00"}},0,{"$f":"IF($O73=\"SEL\",VLOOKUP($C73,Items!A:F,6,FALSE),IF($O73=\"CR\",VLOOKUP('Order Form'!$C73,Items!A:G,7,FALSE),0))","v":0},{"$f":"IFERROR(AF73*(VLOOKUP(E73,'Misc Dropdowns'!$J$12:$M$16,4,FALSE)),0)","v":0},{"$f":"IFERROR(VLOOKUP(F73,'Misc Dropdowns'!$J$23:$M$27,4,FALSE)*AF73,0)","v":0},{"$f":"IFERROR(IF(ISNUMBER(FIND(\"PD\",I73,1)),AK73*5,0)+(AK73*(15*(VLOOKUP(C73,Items!A:AE,31,FALSE)))),0)","v":0},{"$f":"IF(G73=\"\",\"\",IF(G73=\"DD\",VLOOKUP(C73,Items!A:AH,34,FALSE),IF(G73=\"ID\",VLOOKUP(C73,Items!A:AG,33,FALSE))))","v":""},0,{"$f":"IF(I73=\"\",0,VLOOKUP(C73,Items!A:AF,32,FALSE))","v":0},0,0,"","","",0,0,{"$f":"IF(C73=\"\",0,D73*VLOOKUP(C73,Items!A:M,13,FALSE))","v":{"v":0,"d":"0.00"}},{"v":0,"d":"0.00"},{"$f":"IFERROR(IF(VLOOKUP(C73,'Modifications and Fees'!B:H,2,FALSE)=\"CR\",1*D73,0),0)","v":{"v":0,"d":"0.00"}},{"v":0,"d":"0.00"},{"$f":"ROUND(IFERROR(D73*X73*(VLOOKUP(E73,'Misc Dropdowns'!$J$12:$M$16,4,FALSE)),0),2)","v":{"v":0,"d":"0.00"}},{"$f":"ROUND(IFERROR(VLOOKUP(F73,'Misc Dropdowns'!$J$23:$M$27,4,FALSE)*X73*D73,0),2)","v":{"v":0,"d":"0.00"}},{"$f":"IF(C73=\"\",\"\",IF(AND(VLOOKUP(C73,Items!A:AI,35,FALSE)=\"Y\",'Order Form'!H73=\"\"),1,0))","v":""},{"v":0,"d":"0.00"}]
["2 pages",null,null,0,{"$nulls":7},{"v":0,"d":"0.00"},{"v":0,"d":"0.00"},{"$f":"IF(C74=\"\",\"\",VLOOKUP(C74,Items!A:N,12,FALSE))","v":""},{"$f":"IF(Q74=\"Craftsman Pricing\",\"CR\",IF(C74=\"\",\"\",IF('Misc Dropdowns'!$C$34=0,\"\",IF(E74&F74=\"\",VLOOKUP(AD74,'Misc Dropdowns'!$A$45:$B$47,2,FALSE),\"CR\"))))","v":""},{"$nulls":8},{"$f":"ROUND(IF($Q$18=\"\",0,IF(O74=\"SEL\",VLOOKUP(C74,Items!A:Y,25,FALSE),IF(O74=\"CR\",VLOOKUP(C74,Items!A:Z,26,FALSE),0))),2)","v":{"v":0,"d":"0.00"}},0,null,{"$f":"IFERROR(VLOOKUP(C74,Items!A:H,8,FALSE),0)","v":0},{"$f":"IF(C74=\"\",\"\",IF(E74&F74=\"\",VLOOKUP(C74,Items!A:D,4,FALSE),3))","v":""},{"$f":"IF(C74=\"\",\"\",'Misc Dropdowns'!$C$35)","v":""},{"v":0,"d":"0.00"},0,{"$f":"IF($O74=\"SEL\",VLOOKUP($C74,Items!A:F,6,FALSE),IF($O74=\"CR\",VLOOKUP('Order Form'!$C74,Items!A:G,7,FALSE),0))","v":0},{"$f":"IFERROR(AF74*(VLOOKUP(E74,'Misc Dropdowns'!$J$12:$M$16,4,FALSE)),0)","v":0},{"$f":"IFERROR(VLOOKUP(F74,'Misc Dropdowns'!$J$23:$M$27,4,FALSE)*AF74,0)","v":0},{"$f":"IFERROR(IF(ISNUMBER(FIND(\"PD\",I74,1)),AK74*5,0)+(AK74*(15*(VLOOKUP(C74,Items!A:AE,31,FALSE)))),0)","v":0},{"$f":"IF(G74=\"\",\"\",IF(G74=\"DD\",VLOOKUP(C74,Items!A:AH,34,FALSE),IF(G74=\"ID\",VLOOKUP(C74,Items!A:AG,33,FALSE))))","v":""},0,{"$f":"IF(I74=\"\",0,VLOOKUP(C74,Items!A:AF,32,FALSE))","v":0},0,0,"","","",0,0,{"$f":"IF(C74=\"\",0,D74*VLOOKUP(C74,Items!A:M,13,FALSE))","v":{"v":0,"d":"0.00"}},{"v":0,"d":"0.00"},{"$f":"IFERROR(IF(VLOOKUP(C74,'Modifications and Fees'!B:H,2,FALSE)=\"CR\",1*D74,0),0)","v":{"v":0,"d":"0.00"}},{"v":0,"d":"0.00"},{"$f":"ROUND(IFERROR(D74*X74*(VLOOKUP(E74,'Misc Dropdowns'!$J$12:$M$16,4,FALSE)),0),2)","v":{"v":0,"d":"0.00"}},{"$f":"ROUND(IFERROR(VLOOKUP(F74,'Misc Dropdowns'!$J$23:$M$27,4,FALSE)*X74*D74,0),2)","v":{"v":0,"d":"0.00"}},{"$f":"IF(C74=\"\",\"\",IF(AND(VLOOKUP(C74,Items!A:AI,35,FALSE)=\"Y\",'Order Form'!H74=\"\"),1,0))","v":""},{"v":0,"d":"0.00"}]
["2 pages",null,null,0,{"$nulls":7},{"v":0,"d":"0.00"},{"v":0,"d":"0.00"},{"$f":"IF(C75=\"\",\"\",VLOOKUP(C75,Items!A:N,12,FALSE))","v":""},{"$f":"IF(Q75=\"Craftsman Pricing\",\"CR\",IF(C75=\"\",\"\",IF('Misc Dropdowns'!$C$34=0,\"\",IF(E75&F75=\"\",VLOOKUP(AD75,'Misc Dropdowns'!$A$45:$B$47,2,FALSE),\"CR\"))))","v":""},{"$nulls":8},{"$f":"ROUND(IF($Q$18=\"\",0,IF(O75=\"SEL\",VLOOKUP(C75,Items!A:Y,25,FALSE),IF(O75=\"CR\",VLOOKUP(C75,Items!A:Z,26,FALSE),0))),2)","v":{"v":0,"d":"0.00"}},0,null,{"$f":"IFERROR(VLOOKUP(C75,Items!A:H,8,FALSE),0)","v":0},{"$f":"IF(C75=\"\",\"\",IF(E75&F75=\"\",VLOOKUP(C75,Items!A:D,4,FALSE),3))","v":""},{"$f":"IF(C75=\"\",\"\",'Misc Dropdowns'!$C$35)","v":""},{"v":0,"d":"0.00"},0,{"$f":"IF($O75=\"SEL\",VLOOKUP($C75,Items!A:F,6,FALSE),IF($O75=\"CR\",VLOOKUP('Order Form'!$C75,Items!A:G,7,FALSE),0))","v":0},{"$f":"IFERROR(AF75*(VLOOKUP(E75,'Misc Dropdowns'!$J$12:$M$16,4,FALSE)),0)","v":0},{"$f":"IFERROR(VLOOKUP(F75,'Misc Dropdowns'!$J$23:$M$27,4,FALSE)*AF75,0)","v":0},{"$f":"IFERROR(IF(ISNUMBER(FIND(\"PD\",I75,1)),AK75*5,0)+(AK75*(15*(VLOOKUP(C75,Items!A:AE,31,FALSE)))),0)","v":0},{"$f":"IF(G75=\"\",\"\",IF(G75=\"DD\",VLOOKUP(C75,Items!A:AH,34,FALSE),IF(G75=\"ID\",VLOOKUP(C75,Items!A:AG,33,FALSE))))","v":""},0,{"$f":"IF(I75=\"\",0,VLOOKUP(C75,Items!A:AF,32,FALSE))","v":0},0,0,"","","",0,0,{"$f":"IF(C75=\"\",0,D75*VLOOKUP(C75,Items!A:M,13,FALSE))","v":{"v":0,"d":"0.00"}},{"v":0,"d":"0.00"},{"$f":"IFERROR(IF(VLOOKUP(C75,'Modifications and Fees'!B:H,2,FALSE)=\"CR\",1*D75,0),0)","v":{"v":0,"d":"0.00"}},{"v":0,"d":"0.00"},{"$f":"ROUND(IFERROR(D75*X75*(VLOOKUP(E75,'Misc Dropdowns'!$J$12:$M$16,4,FALSE)),0),2)","v":{"v":0,"d":"0.00"}},{"$f":"ROUND(IFERROR(VLOOKUP(F75,'Misc Dropdowns'!$J$23:$M$27,4,FALSE)*X75*D75,0),2)","v":{"v":0,"d":"0.00"}},{"$f":"IF(C75=\"\",\"\",IF(AND(VLOOKUP(C75,Items!A:AI,35,FALSE)=\"Y\",'Order Form'!H75=\"\"),1,0))","v":""},{"v":0,"d":"0.00"}]
["2 pages",null,null,0,{"$nulls":7},{"v":0,"d":"0.00"},{"v":0,"d":"0.00"},{"$f":"IF(C76=\"\",\"\",VLOOKUP(C76,Items!A:N,12,FALSE))","v":""},{"$f":"IF(Q76=\"Craftsman Pricing\",\"CR\",IF(C76=\"\",\"\",IF('Misc Dropdowns'!$C$34=0,\"\",IF(E76&F76=\"\",VLOOKUP(AD76,'Misc Dropdowns'!$A$45:$B$47,2,FALSE),\"CR\"))))","v":""},{"$nulls":8},{"$f":"ROUND(IF($Q$18=\"\",0,IF(O76=\"SEL\",VLOOKUP(C76,Items!A:Y,25,FALSE),IF(O76=\"CR\",VLOOKUP(C76,Items!A:Z,26,FALSE),0))),2)","v":{"v":0,"d":"0.00"}},0,null,{"$f":"IFERROR(VLOOKUP(C76,Items!A:H,8,FALSE),0)","v":0},{"$f":"IF(C76=\"\",\"\",IF(E76&F76=\"\",VLOOKUP(C76,Items!A:D,4,FALSE),3))","v":""},{"$f":"IF(C76=\"\",\"\",'Misc Dropdowns'!$C$35)","v":""},{"v":0,"d":"0.00"},0,{"$f":"IF($O76=\"SEL\",VLOOKUP($C76,Items!A:F,6,FALSE),IF($O76=\"CR\",VLOOKUP('Order Form'!$C76,Items!A:G,7,FALSE),0))","v":0},{"$f":"IFERROR(AF76*(VLOOKUP(E76,'Misc Dropdowns'!$J$12:$M$16,4,FALSE)),0)","v":0},{"$f":"IFERROR(VLOOKUP(F76,'Misc Dropdowns'!$J$23:$M$27,4,FALSE)*AF76,0)","v":0},{"$f":"IFERROR(IF(ISNUMBER(FIND(\"PD\",I76,1)),AK76*5,0)+(AK76*(15*(VLOOKUP(C76,Items!A:AE,31,FALSE)))),0)","v":0},{"$f":"IF(G76=\"\",\"\",IF(G76=\"DD\",VLOOKUP(C76,Items!A:AH,34,FALSE),IF(G76=\"ID\",VLOOKUP(C76,Items!A:AG,33,FALSE))))","v":""},0,{"$f":"IF(I76=\"\",0,VLOOKUP(C76,Items!A:AF,32,FALSE))","v":0},0,0,"","","",0,0,{"$f":"IF(C76=\"\",0,D76*VLOOKUP(C76,Items!A:M,13,FALSE))","v":{"v":0,"d":"0.00"}},{"v":0,"d":"0.00"},{"$f":"IFERROR(IF(VLOOKUP(C76,'Modifications and Fees'!B:H,2,FALSE)=\"CR\",1*D76,0),0)","v":{"v":0,"d":"0.00"}},{"v":0,"d":"0.00"},{"$f":"ROUND(IFERROR(D76*X76*(VLOOKUP(E76,'Misc Dropdowns'!$J$12:$M$16,4,FALSE)),0),2)","v":{"v":0,"d":"0.00"}},{"$f":"ROUND(IFERROR(VLOOKUP(F76,'Misc Dropdowns'!$J$23:$M$27,4,FALSE)*X76*D76,0),2)","v":{"v":0,"d":"0.00"}},{"$f":"IF(C76=\"\",\"\",IF(AND(VLOOKUP(C76,Items!A:AI,35,FALSE)=\"Y\",'Order Form'!H76=\"\"),1,0))","v":""},{"v":0,"d":"0.00"}]
["2 pages",null,null,0,{"$nulls":7},{"v":0,"d":"0.00"},{"v":0,"d":"0.00"},{"$f":"IF(C77=\"\",\"\",VLOOKUP(C77,Items!A:N,12,FALSE))","v":""},{"$f":"IF(Q77=\"Craftsman Pricing\",\"CR\",IF(C77=\"\",\"\",IF('Misc Dropdowns'!$C$34=0,\"\",IF(E77&F77=\"\",VLOOKUP(AD77,'Misc Dropdowns'!$A$45:$B$47,2,FALSE),\"CR\"))))","v":""},{"$nulls":8},{"$f":"ROUND(IF($Q$18=\"\",0,IF(O77=\"SEL\",VLOOKUP(C77,Items!A:Y,25,FALSE),IF(O77=\"CR\",VLOOKUP(C77,Items!A:Z,26,FALSE),0))),2)","v":{"v":0,"d":"0.00"}},0,null,{"$f":"IFERROR(VLOOKUP(C77,Items!A:H,8,FALSE),0)","v":0},{"$f":"IF(C77=\"\",\"\",IF(E77&F77=\"\",VLOOKUP(C77,Items!A:D,4,FALSE),3))","v":""},{"$f":"IF(C77=\"\",\"\",'Misc Dropdowns'!$C$35)","v":""},{"v":0,"d":"0.00"},0,{"$f":"IF($O77=\"SEL\",VLOOKUP($C77,Items!A:F,6,FALSE),IF($O77=\"CR\",VLOOKUP('Order Form'!$C77,Items!A:G,7,FALSE),0))","v":0},{"$f":"IFERROR(AF77*(VLOOKUP(E77,'Misc Dropdowns'!$J$12:$M$16,4,FALSE)),0)","v":0},{"$f":"IFERROR(VLOOKUP(F77,'Misc Dropdowns'!$J$23:$M$27,4,FALSE)*AF77,0)","v":0},{"$f":"IFERROR(IF(ISNUMBER(FIND(\"PD\",I77,1)),AK77*5,0)+(AK77*(15*(VLOOKUP(C77,Items!A:AE,31,FALSE)))),0)","v":0},{"$f":"IF(G77=\"\",\"\",IF(G77=\"DD\",VLOOKUP(C77,Items!A:AH,34,FALSE),IF(G77=\"ID\",VLOOKUP(C77,Items!A:AG,33,FALSE))))","v":""},0,{"$f":"IF(I77=\"\",0,VLOOKUP(C77,Items!A:AF,32,FALSE))","v":0},0,0,"","","",0,0,{"$f":"IF(C77=\"\",0,D77*VLOOKUP(C77,Items!A:M,13,FALSE))","v":{"v":0,"d":"0.00"}},{"v":0,"d":"0.00"},{"$f":"IFERROR(IF(VLOOKUP(C77,'Modifications and Fees'!B:H,2,FALSE)=\"CR\",1*D77,0),0)","v":{"v":0,"d":"0.00"}},{"v":0,"d":"0.00"},{"$f":"ROUND(IFERROR(D77*X77*(VLOOKUP(E77,'Misc Dropdowns'!$J$12:$M$16,4,FALSE)),0),2)","v":{"v":0,"d":"0.00"}},{"$f":"ROUND(IFERROR(VLOOKUP(F77,'Misc Dropdowns'!$J$23:$M$27,4,FALSE)*X77*D77,0),2)","v":{"v":0,"d":"0.00"}},{"$f":"IF(C77=\"\",\"\",IF(AND(VLOOKUP(C77,Items!A:AI,35,FALSE)=\"Y\",'Order Form'!H77=\"\"),1,0))","v":""},{"v":0,"d":"0.00"}]
["2 pages",null,null,0,{"$nulls":7},{"v":0,"d":"0.00"},{"v":0,"d":"0.00"},{"$f":"IF(C78=\"\",\"\",VLOOKUP(C78,Items!A:N,12,FALSE))","v":""},{"$f":"IF(Q78=\"Craftsman Pricing\",\"CR\",IF(C78=\"\",\"\",IF('Misc Dropdowns'!$C$34=0,\"\",IF(E78&F78=\"\",VLOOKUP(AD78,'Misc Dropdowns'!$A$45:$B$47,2,FALSE),\"CR\"))))","v":""},{"$nulls":8},{"$f":"ROUND(IF($Q$18=\"\",0,IF(O78=\"SEL\",VLOOKUP(C78,Items!A:Y,25,FALSE),IF(O78=\"CR\",VLOOKUP(C78,Items!A:Z,26,FALSE),0))),2)","v":{"v":0,"d":"0.00"}},0,null,{"$f":"IFERROR(VLOOKUP(C78,Items!A:H,8,FALSE),0)","v":0},{"$f":"IF(C78=\"\",\"\",IF(E78&F78=\"\",VLOOKUP(C78,Items!A:D,4,FALSE),3))","v":""},{"$f":"IF(C78=\"\",\"\",'Misc Dropdowns'!$C$35)","v":""},{"v":0,"d":"0.00"},0,{"$f":"IF($O78=\"SEL\",VLOOKUP($C78,Items!A:F,6,FALSE),IF($O78=\"CR\",VLOOKUP('Order Form'!$C78,Items!A:G,7,FALSE),0))","v":0},{"$f":"IFERROR(AF78*(VLOOKUP(E78,'Misc Dropdowns'!$J$12:$M$16,4,FALSE)),0)","v":0},{"$f":"IFERROR(VLOOKUP(F78,'Misc Dropdowns'!$J$23:$M$27,4,FALSE)*AF78,0)","v":0},{"$f":"IFERROR(IF(ISNUMBER(FIND(\"PD\",I78,1)),AK78*5,0)+(AK78*(15*(VLOOKUP(C78,Items!A:AE,31,FALSE)))),0)","v":0},{"$f":"IF(G78=\"\",\"\",IF(G78=\"DD\",VLOOKUP(C78,Items!A:AH,34,FALSE),IF(G78=\"ID\",VLOOKUP(C78,Items!A:AG,33,FALSE))))","v":""},0,{"$f":"IF(I78=\"\",0,VLOOKUP(C78,Items!A:AF,32,FALSE))","v":0},0,0,"","","",0,0,{"$f":"IF(C78=\"\",0,D78*VLOOKUP(C78,Items!A:M,13,FALSE))","v":{"v":0,"d":"0.00"}},{"v":0,"d":"0.00"},{"$f":"IFERROR(IF(VLOOKUP(C78,'Modifications and Fees'!B:H,2,FALSE)=\"CR\",1*D78,0),0)","v":{"v":0,"d":"0.00"}},{"v":0,"d":"0.00"},{"$f":"ROUND(IFERROR(D78*X78*(VLOOKUP(E78,'Misc Dropdowns'!$J$12:$M$16,4,FALSE)),0),2)","v":{"v":0,"d":"0.00"}},{"$f":"ROUND(IFERROR(VLOOKUP(F78,'Misc Dropdowns'!$J$23:$M$27,4,FALSE)*X78*D78,0),2)","v":{"v":0,"d":"0.00"}},{"$f":"IF(C78=\"\",\"\",IF(AND(VLOOKUP(C78,Items!A:AI,35,FALSE)=\"Y\",'Order Form'!H78=\"\"),1,0))","v":""},{"v":0,"d":"0.00"}]
["2 pages",null,null,0,{"$nulls":7},{"v":0,"d":"0.00"},{"v":0,"d":"0.00"},{"$f":"IF(C79=\"\",\"\",VLOOKUP(C79,Items!A:N,12,FALSE))","v":""},{"$f":"IF(Q79=\"Craftsman Pricing\",\"CR\",IF(C79=\"\",\"\",IF('Misc Dropdowns'!$C$34=0,\"\",IF(E79&F79=\"\",VLOOKUP(AD79,'Misc Dropdowns'!$A$45:$B$47,2,FALSE),\"CR\"))))","v":""},{"$nulls":8},{"$f":"ROUND(IF($Q$18=\"\",0,IF(O79=\"SEL\",VLOOKUP(C79,Items!A:Y,25,FALSE),IF(O79=\"CR\",VLOOKUP(C79,Items!A:Z,26,FALSE),0))),2)","v":{"v":0,"d":"0.00"}},0,null,{"$f":"IFERROR(VLOOKUP(C79,Items!A:H,8,FALSE),0)","v":0},{"$f":"IF(C79=\"\",\"\",IF(E79&F79=\"\",VLOOKUP(C79,Items!A:D,4,FALSE),3))","v":""},{"$f":"IF(C79=\"\",\"\",'Misc Dropdowns'!$C$35)","v":""},{"v":0,"d":"0.00"},0,{"$f":"IF($O79=\"SEL\",VLOOKUP($C79,Items!A:F,6,FALSE),IF($O79=\"CR\",VLOOKUP('Order Form'!$C79,Items!A:G,7,FALSE),0))","v":0},{"$f":"IFERROR(AF79*(VLOOKUP(E79,'Misc Dropdowns'!$J$12:$M$16,4,FALSE)),0)","v":0},{"$f":"IFERROR(VLOOKUP(F79,'Misc Dropdowns'!$J$23:$M$27,4,FALSE)*AF79,0)","v":0},{"$f":"IFERROR(IF(ISNUMBER(FIND(\"PD\",I79,1)),AK79*5,0)+(AK79*(15*(VLOOKUP(C79,Items!A:AE,31,FALSE)))),0)","v":0},{"$f":"IF(G79=\"\",\"\",IF(G79=\"DD\",VLOOKUP(C79,Items!A:AH,34,FALSE),IF(G79=\"ID\",VLOOKUP(C79,Items!A:AG,33,FALSE))))","v":""},0,{"$f":"IF(I79=\"\",0,VLOOKUP(C79,Items!A:AF,32,FALSE))","v":0},0,0,"","","",0,0,{"$f":"IF(C79=\"\",0,D79*VLOOKUP(C79,Items!A:M,13,FALSE))","v":{"v":0,"d":"0.00"}},{"v":0,"d":"0.00"},{"$f":"IFERROR(IF(VLOOKUP(C79,'Modifications and Fees'!B:H,2,FALSE)=\"CR\",1*D79,0),0)","v":{"v":0,"d":"0.00"}},{"v":0,"d":"0.00"},{"$f":"ROUND(IFERROR(D79*X79*(VLOOKUP(E79,'Misc Dropdowns'!$J$12:$M$16,4,FALSE)),0),2)","v":{"v":0,"d":"0.00"}},{"$f":"ROUND(IFERROR(VLOOKUP(F79,'Misc Dropdowns'!$J$23:$M$27,4,FALSE)*X79*D79,0),2)","v":{"v":0,"d":"0.00"}},{"$f":"IF(C79=\"\",\"\",IF(AND(VLOOKUP(C79,Items!A:AI,35,FALSE)=\"Y\",'Order Form'!H79=\"\"),1,0))","v":""},{"v":0,"d":"0.00"}]
["2 pages",null,null,0,{"$nulls":7},{"v":0,"d":"0.00"},{"v":0,"d":"0.00"},{"$f":"IF(C80=\"\",\"\",VLOOKUP(C80,Items!A:N,12,FALSE))","v":""},{"$f":"IF(Q80=\"Craftsman Pricing\",\"CR\",IF(C80=\"\",\"\",IF('Misc Dropdowns'!$C$34=0,\"\",IF(E80&F80=\"\",VLOOKUP(AD80,'Misc Dropdowns'!$A$45:$B$47,2,FALSE),\"CR\"))))","v":""},{"$nulls":8},{"$f":"ROUND(IF($Q$18=\"\",0,IF(O80=\"SEL\",VLOOKUP(C80,Items!A:Y,25,FALSE),IF(O80=\"CR\",VLOOKUP(C80,Items!A:Z,26,FALSE),0))),2)","v":{"v":0,"d":"0.00"}},0,null,{"$f":"IFERROR(VLOOKUP(C80,Items!A:H,8,FALSE),0)","v":0},{"$f":"IF(C80=\"\",\"\",IF(E80&F80=\"\",VLOOKUP(C80,Items!A:D,4,FALSE),3))","v":""},{"$f":"IF(C80=\"\",\"\",'Misc Dropdowns'!$C$35)","v":""},{"v":0,"d":"0.00"},0,{"$f":"IF($O80=\"SEL\",VLOOKUP($C80,Items!A:F,6,FALSE),IF($O80=\"CR\",VLOOKUP('Order Form'!$C80,Items!A:G,7,FALSE),0))","v":0},{"$f":"IFERROR(AF80*(VLOOKUP(E80,'Misc Dropdowns'!$J$12:$M$16,4,FALSE)),0)","v":0},{"$f":"IFERROR(VLOOKUP(F80,'Misc Dropdowns'!$J$23:$M$27,4,FALSE)*AF80,0)","v":0},{"$f":"IFERROR(IF(ISNUMBER(FIND(\"PD\",I80,1)),AK80*5,0)+(AK80*(15*(VLOOKUP(C80,Items!A:AE,31,FALSE)))),0)","v":0},{"$f":"IF(G80=\"\",\"\",IF(G80=\"DD\",VLOOKUP(C80,Items!A:AH,34,FALSE),IF(G80=\"ID\",VLOOKUP(C80,Items!A:AG,33,FALSE))))","v":""},0,{"$f":"IF(I80=\"\",0,VLOOKUP(C80,Items!A:AF,32,FALSE))","v":0},0,0,"","","",0,0,{"$f":"IF(C80=\"\",0,D80*VLOOKUP(C80,Items!A:M,13,FALSE))","v":{"v":0,"d":"0.00"}},{"v":0,"d":"0.00"},{"$f":"IFERROR(IF(VLOOKUP(C80,'Modifications and Fees'!B:H,2,FALSE)=\"CR\",1*D80,0),0)","v":{"v":0,"d":"0.00"}},{"v":0,"d":"0.00"},{"$f":"ROUND(IFERROR(D80*X80*(VLOOKUP(E80,'Misc Dropdowns'!$J$12:$M$16,4,FALSE)),0),2)","v":{"v":0,"d":"0.00"}},{"$f":"ROUND(IFERROR(VLOOKUP(F80,'Misc Dropdowns'!$J$23:$M$27,4,FALSE)*X80*D80,0),2)","v":{"v":0,"d":"0.00"}},{"$f":"IF(C80=\"\",\"\",IF(AND(VLOOKUP(C80,Items!A:AI,35,FALSE)=\"Y\",'Order Form'!H80=\"\"),1,0))","v":""},{"v":0,"d":"0.00"}]
["2 pages",null,null,0,{"$nulls":7},{"v":0,"d":"0.00"},{"v":0,"d":"0.00"},{"$f":"IF(C81=\"\",\"\",VLOOKUP(C81,Items!A:N,12,FALSE))","v":""},{"$f":"IF(Q81=\"Craftsman Pricing\",\"CR\",IF(C81=\"\",\"\",IF('Misc Dropdowns'!$C$34=0,\"\",IF(E81&F81=\"\",VLOOKUP(AD81,'Misc Dropdowns'!$A$45:$B$47,2,FALSE),\"CR\"))))","v":""},{"$nulls":8},{"$f":"ROUND(IF($Q$18=\"\",0,IF(O81=\"SEL\",VLOOKUP(C81,Items!A:Y,25,FALSE),IF(O81=\"CR\",VLOOKUP(C81,Items!A:Z,26,FALSE),0))),2)","v":{"v":0,"d":"0.00"}},0,null,{"$f":"IFERROR(VLOOKUP(C81,Items!A:H,8,FALSE),0)","v":0},{"$f":"IF(C81=\"\",\"\",IF(E81&F81=\"\",VLOOKUP(C81,Items!A:D,4,FALSE),3))","v":""},{"$f":"IF(C81=\"\",\"\",'Misc Dropdowns'!$C$35)","v":""},{"v":0,"d":"0.00"},0,{"$f":"IF($O81=\"SEL\",VLOOKUP($C81,Items!A:F,6,FALSE),IF($O81=\"CR\",VLOOKUP('Order Form'!$C81,Items!A:G,7,FALSE),0))","v":0},{"$f":"IFERROR(AF81*(VLOOKUP(E81,'Misc Dropdowns'!$J$12:$M$16,4,FALSE)),0)","v":0},{"$f":"IFERROR(VLOOKUP(F81,'Misc Dropdowns'!$J$23:$M$27,4,FALSE)*AF81,0)","v":0},{"$f":"IFERROR(IF(ISNUMBER(FIND(\"PD\",I81,1)),AK81*5,0)+(AK81*(15*(VLOOKUP(C81,Items!A:AE,31,FALSE)))),0)","v":0},{"$f":"IF(G81=\"\",\"\",IF(G81=\"DD\",VLOOKUP(C81,Items!A:AH,34,FALSE),IF(G81=\"ID\",VLOOKUP(C81,Items!A:AG,33,FALSE))))","v":""},0,{"$f":"IF(I81=\"\",0,VLOOKUP(C81,Items!A:AF,32,FALSE))","v":0},0,0,"","","",0,0,{"$f":"IF(C81=\"\",0,D81*VLOOKUP(C81,Items!A:M,13,FALSE))","v":{"v":0,"d":"0.00"}},{"v":0,"d":"0.00"},{"$f":"IFERROR(IF(VLOOKUP(C81,'Modifications and Fees'!B:H,2,FALSE)=\"CR\",1*D81,0),0)","v":{"v":0,"d":"0.00"}},{"v":0,"d":"0.00"},{"$f":"ROUND(IFERROR(D81*X81*(VLOOKUP(E81,'Misc Dropdowns'!$J$12:$M$16,4,FALSE)),0),2)","v":{"v":0,"d":"0.00"}},{"$f":"ROUND(IFERROR(VLOOKUP(F81,'Misc Dropdowns'!$J$23:$M$27,4,FALSE)*X81*D81,0),2)","v":{"v":0,"d":"0.00"}},{"$f":"IF(C81=\"\",\"\",IF(AND(VLOOKUP(C81,Items!A:AI,35,FALSE)=\"Y\",'Order Form'!H81=\"\"),1,0))","v":""},{"v":0,"d":"0.00"}]
["2 pages",null,null,0,{"$nulls":7},{"v":0,"d":"0.00"},{"v":0,"d":"0.00"},{"$f":"IF(C82=\"\",\"\",VLOOKUP(C82,Items!A:N,12,FALSE))","v":""},{"$f":"IF(Q82=\"Craftsman Pricing\",\"CR\",IF(C82=\"\",\"\",IF('Misc Dropdowns'!$C$34=0,\"\",IF(E82&F82=\"\",VLOOKUP(AD82,'Misc Dropdowns'!$A$45:$B$47,2,FALSE),\"CR\"))))","v":""},{"$nulls":8},{"$f":"ROUND(IF($Q$18=\"\",0,IF(O82=\"SEL\",VLOOKUP(C82,Items!A:Y,25,FALSE),IF(O82=\"CR\",VLOOKUP(C82,Items!A:Z,26,FALSE),0))),2)","v":{"v":0,"d":"0.00"}},0,null,{"$f":"IFERROR(VLOOKUP(C82,Items!A:H,8,FALSE),0)","v":0},{"$f":"IF(C82=\"\",\"\",IF(E82&F82=\"\",VLOOKUP(C82,Items!A:D,4,FALSE),3))","v":""},{"$f":"IF(C82=\"\",\"\",'Misc Dropdowns'!$C$35)","v":""},{"v":0,"d":"0.00"},0,{"$f":"IF($O82=\"SEL\",VLOOKUP($C82,Items!A:F,6,FALSE),IF($O82=\"CR\",VLOOKUP('Order Form'!$C82,Items!A:G,7,FALSE),0))","v":0},{"$f":"IFERROR(AF82*(VLOOKUP(E82,'Misc Dropdowns'!$J$12:$M$16,4,FALSE)),0)","v":0},{"$f":"IFERROR(VLOOKUP(F82,'Misc Dropdowns'!$J$23:$M$27,4,FALSE)*AF82,0)","v":0},{"$f":"IFERROR(IF(ISNUMBER(FIND(\"PD\",I82,1)),AK82*5,0)+(AK82*(15*(VLOOKUP(C82,Items!A:AE,31,FALSE)))),0)","v":0},{"$f":"IF(G82=\"\",\"\",IF(G82=\"DD\",VLOOKUP(C82,Items!A:AH,34,FALSE),IF(G82=\"ID\",VLOOKUP(C82,Items!A:AG,33,FALSE))))","v":""},0,{"$f":"IF(I82=\"\",0,VLOOKUP(C82,Items!A:AF,32,FALSE))","v":0},0,0,"","","",0,0,{"$f":"IF(C82=\"\",0,D82*VLOOKUP(C82,Items!A:M,13,FALSE))","v":{"v":0,"d":"0.00"}},{"v":0,"d":"0.00"},{"$f":"IFERROR(IF(VLOOKUP(C82,'Modifications and Fees'!B:H,2,FALSE)=\"CR\",1*D82,0),0)","v":{"v":0,"d":"0.00"}},{"v":0,"d":"0.00"},{"$f":"ROUND(IFERROR(D82*X82*(VLOOKUP(E82,'Misc Dropdowns'!$J$12:$M$16,4,FALSE)),0),2)","v":{"v":0,"d":"0.00"}},{"$f":"ROUND(IFERROR(VLOOKUP(F82,'Misc Dropdowns'!$J$23:$M$27,4,FALSE)*X82*D82,0),2)","v":{"v":0,"d":"0.00"}},{"$f":"IF(C82=\"\",\"\",IF(AND(VLOOKUP(C82,Items!A:AI,35,FALSE)=\"Y\",'Order Form'!H82=\"\"),1,0))","v":""},{"v":0,"d":"0.00"}]
["2 pages",null,null,0,{"$nulls":7},{"v":0,"d":"0.00"},{"v":0,"d":"0.00"},{"$f":"IF(C83=\"\",\"\",VLOOKUP(C83,Items!A:N,12,FALSE))","v":""},{"$f":"IF(Q83=\"Craftsman Pricing\",\"CR\",IF(C83=\"\",\"\",IF('Misc Dropdowns'!$C$34=0,\"\",IF(E83&F83=\"\",VLOOKUP(AD83,'Misc Dropdowns'!$A$45:$B$47,2,FALSE),\"CR\"))))","v":""},{"$nulls":8},{"$f":"ROUND(IF($Q$18=\"\",0,IF(O83=\"SEL\",VLOOKUP(C83,Items!A:Y,25,FALSE),IF(O83=\"CR\",VLOOKUP(C83,Items!A:Z,26,FALSE),0))),2)","v":{"v":0,"d":"0.00"}},0,null,{"$f":"IFERROR(VLOOKUP(C83,Items!A:H,8,FALSE),0)","v":0},{"$f":"IF(C83=\"\",\"\",IF(E83&F83=\"\",VLOOKUP(C83,Items!A:D,4,FALSE),3))","v":""},{"$f":"IF(C83=\"\",\"\",'Misc Dropdowns'!$C$35)","v":""},{"v":0,"d":"0.00"},0,{"$f":"IF($O83=\"SEL\",VLOOKUP($C83,Items!A:F,6,FALSE),IF($O83=\"CR\",VLOOKUP('Order Form'!$C83,Items!A:G,7,FALSE),0))","v":0},{"$f":"IFERROR(AF83*(VLOOKUP(E83,'Misc Dropdowns'!$J$12:$M$16,4,FALSE)),0)","v":0},{"$f":"IFERROR(VLOOKUP(F83,'Misc Dropdowns'!$J$23:$M$27,4,FALSE)*AF83,0)","v":0},{"$f":"IFERROR(IF(ISNUMBER(FIND(\"PD\",I83,1)),AK83*5,0)+(AK83*(15*(VLOOKUP(C83,Items!A:AE,31,FALSE)))),0)","v":0},{"$f":"IF(G83=\"\",\"\",IF(G83=\"DD\",VLOOKUP(C83,Items!A:AH,34,FALSE),IF(G83=\"ID\",VLOOKUP(C83,Items!A:AG,33,FALSE))))","v":""},0,{"$f":"IF(I83=\"\",0,VLOOKUP(C83,Items!A:AF,32,FALSE))","v":0},0,0,"","","",0,0,{"$f":"IF(C83=\"\",0,D83*VLOOKUP(C83,Items!A:M,13,FALSE))","v":{"v":0,"d":"0.00"}},{"v":0,"d":"0.00"},{"$f":"IFERROR(IF(VLOOKUP(C83,'Modifications and Fees'!B:H,2,FALSE)=\"CR\",1*D83,0),0)","v":{"v":0,"d":"0.00"}},{"v":0,"d":"0.00"},{"$f":"ROUND(IFERROR(D83*X83*(VLOOKUP(E83,'Misc Dropdowns'!$J$12:$M$16,4,FALSE)),0),2)","v":{"v":0,"d":"0.00"}},{"$f":"ROUND(IFERROR(VLOOKUP(F83,'Misc Dropdowns'!$J$23:$M$27,4,FALSE)*X83*D83,0),2)","v":{"v":0,"d":"0.00"}},{"$f":"IF(C83=\"\",\"\",IF(AND(VLOOKUP(C83,Items!A:AI,35,FALSE)=\"Y\",'Order Form'!H83=\"\"),1,0))","v":""},{"v":0,"d":"0.00"}]
["2 pages",null,null,0,{"$nulls":7},{"v":0,"d":"0.00"},{"v":0,"d":"0.00"},{"$f":"IF(C84=\"\",\"\",VLOOKUP(C84,Items!A:N,12,FALSE))","v":""},{"$f":"IF(Q84=\"Craftsman Pricing\",\"CR\",IF(C84=\"\",\"\",IF('Misc Dropdowns'!$C$34=0,\"\",IF(E84&F84=\"\",VLOOKUP(AD84,'Misc Dropdowns'!$A$45:$B$47,2,FALSE),\"CR\"))))","v":""},{"$nulls":8},{"$f":"ROUND(IF($Q$18=\"\",0,IF(O84=\"SEL\",VLOOKUP(C84,Items!A:Y,25,FALSE),IF(O84=\"CR\",VLOOKUP(C84,Items!A:Z,26,FALSE),0))),2)","v":{"v":0,"d":"0.00"}},0,null,{"$f":"IFERROR(VLOOKUP(C84,Items!A:H,8,FALSE),0)","v":0},{"$f":"IF(C84=\"\",\"\",IF(E84&F84=\"\",VLOOKUP(C84,Items!A:D,4,FALSE),3))","v":""},{"$f":"IF(C84=\"\",\"\",'Misc Dropdowns'!$C$35)","v":""},{"v":0,"d":"0.00"},0,{"$f":"IF($O84=\"SEL\",VLOOKUP($C84,Items!A:F,6,FALSE),IF($O84=\"CR\",VLOOKUP('Order Form'!$C84,Items!A:G,7,FALSE),0))","v":0},{"$f":"IFERROR(AF84*(VLOOKUP(E84,'Misc Dropdowns'!$J$12:$M$16,4,FALSE)),0)","v":0},{"$f":"IFERROR(VLOOKUP(F84,'Misc Dropdowns'!$J$23:$M$27,4,FALSE)*AF84,0)","v":0},{"$f":"IFERROR(IF(ISNUMBER(FIND(\"PD\",I84,1)),AK84*5,0)+(AK84*(15*(VLOOKUP(C84,Items!A:AE,31,FALSE)))),0)","v":0},{"$f":"IF(G84=\"\",\"\",IF(G84=\"DD\",VLOOKUP(C84,Items!A:AH,34,FALSE),IF(G84=\"ID\",VLOOKUP(C84,Items!A:AG,33,FALSE))))","v":""},0,{"$f":"IF(I84=\"\",0,VLOOKUP(C84,Items!A:AF,32,FALSE))","v":0},0,0,"","","",0,0,{"$f":"IF(C84=\"\",0,D84*VLOOKUP(C84,Items!A:M,13,FALSE))","v":{"v":0,"d":"0.00"}},{"v":0,"d":"0.00"},{"$f":"IFERROR(IF(VLOOKUP(C84,'Modifications and Fees'!B:H,2,FALSE)=\"CR\",1*D84,0),0)","v":{"v":0,"d":"0.00"}},{"v":0,"d":"0.00"},{"$f":"ROUND(IFERROR(D84*X84*(VLOOKUP(E84,'Misc Dropdowns'!$J$12:$M$16,4,FALSE)),0),2)","v":{"v":0,"d":"0.00"}},{"$f":"ROUND(IFERROR(VLOOKUP(F84,'Misc Dropdowns'!$J$23:$M$27,4,FALSE)*X84*D84,0),2)","v":{"v":0,"d":"0.00"}},{"$f":"IF(C84=\"\",\"\",IF(AND(VLOOKUP(C84,Items!A:AI,35,FALSE)=\"Y\",'Order Form'!H84=\"\"),1,0))","v":""},{"v":0,"d":"0.00"}]
["2 pages",null,null,0,{"$nulls":7},{"v":0,"d":"0.00"},{"v":0,"d":"0.00"},{"$f":"IF(C85=\"\",\"\",VLOOKUP(C85,Items!A:N,12,FALSE))","v":""},{"$f":"IF(Q85=\"Craftsman Pricing\",\"CR\",IF(C85=\"\",\"\",IF('Misc Dropdowns'!$C$34=0,\"\",IF(E85&F85=\"\",VLOOKUP(AD85,'Misc Dropdowns'!$A$45:$B$47,2,FALSE),\"CR\"))))","v":""},{"$nulls":8},{"$f":"ROUND(IF($Q$18=\"\",0,IF(O85=\"SEL\",VLOOKUP(C85,Items!A:Y,25,FALSE),IF(O85=\"CR\",VLOOKUP(C85,Items!A:Z,26,FALSE),0))),2)","v":{"v":0,"d":"0.00"}},0,null,{"$f":"IFERROR(VLOOKUP(C85,Items!A:H,8,FALSE),0)","v":0},{"$f":"IF(C85=\"\",\"\",IF(E85&F85=\"\",VLOOKUP(C85,Items!A:D,4,FALSE),3))","v":""},{"$f":"IF(C85=\"\",\"\",'Misc Dropdowns'!$C$35)","v":""},{"v":0,"d":"0.00"},0,{"$f":"IF($O85=\"SEL\",VLOOKUP($C85,Items!A:F,6,FALSE),IF($O85=\"CR\",VLOOKUP('Order Form'!$C85,Items!A:G,7,FALSE),0))","v":0},{"$f":"IFERROR(AF85*(VLOOKUP(E85,'Misc Dropdowns'!$J$12:$M$16,4,FALSE)),0)","v":0},{"$f":"IFERROR(VLOOKUP(F85,'Misc Dropdowns'!$J$23:$M$27,4,FALSE)*AF85,0)","v":0},{"$f":"IFERROR(IF(ISNUMBER(FIND(\"PD\",I85,1)),AK85*5,0)+(AK85*(15*(VLOOKUP(C85,Items!A:AE,31,FALSE)))),0)","v":0},{"$f":"IF(G85=\"\",\"\",IF(G85=\"DD\",VLOOKUP(C85,Items!A:AH,34,FALSE),IF(G85=\"ID\",VLOOKUP(C85,Items!A:AG,33,FALSE))))","v":""},0,{"$f":"IF(I85=\"\",0,VLOOKUP(C85,Items!A:AF,32,FALSE))","v":0},0,0,"","","",0,0,{"$f":"IF(C85=\"\",0,D85*VLOOKUP(C85,Items!A:M,13,FALSE))","v":{"v":0,"d":"0.00"}},{"v":0,"d":"0.00"},{"$f":"IFERROR(IF(VLOOKUP(C85,'Modifications and Fees'!B:H,2,FALSE)=\"CR\",1*D85,0),0)","v":{"v":0,"d":"0.00"}},{"v":0,"d":"0.00"},{"$f":"ROUND(IFERROR(D85*X85*(VLOOKUP(E85,'Misc Dropdowns'!$J$12:$M$16,4,FALSE)),0),2)","v":{"v":0,"d":"0.00"}},{"$f":"ROUND(IFERROR(VLOOKUP(F85,'Misc Dropdowns'!$J$23:$M$27,4,FALSE)*X85*D85,0),2)","v":{"v":0,"d":"0.00"}},{"$f":"IF(C85=\"\",\"\",IF(AND(VLOOKUP(C85,Items!A:AI,35,FALSE)=\"Y\",'Order Form'!H85=\"\"),1,0))","v":""},{"v":0,"d":"0.00"}]
["2 pages",null,null,0,{"$nulls":7},{"v":0,"d":"0.00"},{"v":0,"d":"0.00"},{"$f":"IF(C86=\"\",\"\",VLOOKUP(C86,Items!A:N,12,FALSE))","v":""},{"$f":"IF(Q86=\"Craftsman Pricing\",\"CR\",IF(C86=\"\",\"\",IF('Misc Dropdowns'!$C$34=0,\"\",IF(E86&F86=\"\",VLOOKUP(AD86,'Misc Dropdowns'!$A$45:$B$47,2,FALSE),\"CR\"))))","v":""},{"$nulls":8},{"$f":"ROUND(IF($Q$18=\"\",0,IF(O86=\"SEL\",VLOOKUP(C86,Items!A:Y,25,FALSE),IF(O86=\"CR\",VLOOKUP(C86,Items!A:Z,26,FALSE),0))),2)","v":{"v":0,"d":"0.00"}},0,null,{"$f":"IFERROR(VLOOKUP(C86,Items!A:H,8,FALSE),0)","v":0},{"$f":"IF(C86=\"\",\"\",IF(E86&F86=\"\",VLOOKUP(C86,Items!A:D,4,FALSE),3))","v":""},{"$f":"IF(C86=\"\",\"\",'Misc Dropdowns'!$C$35)","v":""},{"v":0,"d":"0.00"},0,{"$f":"IF($O86=\"SEL\",VLOOKUP($C86,Items!A:F,6,FALSE),IF($O86=\"CR\",VLOOKUP('Order Form'!$C86,Items!A:G,7,FALSE),0))","v":0},{"$f":"IFERROR(AF86*(VLOOKUP(E86,'Misc Dropdowns'!$J$12:$M$16,4,FALSE)),0)","v":0},{"$f":"IFERROR(VLOOKUP(F86,'Misc Dropdowns'!$J$23:$M$27,4,FALSE)*AF86,0)","v":0},{"$f":"IFERROR(IF(ISNUMBER(FIND(\"PD\",I86,1)),AK86*5,0)+(AK86*(15*(VLOOKUP(C86,Items!A:AE,31,FALSE)))),0)","v":0},{"$f":"IF(G86=\"\",\"\",IF(G86=\"DD\",VLOOKUP(C86,Items!A:AH,34,FALSE),IF(G86=\"ID\",VLOOKUP(C86,Items!A:AG,33,FALSE))))","v":""},0,{"$f":"IF(I86=\"\",0,VLOOKUP(C86,Items!A:AF,32,FALSE))","v":0},0,0,"","","",0,0,{"$f":"IF(C86=\"\",0,D86*VLOOKUP(C86,Items!A:M,13,FALSE))","v":{"v":0,"d":"0.00"}},{"v":0,"d":"0.00"},{"$f":"IFERROR(IF(VLOOKUP(C86,'Modifications and Fees'!B:H,2,FALSE)=\"CR\",1*D86,0),0)","v":{"v":0,"d":"0.00"}},{"v":0,"d":"0.00"},{"$f":"ROUND(IFERROR(D86*X86*(VLOOKUP(E86,'Misc Dropdowns'!$J$12:$M$16,4,FALSE)),0),2)","v":{"v":0,"d":"0.00"}},{"$f":"ROUND(IFERROR(VLOOKUP(F86,'Misc Dropdowns'!$J$23:$M$27,4,FALSE)*X86*D86,0),2)","v":{"v":0,"d":"0.00"}},{"$f":"IF(C86=\"\",\"\",IF(AND(VLOOKUP(C86,Items!A:AI,35,FALSE)=\"Y\",'Order Form'!H86=\"\"),1,0))","v":""},{"v":0,"d":"0.00"}]
["2 pages",null,null,0,{"$nulls":7},{"v":0,"d":"0.00"},{"v":0,"d":"0.00"},{"$f":"IF(C87=\"\",\"\",VLOOKUP(C87,Items!A:N,12,FALSE))","v":""},{"$f":"IF(Q87=\"Craftsman Pricing\",\"CR\",IF(C87=\"\",\"\",IF('Misc Dropdowns'!$C$34=0,\"\",IF(E87&F87=\"\",VLOOKUP(AD87,'Misc Dropdowns'!$A$45:$B$47,2,FALSE),\"CR\"))))","v":""},{"$nulls":8},{"$f":"ROUND(IF($Q$18=\"\",0,IF(O87=\"SEL\",VLOOKUP(C87,Items!A:Y,25,FALSE),IF(O87=\"CR\",VLOOKUP(C87,Items!A:Z,26,FALSE),0))),2)","v":{"v":0,"d":"0.00"}},0,null,{"$f":"IFERROR(VLOOKUP(C87,Items!A:H,8,FALSE),0)","v":0},{"$f":"IF(C87=\"\",\"\",IF(E87&F87=\"\",VLOOKUP(C87,Items!A:D,4,FALSE),3))","v":""},{"$f":"IF(C87=\"\",\"\",'Misc Dropdowns'!$C$35)","v":""},{"v":0,"d":"0.00"},0,{"$f":"IF($O87=\"SEL\",VLOOKUP($C87,Items!A:F,6,FALSE),IF($O87=\"CR\",VLOOKUP('Order Form'!$C87,Items!A:G,7,FALSE),0))","v":0},{"$f":"IFERROR(AF87*(VLOOKUP(E87,'Misc Dropdowns'!$J$12:$M$16,4,FALSE)),0)","v":0},{"$f":"IFERROR(VLOOKUP(F87,'Misc Dropdowns'!$J$23:$M$27,4,FALSE)*AF87,0)","v":0},{"$f":"IFERROR(IF(ISNUMBER(FIND(\"PD\",I87,1)),AK87*5,0)+(AK87*(15*(VLOOKUP(C87,Items!A:AE,31,FALSE)))),0)","v":0},{"$f":"IF(G87=\"\",\"\",IF(G87=\"DD\",VLOOKUP(C87,Items!A:AH,34,FALSE),IF(G87=\"ID\",VLOOKUP(C87,Items!A:AG,33,FALSE))))","v":""},0,{"$f":"IF(I87=\"\",0,VLOOKUP(C87,Items!A:AF,32,FALSE))","v":0},0,0,"","","",0,0,{"$f":"IF(C87=\"\",0,D87*VLOOKUP(C87,Items!A:M,13,FALSE))","v":{"v":0,"d":"0.00"}},{"v":0,"d":"0.00"},{"$f":"IFERROR(IF(VLOOKUP(C87,'Modifications and Fees'!B:H,2,FALSE)=\"CR\",1*D87,0),0)","v":{"v":0,"d":"0.00"}},{"v":0,"d":"0.00"},{"$f":"ROUND(IFERROR(D87*X87*(VLOOKUP(E87,'Misc Dropdowns'!$J$12:$M$16,4,FALSE)),0),2)","v":{"v":0,"d":"0.00"}},{"$f":"ROUND(IFERROR(VLOOKUP(F87,'Misc Dropdowns'!$J$23:$M$27,4,FALSE)*X87*D87,0),2)","v":{"v":0,"d":"0.00"}},{"$f":"IF(C87=\"\",\"\",IF(AND(VLOOKUP(C87,Items!A:AI,35,FALSE)=\"Y\",'Order Form'!H87=\"\"),1,0))","v":""},{"v":0,"d":"0.00"}]
["2 pages",null,null,0,{"$nulls":7},{"v":0,"d":"0.00"},{"v":0,"d":"0.00"},{"$f":"IF(C88=\"\",\"\",VLOOKUP(C88,Items!A:N,12,FALSE))","v":""},{"$f":"IF(Q88=\"Craftsman Pricing\",\"CR\",IF(C88=\"\",\"\",IF('Misc Dropdowns'!$C$34=0,\"\",IF(E88&F88=\"\",VLOOKUP(AD88,'Misc Dropdowns'!$A$45:$B$47,2,FALSE),\"CR\"))))","v":""},{"$nulls":8},{"$f":"ROUND(IF($Q$18=\"\",0,IF(O88=\"SEL\",VLOOKUP(C88,Items!A:Y,25,FALSE),IF(O88=\"CR\",VLOOKUP(C88,Items!A:Z,26,FALSE),0))),2)","v":{"v":0,"d":"0.00"}},{"$f":"(X88*D88)","v":0},null,{"$f":"IFERROR(VLOOKUP(C88,Items!A:H,8,FALSE),0)","v":0},{"$f":"IF(C88=\"\",\"\",IF(E88&F88=\"\",VLOOKUP(C88,Items!A:D,4,FALSE),3))","v":""},{"$f":"IF(C88=\"\",\"\",'Misc Dropdowns'!$C$35)","v":""},{"v":0,"d":"0.00"},0,{"$f":"IF($O88=\"SEL\",VLOOKUP($C88,Items!A:F,6,FALSE),IF($O88=\"CR\",VLOOKUP('Order Form'!$C88,Items!A:G,7,FALSE),0))","v":0},{"$f":"IFERROR(AF88*(VLOOKUP(E88,'Misc Dropdowns'!$J$12:$M$16,4,FALSE)),0)","v":0},{"$f":"IFERROR(VLOOKUP(F88,'Misc Dropdowns'!$J$23:$M$27,4,FALSE)*AF88,0)","v":0},{"$f":"IFERROR(IF(ISNUMBER(FIND(\"PD\",I88,1)),AK88*5,0)+(AK88*(15*(VLOOKUP(C88,Items!A:AE,31,FALSE)))),0)","v":0},{"$f":"IF(G88=\"\",\"\",IF(G88=\"DD\",VLOOKUP(C88,Items!A:AH,34,FALSE),IF(G88=\"ID\",VLOOKUP(C88,Items!A:AG,33,FALSE))))","v":""},0,{"$f":"IF(I88=\"\",0,VLOOKUP(C88,Items!A:AF,32,FALSE))","v":0},0,0,"","","",0,0,{"$f":"IF(C88=\"\",0,D88*VLOOKUP(C88,Items!A:M,13,FALSE))","v":{"v":0,"d":"0.00"}},{"v":0,"d":"0.00"},{"$f":"IFERROR(IF(VLOOKUP(C88,'Modifications and Fees'!B:H,2,FALSE)=\"CR\",1*D88,0),0)","v":{"v":0,"d":"0.00"}},{"v":0,"d":"0.00"},{"$f":"ROUND(IFERROR(D88*X88*(VLOOKUP(E88,'Misc Dropdowns'!$J$12:$M$16,4,FALSE)),0),2)","v":{"v":0,"d":"0.00"}},{"$f":"ROUND(IFERROR(VLOOKUP(F88,'Misc Dropdowns'!$J$23:$M$27,4,FALSE)*X88*D88,0),2)","v":{"v":0,"d":"0.00"}},{"$f":"IF(C88=\"\",\"\",IF(AND(VLOOKUP(C88,Items!A:AI,35,FALSE)=\"Y\",'Order Form'!H88=\"\"),1,0))","v":""},{"v":0,"d":"0.00"}]
["2 pages",null,null,0,{"$nulls":7},{"v":0,"d":"0.00"},{"$f":"D89*L89","v":{"v":0,"d":"0.00"}},{"$f":"IF(C89=\"\",\"\",VLOOKUP(C89,Items!A:N,12,FALSE))","v":""},{"$f":"IF(Q89=\"Craftsman Pricing\",\"CR\",IF(C89=\"\",\"\",IF('Misc Dropdowns'!$C$34=0,\"\",IF(E89&F89=\"\",VLOOKUP(AD89,'Misc Dropdowns'!$A$45:$B$47,2,FALSE),\"CR\"))))","v":""},{"$nulls":8},{"$f":"ROUND(IF($Q$18=\"\",0,IF(O89=\"SEL\",VLOOKUP(C89,Items!A:Y,25,FALSE),IF(O89=\"CR\",VLOOKUP(C89,Items!A:Z,26,FALSE),0))),2)","v":{"v":0,"d":"0.00"}},0,null,{"$f":"IFERROR(VLOOKUP(C89,Items!A:H,8,FALSE),0)","v":0},{"$f":"IF(C89=\"\",\"\",IF(E89&F89=\"\",VLOOKUP(C89,Items!A:D,4,FALSE),3))","v":""},{"$f":"IF(C89=\"\",\"\",'Misc Dropdowns'!$C$35)","v":""},{"v":0,"d":"0.00"},0,{"$f":"IF($O89=\"SEL\",VLOOKUP($C89,Items!A:F,6,FALSE),IF($O89=\"CR\",VLOOKUP('Order Form'!$C89,Items!A:G,7,FALSE),0))","v":0},{"$f":"IFERROR(AF89*(VLOOKUP(E89,'Misc Dropdowns'!$J$12:$M$16,4,FALSE)),0)","v":0},{"$f":"IFERROR(VLOOKUP(F89,'Misc Dropdowns'!$J$23:$M$27,4,FALSE)*AF89,0)","v":0},{"$f":"IFERROR(IF(ISNUMBER(FIND(\"PD\",I89,1)),AK89*5,0)+(AK89*(15*(VLOOKUP(C89,Items!A:AE,31,FALSE)))),0)","v":0},{"$f":"IF(G89=\"\",\"\",IF(G89=\"DD\",VLOOKUP(C89,Items!A:AH,34,FALSE),IF(G89=\"ID\",VLOOKUP(C89,Items!A:AG,33,FALSE))))","v":""},0,{"$f":"IF(I89=\"\",0,VLOOKUP(C89,Items!A:AF,32,FALSE))","v":0},0,0,"","","",{"$f":"IF(C89=\"INSTALL\",1,0)","v":0},{"$f":"IF(C89=\"INSTALL-DEALER\",1,0)","v":0},{"$f":"IF(C89=\"\",0,D89*VLOOKUP(C89,Items!A:M,13,FALSE))","v":{"v":0,"d":"0.00"}},{"v":0,"d":"0.00"},{"$f":"IFERROR(IF(VLOOKUP(C89,'Modifications and Fees'!B:H,2,FALSE)=\"CR\",1*D89,0),0)","v":{"v":0,"d":"0.00"}},{"$f":"IF(Q89=\"Craftsman Pricing\",1*D89,0)","v":{"v":0,"d":"0.00"}},{"$f":"ROUND(IFERROR(D89*X89*(VLOOKUP(E89,'Misc Dropdowns'!$J$12:$M$16,4,FALSE)),0),2)","v":{"v":0,"d":"0.00"}},{"$f":"ROUND(IFERROR(VLOOKUP(F89,'Misc Dropdowns'!$J$23:$M$27,4,FALSE)*X89*D89,0),2)","v":{"v":0,"d":"0.00"}},{"$f":"IF(C89=\"\",\"\",IF(AND(VLOOKUP(C89,Items!A:AI,35,FALSE)=\"Y\",'Order Form'!H89=\"\"),1,0))","v":""},{"$f":"(IF(AND(E89<>\"\",F89=\"\"),1,0))","v":{"v":0,"d":"0.00"}}]
["2 pages",null,null,{"$f":"IF(C90>1,1,0)","v":0},{"$nulls":7},{"$f":"IFERROR(ROUND(SUM(AF90:AJ90),2),0)","v":{"v":0,"d":"0.00"}},{"v":0,"d":"0.00"},{"$f":"IF(C90=\"\",\"\",VLOOKUP(C90,Items!A:N,12,FALSE))","v":""},{"$f":"IF(Q90=\"Craftsman Pricing\",\"CR\",IF(C90=\"\",\"\",IF('Misc Dropdowns'!$C$34=0,\"\",IF(E90&F90=\"\",VLOOKUP(AD90,'Misc Dropdowns'!$A$45:$B$47,2,FALSE),\"CR\"))))","v":""},{"$nulls":8},{"$f":"ROUND(IF($Q$18=\"\",0,IF(O90=\"SEL\",VLOOKUP(C90,Items!A:Y,25,FALSE),IF(O90=\"CR\",VLOOKUP(C90,Items!A:Z,26,FALSE),0))),2)","v":{"v":0,"d":"0.00"}},0,null,{"$f":"IFERROR(VLOOKUP(C90,Items!A:H,8,FALSE),0)","v":0},{"$f":"IF(C90=\"\",\"\",IF(E90&F90=\"\",VLOOKUP(C90,Items!A:D,4,FALSE),3))","v":""},{"$f":"IF(C90=\"\",\"\",'Misc Dropdowns'!$C$35)","v":""},{"v":0,"d":"0.00"},0,{"$f":"IF($O90=\"SEL\",VLOOKUP($C90,Items!A:F,6,FALSE),IF($O90=\"CR\",VLOOKUP('Order Form'!$C90,Items!A:G,7,FALSE),0))","v":0},{"$f":"IFERROR(AF90*(VLOOKUP(E90,'Misc Dropdowns'!$J$12:$M$16,4,FALSE)),0)","v":0},{"$f":"IFERROR(VLOOKUP(F90,'Misc Dropdowns'!$J$23:$M$27,4,FALSE)*AF90,0)","v":0},{"$f":"IFERROR(IF(ISNUMBER(FIND(\"PD\",I90,1)),AK90*5,0)+(AK90*(15*(VLOOKUP(C90,Items!A:AE,31,FALSE)))),0)","v":0},{"$f":"IF(G90=\"\",\"\",IF(G90=\"DD\",VLOOKUP(C90,Items!A:AH,34,FALSE),IF(G90=\"ID\",VLOOKUP(C90,Items!A:AG,33,FALSE))))","v":""},{"$f":"IF(I90=\"\",0,IF(ISNUMBER(FIND(\"BOTH\",I90,1)),2,1))","v":0},{"$f":"IF(I90=\"\",0,VLOOKUP(C90,Items!A:AF,32,FALSE))","v":0},{"$f":"AK90*AT90","v":0},{"$f":"IF(ISNUMBER(FIND(\"PD\",I90,1)),1,0)*AK90*D90","v":0},{"$f":"IF(E90=\"\",\"\",\" - \"&E90)","v":""},{"$f":"IF(F90=\"\",\"\",\" - \"&F90)","v":""},{"$f":"IF(I90=\"\",\"\",IF(ISNUMBER(FIND(\"PD\",I90,1)),\"-SKN \"&I90,\"-SKN \"&I90))","v":""},0,0,{"$f":"IF(C90=\"\",0,D90*VLOOKUP(C90,Items!A:M,13,FALSE))","v":{"v":0,"d":"0.00"}},{"$f":"IF(OR(LEFT(C90,2)=\"LC\",LEFT(C90,2)=\"UC\",LEFT(C90,2)=\"OC\",LEFT(C90,3)=\"SBD\",LEFT(C90,2)=\"LS\",LEFT(C90,4)=\"VA48\",LEFT(C90,4)=\"VA60\",LEFT(C90,5)=\"3DB33\",LEFT(C90,5)=\"3DB36\"),1,0)","v":{"v":0,"d":"0.00"}},{"$f":"IFERROR(IF(VLOOKUP(C90,'Modifications and Fees'!B:H,2,FALSE)=\"CR\",1*D90,0),0)","v":{"v":0,"d":"0.00"}},{"v":0,"d":"0.00"},{"$f":"ROUND(IFERROR(D90*X90*(VLOOKUP(E90,'Misc Dropdowns'!$J$12:$M$16,4,FALSE)),0),2)","v":{"v":0,"d":"0.00"}},{"$f":"ROUND(IFERROR(VLOOKUP(F90,'Misc Dropdowns'!$J$23:$M$27,4,FALSE)*X90*D90,0),2)","v":{"v":0,"d":"0.00"}},{"$f":"IF(C90=\"\",\"\",IF(AND(VLOOKUP(C90,Items!A:AI,35,FALSE)=\"Y\",'Order Form'!H90=\"\"),1,0))","v":""},{"v":0,"d":"0.00"}]
["2 pages",null,null,0,{"$nulls":7},{"v":0,"d":"0.00"},{"v":0,"d":"0.00"},{"$f":"IF(C91=\"\",\"\",VLOOKUP(C91,Items!A:N,12,FALSE))","v":""},{"$f":"IF(Q91=\"Craftsman Pricing\",\"CR\",IF(C91=\"\",\"\",IF('Misc Dropdowns'!$C$34=0,\"\",IF(E91&F91=\"\",VLOOKUP(AD91,'Misc Dropdowns'!$A$45:$B$47,2,FALSE),\"CR\"))))","v":""},{"$nulls":8},{"$f":"ROUND(IF($Q$18=\"\",0,IF(O91=\"SEL\",VLOOKUP(C91,Items!A:Y,25,FALSE),IF(O91=\"CR\",VLOOKUP(C91,Items!A:Z,26,FALSE),0))),2)","v":{"v":0,"d":"0.00"}},0,null,{"$f":"IFERROR(VLOOKUP(C91,Items!A:H,8,FALSE),0)","v":0},{"$f":"IF(C91=\"\",\"\",IF(E91&F91=\"\",VLOOKUP(C91,Items!A:D,4,FALSE),3))","v":""},{"$f":"IF(C91=\"\",\"\",'Misc Dropdowns'!$C$35)","v":""},{"v":0,"d":"0.00"},0,{"$f":"IF($O91=\"SEL\",VLOOKUP($C91,Items!A:F,6,FALSE),IF($O91=\"CR\",VLOOKUP('Order Form'!$C91,Items!A:G,7,FALSE),0))","v":0},{"$f":"IFERROR(AF91*(VLOOKUP(E91,'Misc Dropdowns'!$J$12:$M$16,4,FALSE)),0)","v":0},{"$f":"IFERROR(VLOOKUP(F91,'Misc Dropdowns'!$J$23:$M$27,4,FALSE)*AF91,0)","v":0},{"$f":"IFERROR(IF(ISNUMBER(FIND(\"PD\",I91,1)),AK91*5,0)+(AK91*(15*(VLOOKUP(C91,Items!A:AE,31,FALSE)))),0)","v":0},{"$f":"IF(G91=\"\",\"\",IF(G91=\"DD\",VLOOKUP(C91,Items!A:AH,34,FALSE),IF(G91=\"ID\",VLOOKUP(C91,Items!A:AG,33,FALSE))))","v":""},0,{"$f":"IF(I91=\"\",0,VLOOKUP(C91,Items!A:AF,32,FALSE))","v":0},0,0,"","","",0,0,{"$f":"IF(C91=\"\",0,D91*VLOOKUP(C91,Items!A:M,13,FALSE))","v":{"v":0,"d":"0.00"}},{"v":0,"d":"0.00"},{"$f":"IFERROR(IF(VLOOKUP(C91,'Modifications and Fees'!B:H,2,FALSE)=\"CR\",1*D91,0),0)","v":{"v":0,"d":"0.00"}},{"v":0,"d":"0.00"},{"$f":"ROUND(IFERROR(D91*X91*(VLOOKUP(E91,'Misc Dropdowns'!$J$12:$M$16,4,FALSE)),0),2)","v":{"v":0,"d":"0.00"}},{"$f":"ROUND(IFERROR(VLOOKUP(F91,'Misc Dropdowns'!$J$23:$M$27,4,FALSE)*X91*D91,0),2)","v":{"v":0,"d":"0.00"}},{"$f":"IF(C91=\"\",\"\",IF(AND(VLOOKUP(C91,Items!A:AI,35,FALSE)=\"Y\",'Order Form'!H91=\"\"),1,0))","v":""},{"v":0,"d":"0.00"}]
["2 pages",null,null,0,{"$nulls":7},{"v":0,"d":"0.00"},{"v":0,"d":"0.00"},{"$f":"IF(C92=\"\",\"\",VLOOKUP(C92,Items!A:N,12,FALSE))","v":""},{"$f":"IF(Q92=\"Craftsman Pricing\",\"CR\",IF(C92=\"\",\"\",IF('Misc Dropdowns'!$C$34=0,\"\",IF(E92&F92=\"\",VLOOKUP(AD92,'Misc Dropdowns'!$A$45:$B$47,2,FALSE),\"CR\"))))","v":""},{"$nulls":8},{"$f":"ROUND(IF($Q$18=\"\",0,IF(O92=\"SEL\",VLOOKUP(C92,Items!A:Y,25,FALSE),IF(O92=\"CR\",VLOOKUP(C92,Items!A:Z,26,FALSE),0))),2)","v":{"v":0,"d":"0.00"}},0,null,{"$f":"IFERROR(VLOOKUP(C92,Items!A:H,8,FALSE),0)","v":0},{"$f":"IF(C92=\"\",\"\",IF(E92&F92=\"\",VLOOKUP(C92,Items!A:D,4,FALSE),3))","v":""},{"$f":"IF(C92=\"\",\"\",'Misc Dropdowns'!$C$35)","v":""},{"v":0,"d":"0.00"},0,{"$f":"IF($O92=\"SEL\",VLOOKUP($C92,Items!A:F,6,FALSE),IF($O92=\"CR\",VLOOKUP('Order Form'!$C92,Items!A:G,7,FALSE),0))","v":0},{"$f":"IFERROR(AF92*(VLOOKUP(E92,'Misc Dropdowns'!$J$12:$M$16,4,FALSE)),0)","v":0},{"$f":"IFERROR(VLOOKUP(F92,'Misc Dropdowns'!$J$23:$M$27,4,FALSE)*AF92,0)","v":0},{"$f":"IFERROR(IF(ISNUMBER(FIND(\"PD\",I92,1)),AK92*5,0)+(AK92*(15*(VLOOKUP(C92,Items!A:AE,31,FALSE)))),0)","v":0},{"$f":"IF(G92=\"\",\"\",IF(G92=\"DD\",VLOOKUP(C92,Items!A:AH,34,FALSE),IF(G92=\"ID\",VLOOKUP(C92,Items!A:AG,33,FALSE))))","v":""},0,{"$f":"IF(I92=\"\",0,VLOOKUP(C92,Items!A:AF,32,FALSE))","v":0},0,0,"","","",0,0,{"$f":"IF(C92=\"\",0,D92*VLOOKUP(C92,Items!A:M,13,FALSE))","v":{"v":0,"d":"0.00"}},{"v":0,"d":"0.00"},{"$f":"IFERROR(IF(VLOOKUP(C92,'Modifications and Fees'!B:H,2,FALSE)=\"CR\",1*D92,0),0)","v":{"v":0,"d":"0.00"}},{"v":0,"d":"0.00"},{"$f":"ROUND(IFERROR(D92*X92*(VLOOKUP(E92,'Misc Dropdowns'!$J$12:$M$16,4,FALSE)),0),2)","v":{"v":0,"d":"0.00"}},{"$f":"ROUND(IFERROR(VLOOKUP(F92,'Misc Dropdowns'!$J$23:$M$27,4,FALSE)*X92*D92,0),2)","v":{"v":0,"d":"0.00"}},{"$f":"IF(C92=\"\",\"\",IF(AND(VLOOKUP(C92,Items!A:AI,35,FALSE)=\"Y\",'Order Form'!H92=\"\"),1,0))","v":""},{"v":0,"d":"0.00"}]
["2 pages",null,null,0,{"$nulls":7},{"v":0,"d":"0.00"},{"v":0,"d":"0.00"},{"$f":"IF(C93=\"\",\"\",VLOOKUP(C93,Items!A:N,12,FALSE))","v":""},{"$f":"IF(Q93=\"Craftsman Pricing\",\"CR\",IF(C93=\"\",\"\",IF('Misc Dropdowns'!$C$34=0,\"\",IF(E93&F93=\"\",VLOOKUP(AD93,'Misc Dropdowns'!$A$45:$B$47,2,FALSE),\"CR\"))))","v":""},{"$nulls":8},{"$f":"ROUND(IF($Q$18=\"\",0,IF(O93=\"SEL\",VLOOKUP(C93,Items!A:Y,25,FALSE),IF(O93=\"CR\",VLOOKUP(C93,Items!A:Z,26,FALSE),0))),2)","v":{"v":0,"d":"0.00"}},0,null,{"$f":"IFERROR(VLOOKUP(C93,Items!A:H,8,FALSE),0)","v":0},{"$f":"IF(C93=\"\",\"\",IF(E93&F93=\"\",VLOOKUP(C93,Items!A:D,4,FALSE),3))","v":""},{"$f":"IF(C93=\"\",\"\",'Misc Dropdowns'!$C$35)","v":""},{"v":0,"d":"0.00"},0,{"$f":"IF($O93=\"SEL\",VLOOKUP($C93,Items!A:F,6,FALSE),IF($O93=\"CR\",VLOOKUP('Order Form'!$C93,Items!A:G,7,FALSE),0))","v":0},{"$f":"IFERROR(AF93*(VLOOKUP(E93,'Misc Dropdowns'!$J$12:$M$16,4,FALSE)),0)","v":0},{"$f":"IFERROR(VLOOKUP(F93,'Misc Dropdowns'!$J$23:$M$27,4,FALSE)*AF93,0)","v":0},{"$f":"IFERROR(IF(ISNUMBER(FIND(\"PD\",I93,1)),AK93*5,0)+(AK93*(15*(VLOOKUP(C93,Items!A:AE,31,FALSE)))),0)","v":0},{"$f":"IF(G93=\"\",\"\",IF(G93=\"DD\",VLOOKUP(C93,Items!A:AH,34,FALSE),IF(G93=\"ID\",VLOOKUP(C93,Items!A:AG,33,FALSE))))","v":""},0,{"$f":"IF(I93=\"\",0,VLOOKUP(C93,Items!A:AF,32,FALSE))","v":0},0,0,"","","",0,0,{"$f":"IF(C93=\"\",0,D93*VLOOKUP(C93,Items!A:M,13,FALSE))","v":{"v":0,"d":"0.00"}},{"v":0,"d":"0.00"},{"$f":"IFERROR(IF(VLOOKUP(C93,'Modifications and Fees'!B:H,2,FALSE)=\"CR\",1*D93,0),0)","v":{"v":0,"d":"0.00"}},{"v":0,"d":"0.00"},{"$f":"ROUND(IFERROR(D93*X93*(VLOOKUP(E93,'Misc Dropdowns'!$J$12:$M$16,4,FALSE)),0),2)","v":{"v":0,"d":"0.00"}},{"$f":"ROUND(IFERROR(VLOOKUP(F93,'Misc Dropdowns'!$J$23:$M$27,4,FALSE)*X93*D93,0),2)","v":{"v":0,"d":"0.00"}},{"$f":"IF(C93=\"\",\"\",IF(AND(VLOOKUP(C93,Items!A:AI,35,FALSE)=\"Y\",'Order Form'!H93=\"\"),1,0))","v":""},{"v":0,"d":"0.00"}]
["2 pages",null,null,0,{"$nulls":7},{"v":0,"d":"0.00"},{"v":0,"d":"0.00"},{"$f":"IF(C94=\"\",\"\",VLOOKUP(C94,Items!A:N,12,FALSE))","v":""},{"$f":"IF(Q94=\"Craftsman Pricing\",\"CR\",IF(C94=\"\",\"\",IF('Misc Dropdowns'!$C$34=0,\"\",IF(E94&F94=\"\",VLOOKUP(AD94,'Misc Dropdowns'!$A$45:$B$47,2,FALSE),\"CR\"))))","v":""},{"$nulls":8},{"$f":"ROUND(IF($Q$18=\"\",0,IF(O94=\"SEL\",VLOOKUP(C94,Items!A:Y,25,FALSE),IF(O94=\"CR\",VLOOKUP(C94,Items!A:Z,26,FALSE),0))),2)","v":{"v":0,"d":"0.00"}},0,null,{"$f":"IFERROR(VLOOKUP(C94,Items!A:H,8,FALSE),0)","v":0},{"$f":"IF(C94=\"\",\"\",IF(E94&F94=\"\",VLOOKUP(C94,Items!A:D,4,FALSE),3))","v":""},{"$f":"IF(C94=\"\",\"\",'Misc Dropdowns'!$C$35)","v":""},{"v":0,"d":"0.00"},0,{"$f":"IF($O94=\"SEL\",VLOOKUP($C94,Items!A:F,6,FALSE),IF($O94=\"CR\",VLOOKUP('Order Form'!$C94,Items!A:G,7,FALSE),0))","v":0},{"$f":"IFERROR(AF94*(VLOOKUP(E94,'Misc Dropdowns'!$J$12:$M$16,4,FALSE)),0)","v":0},{"$f":"IFERROR(VLOOKUP(F94,'Misc Dropdowns'!$J$23:$M$27,4,FALSE)*AF94,0)","v":0},{"$f":"IFERROR(IF(ISNUMBER(FIND(\"PD\",I94,1)),AK94*5,0)+(AK94*(15*(VLOOKUP(C94,Items!A:AE,31,FALSE)))),0)","v":0},{"$f":"IF(G94=\"\",\"\",IF(G94=\"DD\",VLOOKUP(C94,Items!A:AH,34,FALSE),IF(G94=\"ID\",VLOOKUP(C94,Items!A:AG,33,FALSE))))","v":""},0,{"$f":"IF(I94=\"\",0,VLOOKUP(C94,Items!A:AF,32,FALSE))","v":0},0,0,"","","",0,0,{"$f":"IF(C94=\"\",0,D94*VLOOKUP(C94,Items!A:M,13,FALSE))","v":{"v":0,"d":"0.00"}},{"v":0,"d":"0.00"},{"$f":"IFERROR(IF(VLOOKUP(C94,'Modifications and Fees'!B:H,2,FALSE)=\"CR\",1*D94,0),0)","v":{"v":0,"d":"0.00"}},{"v":0,"d":"0.00"},{"$f":"ROUND(IFERROR(D94*X94*(VLOOKUP(E94,'Misc Dropdowns'!$J$12:$M$16,4,FALSE)),0),2)","v":{"v":0,"d":"0.00"}},{"$f":"ROUND(IFERROR(VLOOKUP(F94,'Misc Dropdowns'!$J$23:$M$27,4,FALSE)*X94*D94,0),2)","v":{"v":0,"d":"0.00"}},{"$f":"IF(C94=\"\",\"\",IF(AND(VLOOKUP(C94,Items!A:AI,35,FALSE)=\"Y\",'Order Form'!H94=\"\"),1,0))","v":""},{"v":0,"d":"0.00"}]
["2 pages",null,null,0,{"$nulls":7},{"v":0,"d":"0.00"},{"v":0,"d":"0.00"},{"$f":"IF(C95=\"\",\"\",VLOOKUP(C95,Items!A:N,12,FALSE))","v":""},{"$f":"IF(Q95=\"Craftsman Pricing\",\"CR\",IF(C95=\"\",\"\",IF('Misc Dropdowns'!$C$34=0,\"\",IF(E95&F95=\"\",VLOOKUP(AD95,'Misc Dropdowns'!$A$45:$B$47,2,FALSE),\"CR\"))))","v":""},{"$nulls":8},{"$f":"ROUND(IF($Q$18=\"\",0,IF(O95=\"SEL\",VLOOKUP(C95,Items!A:Y,25,FALSE),IF(O95=\"CR\",VLOOKUP(C95,Items!A:Z,26,FALSE),0))),2)","v":{"v":0,"d":"0.00"}},0,null,{"$f":"IFERROR(VLOOKUP(C95,Items!A:H,8,FALSE),0)","v":0},{"$f":"IF(C95=\"\",\"\",IF(E95&F95=\"\",VLOOKUP(C95,Items!A:D,4,FALSE),3))","v":""},{"$f":"IF(C95=\"\",\"\",'Misc Dropdowns'!$C$35)","v":""},{"v":0,"d":"0.00"},0,{"$f":"IF($O95=\"SEL\",VLOOKUP($C95,Items!A:F,6,FALSE),IF($O95=\"CR\",VLOOKUP('Order Form'!$C95,Items!A:G,7,FALSE),0))","v":0},{"$f":"IFERROR(AF95*(VLOOKUP(E95,'Misc Dropdowns'!$J$12:$M$16,4,FALSE)),0)","v":0},{"$f":"IFERROR(VLOOKUP(F95,'Misc Dropdowns'!$J$23:$M$27,4,FALSE)*AF95,0)","v":0},{"$f":"IFERROR(IF(ISNUMBER(FIND(\"PD\",I95,1)),AK95*5,0)+(AK95*(15*(VLOOKUP(C95,Items!A:AE,31,FALSE)))),0)","v":0},{"$f":"IF(G95=\"\",\"\",IF(G95=\"DD\",VLOOKUP(C95,Items!A:AH,34,FALSE),IF(G95=\"ID\",VLOOKUP(C95,Items!A:AG,33,FALSE))))","v":""},0,{"$f":"IF(I95=\"\",0,VLOOKUP(C95,Items!A:AF,32,FALSE))","v":0},0,0,"","","",0,0,{"$f":"IF(C95=\"\",0,D95*VLOOKUP(C95,Items!A:M,13,FALSE))","v":{"v":0,"d":"0.00"}},{"v":0,"d":"0.00"},{"$f":"IFERROR(IF(VLOOKUP(C95,'Modifications and Fees'!B:H,2,FALSE)=\"CR\",1*D95,0),0)","v":{"v":0,"d":"0.00"}},{"v":0,"d":"0.00"},{"$f":"ROUND(IFERROR(D95*X95*(VLOOKUP(E95,'Misc Dropdowns'!$J$12:$M$16,4,FALSE)),0),2)","v":{"v":0,"d":"0.00"}},{"$f":"ROUND(IFERROR(VLOOKUP(F95,'Misc Dropdowns'!$J$23:$M$27,4,FALSE)*X95*D95,0),2)","v":{"v":0,"d":"0.00"}},{"$f":"IF(C95=\"\",\"\",IF(AND(VLOOKUP(C95,Items!A:AI,35,FALSE)=\"Y\",'Order Form'!H95=\"\"),1,0))","v":""},{"v":0,"d":"0.00"}]
["2 pages",null,null,0,{"$nulls":7},{"v":0,"d":"0.00"},{"v":0,"d":"0.00"},{"$f":"IF(C96=\"\",\"\",VLOOKUP(C96,Items!A:N,12,FALSE))","v":""},{"$f":"IF(Q96=\"Craftsman Pricing\",\"CR\",IF(C96=\"\",\"\",IF('Misc Dropdowns'!$C$34=0,\"\",IF(E96&F96=\"\",VLOOKUP(AD96,'Misc Dropdowns'!$A$45:$B$47,2,FALSE),\"CR\"))))","v":""},{"$nulls":8},{"$f":"ROUND(IF($Q$18=\"\",0,IF(O96=\"SEL\",VLOOKUP(C96,Items!A:Y,25,FALSE),IF(O96=\"CR\",VLOOKUP(C96,Items!A:Z,26,FALSE),0))),2)","v":{"v":0,"d":"0.00"}},0,null,{"$f":"IFERROR(VLOOKUP(C96,Items!A:H,8,FALSE),0)","v":0},{"$f":"IF(C96=\"\",\"\",IF(E96&F96=\"\",VLOOKUP(C96,Items!A:D,4,FALSE),3))","v":""},{"$f":"IF(C96=\"\",\"\",'Misc Dropdowns'!$C$35)","v":""},{"v":0,"d":"0.00"},0,{"$f":"IF($O96=\"SEL\",VLOOKUP($C96,Items!A:F,6,FALSE),IF($O96=\"CR\",VLOOKUP('Order Form'!$C96,Items!A:G,7,FALSE),0))","v":0},{"$f":"IFERROR(AF96*(VLOOKUP(E96,'Misc Dropdowns'!$J$12:$M$16,4,FALSE)),0)","v":0},{"$f":"IFERROR(VLOOKUP(F96,'Misc Dropdowns'!$J$23:$M$27,4,FALSE)*AF96,0)","v":0},{"$f":"IFERROR(IF(ISNUMBER(FIND(\"PD\",I96,1)),AK96*5,0)+(AK96*(15*(VLOOKUP(C96,Items!A:AE,31,FALSE)))),0)","v":0},{"$f":"IF(G96=\"\",\"\",IF(G96=\"DD\",VLOOKUP(C96,Items!A:AH,34,FALSE),IF(G96=\"ID\",VLOOKUP(C96,Items!A:AG,33,FALSE))))","v":""},0,{"$f":"IF(I96=\"\",0,VLOOKUP(C96,Items!A:AF,32,FALSE))","v":0},0,0,"","","",0,0,{"$f":"IF(C96=\"\",0,D96*VLOOKUP(C96,Items!A:M,13,FALSE))","v":{"v":0,"d":"0.00"}},{"v":0,"d":"0.00"},{"$f":"IFERROR(IF(VLOOKUP(C96,'Modifications and Fees'!B:H,2,FALSE)=\"CR\",1*D96,0),0)","v":{"v":0,"d":"0.00"}},{"v":0,"d":"0.00"},{"$f":"ROUND(IFERROR(D96*X96*(VLOOKUP(E96,'Misc Dropdowns'!$J$12:$M$16,4,FALSE)),0),2)","v":{"v":0,"d":"0.00"}},{"$f":"ROUND(IFERROR(VLOOKUP(F96,'Misc Dropdowns'!$J$23:$M$27,4,FALSE)*X96*D96,0),2)","v":{"v":0,"d":"0.00"}},{"$f":"IF(C96=\"\",\"\",IF(AND(VLOOKUP(C96,Items!A:AI,35,FALSE)=\"Y\",'Order Form'!H96=\"\"),1,0))","v":""},{"v":0,"d":"0.00"}]
["2 pages",null,null,0,{"$nulls":7},{"v":0,"d":"0.00"},{"v":0,"d":"0.00"},{"$f":"IF(C97=\"\",\"\",VLOOKUP(C97,Items!A:N,12,FALSE))","v":""},{"$f":"IF(Q97=\"Craftsman Pricing\",\"CR\",IF(C97=\"\",\"\",IF('Misc Dropdowns'!$C$34=0,\"\",IF(E97&F97=\"\",VLOOKUP(AD97,'Misc Dropdowns'!$A$45:$B$47,2,FALSE),\"CR\"))))","v":""},{"$nulls":8},{"$f":"ROUND(IF($Q$18=\"\",0,IF(O97=\"SEL\",VLOOKUP(C97,Items!A:Y,25,FALSE),IF(O97=\"CR\",VLOOKUP(C97,Items!A:Z,26,FALSE),0))),2)","v":{"v":0,"d":"0.00"}},0,null,{"$f":"IFERROR(VLOOKUP(C97,Items!A:H,8,FALSE),0)","v":0},{"$f":"IF(C97=\"\",\"\",IF(E97&F97=\"\",VLOOKUP(C97,Items!A:D,4,FALSE),3))","v":""},{"$f":"IF(C97=\"\",\"\",'Misc Dropdowns'!$C$35)","v":""},{"v":0,"d":"0.00"},0,{"$f":"IF($O97=\"SEL\",VLOOKUP($C97,Items!A:F,6,FALSE),IF($O97=\"CR\",VLOOKUP('Order Form'!$C97,Items!A:G,7,FALSE),0))","v":0},{"$f":"IFERROR(AF97*(VLOOKUP(E97,'Misc Dropdowns'!$J$12:$M$16,4,FALSE)),0)","v":0},{"$f":"IFERROR(VLOOKUP(F97,'Misc Dropdowns'!$J$23:$M$27,4,FALSE)*AF97,0)","v":0},{"$f":"IFERROR(IF(ISNUMBER(FIND(\"PD\",I97,1)),AK97*5,0)+(AK97*(15*(VLOOKUP(C97,Items!A:AE,31,FALSE)))),0)","v":0},{"$f":"IF(G97=\"\",\"\",IF(G97=\"DD\",VLOOKUP(C97,Items!A:AH,34,FALSE),IF(G97=\"ID\",VLOOKUP(C97,Items!A:AG,33,FALSE))))","v":""},0,{"$f":"IF(I97=\"\",0,VLOOKUP(C97,Items!A:AF,32,FALSE))","v":0},0,0,"","","",0,0,{"$f":"IF(C97=\"\",0,D97*VLOOKUP(C97,Items!A:M,13,FALSE))","v":{"v":0,"d":"0.00"}},{"v":0,"d":"0.00"},{"$f":"IFERROR(IF(VLOOKUP(C97,'Modifications and Fees'!B:H,2,FALSE)=\"CR\",1*D97,0),0)","v":{"v":0,"d":"0.00"}},{"v":0,"d":"0.00"},{"$f":"ROUND(IFERROR(D97*X97*(VLOOKUP(E97,'Misc Dropdowns'!$J$12:$M$16,4,FALSE)),0),2)","v":{"v":0,"d":"0.00"}},{"$f":"ROUND(IFERROR(VLOOKUP(F97,'Misc Dropdowns'!$J$23:$M$27,4,FALSE)*X97*D97,0),2)","v":{"v":0,"d":"0.00"}},{"$f":"IF(C97=\"\",\"\",IF(AND(VLOOKUP(C97,Items!A:AI,35,FALSE)=\"Y\",'Order Form'!H97=\"\"),1,0))","v":""},{"v":0,"d":"0.00"}]
["2 pages",null,null,0,{"$nulls":7},{"v":0,"d":"0.00"},{"v":0,"d":"0.00"},{"$f":"IF(C98=\"\",\"\",VLOOKUP(C98,Items!A:N,12,FALSE))","v":""},{"$f":"IF(Q98=\"Craftsman Pricing\",\"CR\",IF(C98=\"\",\"\",IF('Misc Dropdowns'!$C$34=0,\"\",IF(E98&F98=\"\",VLOOKUP(AD98,'Misc Dropdowns'!$A$45:$B$47,2,FALSE),\"CR\"))))","v":""},{"$nulls":8},{"$f":"ROUND(IF($Q$18=\"\",0,IF(O98=\"SEL\",VLOOKUP(C98,Items!A:Y,25,FALSE),IF(O98=\"CR\",VLOOKUP(C98,Items!A:Z,26,FALSE),0))),2)","v":{"v":0,"d":"0.00"}},0,null,{"$f":"IFERROR(VLOOKUP(C98,Items!A:H,8,FALSE),0)","v":0},{"$f":"IF(C98=\"\",\"\",IF(E98&F98=\"\",VLOOKUP(C98,Items!A:D,4,FALSE),3))","v":""},{"$f":"IF(C98=\"\",\"\",'Misc Dropdowns'!$C$35)","v":""},{"$f":"MAX(AB98,AC98)","v":{"v":0,"d":"0.00"}},{"$f":"MIN(AC98)","v":0},{"$f":"IF($O98=\"SEL\",VLOOKUP($C98,Items!A:F,6,FALSE),IF($O98=\"CR\",VLOOKUP('Order Form'!$C98,Items!A:G,7,FALSE),0))","v":0},{"$f":"IFERROR(AF98*(VLOOKUP(E98,'Misc Dropdowns'!$J$12:$M$16,4,FALSE)),0)","v":0},{"$f":"IFERROR(VLOOKUP(F98,'Misc Dropdowns'!$J$23:$M$27,4,FALSE)*AF98,0)","v":0},{"$f":"IFERROR(IF(ISNUMBER(FIND(\"PD\",I98,1)),AK98*5,0)+(AK98*(15*(VLOOKUP(C98,Items!A:AE,31,FALSE)))),0)","v":0},{"$f":"IF(G98=\"\",\"\",IF(G98=\"DD\",VLOOKUP(C98,Items!A:AH,34,FALSE),IF(G98=\"ID\",VLOOKUP(C98,Items!A:AG,33,FALSE))))","v":""},0,{"$f":"IF(I98=\"\",0,VLOOKUP(C98,Items!A:AF,32,FALSE))","v":0},0,0,"","","",0,0,{"$f":"IF(C98=\"\",0,D98*VLOOKUP(C98,Items!A:M,13,FALSE))","v":{"v":0,"d":"0.00"}},{"v":0,"d":"0.00"},{"$f":"IFERROR(IF(VLOOKUP(C98,'Modifications and Fees'!B:H,2,FALSE)=\"CR\",1*D98,0),0)","v":{"v":0,"d":"0.00"}},{"v":0,"d":"0.00"},{"$f":"ROUND(IFERROR(D98*X98*(VLOOKUP(E98,'Misc Dropdowns'!$J$12:$M$16,4,FALSE)),0),2)","v":{"v":0,"d":"0.00"}},{"$f":"ROUND(IFERROR(VLOOKUP(F98,'Misc Dropdowns'!$J$23:$M$27,4,FALSE)*X98*D98,0),2)","v":{"v":0,"d":"0.00"}},{"$f":"IF(C98=\"\",\"\",IF(AND(VLOOKUP(C98,Items!A:AI,35,FALSE)=\"Y\",'Order Form'!H98=\"\"),1,0))","v":""},{"v":0,"d":"0.00"}]
["2 pages",null,null,0,{"$nulls":7},{"v":0,"d":"0.00"},{"v":0,"d":"0.00"},{"$f":"IF(C99=\"\",\"\",VLOOKUP(C99,Items!A:N,12,FALSE))","v":""},{"$f":"IF(Q99=\"Craftsman Pricing\",\"CR\",IF(C99=\"\",\"\",IF('Misc Dropdowns'!$C$34=0,\"\",IF(E99&F99=\"\",VLOOKUP(AD99,'Misc Dropdowns'!$A$45:$B$47,2,FALSE),\"CR\"))))","v":""},{"$nulls":8},{"$f":"ROUND(IF($Q$18=\"\",0,IF(O99=\"SEL\",VLOOKUP(C99,Items!A:Y,25,FALSE),IF(O99=\"CR\",VLOOKUP(C99,Items!A:Z,26,FALSE),0))),2)","v":{"v":0,"d":"0.00"}},0,null,{"$f":"IFERROR(VLOOKUP(C99,Items!A:H,8,FALSE),0)","v":0},{"$f":"IF(C99=\"\",\"\",IF(E99&F99=\"\",VLOOKUP(C99,Items!A:D,4,FALSE),3))","v":""},{"$f":"IF(C99=\"\",\"\",'Misc Dropdowns'!$C$35)","v":""},{"v":0,"d":"0.00"},0,{"$f":"IF($O99=\"SEL\",VLOOKUP($C99,Items!A:F,6,FALSE),IF($O99=\"CR\",VLOOKUP('Order Form'!$C99,Items!A:G,7,FALSE),0))","v":0},{"$f":"IFERROR(AF99*(VLOOKUP(E99,'Misc Dropdowns'!$J$12:$M$16,4,FALSE)),0)","v":0},{"$f":"IFERROR(VLOOKUP(F99,'Misc Dropdowns'!$J$23:$M$27,4,FALSE)*AF99,0)","v":0},{"$f":"IFERROR(IF(ISNUMBER(FIND(\"PD\",I99,1)),AK99*5,0)+(AK99*(15*(VLOOKUP(C99,Items!A:AE,31,FALSE)))),0)","v":0},{"$f":"IF(G99=\"\",\"\",IF(G99=\"DD\",VLOOKUP(C99,Items!A:AH,34,FALSE),IF(G99=\"ID\",VLOOKUP(C99,Items!A:AG,33,FALSE))))","v":""},0,{"$f":"IF(I99=\"\",0,VLOOKUP(C99,Items!A:AF,32,FALSE))","v":0},0,0,"","","",0,0,{"$f":"IF(C99=\"\",0,D99*VLOOKUP(C99,Items!A:M,13,FALSE))","v":{"v":0,"d":"0.00"}},{"v":0,"d":"0.00"},{"$f":"IFERROR(IF(VLOOKUP(C99,'Modifications and Fees'!B:H,2,FALSE)=\"CR\",1*D99,0),0)","v":{"v":0,"d":"0.00"}},{"v":0,"d":"0.00"},{"$f":"ROUND(IFERROR(D99*X99*(VLOOKUP(E99,'Misc Dropdowns'!$J$12:$M$16,4,FALSE)),0),2)","v":{"v":0,"d":"0.00"}},{"$f":"ROUND(IFERROR(VLOOKUP(F99,'Misc Dropdowns'!$J$23:$M$27,4,FALSE)*X99*D99,0),2)","v":{"v":0,"d":"0.00"}},{"$f":"IF(C99=\"\",\"\",IF(AND(VLOOKUP(C99,Items!A:AI,35,FALSE)=\"Y\",'Order Form'!H99=\"\"),1,0))","v":""},{"v":0,"d":"0.00"}]
["2 pages",null,null,0,{"$nulls":7},{"v":0,"d":"0.00"},{"v":0,"d":"0.00"},{"$f":"IF(C100=\"\",\"\",VLOOKUP(C100,Items!A:N,12,FALSE))","v":""},{"$f":"IF(Q100=\"Craftsman Pricing\",\"CR\",IF(C100=\"\",\"\",IF('Misc Dropdowns'!$C$34=0,\"\",IF(E100&F100=\"\",VLOOKUP(AD100,'Misc Dropdowns'!$A$45:$B$47,2,FALSE),\"CR\"))))","v":""},{"$nulls":8},{"$f":"ROUND(IF($Q$18=\"\",0,IF(O100=\"SEL\",VLOOKUP(C100,Items!A:Y,25,FALSE),IF(O100=\"CR\",VLOOKUP(C100,Items!A:Z,26,FALSE),0))),2)","v":{"v":0,"d":"0.00"}},0,null,{"$f":"IFERROR(VLOOKUP(C100,Items!A:H,8,FALSE),0)","v":0},{"$f":"IF(C100=\"\",\"\",IF(E100&F100=\"\",VLOOKUP(C100,Items!A:D,4,FALSE),3))","v":""},{"$f":"IF(C100=\"\",\"\",'Misc Dropdowns'!$C$35)","v":""},{"v":0,"d":"0.00"},0,{"$f":"IF($O100=\"SEL\",VLOOKUP($C100,Items!A:F,6,FALSE),IF($O100=\"CR\",VLOOKUP('Order Form'!$C100,Items!A:G,7,FALSE),0))","v":0},{"$f":"IFERROR(AF100*(VLOOKUP(E100,'Misc Dropdowns'!$J$12:$M$16,4,FALSE)),0)","v":0},{"$f":"IFERROR(VLOOKUP(F100,'Misc Dropdowns'!$J$23:$M$27,4,FALSE)*AF100,0)","v":0},{"$f":"IFERROR(IF(ISNUMBER(FIND(\"PD\",I100,1)),AK100*5,0)+(AK100*(15*(VLOOKUP(C100,Items!A:AE,31,FALSE)))),0)","v":0},{"$f":"IF(G100=\"\",\"\",IF(G100=\"DD\",VLOOKUP(C100,Items!A:AH,34,FALSE),IF(G100=\"ID\",VLOOKUP(C100,Items!A:AG,33,FALSE))))","v":""},0,{"$f":"IF(I100=\"\",0,VLOOKUP(C100,Items!A:AF,32,FALSE))","v":0},0,0,"","","",0,0,{"$f":"IF(C100=\"\",0,D100*VLOOKUP(C100,Items!A:M,13,FALSE))","v":{"v":0,"d":"0.00"}},{"v":0,"d":"0.00"},{"$f":"IFERROR(IF(VLOOKUP(C100,'Modifications and Fees'!B:H,2,FALSE)=\"CR\",1*D100,0),0)","v":{"v":0,"d":"0.00"}},{"v":0,"d":"0.00"},{"$f":"ROUND(IFERROR(D100*X100*(VLOOKUP(E100,'Misc Dropdowns'!$J$12:$M$16,4,FALSE)),0),2)","v":{"v":0,"d":"0.00"}},{"$f":"ROUND(IFERROR(VLOOKUP(F100,'Misc Dropdowns'!$J$23:$M$27,4,FALSE)*X100*D100,0),2)","v":{"v":0,"d":"0.00"}},{"$f":"IF(C100=\"\",\"\",IF(AND(VLOOKUP(C100,Items!A:AI,35,FALSE)=\"Y\",'Order Form'!H100=\"\"),1,0))","v":""},{"v":0,"d":"0.00"}]
["2 pages",null,null,0,{"$nulls":7},{"v":0,"d":"0.00"},{"v":0,"d":"0.00"},{"$f":"IF(C101=\"\",\"\",VLOOKUP(C101,Items!A:N,12,FALSE))","v":""},{"$f":"IF(Q101=\"Craftsman Pricing\",\"CR\",IF(C101=\"\",\"\",IF('Misc Dropdowns'!$C$34=0,\"\",IF(E101&F101=\"\",VLOOKUP(AD101,'Misc Dropdowns'!$A$45:$B$47,2,FALSE),\"CR\"))))","v":""},{"$nulls":8},{"$f":"ROUND(IF($Q$18=\"\",0,IF(O101=\"SEL\",VLOOKUP(C101,Items!A:Y,25,FALSE),IF(O101=\"CR\",VLOOKUP(C101,Items!A:Z,26,FALSE),0))),2)","v":{"v":0,"d":"0.00"}},0,null,{"$f":"IFERROR(VLOOKUP(C101,Items!A:H,8,FALSE),0)","v":0},{"$f":"IF(C101=\"\",\"\",IF(E101&F101=\"\",VLOOKUP(C101,Items!A:D,4,FALSE),3))","v":""},{"$f":"IF(C101=\"\",\"\",'Misc Dropdowns'!$C$35)","v":""},{"v":0,"d":"0.00"},0,{"$f":"IF($O101=\"SEL\",VLOOKUP($C101,Items!A:F,6,FALSE),IF($O101=\"CR\",VLOOKUP('Order Form'!$C101,Items!A:G,7,FALSE),0))","v":0},{"$f":"IFERROR(AF101*(VLOOKUP(E101,'Misc Dropdowns'!$J$12:$M$16,4,FALSE)),0)","v":0},{"$f":"IFERROR(VLOOKUP(F101,'Misc Dropdowns'!$J$23:$M$27,4,FALSE)*AF101,0)","v":0},{"$f":"IFERROR(IF(ISNUMBER(FIND(\"PD\",I101,1)),AK101*5,0)+(AK101*(15*(VLOOKUP(C101,Items!A:AE,31,FALSE)))),0)","v":0},{"$f":"IF(G101=\"\",\"\",IF(G101=\"DD\",VLOOKUP(C101,Items!A:AH,34,FALSE),IF(G101=\"ID\",VLOOKUP(C101,Items!A:AG,33,FALSE))))","v":""},0,{"$f":"IF(I101=\"\",0,VLOOKUP(C101,Items!A:AF,32,FALSE))","v":0},0,0,"","","",0,0,{"$f":"IF(C101=\"\",0,D101*VLOOKUP(C101,Items!A:M,13,FALSE))","v":{"v":0,"d":"0.00"}},{"v":0,"d":"0.00"},{"$f":"IFERROR(IF(VLOOKUP(C101,'Modifications and Fees'!B:H,2,FALSE)=\"CR\",1*D101,0),0)","v":{"v":0,"d":"0.00"}},{"v":0,"d":"0.00"},{"$f":"ROUND(IFERROR(D101*X101*(VLOOKUP(E101,'Misc Dropdowns'!$J$12:$M$16,4,FALSE)),0),2)","v":{"v":0,"d":"0.00"}},{"$f":"ROUND(IFERROR(VLOOKUP(F101,'Misc Dropdowns'!$J$23:$M$27,4,FALSE)*X101*D101,0),2)","v":{"v":0,"d":"0.00"}},{"$f":"IF(C101=\"\",\"\",IF(AND(VLOOKUP(C101,Items!A:AI,35,FALSE)=\"Y\",'Order Form'!H101=\"\"),1,0))","v":""},{"v":0,"d":"0.00"}]
["2 pages",null,null,0,{"$nulls":7},{"v":0,"d":"0.00"},{"v":0,"d":"0.00"},{"$f":"IF(C102=\"\",\"\",VLOOKUP(C102,Items!A:N,12,FALSE))","v":""},{"$f":"IF(Q102=\"Craftsman Pricing\",\"CR\",IF(C102=\"\",\"\",IF('Misc Dropdowns'!$C$34=0,\"\",IF(E102&F102=\"\",VLOOKUP(AD102,'Misc Dropdowns'!$A$45:$B$47,2,FALSE),\"CR\"))))","v":""},{"$nulls":8},{"$f":"ROUND(IF($Q$18=\"\",0,IF(O102=\"SEL\",VLOOKUP(C102,Items!A:Y,25,FALSE),IF(O102=\"CR\",VLOOKUP(C102,Items!A:Z,26,FALSE),0))),2)","v":{"v":0,"d":"0.00"}},0,null,{"$f":"IFERROR(VLOOKUP(C102,Items!A:H,8,FALSE),0)","v":0},{"$f":"IF(C102=\"\",\"\",IF(E102&F102=\"\",VLOOKUP(C102,Items!A:D,4,FALSE),3))","v":""},{"$f":"IF(C102=\"\",\"\",'Misc Dropdowns'!$C$35)","v":""},{"v":0,"d":"0.00"},0,{"$f":"IF($O102=\"SEL\",VLOOKUP($C102,Items!A:F,6,FALSE),IF($O102=\"CR\",VLOOKUP('Order Form'!$C102,Items!A:G,7,FALSE),0))","v":0},{"$f":"IFERROR(AF102*(VLOOKUP(E102,'Misc Dropdowns'!$J$12:$M$16,4,FALSE)),0)","v":0},{"$f":"IFERROR(VLOOKUP(F102,'Misc Dropdowns'!$J$23:$M$27,4,FALSE)*AF102,0)","v":0},{"$f":"IFERROR(IF(ISNUMBER(FIND(\"PD\",I102,1)),AK102*5,0)+(AK102*(15*(VLOOKUP(C102,Items!A:AE,31,FALSE)))),0)","v":0},{"$f":"IF(G102=\"\",\"\",IF(G102=\"DD\",VLOOKUP(C102,Items!A:AH,34,FALSE),IF(G102=\"ID\",VLOOKUP(C102,Items!A:AG,33,FALSE))))","v":""},0,{"$f":"IF(I102=\"\",0,VLOOKUP(C102,Items!A:AF,32,FALSE))","v":0},0,0,"","","",0,0,{"$f":"IF(C102=\"\",0,D102*VLOOKUP(C102,Items!A:M,13,FALSE))","v":{"v":0,"d":"0.00"}},{"v":0,"d":"0.00"},{"$f":"IFERROR(IF(VLOOKUP(C102,'Modifications and Fees'!B:H,2,FALSE)=\"CR\",1*D102,0),0)","v":{"v":0,"d":"0.00"}},{"v":0,"d":"0.00"},{"$f":"ROUND(IFERROR(D102*X102*(VLOOKUP(E102,'Misc Dropdowns'!$J$12:$M$16,4,FALSE)),0),2)","v":{"v":0,"d":"0.00"}},{"$f":"ROUND(IFERROR(VLOOKUP(F102,'Misc Dropdowns'!$J$23:$M$27,4,FALSE)*X102*D102,0),2)","v":{"v":0,"d":"0.00"}},{"$f":"IF(C102=\"\",\"\",IF(AND(VLOOKUP(C102,Items!A:AI,35,FALSE)=\"Y\",'Order Form'!H102=\"\"),1,0))","v":""},{"v":0,"d":"0.00"}]
["2 pages",null,null,0,{"$nulls":7},{"v":0,"d":"0.00"},{"v":0,"d":"0.00"},{"$f":"IF(C103=\"\",\"\",VLOOKUP(C103,Items!A:N,12,FALSE))","v":""},{"$f":"IF(Q103=\"Craftsman Pricing\",\"CR\",IF(C103=\"\",\"\",IF('Misc Dropdowns'!$C$34=0,\"\",IF(E103&F103=\"\",VLOOKUP(AD103,'Misc Dropdowns'!$A$45:$B$47,2,FALSE),\"CR\"))))","v":""},{"$nulls":8},{"$f":"ROUND(IF($Q$18=\"\",0,IF(O103=\"SEL\",VLOOKUP(C103,Items!A:Y,25,FALSE),IF(O103=\"CR\",VLOOKUP(C103,Items!A:Z,26,FALSE),0))),2)","v":{"v":0,"d":"0.00"}},0,null,{"$f":"IFERROR(VLOOKUP(C103,Items!A:H,8,FALSE),0)","v":0},{"$f":"IF(C103=\"\",\"\",IF(E103&F103=\"\",VLOOKUP(C103,Items!A:D,4,FALSE),3))","v":""},{"$f":"IF(C103=\"\",\"\",'Misc Dropdowns'!$C$35)","v":""},{"v":0,"d":"0.00"},0,{"$f":"IF($O103=\"SEL\",VLOOKUP($C103,Items!A:F,6,FALSE),IF($O103=\"CR\",VLOOKUP('Order Form'!$C103,Items!A:G,7,FALSE),0))","v":0},{"$f":"IFERROR(AF103*(VLOOKUP(E103,'Misc Dropdowns'!$J$12:$M$16,4,FALSE)),0)","v":0},{"$f":"IFERROR(VLOOKUP(F103,'Misc Dropdowns'!$J$23:$M$27,4,FALSE)*AF103,0)","v":0},{"$f":"IFERROR(IF(ISNUMBER(FIND(\"PD\",I103,1)),AK103*5,0)+(AK103*(15*(VLOOKUP(C103,Items!A:AE,31,FALSE)))),0)","v":0},{"$f":"IF(G103=\"\",\"\",IF(G103=\"DD\",VLOOKUP(C103,Items!A:AH,34,FALSE),IF(G103=\"ID\",VLOOKUP(C103,Items!A:AG,33,FALSE))))","v":""},0,{"$f":"IF(I103=\"\",0,VLOOKUP(C103,Items!A:AF,32,FALSE))","v":0},0,0,"","","",0,0,{"$f":"IF(C103=\"\",0,D103*VLOOKUP(C103,Items!A:M,13,FALSE))","v":{"v":0,"d":"0.00"}},{"v":0,"d":"0.00"},{"$f":"IFERROR(IF(VLOOKUP(C103,'Modifications and Fees'!B:H,2,FALSE)=\"CR\",1*D103,0),0)","v":{"v":0,"d":"0.00"}},{"v":0,"d":"0.00"},{"$f":"ROUND(IFERROR(D103*X103*(VLOOKUP(E103,'Misc Dropdowns'!$J$12:$M$16,4,FALSE)),0),2)","v":{"v":0,"d":"0.00"}},{"$f":"ROUND(IFERROR(VLOOKUP(F103,'Misc Dropdowns'!$J$23:$M$27,4,FALSE)*X103*D103,0),2)","v":{"v":0,"d":"0.00"}},{"$f":"IF(C103=\"\",\"\",IF(AND(VLOOKUP(C103,Items!A:AI,35,FALSE)=\"Y\",'Order Form'!H103=\"\"),1,0))","v":""},{"v":0,"d":"0.00"}]
["2 pages",null,null,0,{"$nulls":7},{"v":0,"d":"0.00"},{"v":0,"d":"0.00"},{"$f":"IF(C104=\"\",\"\",VLOOKUP(C104,Items!A:N,12,FALSE))","v":""},{"$f":"IF(Q104=\"Craftsman Pricing\",\"CR\",IF(C104=\"\",\"\",IF('Misc Dropdowns'!$C$34=0,\"\",IF(E104&F104=\"\",VLOOKUP(AD104,'Misc Dropdowns'!$A$45:$B$47,2,FALSE),\"CR\"))))","v":""},{"$nulls":8},{"$f":"ROUND(IF($Q$18=\"\",0,IF(O104=\"SEL\",VLOOKUP(C104,Items!A:Y,25,FALSE),IF(O104=\"CR\",VLOOKUP(C104,Items!A:Z,26,FALSE),0))),2)","v":{"v":0,"d":"0.00"}},0,null,{"$f":"IFERROR(VLOOKUP(C104,Items!A:H,8,FALSE),0)","v":0},{"$f":"IF(C104=\"\",\"\",IF(E104&F104=\"\",VLOOKUP(C104,Items!A:D,4,FALSE),3))","v":""},{"$f":"IF(C104=\"\",\"\",'Misc Dropdowns'!$C$35)","v":""},{"v":0,"d":"0.00"},0,{"$f":"IF($O104=\"SEL\",VLOOKUP($C104,Items!A:F,6,FALSE),IF($O104=\"CR\",VLOOKUP('Order Form'!$C104,Items!A:G,7,FALSE),0))","v":0},{"$f":"IFERROR(AF104*(VLOOKUP(E104,'Misc Dropdowns'!$J$12:$M$16,4,FALSE)),0)","v":0},{"$f":"IFERROR(VLOOKUP(F104,'Misc Dropdowns'!$J$23:$M$27,4,FALSE)*AF104,0)","v":0},{"$f":"IFERROR(IF(ISNUMBER(FIND(\"PD\",I104,1)),AK104*5,0)+(AK104*(15*(VLOOKUP(C104,Items!A:AE,31,FALSE)))),0)","v":0},{"$f":"IF(G104=\"\",\"\",IF(G104=\"DD\",VLOOKUP(C104,Items!A:AH,34,FALSE),IF(G104=\"ID\",VLOOKUP(C104,Items!A:AG,33,FALSE))))","v":""},0,{"$f":"IF(I104=\"\",0,VLOOKUP(C104,Items!A:AF,32,FALSE))","v":0},0,0,"","","",0,0,{"$f":"IF(C104=\"\",0,D104*VLOOKUP(C104,Items!A:M,13,FALSE))","v":{"v":0,"d":"0.00"}},{"v":0,"d":"0.00"},{"$f":"IFERROR(IF(VLOOKUP(C104,'Modifications and Fees'!B:H,2,FALSE)=\"CR\",1*D104,0),0)","v":{"v":0,"d":"0.00"}},{"v":0,"d":"0.00"},{"$f":"ROUND(IFERROR(D104*X104*(VLOOKUP(E104,'Misc Dropdowns'!$J$12:$M$16,4,FALSE)),0),2)","v":{"v":0,"d":"0.00"}},{"$f":"ROUND(IFERROR(VLOOKUP(F104,'Misc Dropdowns'!$J$23:$M$27,4,FALSE)*X104*D104,0),2)","v":{"v":0,"d":"0.00"}},{"$f":"IF(C104=\"\",\"\",IF(AND(VLOOKUP(C104,Items!A:AI,35,FALSE)=\"Y\",'Order Form'!H104=\"\"),1,0))","v":""},{"v":0,"d":"0.00"}]
["2 pages",null,null,0,{"$nulls":7},{"v":0,"d":"0.00"},{"v":0,"d":"0.00"},{"$f":"IF(C105=\"\",\"\",VLOOKUP(C105,Items!A:N,12,FALSE))","v":""},{"$f":"IF(Q105=\"Craftsman Pricing\",\"CR\",IF(C105=\"\",\"\",IF('Misc Dropdowns'!$C$34=0,\"\",IF(E105&F105=\"\",VLOOKUP(AD105,'Misc Dropdowns'!$A$45:$B$47,2,FALSE),\"CR\"))))","v":""},{"$nulls":8},{"$f":"ROUND(IF($Q$18=\"\",0,IF(O105=\"SEL\",VLOOKUP(C105,Items!A:Y,25,FALSE),IF(O105=\"CR\",VLOOKUP(C105,Items!A:Z,26,FALSE),0))),2)","v":{"v":0,"d":"0.00"}},0,null,{"$f":"IFERROR(VLOOKUP(C105,Items!A:H,8,FALSE),0)","v":0},{"$f":"IF(C105=\"\",\"\",IF(E105&F105=\"\",VLOOKUP(C105,Items!A:D,4,FALSE),3))","v":""},{"$f":"IF(C105=\"\",\"\",'Misc Dropdowns'!$C$35)","v":""},{"$f":"MAX(AB105,AC105)","v":{"v":0,"d":"0.00"}},{"$f":"MIN(AC105)","v":0},{"$f":"IF($O105=\"SEL\",VLOOKUP($C105,Items!A:F,6,FALSE),IF($O105=\"CR\",VLOOKUP('Order Form'!$C105,Items!A:G,7,FALSE),0))","v":0},{"$f":"IFERROR(AF105*(VLOOKUP(E105,'Misc Dropdowns'!$J$12:$M$16,4,FALSE)),0)","v":0},{"$f":"IFERROR(VLOOKUP(F105,'Misc Dropdowns'!$J$23:$M$27,4,FALSE)*AF105,0)","v":0},{"$f":"IFERROR(IF(ISNUMBER(FIND(\"PD\",I105,1)),AK105*5,0)+(AK105*(15*(VLOOKUP(C105,Items!A:AE,31,FALSE)))),0)","v":0},{"$f":"IF(G105=\"\",\"\",IF(G105=\"DD\",VLOOKUP(C105,Items!A:AH,34,FALSE),IF(G105=\"ID\",VLOOKUP(C105,Items!A:AG,33,FALSE))))","v":""},0,{"$f":"IF(I105=\"\",0,VLOOKUP(C105,Items!A:AF,32,FALSE))","v":0},0,0,"","","",0,0,{"$f":"IF(C105=\"\",0,D105*VLOOKUP(C105,Items!A:M,13,FALSE))","v":{"v":0,"d":"0.00"}},{"v":0,"d":"0.00"},{"$f":"IFERROR(IF(VLOOKUP(C105,'Modifications and Fees'!B:H,2,FALSE)=\"CR\",1*D105,0),0)","v":{"v":0,"d":"0.00"}},{"v":0,"d":"0.00"},{"$f":"ROUND(IFERROR(D105*X105*(VLOOKUP(E105,'Misc Dropdowns'!$J$12:$M$16,4,FALSE)),0),2)","v":{"v":0,"d":"0.00"}},{"$f":"ROUND(IFERROR(VLOOKUP(F105,'Misc Dropdowns'!$J$23:$M$27,4,FALSE)*X105*D105,0),2)","v":{"v":0,"d":"0.00"}},{"$f":"IF(C105=\"\",\"\",IF(AND(VLOOKUP(C105,Items!A:AI,35,FALSE)=\"Y\",'Order Form'!H105=\"\"),1,0))","v":""},{"v":0,"d":"0.00"}]
["2 pages",null,null,0,{"$nulls":7},{"v":0,"d":"0.00"},{"v":0,"d":"0.00"},{"$f":"IF(C106=\"\",\"\",VLOOKUP(C106,Items!A:N,12,FALSE))","v":""},{"$f":"IF(Q106=\"Craftsman Pricing\",\"CR\",IF(C106=\"\",\"\",IF('Misc Dropdowns'!$C$34=0,\"\",IF(E106&F106=\"\",VLOOKUP(AD106,'Misc Dropdowns'!$A$45:$B$47,2,FALSE),\"CR\"))))","v":""},{"$nulls":8},{"$f":"ROUND(IF($Q$18=\"\",0,IF(O106=\"SEL\",VLOOKUP(C106,Items!A:Y,25,FALSE),IF(O106=\"CR\",VLOOKUP(C106,Items!A:Z,26,FALSE),0))),2)","v":{"v":0,"d":"0.00"}},0,null,{"$f":"IFERROR(VLOOKUP(C106,Items!A:H,8,FALSE),0)","v":0},{"$f":"IF(C106=\"\",\"\",IF(E106&F106=\"\",VLOOKUP(C106,Items!A:D,4,FALSE),3))","v":""},{"$f":"IF(C106=\"\",\"\",'Misc Dropdowns'!$C$35)","v":""},{"v":0,"d":"0.00"},0,{"$f":"IF($O106=\"SEL\",VLOOKUP($C106,Items!A:F,6,FALSE),IF($O106=\"CR\",VLOOKUP('Order Form'!$C106,Items!A:G,7,FALSE),0))","v":0},{"$f":"IFERROR(AF106*(VLOOKUP(E106,'Misc Dropdowns'!$J$12:$M$16,4,FALSE)),0)","v":0},{"$f":"IFERROR(VLOOKUP(F106,'Misc Dropdowns'!$J$23:$M$27,4,FALSE)*AF106,0)","v":0},{"$f":"IFERROR(IF(ISNUMBER(FIND(\"PD\",I106,1)),AK106*5,0)+(AK106*(15*(VLOOKUP(C106,Items!A:AE,31,FALSE)))),0)","v":0},{"$f":"IF(G106=\"\",\"\",IF(G106=\"DD\",VLOOKUP(C106,Items!A:AH,34,FALSE),IF(G106=\"ID\",VLOOKUP(C106,Items!A:AG,33,FALSE))))","v":""},0,{"$f":"IF(I106=\"\",0,VLOOKUP(C106,Items!A:AF,32,FALSE))","v":0},0,0,"","","",0,0,{"$f":"IF(C106=\"\",0,D106*VLOOKUP(C106,Items!A:M,13,FALSE))","v":{"v":0,"d":"0.00"}},{"v":0,"d":"0.00"},{"$f":"IFERROR(IF(VLOOKUP(C106,'Modifications and Fees'!B:H,2,FALSE)=\"CR\",1*D106,0),0)","v":{"v":0,"d":"0.00"}},{"v":0,"d":"0.00"},{"$f":"ROUND(IFERROR(D106*X106*(VLOOKUP(E106,'Misc Dropdowns'!$J$12:$M$16,4,FALSE)),0),2)","v":{"v":0,"d":"0.00"}},{"$f":"ROUND(IFERROR(VLOOKUP(F106,'Misc Dropdowns'!$J$23:$M$27,4,FALSE)*X106*D106,0),2)","v":{"v":0,"d":"0.00"}},{"$f":"IF(C106=\"\",\"\",IF(AND(VLOOKUP(C106,Items!A:AI,35,FALSE)=\"Y\",'Order Form'!H106=\"\"),1,0))","v":""},{"v":0,"d":"0.00"}]
["2 pages",null,null,0,{"$nulls":7},{"v":0,"d":"0.00"},{"v":0,"d":"0.00"},{"$f":"IF(C107=\"\",\"\",VLOOKUP(C107,Items!A:N,12,FALSE))","v":""},{"$f":"IF(Q107=\"Craftsman Pricing\",\"CR\",IF(C107=\"\",\"\",IF('Misc Dropdowns'!$C$34=0,\"\",IF(E107&F107=\"\",VLOOKUP(AD107,'Misc Dropdowns'!$A$45:$B$47,2,FALSE),\"CR\"))))","v":""},{"$nulls":8},{"$f":"ROUND(IF($Q$18=\"\",0,IF(O107=\"SEL\",VLOOKUP(C107,Items!A:Y,25,FALSE),IF(O107=\"CR\",VLOOKUP(C107,Items!A:Z,26,FALSE),0))),2)","v":{"v":0,"d":"0.00"}},0,null,{"$f":"IFERROR(VLOOKUP(C107,Items!A:H,8,FALSE),0)","v":0},{"$f":"IF(C107=\"\",\"\",IF(E107&F107=\"\",VLOOKUP(C107,Items!A:D,4,FALSE),3))","v":""},{"$f":"IF(C107=\"\",\"\",'Misc Dropdowns'!$C$35)","v":""},{"v":0,"d":"0.00"},0,{"$f":"IF($O107=\"SEL\",VLOOKUP($C107,Items!A:F,6,FALSE),IF($O107=\"CR\",VLOOKUP('Order Form'!$C107,Items!A:G,7,FALSE),0))","v":0},{"$f":"IFERROR(AF107*(VLOOKUP(E107,'Misc Dropdowns'!$J$12:$M$16,4,FALSE)),0)","v":0},{"$f":"IFERROR(VLOOKUP(F107,'Misc Dropdowns'!$J$23:$M$27,4,FALSE)*AF107,0)","v":0},{"$f":"IFERROR(IF(ISNUMBER(FIND(\"PD\",I107,1)),AK107*5,0)+(AK107*(15*(VLOOKUP(C107,Items!A:AE,31,FALSE)))),0)","v":0},{"$f":"IF(G107=\"\",\"\",IF(G107=\"DD\",VLOOKUP(C107,Items!A:AH,34,FALSE),IF(G107=\"ID\",VLOOKUP(C107,Items!A:AG,33,FALSE))))","v":""},0,{"$f":"IF(I107=\"\",0,VLOOKUP(C107,Items!A:AF,32,FALSE))","v":0},0,0,"","","",0,0,{"$f":"IF(C107=\"\",0,D107*VLOOKUP(C107,Items!A:M,13,FALSE))","v":{"v":0,"d":"0.00"}},{"v":0,"d":"0.00"},{"$f":"IFERROR(IF(VLOOKUP(C107,'Modifications and Fees'!B:H,2,FALSE)=\"CR\",1*D107,0),0)","v":{"v":0,"d":"0.00"}},{"v":0,"d":"0.00"},{"$f":"ROUND(IFERROR(D107*X107*(VLOOKUP(E107,'Misc Dropdowns'!$J$12:$M$16,4,FALSE)),0),2)","v":{"v":0,"d":"0.00"}},{"$f":"ROUND(IFERROR(VLOOKUP(F107,'Misc Dropdowns'!$J$23:$M$27,4,FALSE)*X107*D107,0),2)","v":{"v":0,"d":"0.00"}},{"$f":"IF(C107=\"\",\"\",IF(AND(VLOOKUP(C107,Items!A:AI,35,FALSE)=\"Y\",'Order Form'!H107=\"\"),1,0))","v":""},{"v":0,"d":"0.00"}]
["2 pages",null,null,0,{"$nulls":7},{"v":0,"d":"0.00"},{"v":0,"d":"0.00"},{"$f":"IF(C108=\"\",\"\",VLOOKUP(C108,Items!A:N,12,FALSE))","v":""},{"$f":"IF(Q108=\"Craftsman Pricing\",\"CR\",IF(C108=\"\",\"\",IF('Misc Dropdowns'!$C$34=0,\"\",IF(E108&F108=\"\",VLOOKUP(AD108,'Misc Dropdowns'!$A$45:$B$47,2,FALSE),\"CR\"))))","v":""},{"$nulls":8},{"$f":"ROUND(IF($Q$18=\"\",0,IF(O108=\"SEL\",VLOOKUP(C108,Items!A:Y,25,FALSE),IF(O108=\"CR\",VLOOKUP(C108,Items!A:Z,26,FALSE),0))),2)","v":{"v":0,"d":"0.00"}},0,null,{"$f":"IFERROR(VLOOKUP(C108,Items!A:H,8,FALSE),0)","v":0},{"$f":"IF(C108=\"\",\"\",IF(E108&F108=\"\",VLOOKUP(C108,Items!A:D,4,FALSE),3))","v":""},{"$f":"IF(C108=\"\",\"\",'Misc Dropdowns'!$C$35)","v":""},{"v":0,"d":"0.00"},0,{"$f":"IF($O108=\"SEL\",VLOOKUP($C108,Items!A:F,6,FALSE),IF($O108=\"CR\",VLOOKUP('Order Form'!$C108,Items!A:G,7,FALSE),0))","v":0},{"$f":"IFERROR(AF108*(VLOOKUP(E108,'Misc Dropdowns'!$J$12:$M$16,4,FALSE)),0)","v":0},{"$f":"IFERROR(VLOOKUP(F108,'Misc Dropdowns'!$J$23:$M$27,4,FALSE)*AF108,0)","v":0},{"$f":"IFERROR(IF(ISNUMBER(FIND(\"PD\",I108,1)),AK108*5,0)+(AK108*(15*(VLOOKUP(C108,Items!A:AE,31,FALSE)))),0)","v":0},{"$f":"IF(G108=\"\",\"\",IF(G108=\"DD\",VLOOKUP(C108,Items!A:AH,34,FALSE),IF(G108=\"ID\",VLOOKUP(C108,Items!A:AG,33,FALSE))))","v":""},0,{"$f":"IF(I108=\"\",0,VLOOKUP(C108,Items!A:AF,32,FALSE))","v":0},0,0,"","","",0,0,{"$f":"IF(C108=\"\",0,D108*VLOOKUP(C108,Items!A:M,13,FALSE))","v":{"v":0,"d":"0.00"}},{"v":0,"d":"0.00"},{"$f":"IFERROR(IF(VLOOKUP(C108,'Modifications and Fees'!B:H,2,FALSE)=\"CR\",1*D108,0),0)","v":{"v":0,"d":"0.00"}},{"v":0,"d":"0.00"},{"$f":"ROUND(IFERROR(D108*X108*(VLOOKUP(E108,'Misc Dropdowns'!$J$12:$M$16,4,FALSE)),0),2)","v":{"v":0,"d":"0.00"}},{"$f":"ROUND(IFERROR(VLOOKUP(F108,'Misc Dropdowns'!$J$23:$M$27,4,FALSE)*X108*D108,0),2)","v":{"v":0,"d":"0.00"}},{"$f":"IF(C108=\"\",\"\",IF(AND(VLOOKUP(C108,Items!A:AI,35,FALSE)=\"Y\",'Order Form'!H108=\"\"),1,0))","v":""},{"v":0,"d":"0.00"}]
["2 pages",null,null,0,{"$nulls":7},{"v":0,"d":"0.00"},{"v":0,"d":"0.00"},{"$f":"IF(C109=\"\",\"\",VLOOKUP(C109,Items!A:N,12,FALSE))","v":""},{"$f":"IF(Q109=\"Craftsman Pricing\",\"CR\",IF(C109=\"\",\"\",IF('Misc Dropdowns'!$C$34=0,\"\",IF(E109&F109=\"\",VLOOKUP(AD109,'Misc Dropdowns'!$A$45:$B$47,2,FALSE),\"CR\"))))","v":""},{"$nulls":8},{"$f":"ROUND(IF($Q$18=\"\",0,IF(O109=\"SEL\",VLOOKUP(C109,Items!A:Y,25,FALSE),IF(O109=\"CR\",VLOOKUP(C109,Items!A:Z,26,FALSE),0))),2)","v":{"v":0,"d":"0.00"}},0,null,{"$f":"IFERROR(VLOOKUP(C109,Items!A:H,8,FALSE),0)","v":0},{"$f":"IF(C109=\"\",\"\",IF(E109&F109=\"\",VLOOKUP(C109,Items!A:D,4,FALSE),3))","v":""},{"$f":"IF(C109=\"\",\"\",'Misc Dropdowns'!$C$35)","v":""},{"v":0,"d":"0.00"},0,{"$f":"IF($O109=\"SEL\",VLOOKUP($C109,Items!A:F,6,FALSE),IF($O109=\"CR\",VLOOKUP('Order Form'!$C109,Items!A:G,7,FALSE),0))","v":0},{"$f":"IFERROR(AF109*(VLOOKUP(E109,'Misc Dropdowns'!$J$12:$M$16,4,FALSE)),0)","v":0},{"$f":"IFERROR(VLOOKUP(F109,'Misc Dropdowns'!$J$23:$M$27,4,FALSE)*AF109,0)","v":0},{"$f":"IFERROR(IF(ISNUMBER(FIND(\"PD\",I109,1)),AK109*5,0)+(AK109*(15*(VLOOKUP(C109,Items!A:AE,31,FALSE)))),0)","v":0},{"$f":"IF(G109=\"\",\"\",IF(G109=\"DD\",VLOOKUP(C109,Items!A:AH,34,FALSE),IF(G109=\"ID\",VLOOKUP(C109,Items!A:AG,33,FALSE))))","v":""},0,{"$f":"IF(I109=\"\",0,VLOOKUP(C109,Items!A:AF,32,FALSE))","v":0},0,0,"","","",0,0,{"$f":"IF(C109=\"\",0,D109*VLOOKUP(C109,Items!A:M,13,FALSE))","v":{"v":0,"d":"0.00"}},{"v":0,"d":"0.00"},{"$f":"IFERROR(IF(VLOOKUP(C109,'Modifications and Fees'!B:H,2,FALSE)=\"CR\",1*D109,0),0)","v":{"v":0,"d":"0.00"}},{"v":0,"d":"0.00"},{"$f":"ROUND(IFERROR(D109*X109*(VLOOKUP(E109,'Misc Dropdowns'!$J$12:$M$16,4,FALSE)),0),2)","v":{"v":0,"d":"0.00"}},{"$f":"ROUND(IFERROR(VLOOKUP(F109,'Misc Dropdowns'!$J$23:$M$27,4,FALSE)*X109*D109,0),2)","v":{"v":0,"d":"0.00"}},{"$f":"IF(C109=\"\",\"\",IF(AND(VLOOKUP(C109,Items!A:AI,35,FALSE)=\"Y\",'Order Form'!H109=\"\"),1,0))","v":""},{"v":0,"d":"0.00"}]
["2 pages",null,null,0,{"$nulls":7},{"v":0,"d":"0.00"},{"v":0,"d":"0.00"},{"$f":"IF(C110=\"\",\"\",VLOOKUP(C110,Items!A:N,12,FALSE))","v":""},{"$f":"IF(Q110=\"Craftsman Pricing\",\"CR\",IF(C110=\"\",\"\",IF('Misc Dropdowns'!$C$34=0,\"\",IF(E110&F110=\"\",VLOOKUP(AD110,'Misc Dropdowns'!$A$45:$B$47,2,FALSE),\"CR\"))))","v":""},{"$nulls":8},{"$f":"ROUND(IF($Q$18=\"\",0,IF(O110=\"SEL\",VLOOKUP(C110,Items!A:Y,25,FALSE),IF(O110=\"CR\",VLOOKUP(C110,Items!A:Z,26,FALSE),0))),2)","v":{"v":0,"d":"0.00"}},0,null,{"$f":"IFERROR(VLOOKUP(C110,Items!A:H,8,FALSE),0)","v":0},{"$f":"IF(C110=\"\",\"\",IF(E110&F110=\"\",VLOOKUP(C110,Items!A:D,4,FALSE),3))","v":""},{"$f":"IF(C110=\"\",\"\",'Misc Dropdowns'!$C$35)","v":""},{"v":0,"d":"0.00"},0,{"$f":"IF($O110=\"SEL\",VLOOKUP($C110,Items!A:F,6,FALSE),IF($O110=\"CR\",VLOOKUP('Order Form'!$C110,Items!A:G,7,FALSE),0))","v":0},{"$f":"IFERROR(AF110*(VLOOKUP(E110,'Misc Dropdowns'!$J$12:$M$16,4,FALSE)),0)","v":0},{"$f":"IFERROR(VLOOKUP(F110,'Misc Dropdowns'!$J$23:$M$27,4,FALSE)*AF110,0)","v":0},{"$f":"IFERROR(IF(ISNUMBER(FIND(\"PD\",I110,1)),AK110*5,0)+(AK110*(15*(VLOOKUP(C110,Items!A:AE,31,FALSE)))),0)","v":0},{"$f":"IF(G110=\"\",\"\",IF(G110=\"DD\",VLOOKUP(C110,Items!A:AH,34,FALSE),IF(G110=\"ID\",VLOOKUP(C110,Items!A:AG,33,FALSE))))","v":""},0,{"$f":"IF(I110=\"\",0,VLOOKUP(C110,Items!A:AF,32,FALSE))","v":0},0,0,"","","",0,0,{"$f":"IF(C110=\"\",0,D110*VLOOKUP(C110,Items!A:M,13,FALSE))","v":{"v":0,"d":"0.00"}},{"v":0,"d":"0.00"},{"$f":"IFERROR(IF(VLOOKUP(C110,'Modifications and Fees'!B:H,2,FALSE)=\"CR\",1*D110,0),0)","v":{"v":0,"d":"0.00"}},{"v":0,"d":"0.00"},{"$f":"ROUND(IFERROR(D110*X110*(VLOOKUP(E110,'Misc Dropdowns'!$J$12:$M$16,4,FALSE)),0),2)","v":{"v":0,"d":"0.00"}},{"$f":"ROUND(IFERROR(VLOOKUP(F110,'Misc Dropdowns'!$J$23:$M$27,4,FALSE)*X110*D110,0),2)","v":{"v":0,"d":"0.00"}},{"$f":"IF(C110=\"\",\"\",IF(AND(VLOOKUP(C110,Items!A:AI,35,FALSE)=\"Y\",'Order Form'!H110=\"\"),1,0))","v":""},{"v":0,"d":"0.00"}]
["2 pages",null,null,0,{"$nulls":7},{"v":0,"d":"0.00"},{"v":0,"d":"0.00"},{"$f":"IF(C111=\"\",\"\",VLOOKUP(C111,Items!A:N,12,FALSE))","v":""},{"$f":"IF(Q111=\"Craftsman Pricing\",\"CR\",IF(C111=\"\",\"\",IF('Misc Dropdowns'!$C$34=0,\"\",IF(E111&F111=\"\",VLOOKUP(AD111,'Misc Dropdowns'!$A$45:$B$47,2,FALSE),\"CR\"))))","v":""},{"$nulls":8},{"$f":"ROUND(IF($Q$18=\"\",0,IF(O111=\"SEL\",VLOOKUP(C111,Items!A:Y,25,FALSE),IF(O111=\"CR\",VLOOKUP(C111,Items!A:Z,26,FALSE),0))),2)","v":{"v":0,"d":"0.00"}},0,null,{"$f":"IFERROR(VLOOKUP(C111,Items!A:H,8,FALSE),0)","v":0},{"$f":"IF(C111=\"\",\"\",IF(E111&F111=\"\",VLOOKUP(C111,Items!A:D,4,FALSE),3))","v":""},{"$f":"IF(C111=\"\",\"\",'Misc Dropdowns'!$C$35)","v":""},{"v":0,"d":"0.00"},0,{"$f":"IF($O111=\"SEL\",VLOOKUP($C111,Items!A:F,6,FALSE),IF($O111=\"CR\",VLOOKUP('Order Form'!$C111,Items!A:G,7,FALSE),0))","v":0},{"$f":"IFERROR(AF111*(VLOOKUP(E111,'Misc Dropdowns'!$J$12:$M$16,4,FALSE)),0)","v":0},{"$f":"IFERROR(VLOOKUP(F111,'Misc Dropdowns'!$J$23:$M$27,4,FALSE)*AF111,0)","v":0},{"$f":"IFERROR(IF(ISNUMBER(FIND(\"PD\",I111,1)),AK111*5,0)+(AK111*(15*(VLOOKUP(C111,Items!A:AE,31,FALSE)))),0)","v":0},{"$f":"IF(G111=\"\",\"\",IF(G111=\"DD\",VLOOKUP(C111,Items!A:AH,34,FALSE),IF(G111=\"ID\",VLOOKUP(C111,Items!A:AG,33,FALSE))))","v":""},0,{"$f":"IF(I111=\"\",0,VLOOKUP(C111,Items!A:AF,32,FALSE))","v":0},0,0,"","","",0,0,{"$f":"IF(C111=\"\",0,D111*VLOOKUP(C111,Items!A:M,13,FALSE))","v":{"v":0,"d":"0.00"}},{"v":0,"d":"0.00"},{"$f":"IFERROR(IF(VLOOKUP(C111,'Modifications and Fees'!B:H,2,FALSE)=\"CR\",1*D111,0),0)","v":{"v":0,"d":"0.00"}},{"v":0,"d":"0.00"},{"$f":"ROUND(IFERROR(D111*X111*(VLOOKUP(E111,'Misc Dropdowns'!$J$12:$M$16,4,FALSE)),0),2)","v":{"v":0,"d":"0.00"}},{"$f":"ROUND(IFERROR(VLOOKUP(F111,'Misc Dropdowns'!$J$23:$M$27,4,FALSE)*X111*D111,0),2)","v":{"v":0,"d":"0.00"}},{"$f":"IF(C111=\"\",\"\",IF(AND(VLOOKUP(C111,Items!A:AI,35,FALSE)=\"Y\",'Order Form'!H111=\"\"),1,0))","v":""},{"v":0,"d":"0.00"}]
["2 pages",null,null,0,{"$nulls":7},{"v":0,"d":"0.00"},{"v":0,"d":"0.00"},{"$f":"IF(C112=\"\",\"\",VLOOKUP(C112,Items!A:N,12,FALSE))","v":""},{"$f":"IF(Q112=\"Craftsman Pricing\",\"CR\",IF(C112=\"\",\"\",IF('Misc Dropdowns'!$C$34=0,\"\",IF(E112&F112=\"\",VLOOKUP(AD112,'Misc Dropdowns'!$A$45:$B$47,2,FALSE),\"CR\"))))","v":""},{"$nulls":8},{"$f":"ROUND(IF($Q$18=\"\",0,IF(O112=\"SEL\",VLOOKUP(C112,Items!A:Y,25,FALSE),IF(O112=\"CR\",VLOOKUP(C112,Items!A:Z,26,FALSE),0))),2)","v":{"v":0,"d":"0.00"}},0,null,{"$f":"IFERROR(VLOOKUP(C112,Items!A:H,8,FALSE),0)","v":0},{"$f":"IF(C112=\"\",\"\",IF(E112&F112=\"\",VLOOKUP(C112,Items!A:D,4,FALSE),3))","v":""},{"$f":"IF(C112=\"\",\"\",'Misc Dropdowns'!$C$35)","v":""},{"v":0,"d":"0.00"},0,{"$f":"IF($O112=\"SEL\",VLOOKUP($C112,Items!A:F,6,FALSE),IF($O112=\"CR\",VLOOKUP('Order Form'!$C112,Items!A:G,7,FALSE),0))","v":0},{"$f":"IFERROR(AF112*(VLOOKUP(E112,'Misc Dropdowns'!$J$12:$M$16,4,FALSE)),0)","v":0},{"$f":"IFERROR(VLOOKUP(F112,'Misc Dropdowns'!$J$23:$M$27,4,FALSE)*AF112,0)","v":0},{"$f":"IFERROR(IF(ISNUMBER(FIND(\"PD\",I112,1)),AK112*5,0)+(AK112*(15*(VLOOKUP(C112,Items!A:AE,31,FALSE)))),0)","v":0},{"$f":"IF(G112=\"\",\"\",IF(G112=\"DD\",VLOOKUP(C112,Items!A:AH,34,FALSE),IF(G112=\"ID\",VLOOKUP(C112,Items!A:AG,33,FALSE))))","v":""},0,{"$f":"IF(I112=\"\",0,VLOOKUP(C112,Items!A:AF,32,FALSE))","v":0},0,0,"","","",0,0,{"$f":"IF(C112=\"\",0,D112*VLOOKUP(C112,Items!A:M,13,FALSE))","v":{"v":0,"d":"0.00"}},{"v":0,"d":"0.00"},{"$f":"IFERROR(IF(VLOOKUP(C112,'Modifications and Fees'!B:H,2,FALSE)=\"CR\",1*D112,0),0)","v":{"v":0,"d":"0.00"}},{"v":0,"d":"0.00"},{"$f":"ROUND(IFERROR(D112*X112*(VLOOKUP(E112,'Misc Dropdowns'!$J$12:$M$16,4,FALSE)),0),2)","v":{"v":0,"d":"0.00"}},{"$f":"ROUND(IFERROR(VLOOKUP(F112,'Misc Dropdowns'!$J$23:$M$27,4,FALSE)*X112*D112,0),2)","v":{"v":0,"d":"0.00"}},{"$f":"IF(C112=\"\",\"\",IF(AND(VLOOKUP(C112,Items!A:AI,35,FALSE)=\"Y\",'Order Form'!H112=\"\"),1,0))","v":""},{"v":0,"d":"0.00"}]
["2 pages",null,null,0,{"$nulls":7},{"v":0,"d":"0.00"},{"v":0,"d":"0.00"},{"$f":"IF(C113=\"\",\"\",VLOOKUP(C113,Items!A:N,12,FALSE))","v":""},{"$f":"IF(Q113=\"Craftsman Pricing\",\"CR\",IF(C113=\"\",\"\",IF('Misc Dropdowns'!$C$34=0,\"\",IF(E113&F113=\"\",VLOOKUP(AD113,'Misc Dropdowns'!$A$45:$B$47,2,FALSE),\"CR\"))))","v":""},{"$nulls":8},{"$f":"ROUND(IF($Q$18=\"\",0,IF(O113=\"SEL\",VLOOKUP(C113,Items!A:Y,25,FALSE),IF(O113=\"CR\",VLOOKUP(C113,Items!A:Z,26,FALSE),0))),2)","v":{"v":0,"d":"0.00"}},0,null,{"$f":"IFERROR(VLOOKUP(C113,Items!A:H,8,FALSE),0)","v":0},{"$f":"IF(C113=\"\",\"\",IF(E113&F113=\"\",VLOOKUP(C113,Items!A:D,4,FALSE),3))","v":""},{"$f":"IF(C113=\"\",\"\",'Misc Dropdowns'!$C$35)","v":""},{"v":0,"d":"0.00"},0,{"$f":"IF($O113=\"SEL\",VLOOKUP($C113,Items!A:F,6,FALSE),IF($O113=\"CR\",VLOOKUP('Order Form'!$C113,Items!A:G,7,FALSE),0))","v":0},{"$f":"IFERROR(AF113*(VLOOKUP(E113,'Misc Dropdowns'!$J$12:$M$16,4,FALSE)),0)","v":0},{"$f":"IFERROR(VLOOKUP(F113,'Misc Dropdowns'!$J$23:$M$27,4,FALSE)*AF113,0)","v":0},{"$f":"IFERROR(IF(ISNUMBER(FIND(\"PD\",I113,1)),AK113*5,0)+(AK113*(15*(VLOOKUP(C113,Items!A:AE,31,FALSE)))),0)","v":0},{"$f":"IF(G113=\"\",\"\",IF(G113=\"DD\",VLOOKUP(C113,Items!A:AH,34,FALSE),IF(G113=\"ID\",VLOOKUP(C113,Items!A:AG,33,FALSE))))","v":""},0,{"$f":"IF(I113=\"\",0,VLOOKUP(C113,Items!A:AF,32,FALSE))","v":0},0,0,"","","",0,0,{"$f":"IF(C113=\"\",0,D113*VLOOKUP(C113,Items!A:M,13,FALSE))","v":{"v":0,"d":"0.00"}},{"v":0,"d":"0.00"},{"$f":"IFERROR(IF(VLOOKUP(C113,'Modifications and Fees'!B:H,2,FALSE)=\"CR\",1*D113,0),0)","v":{"v":0,"d":"0.00"}},{"v":0,"d":"0.00"},{"$f":"ROUND(IFERROR(D113*X113*(VLOOKUP(E113,'Misc Dropdowns'!$J$12:$M$16,4,FALSE)),0),2)","v":{"v":0,"d":"0.00"}},{"$f":"ROUND(IFERROR(VLOOKUP(F113,'Misc Dropdowns'!$J$23:$M$27,4,FALSE)*X113*D113,0),2)","v":{"v":0,"d":"0.00"}},{"$f":"IF(C113=\"\",\"\",IF(AND(VLOOKUP(C113,Items!A:AI,35,FALSE)=\"Y\",'Order Form'!H113=\"\"),1,0))","v":""},{"v":0,"d":"0.00"}]
["2 pages",null,null,0,{"$nulls":7},{"v":0,"d":"0.00"},{"v":0,"d":"0.00"},{"$f":"IF(C114=\"\",\"\",VLOOKUP(C114,Items!A:N,12,FALSE))","v":""},{"$f":"IF(Q114=\"Craftsman Pricing\",\"CR\",IF(C114=\"\",\"\",IF('Misc Dropdowns'!$C$34=0,\"\",IF(E114&F114=\"\",VLOOKUP(AD114,'Misc Dropdowns'!$A$45:$B$47,2,FALSE),\"CR\"))))","v":""},{"$nulls":8},{"$f":"ROUND(IF($Q$18=\"\",0,IF(O114=\"SEL\",VLOOKUP(C114,Items!A:Y,25,FALSE),IF(O114=\"CR\",VLOOKUP(C114,Items!A:Z,26,FALSE),0))),2)","v":{"v":0,"d":"0.00"}},0,null,{"$f":"IFERROR(VLOOKUP(C114,Items!A:H,8,FALSE),0)","v":0},{"$f":"IF(C114=\"\",\"\",IF(E114&F114=\"\",VLOOKUP(C114,Items!A:D,4,FALSE),3))","v":""},{"$f":"IF(C114=\"\",\"\",'Misc Dropdowns'!$C$35)","v":""},{"v":0,"d":"0.00"},0,{"$f":"IF($O114=\"SEL\",VLOOKUP($C114,Items!A:F,6,FALSE),IF($O114=\"CR\",VLOOKUP('Order Form'!$C114,Items!A:G,7,FALSE),0))","v":0},{"$f":"IFERROR(AF114*(VLOOKUP(E114,'Misc Dropdowns'!$J$12:$M$16,4,FALSE)),0)","v":0},{"$f":"IFERROR(VLOOKUP(F114,'Misc Dropdowns'!$J$23:$M$27,4,FALSE)*AF114,0)","v":0},{"$f":"IFERROR(IF(ISNUMBER(FIND(\"PD\",I114,1)),AK114*5,0)+(AK114*(15*(VLOOKUP(C114,Items!A:AE,31,FALSE)))),0)","v":0},{"$f":"IF(G114=\"\",\"\",IF(G114=\"DD\",VLOOKUP(C114,Items!A:AH,34,FALSE),IF(G114=\"ID\",VLOOKUP(C114,Items!A:AG,33,FALSE))))","v":""},0,{"$f":"IF(I114=\"\",0,VLOOKUP(C114,Items!A:AF,32,FALSE))","v":0},0,0,"","","",0,0,{"$f":"IF(C114=\"\",0,D114*VLOOKUP(C114,Items!A:M,13,FALSE))","v":{"v":0,"d":"0.00"}},{"v":0,"d":"0.00"},{"$f":"IFERROR(IF(VLOOKUP(C114,'Modifications and Fees'!B:H,2,FALSE)=\"CR\",1*D114,0),0)","v":{"v":0,"d":"0.00"}},{"v":0,"d":"0.00"},{"$f":"ROUND(IFERROR(D114*X114*(VLOOKUP(E114,'Misc Dropdowns'!$J$12:$M$16,4,FALSE)),0),2)","v":{"v":0,"d":"0.00"}},{"$f":"ROUND(IFERROR(VLOOKUP(F114,'Misc Dropdowns'!$J$23:$M$27,4,FALSE)*X114*D114,0),2)","v":{"v":0,"d":"0.00"}},{"$f":"IF(C114=\"\",\"\",IF(AND(VLOOKUP(C114,Items!A:AI,35,FALSE)=\"Y\",'Order Form'!H114=\"\"),1,0))","v":""},{"v":0,"d":"0.00"}]
["2 pages",null,null,0,{"$nulls":7},{"v":0,"d":"0.00"},{"v":0,"d":"0.00"},{"$f":"IF(C115=\"\",\"\",VLOOKUP(C115,Items!A:N,12,FALSE))","v":""},{"$f":"IF(Q115=\"Craftsman Pricing\",\"CR\",IF(C115=\"\",\"\",IF('Misc Dropdowns'!$C$34=0,\"\",IF(E115&F115=\"\",VLOOKUP(AD115,'Misc Dropdowns'!$A$45:$B$47,2,FALSE),\"CR\"))))","v":""},{"$nulls":8},{"$f":"ROUND(IF($Q$18=\"\",0,IF(O115=\"SEL\",VLOOKUP(C115,Items!A:Y,25,FALSE),IF(O115=\"CR\",VLOOKUP(C115,Items!A:Z,26,FALSE),0))),2)","v":{"v":0,"d":"0.00"}},0,null,{"$f":"IFERROR(VLOOKUP(C115,Items!A:H,8,FALSE),0)","v":0},{"$f":"IF(C115=\"\",\"\",IF(E115&F115=\"\",VLOOKUP(C115,Items!A:D,4,FALSE),3))","v":""},{"$f":"IF(C115=\"\",\"\",'Misc Dropdowns'!$C$35)","v":""},{"v":0,"d":"0.00"},0,{"$f":"IF($O115=\"SEL\",VLOOKUP($C115,Items!A:F,6,FALSE),IF($O115=\"CR\",VLOOKUP('Order Form'!$C115,Items!A:G,7,FALSE),0))","v":0},{"$f":"IFERROR(AF115*(VLOOKUP(E115,'Misc Dropdowns'!$J$12:$M$16,4,FALSE)),0)","v":0},{"$f":"IFERROR(VLOOKUP(F115,'Misc Dropdowns'!$J$23:$M$27,4,FALSE)*AF115,0)","v":0},{"$f":"IFERROR(IF(ISNUMBER(FIND(\"PD\",I115,1)),AK115*5,0)+(AK115*(15*(VLOOKUP(C115,Items!A:AE,31,FALSE)))),0)","v":0},{"$f":"IF(G115=\"\",\"\",IF(G115=\"DD\",VLOOKUP(C115,Items!A:AH,34,FALSE),IF(G115=\"ID\",VLOOKUP(C115,Items!A:AG,33,FALSE))))","v":""},0,{"$f":"IF(I115=\"\",0,VLOOKUP(C115,Items!A:AF,32,FALSE))","v":0},0,0,"","","",0,0,{"$f":"IF(C115=\"\",0,D115*VLOOKUP(C115,Items!A:M,13,FALSE))","v":{"v":0,"d":"0.00"}},{"v":0,"d":"0.00"},{"$f":"IFERROR(IF(VLOOKUP(C115,'Modifications and Fees'!B:H,2,FALSE)=\"CR\",1*D115,0),0)","v":{"v":0,"d":"0.00"}},{"v":0,"d":"0.00"},{"$f":"ROUND(IFERROR(D115*X115*(VLOOKUP(E115,'Misc Dropdowns'!$J$12:$M$16,4,FALSE)),0),2)","v":{"v":0,"d":"0.00"}},{"$f":"ROUND(IFERROR(VLOOKUP(F115,'Misc Dropdowns'!$J$23:$M$27,4,FALSE)*X115*D115,0),2)","v":{"v":0,"d":"0.00"}},{"$f":"IF(C115=\"\",\"\",IF(AND(VLOOKUP(C115,Items!A:AI,35,FALSE)=\"Y\",'Order Form'!H115=\"\"),1,0))","v":""},{"v":0,"d":"0.00"}]
["2 pages",null,null,0,{"$nulls":7},{"v":0,"d":"0.00"},{"v":0,"d":"0.00"},{"$f":"IF(C116=\"\",\"\",VLOOKUP(C116,Items!A:N,12,FALSE))","v":""},{"$f":"IF(Q116=\"Craftsman Pricing\",\"CR\",IF(C116=\"\",\"\",IF('Misc Dropdowns'!$C$34=0,\"\",IF(E116&F116=\"\",VLOOKUP(AD116,'Misc Dropdowns'!$A$45:$B$47,2,FALSE),\"CR\"))))","v":""},{"$nulls":8},{"$f":"ROUND(IF($Q$18=\"\",0,IF(O116=\"SEL\",VLOOKUP(C116,Items!A:Y,25,FALSE),IF(O116=\"CR\",VLOOKUP(C116,Items!A:Z,26,FALSE),0))),2)","v":{"v":0,"d":"0.00"}},0,null,{"$f":"IFERROR(VLOOKUP(C116,Items!A:H,8,FALSE),0)","v":0},{"$f":"IF(C116=\"\",\"\",IF(E116&F116=\"\",VLOOKUP(C116,Items!A:D,4,FALSE),3))","v":""},{"$f":"IF(C116=\"\",\"\",'Misc Dropdowns'!$C$35)","v":""},{"v":0,"d":"0.00"},0,{"$f":"IF($O116=\"SEL\",VLOOKUP($C116,Items!A:F,6,FALSE),IF($O116=\"CR\",VLOOKUP('Order Form'!$C116,Items!A:G,7,FALSE),0))","v":0},{"$f":"IFERROR(AF116*(VLOOKUP(E116,'Misc Dropdowns'!$J$12:$M$16,4,FALSE)),0)","v":0},{"$f":"IFERROR(VLOOKUP(F116,'Misc Dropdowns'!$J$23:$M$27,4,FALSE)*AF116,0)","v":0},{"$f":"IFERROR(IF(ISNUMBER(FIND(\"PD\",I116,1)),AK116*5,0)+(AK116*(15*(VLOOKUP(C116,Items!A:AE,31,FALSE)))),0)","v":0},{"$f":"IF(G116=\"\",\"\",IF(G116=\"DD\",VLOOKUP(C116,Items!A:AH,34,FALSE),IF(G116=\"ID\",VLOOKUP(C116,Items!A:AG,33,FALSE))))","v":""},0,{"$f":"IF(I116=\"\",0,VLOOKUP(C116,Items!A:AF,32,FALSE))","v":0},0,0,"","","",0,0,{"$f":"IF(C116=\"\",0,D116*VLOOKUP(C116,Items!A:M,13,FALSE))","v":{"v":0,"d":"0.00"}},{"v":0,"d":"0.00"},{"$f":"IFERROR(IF(VLOOKUP(C116,'Modifications and Fees'!B:H,2,FALSE)=\"CR\",1*D116,0),0)","v":{"v":0,"d":"0.00"}},{"v":0,"d":"0.00"},{"$f":"ROUND(IFERROR(D116*X116*(VLOOKUP(E116,'Misc Dropdowns'!$J$12:$M$16,4,FALSE)),0),2)","v":{"v":0,"d":"0.00"}},{"$f":"ROUND(IFERROR(VLOOKUP(F116,'Misc Dropdowns'!$J$23:$M$27,4,FALSE)*X116*D116,0),2)","v":{"v":0,"d":"0.00"}},{"$f":"IF(C116=\"\",\"\",IF(AND(VLOOKUP(C116,Items!A:AI,35,FALSE)=\"Y\",'Order Form'!H116=\"\"),1,0))","v":""},{"v":0,"d":"0.00"}]
["2 pages",null,null,0,{"$nulls":7},{"v":0,"d":"0.00"},{"v":0,"d":"0.00"},{"$f":"IF(C117=\"\",\"\",VLOOKUP(C117,Items!A:N,12,FALSE))","v":""},{"$f":"IF(Q117=\"Craftsman Pricing\",\"CR\",IF(C117=\"\",\"\",IF('Misc Dropdowns'!$C$34=0,\"\",IF(E117&F117=\"\",VLOOKUP(AD117,'Misc Dropdowns'!$A$45:$B$47,2,FALSE),\"CR\"))))","v":""},{"$nulls":8},{"$f":"ROUND(IF($Q$18=\"\",0,IF(O117=\"SEL\",VLOOKUP(C117,Items!A:Y,25,FALSE),IF(O117=\"CR\",VLOOKUP(C117,Items!A:Z,26,FALSE),0))),2)","v":{"v":0,"d":"0.00"}},0,null,{"$f":"IFERROR(VLOOKUP(C117,Items!A:H,8,FALSE),0)","v":0},{"$f":"IF(C117=\"\",\"\",IF(E117&F117=\"\",VLOOKUP(C117,Items!A:D,4,FALSE),3))","v":""},{"$f":"IF(C117=\"\",\"\",'Misc Dropdowns'!$C$35)","v":""},{"v":0,"d":"0.00"},0,{"$f":"IF($O117=\"SEL\",VLOOKUP($C117,Items!A:F,6,FALSE),IF($O117=\"CR\",VLOOKUP('Order Form'!$C117,Items!A:G,7,FALSE),0))","v":0},{"$f":"IFERROR(AF117*(VLOOKUP(E117,'Misc Dropdowns'!$J$12:$M$16,4,FALSE)),0)","v":0},{"$f":"IFERROR(VLOOKUP(F117,'Misc Dropdowns'!$J$23:$M$27,4,FALSE)*AF117,0)","v":0},{"$f":"IFERROR(IF(ISNUMBER(FIND(\"PD\",I117,1)),AK117*5,0)+(AK117*(15*(VLOOKUP(C117,Items!A:AE,31,FALSE)))),0)","v":0},{"$f":"IF(G117=\"\",\"\",IF(G117=\"DD\",VLOOKUP(C117,Items!A:AH,34,FALSE),IF(G117=\"ID\",VLOOKUP(C117,Items!A:AG,33,FALSE))))","v":""},0,{"$f":"IF(I117=\"\",0,VLOOKUP(C117,Items!A:AF,32,FALSE))","v":0},0,0,"","","",0,0,{"$f":"IF(C117=\"\",0,D117*VLOOKUP(C117,Items!A:M,13,FALSE))","v":{"v":0,"d":"0.00"}},{"v":0,"d":"0.00"},{"$f":"IFERROR(IF(VLOOKUP(C117,'Modifications and Fees'!B:H,2,FALSE)=\"CR\",1*D117,0),0)","v":{"v":0,"d":"0.00"}},{"v":0,"d":"0.00"},{"$f":"ROUND(IFERROR(D117*X117*(VLOOKUP(E117,'Misc Dropdowns'!$J$12:$M$16,4,FALSE)),0),2)","v":{"v":0,"d":"0.00"}},{"$f":"ROUND(IFERROR(VLOOKUP(F117,'Misc Dropdowns'!$J$23:$M$27,4,FALSE)*X117*D117,0),2)","v":{"v":0,"d":"0.00"}},{"$f":"IF(C117=\"\",\"\",IF(AND(VLOOKUP(C117,Items!A:AI,35,FALSE)=\"Y\",'Order Form'!H117=\"\"),1,0))","v":""},{"v":0,"d":"0.00"}]
["2 pages",null,null,0,{"$nulls":7},{"v":0,"d":"0.00"},{"v":0,"d":"0.00"},{"$f":"IF(C118=\"\",\"\",VLOOKUP(C118,Items!A:N,12,FALSE))","v":""},{"$f":"IF(Q118=\"Craftsman Pricing\",\"CR\",IF(C118=\"\",\"\",IF('Misc Dropdowns'!$C$34=0,\"\",IF(E118&F118=\"\",VLOOKUP(AD118,'Misc Dropdowns'!$A$45:$B$47,2,FALSE),\"CR\"))))","v":""},{"$nulls":8},{"$f":"ROUND(IF($Q$18=\"\",0,IF(O118=\"SEL\",VLOOKUP(C118,Items!A:Y,25,FALSE),IF(O118=\"CR\",VLOOKUP(C118,Items!A:Z,26,FALSE),0))),2)","v":{"v":0,"d":"0.00"}},0,null,{"$f":"IFERROR(VLOOKUP(C118,Items!A:H,8,FALSE),0)","v":0},{"$f":"IF(C118=\"\",\"\",IF(E118&F118=\"\",VLOOKUP(C118,Items!A:D,4,FALSE),3))","v":""},{"$f":"IF(C118=\"\",\"\",'Misc Dropdowns'!$C$35)","v":""},{"v":0,"d":"0.00"},0,{"$f":"IF($O118=\"SEL\",VLOOKUP($C118,Items!A:F,6,FALSE),IF($O118=\"CR\",VLOOKUP('Order Form'!$C118,Items!A:G,7,FALSE),0))","v":0},{"$f":"IFERROR(AF118*(VLOOKUP(E118,'Misc Dropdowns'!$J$12:$M$16,4,FALSE)),0)","v":0},{"$f":"IFERROR(VLOOKUP(F118,'Misc Dropdowns'!$J$23:$M$27,4,FALSE)*AF118,0)","v":0},{"$f":"IFERROR(IF(ISNUMBER(FIND(\"PD\",I118,1)),AK118*5,0)+(AK118*(15*(VLOOKUP(C118,Items!A:AE,31,FALSE)))),0)","v":0},{"$f":"IF(G118=\"\",\"\",IF(G118=\"DD\",VLOOKUP(C118,Items!A:AH,34,FALSE),IF(G118=\"ID\",VLOOKUP(C118,Items!A:AG,33,FALSE))))","v":""},0,{"$f":"IF(I118=\"\",0,VLOOKUP(C118,Items!A:AF,32,FALSE))","v":0},0,0,"","","",0,0,{"$f":"IF(C118=\"\",0,D118*VLOOKUP(C118,Items!A:M,13,FALSE))","v":{"v":0,"d":"0.00"}},{"v":0,"d":"0.00"},{"$f":"IFERROR(IF(VLOOKUP(C118,'Modifications and Fees'!B:H,2,FALSE)=\"CR\",1*D118,0),0)","v":{"v":0,"d":"0.00"}},{"v":0,"d":"0.00"},{"$f":"ROUND(IFERROR(D118*X118*(VLOOKUP(E118,'Misc Dropdowns'!$J$12:$M$16,4,FALSE)),0),2)","v":{"v":0,"d":"0.00"}},{"$f":"ROUND(IFERROR(VLOOKUP(F118,'Misc Dropdowns'!$J$23:$M$27,4,FALSE)*X118*D118,0),2)","v":{"v":0,"d":"0.00"}},{"$f":"IF(C118=\"\",\"\",IF(AND(VLOOKUP(C118,Items!A:AI,35,FALSE)=\"Y\",'Order Form'!H118=\"\"),1,0))","v":""},{"v":0,"d":"0.00"}]
["2 pages",null,null,0,{"$nulls":7},{"v":0,"d":"0.00"},{"v":0,"d":"0.00"},{"$f":"IF(C119=\"\",\"\",VLOOKUP(C119,Items!A:N,12,FALSE))","v":""},{"$f":"IF(Q119=\"Craftsman Pricing\",\"CR\",IF(C119=\"\",\"\",IF('Misc Dropdowns'!$C$34=0,\"\",IF(E119&F119=\"\",VLOOKUP(AD119,'Misc Dropdowns'!$A$45:$B$47,2,FALSE),\"CR\"))))","v":""},{"$nulls":8},{"$f":"ROUND(IF($Q$18=\"\",0,IF(O119=\"SEL\",VLOOKUP(C119,Items!A:Y,25,FALSE),IF(O119=\"CR\",VLOOKUP(C119,Items!A:Z,26,FALSE),0))),2)","v":{"v":0,"d":"0.00"}},0,null,{"$f":"IFERROR(VLOOKUP(C119,Items!A:H,8,FALSE),0)","v":0},{"$f":"IF(C119=\"\",\"\",IF(E119&F119=\"\",VLOOKUP(C119,Items!A:D,4,FALSE),3))","v":""},{"$f":"IF(C119=\"\",\"\",'Misc Dropdowns'!$C$35)","v":""},{"v":0,"d":"0.00"},0,{"$f":"IF($O119=\"SEL\",VLOOKUP($C119,Items!A:F,6,FALSE),IF($O119=\"CR\",VLOOKUP('Order Form'!$C119,Items!A:G,7,FALSE),0))","v":0},{"$f":"IFERROR(AF119*(VLOOKUP(E119,'Misc Dropdowns'!$J$12:$M$16,4,FALSE)),0)","v":0},{"$f":"IFERROR(VLOOKUP(F119,'Misc Dropdowns'!$J$23:$M$27,4,FALSE)*AF119,0)","v":0},{"$f":"IFERROR(IF(ISNUMBER(FIND(\"PD\",I119,1)),AK119*5,0)+(AK119*(15*(VLOOKUP(C119,Items!A:AE,31,FALSE)))),0)","v":0},{"$f":"IF(G119=\"\",\"\",IF(G119=\"DD\",VLOOKUP(C119,Items!A:AH,34,FALSE),IF(G119=\"ID\",VLOOKUP(C119,Items!A:AG,33,FALSE))))","v":""},0,{"$f":"IF(I119=\"\",0,VLOOKUP(C119,Items!A:AF,32,FALSE))","v":0},0,0,"","","",0,0,{"$f":"IF(C119=\"\",0,D119*VLOOKUP(C119,Items!A:M,13,FALSE))","v":{"v":0,"d":"0.00"}},{"v":0,"d":"0.00"},{"$f":"IFERROR(IF(VLOOKUP(C119,'Modifications and Fees'!B:H,2,FALSE)=\"CR\",1*D119,0),0)","v":{"v":0,"d":"0.00"}},{"v":0,"d":"0.00"},{"$f":"ROUND(IFERROR(D119*X119*(VLOOKUP(E119,'Misc Dropdowns'!$J$12:$M$16,4,FALSE)),0),2)","v":{"v":0,"d":"0.00"}},{"$f":"ROUND(IFERROR(VLOOKUP(F119,'Misc Dropdowns'!$J$23:$M$27,4,FALSE)*X119*D119,0),2)","v":{"v":0,"d":"0.00"}},{"$f":"IF(C119=\"\",\"\",IF(AND(VLOOKUP(C119,Items!A:AI,35,FALSE)=\"Y\",'Order Form'!H119=\"\"),1,0))","v":""},{"v":0,"d":"0.00"}]
["2 pages",null,null,0,{"$nulls":7},{"v":0,"d":"0.00"},{"v":0,"d":"0.00"},{"$f":"IF(C120=\"\",\"\",VLOOKUP(C120,Items!A:N,12,FALSE))","v":""},{"$f":"IF(Q120=\"Craftsman Pricing\",\"CR\",IF(C120=\"\",\"\",IF('Misc Dropdowns'!$C$34=0,\"\",IF(E120&F120=\"\",VLOOKUP(AD120,'Misc Dropdowns'!$A$45:$B$47,2,FALSE),\"CR\"))))","v":""},{"$nulls":8},{"$f":"ROUND(IF($Q$18=\"\",0,IF(O120=\"SEL\",VLOOKUP(C120,Items!A:Y,25,FALSE),IF(O120=\"CR\",VLOOKUP(C120,Items!A:Z,26,FALSE),0))),2)","v":{"v":0,"d":"0.00"}},{"$f":"(X120*D120)","v":0},null,{"$f":"IFERROR(VLOOKUP(C120,Items!A:H,8,FALSE),0)","v":0},{"$f":"IF(C120=\"\",\"\",IF(E120&F120=\"\",VLOOKUP(C120,Items!A:D,4,FALSE),3))","v":""},{"$f":"IF(C120=\"\",\"\",'Misc Dropdowns'!$C$35)","v":""},{"v":0,"d":"0.00"},0,{"$f":"IF($O120=\"SEL\",VLOOKUP($C120,Items!A:F,6,FALSE),IF($O120=\"CR\",VLOOKUP('Order Form'!$C120,Items!A:G,7,FALSE),0))","v":0},{"$f":"IFERROR(AF120*(VLOOKUP(E120,'Misc Dropdowns'!$J$12:$M$16,4,FALSE)),0)","v":0},{"$f":"IFERROR(VLOOKUP(F120,'Misc Dropdowns'!$J$23:$M$27,4,FALSE)*AF120,0)","v":0},{"$f":"IFERROR(IF(ISNUMBER(FIND(\"PD\",I120,1)),AK120*5,0)+(AK120*(15*(VLOOKUP(C120,Items!A:AE,31,FALSE)))),0)","v":0},{"$f":"IF(G120=\"\",\"\",IF(G120=\"DD\",VLOOKUP(C120,Items!A:AH,34,FALSE),IF(G120=\"ID\",VLOOKUP(C120,Items!A:AG,33,FALSE))))","v":""},0,{"$f":"IF(I120=\"\",0,VLOOKUP(C120,Items!A:AF,32,FALSE))","v":0},0,0,"","","",0,0,{"$f":"IF(C120=\"\",0,D120*VLOOKUP(C120,Items!A:M,13,FALSE))","v":{"v":0,"d":"0.00"}},{"v":0,"d":"0.00"},{"$f":"IFERROR(IF(VLOOKUP(C120,'Modifications and Fees'!B:H,2,FALSE)=\"CR\",1*D120,0),0)","v":{"v":0,"d":"0.00"}},{"v":0,"d":"0.00"},{"$f":"ROUND(IFERROR(D120*X120*(VLOOKUP(E120,'Misc Dropdowns'!$J$12:$M$16,4,FALSE)),0),2)","v":{"v":0,"d":"0.00"}},{"$f":"ROUND(IFERROR(VLOOKUP(F120,'Misc Dropdowns'!$J$23:$M$27,4,FALSE)*X120*D120,0),2)","v":{"v":0,"d":"0.00"}},{"$f":"IF(C120=\"\",\"\",IF(AND(VLOOKUP(C120,Items!A:AI,35,FALSE)=\"Y\",'Order Form'!H120=\"\"),1,0))","v":""},{"v":0,"d":"0.00"}]
["2 pages",null,null,0,{"$nulls":7},{"v":0,"d":"0.00"},{"$f":"D121*L121","v":{"v":0,"d":"0.00"}},{"$f":"IF(C121=\"\",\"\",VLOOKUP(C121,Items!A:N,12,FALSE))","v":""},{"$f":"IF(Q121=\"Craftsman Pricing\",\"CR\",IF(C121=\"\",\"\",IF('Misc Dropdowns'!$C$34=0,\"\",IF(E121&F121=\"\",VLOOKUP(AD121,'Misc Dropdowns'!$A$45:$B$47,2,FALSE),\"CR\"))))","v":""},{"$nulls":8},{"$f":"ROUND(IF($Q$18=\"\",0,IF(O121=\"SEL\",VLOOKUP(C121,Items!A:Y,25,FALSE),IF(O121=\"CR\",VLOOKUP(C121,Items!A:Z,26,FALSE),0))),2)","v":{"v":0,"d":"0.00"}},0,null,{"$f":"IFERROR(VLOOKUP(C121,Items!A:H,8,FALSE),0)","v":0},{"$f":"IF(C121=\"\",\"\",IF(E121&F121=\"\",VLOOKUP(C121,Items!A:D,4,FALSE),3))","v":""},{"$f":"IF(C121=\"\",\"\",'Misc Dropdowns'!$C$35)","v":""},{"v":0,"d":"0.00"},0,{"$f":"IF($O121=\"SEL\",VLOOKUP($C121,Items!A:F,6,FALSE),IF($O121=\"CR\",VLOOKUP('Order Form'!$C121,Items!A:G,7,FALSE),0))","v":0},{"$f":"IFERROR(AF121*(VLOOKUP(E121,'Misc Dropdowns'!$J$12:$M$16,4,FALSE)),0)","v":0},{"$f":"IFERROR(VLOOKUP(F121,'Misc Dropdowns'!$J$23:$M$27,4,FALSE)*AF121,0)","v":0},{"$f":"IFERROR(IF(ISNUMBER(FIND(\"PD\",I121,1)),AK121*5,0)+(AK121*(15*(VLOOKUP(C121,Items!A:AE,31,FALSE)))),0)","v":0},{"$f":"IF(G121=\"\",\"\",IF(G121=\"DD\",VLOOKUP(C121,Items!A:AH,34,FALSE),IF(G121=\"ID\",VLOOKUP(C121,Items!A:AG,33,FALSE))))","v":""},0,{"$f":"IF(I121=\"\",0,VLOOKUP(C121,Items!A:AF,32,FALSE))","v":0},0,0,"","","",{"$f":"IF(C121=\"INSTALL\",1,0)","v":0},{"$f":"IF(C121=\"INSTALL-DEALER\",1,0)","v":0},{"$f":"IF(C121=\"\",0,D121*VLOOKUP(C121,Items!A:M,13,FALSE))","v":{"v":0,"d":"0.00"}},{"v":0,"d":"0.00"},{"$f":"IFERROR(IF(VLOOKUP(C121,'Modifications and Fees'!B:H,2,FALSE)=\"CR\",1*D121,0),0)","v":{"v":0,"d":"0.00"}},{"$f":"IF(Q121=\"Craftsman Pricing\",1*D121,0)","v":{"v":0,"d":"0.00"}},{"$f":"ROUND(IFERROR(D121*X121*(VLOOKUP(E121,'Misc Dropdowns'!$J$12:$M$16,4,FALSE)),0),2)","v":{"v":0,"d":"0.00"}},{"$f":"ROUND(IFERROR(VLOOKUP(F121,'Misc Dropdowns'!$J$23:$M$27,4,FALSE)*X121*D121,0),2)","v":{"v":0,"d":"0.00"}},{"$f":"IF(C121=\"\",\"\",IF(AND(VLOOKUP(C121,Items!A:AI,35,FALSE)=\"Y\",'Order Form'!H121=\"\"),1,0))","v":""},{"$f":"(IF(AND(E121<>\"\",F121=\"\"),1,0))","v":{"v":0,"d":"0.00"}}]
["2 pages",null,null,0,{"$nulls":7},{"v":0,"d":"0.00"},{"v":0,"d":"0.00"},{"$f":"IF(C122=\"\",\"\",VLOOKUP(C122,Items!A:N,12,FALSE))","v":""},{"$f":"IF(Q122=\"Craftsman Pricing\",\"CR\",IF(C122=\"\",\"\",IF('Misc Dropdowns'!$C$34=0,\"\",IF(E122&F122=\"\",VLOOKUP(AD122,'Misc Dropdowns'!$A$45:$B$47,2,FALSE),\"CR\"))))","v":""},{"$nulls":8},{"$f":"ROUND(IF($Q$18=\"\",0,IF(O122=\"SEL\",VLOOKUP(C122,Items!A:Y,25,FALSE),IF(O122=\"CR\",VLOOKUP(C122,Items!A:Z,26,FALSE),0))),2)","v":{"v":0,"d":"0.00"}},0,null,{"$f":"IFERROR(VLOOKUP(C122,Items!A:H,8,FALSE),0)","v":0},{"$f":"IF(C122=\"\",\"\",IF(E122&F122=\"\",VLOOKUP(C122,Items!A:D,4,FALSE),3))","v":""},{"$f":"IF(C122=\"\",\"\",'Misc Dropdowns'!$C$35)","v":""},{"v":0,"d":"0.00"},0,{"$f":"IF($O122=\"SEL\",VLOOKUP($C122,Items!A:F,6,FALSE),IF($O122=\"CR\",VLOOKUP('Order Form'!$C122,Items!A:G,7,FALSE),0))","v":0},{"$f":"IFERROR(AF122*(VLOOKUP(E122,'Misc Dropdowns'!$J$12:$M$16,4,FALSE)),0)","v":0},{"$f":"IFERROR(VLOOKUP(F122,'Misc Dropdowns'!$J$23:$M$27,4,FALSE)*AF122,0)","v":0},{"$f":"IFERROR(IF(ISNUMBER(FIND(\"PD\",I122,1)),AK122*5,0)+(AK122*(15*(VLOOKUP(C122,Items!A:AE,31,FALSE)))),0)","v":0},{"$f":"IF(G122=\"\",\"\",IF(G122=\"DD\",VLOOKUP(C122,Items!A:AH,34,FALSE),IF(G122=\"ID\",VLOOKUP(C122,Items!A:AG,33,FALSE))))","v":""},0,{"$f":"IF(I122=\"\",0,VLOOKUP(C122,Items!A:AF,32,FALSE))","v":0},0,0,"","","",0,0,{"$f":"IF(C122=\"\",0,D122*VLOOKUP(C122,Items!A:M,13,FALSE))","v":{"v":0,"d":"0.00"}},{"v":0,"d":"0.00"},{"$f":"IFERROR(IF(VLOOKUP(C122,'Modifications and Fees'!B:H,2,FALSE)=\"CR\",1*D122,0),0)","v":{"v":0,"d":"0.00"}},{"v":0,"d":"0.00"},{"$f":"ROUND(IFERROR(D122*X122*(VLOOKUP(E122,'Misc Dropdowns'!$J$12:$M$16,4,FALSE)),0),2)","v":{"v":0,"d":"0.00"}},{"$f":"ROUND(IFERROR(VLOOKUP(F122,'Misc Dropdowns'!$J$23:$M$27,4,FALSE)*X122*D122,0),2)","v":{"v":0,"d":"0.00"}},{"$f":"IF(C122=\"\",\"\",IF(AND(VLOOKUP(C122,Items!A:AI,35,FALSE)=\"Y\",'Order Form'!H122=\"\"),1,0))","v":""},{"v":0,"d":"0.00"}]
["2 pages",null,null,0,{"$nulls":7},{"v":0,"d":"0.00"},{"v":0,"d":"0.00"},{"$f":"IF(C123=\"\",\"\",VLOOKUP(C123,Items!A:N,12,FALSE))","v":""},{"$f":"IF(Q123=\"Craftsman Pricing\",\"CR\",IF(C123=\"\",\"\",IF('Misc Dropdowns'!$C$34=0,\"\",IF(E123&F123=\"\",VLOOKUP(AD123,'Misc Dropdowns'!$A$45:$B$47,2,FALSE),\"CR\"))))","v":""},{"$nulls":8},{"$f":"ROUND(IF($Q$18=\"\",0,IF(O123=\"SEL\",VLOOKUP(C123,Items!A:Y,25,FALSE),IF(O123=\"CR\",VLOOKUP(C123,Items!A:Z,26,FALSE),0))),2)","v":{"v":0,"d":"0.00"}},0,null,{"$f":"IFERROR(VLOOKUP(C123,Items!A:H,8,FALSE),0)","v":0},{"$f":"IF(C123=\"\",\"\",IF(E123&F123=\"\",VLOOKUP(C123,Items!A:D,4,FALSE),3))","v":""},{"$f":"IF(C123=\"\",\"\",'Misc Dropdowns'!$C$35)","v":""},{"v":0,"d":"0.00"},0,{"$f":"IF($O123=\"SEL\",VLOOKUP($C123,Items!A:F,6,FALSE),IF($O123=\"CR\",VLOOKUP('Order Form'!$C123,Items!A:G,7,FALSE),0))","v":0},{"$f":"IFERROR(AF123*(VLOOKUP(E123,'Misc Dropdowns'!$J$12:$M$16,4,FALSE)),0)","v":0},{"$f":"IFERROR(VLOOKUP(F123,'Misc Dropdowns'!$J$23:$M$27,4,FALSE)*AF123,0)","v":0},{"$f":"IFERROR(IF(ISNUMBER(FIND(\"PD\",I123,1)),AK123*5,0)+(AK123*(15*(VLOOKUP(C123,Items!A:AE,31,FALSE)))),0)","v":0},{"$f":"IF(G123=\"\",\"\",IF(G123=\"DD\",VLOOKUP(C123,Items!A:AH,34,FALSE),IF(G123=\"ID\",VLOOKUP(C123,Items!A:AG,33,FALSE))))","v":""},0,{"$f":"IF(I123=\"\",0,VLOOKUP(C123,Items!A:AF,32,FALSE))","v":0},0,0,"","","",0,0,{"$f":"IF(C123=\"\",0,D123*VLOOKUP(C123,Items!A:M,13,FALSE))","v":{"v":0,"d":"0.00"}},{"v":0,"d":"0.00"},{"$f":"IFERROR(IF(VLOOKUP(C123,'Modifications and Fees'!B:H,2,FALSE)=\"CR\",1*D123,0),0)","v":{"v":0,"d":"0.00"}},{"v":0,"d":"0.00"},{"$f":"ROUND(IFERROR(D123*X123*(VLOOKUP(E123,'Misc Dropdowns'!$J$12:$M$16,4,FALSE)),0),2)","v":{"v":0,"d":"0.00"}},{"$f":"ROUND(IFERROR(VLOOKUP(F123,'Misc Dropdowns'!$J$23:$M$27,4,FALSE)*X123*D123,0),2)","v":{"v":0,"d":"0.00"}},{"$f":"IF(C123=\"\",\"\",IF(AND(VLOOKUP(C123,Items!A:AI,35,FALSE)=\"Y\",'Order Form'!H123=\"\"),1,0))","v":""},{"v":0,"d":"0.00"}]
["2 pages",null,null,0,{"$nulls":7},{"v":0,"d":"0.00"},{"v":0,"d":"0.00"},{"$f":"IF(C124=\"\",\"\",VLOOKUP(C124,Items!A:N,12,FALSE))","v":""},{"$f":"IF(Q124=\"Craftsman Pricing\",\"CR\",IF(C124=\"\",\"\",IF('Misc Dropdowns'!$C$34=0,\"\",IF(E124&F124=\"\",VLOOKUP(AD124,'Misc Dropdowns'!$A$45:$B$47,2,FALSE),\"CR\"))))","v":""},{"$nulls":8},{"$f":"ROUND(IF($Q$18=\"\",0,IF(O124=\"SEL\",VLOOKUP(C124,Items!A:Y,25,FALSE),IF(O124=\"CR\",VLOOKUP(C124,Items!A:Z,26,FALSE),0))),2)","v":{"v":0,"d":"0.00"}},0,null,{"$f":"IFERROR(VLOOKUP(C124,Items!A:H,8,FALSE),0)","v":0},{"$f":"IF(C124=\"\",\"\",IF(E124&F124=\"\",VLOOKUP(C124,Items!A:D,4,FALSE),3))","v":""},{"$f":"IF(C124=\"\",\"\",'Misc Dropdowns'!$C$35)","v":""},{"v":0,"d":"0.00"},0,{"$f":"IF($O124=\"SEL\",VLOOKUP($C124,Items!A:F,6,FALSE),IF($O124=\"CR\",VLOOKUP('Order Form'!$C124,Items!A:G,7,FALSE),0))","v":0},{"$f":"IFERROR(AF124*(VLOOKUP(E124,'Misc Dropdowns'!$J$12:$M$16,4,FALSE)),0)","v":0},{"$f":"IFERROR(VLOOKUP(F124,'Misc Dropdowns'!$J$23:$M$27,4,FALSE)*AF124,0)","v":0},{"$f":"IFERROR(IF(ISNUMBER(FIND(\"PD\",I124,1)),AK124*5,0)+(AK124*(15*(VLOOKUP(C124,Items!A:AE,31,FALSE)))),0)","v":0},{"$f":"IF(G124=\"\",\"\",IF(G124=\"DD\",VLOOKUP(C124,Items!A:AH,34,FALSE),IF(G124=\"ID\",VLOOKUP(C124,Items!A:AG,33,FALSE))))","v":""},0,{"$f":"IF(I124=\"\",0,VLOOKUP(C124,Items!A:AF,32,FALSE))","v":0},0,0,"","","",0,0,{"$f":"IF(C124=\"\",0,D124*VLOOKUP(C124,Items!A:M,13,FALSE))","v":{"v":0,"d":"0.00"}},{"v":0,"d":"0.00"},{"$f":"IFERROR(IF(VLOOKUP(C124,'Modifications and Fees'!B:H,2,FALSE)=\"CR\",1*D124,0),0)","v":{"v":0,"d":"0.00"}},{"v":0,"d":"0.00"},{"$f":"ROUND(IFERROR(D124*X124*(VLOOKUP(E124,'Misc Dropdowns'!$J$12:$M$16,4,FALSE)),0),2)","v":{"v":0,"d":"0.00"}},{"$f":"ROUND(IFERROR(VLOOKUP(F124,'Misc Dropdowns'!$J$23:$M$27,4,FALSE)*X124*D124,0),2)","v":{"v":0,"d":"0.00"}},{"$f":"IF(C124=\"\",\"\",IF(AND(VLOOKUP(C124,Items!A:AI,35,FALSE)=\"Y\",'Order Form'!H124=\"\"),1,0))","v":""},{"v":0,"d":"0.00"}]
["2 pages",null,null,0,{"$nulls":7},{"v":0,"d":"0.00"},{"v":0,"d":"0.00"},{"$f":"IF(C125=\"\",\"\",VLOOKUP(C125,Items!A:N,12,FALSE))","v":""},{"$f":"IF(Q125=\"Craftsman Pricing\",\"CR\",IF(C125=\"\",\"\",IF('Misc Dropdowns'!$C$34=0,\"\",IF(E125&F125=\"\",VLOOKUP(AD125,'Misc Dropdowns'!$A$45:$B$47,2,FALSE),\"CR\"))))","v":""},{"$nulls":8},{"$f":"ROUND(IF($Q$18=\"\",0,IF(O125=\"SEL\",VLOOKUP(C125,Items!A:Y,25,FALSE),IF(O125=\"CR\",VLOOKUP(C125,Items!A:Z,26,FALSE),0))),2)","v":{"v":0,"d":"0.00"}},0,null,{"$f":"IFERROR(VLOOKUP(C125,Items!A:H,8,FALSE),0)","v":0},{"$f":"IF(C125=\"\",\"\",IF(E125&F125=\"\",VLOOKUP(C125,Items!A:D,4,FALSE),3))","v":""},{"$f":"IF(C125=\"\",\"\",'Misc Dropdowns'!$C$35)","v":""},{"v":0,"d":"0.00"},0,{"$f":"IF($O125=\"SEL\",VLOOKUP($C125,Items!A:F,6,FALSE),IF($O125=\"CR\",VLOOKUP('Order Form'!$C125,Items!A:G,7,FALSE),0))","v":0},{"$f":"IFERROR(AF125*(VLOOKUP(E125,'Misc Dropdowns'!$J$12:$M$16,4,FALSE)),0)","v":0},{"$f":"IFERROR(VLOOKUP(F125,'Misc Dropdowns'!$J$23:$M$27,4,FALSE)*AF125,0)","v":0},{"$f":"IFERROR(IF(ISNUMBER(FIND(\"PD\",I125,1)),AK125*5,0)+(AK125*(15*(VLOOKUP(C125,Items!A:AE,31,FALSE)))),0)","v":0},{"$f":"IF(G125=\"\",\"\",IF(G125=\"DD\",VLOOKUP(C125,Items!A:AH,34,FALSE),IF(G125=\"ID\",VLOOKUP(C125,Items!A:AG,33,FALSE))))","v":""},0,{"$f":"IF(I125=\"\",0,VLOOKUP(C125,Items!A:AF,32,FALSE))","v":0},0,0,"","","",0,0,{"$f":"IF(C125=\"\",0,D125*VLOOKUP(C125,Items!A:M,13,FALSE))","v":{"v":0,"d":"0.00"}},{"v":0,"d":"0.00"},{"$f":"IFERROR(IF(VLOOKUP(C125,'Modifications and Fees'!B:H,2,FALSE)=\"CR\",1*D125,0),0)","v":{"v":0,"d":"0.00"}},{"v":0,"d":"0.00"},{"$f":"ROUND(IFERROR(D125*X125*(VLOOKUP(E125,'Misc Dropdowns'!$J$12:$M$16,4,FALSE)),0),2)","v":{"v":0,"d":"0.00"}},{"$f":"ROUND(IFERROR(VLOOKUP(F125,'Misc Dropdowns'!$J$23:$M$27,4,FALSE)*X125*D125,0),2)","v":{"v":0,"d":"0.00"}},{"$f":"IF(C125=\"\",\"\",IF(AND(VLOOKUP(C125,Items!A:AI,35,FALSE)=\"Y\",'Order Form'!H125=\"\"),1,0))","v":""},{"v":0,"d":"0.00"}]
["2 pages",null,null,0,{"$nulls":7},{"v":0,"d":"0.00"},{"v":0,"d":"0.00"},{"$f":"IF(C126=\"\",\"\",VLOOKUP(C126,Items!A:N,12,FALSE))","v":""},{"$f":"IF(Q126=\"Craftsman Pricing\",\"CR\",IF(C126=\"\",\"\",IF('Misc Dropdowns'!$C$34=0,\"\",IF(E126&F126=\"\",VLOOKUP(AD126,'Misc Dropdowns'!$A$45:$B$47,2,FALSE),\"CR\"))))","v":""},{"$nulls":8},{"$f":"ROUND(IF($Q$18=\"\",0,IF(O126=\"SEL\",VLOOKUP(C126,Items!A:Y,25,FALSE),IF(O126=\"CR\",VLOOKUP(C126,Items!A:Z,26,FALSE),0))),2)","v":{"v":0,"d":"0.00"}},0,null,{"$f":"IFERROR(VLOOKUP(C126,Items!A:H,8,FALSE),0)","v":0},{"$f":"IF(C126=\"\",\"\",IF(E126&F126=\"\",VLOOKUP(C126,Items!A:D,4,FALSE),3))","v":""},{"$f":"IF(C126=\"\",\"\",'Misc Dropdowns'!$C$35)","v":""},{"v":0,"d":"0.00"},0,{"$f":"IF($O126=\"SEL\",VLOOKUP($C126,Items!A:F,6,FALSE),IF($O126=\"CR\",VLOOKUP('Order Form'!$C126,Items!A:G,7,FALSE),0))","v":0},{"$f":"IFERROR(AF126*(VLOOKUP(E126,'Misc Dropdowns'!$J$12:$M$16,4,FALSE)),0)","v":0},{"$f":"IFERROR(VLOOKUP(F126,'Misc Dropdowns'!$J$23:$M$27,4,FALSE)*AF126,0)","v":0},{"$f":"IFERROR(IF(ISNUMBER(FIND(\"PD\",I126,1)),AK126*5,0)+(AK126*(15*(VLOOKUP(C126,Items!A:AE,31,FALSE)))),0)","v":0},{"$f":"IF(G126=\"\",\"\",IF(G126=\"DD\",VLOOKUP(C126,Items!A:AH,34,FALSE),IF(G126=\"ID\",VLOOKUP(C126,Items!A:AG,33,FALSE))))","v":""},0,{"$f":"IF(I126=\"\",0,VLOOKUP(C126,Items!A:AF,32,FALSE))","v":0},0,0,"","","",0,0,{"$f":"IF(C126=\"\",0,D126*VLOOKUP(C126,Items!A:M,13,FALSE))","v":{"v":0,"d":"0.00"}},{"v":0,"d":"0.00"},{"$f":"IFERROR(IF(VLOOKUP(C126,'Modifications and Fees'!B:H,2,FALSE)=\"CR\",1*D126,0),0)","v":{"v":0,"d":"0.00"}},{"v":0,"d":"0.00"},{"$f":"ROUND(IFERROR(D126*X126*(VLOOKUP(E126,'Misc Dropdowns'!$J$12:$M$16,4,FALSE)),0),2)","v":{"v":0,"d":"0.00"}},{"$f":"ROUND(IFERROR(VLOOKUP(F126,'Misc Dropdowns'!$J$23:$M$27,4,FALSE)*X126*D126,0),2)","v":{"v":0,"d":"0.00"}},{"$f":"IF(C126=\"\",\"\",IF(AND(VLOOKUP(C126,Items!A:AI,35,FALSE)=\"Y\",'Order Form'!H126=\"\"),1,0))","v":""},{"v":0,"d":"0.00"}]
["2 pages",null,null,{"$f":"IF(C127>1,1,0)","v":0},{"$nulls":7},{"v":0,"d":"0.00"},{"v":0,"d":"0.00"},{"$f":"IF(C127=\"\",\"\",VLOOKUP(C127,Items!A:N,12,FALSE))","v":""},{"$f":"IF(Q127=\"Craftsman Pricing\",\"CR\",IF(C127=\"\",\"\",IF('Misc Dropdowns'!$C$34=0,\"\",IF(E127&F127=\"\",VLOOKUP(AD127,'Misc Dropdowns'!$A$45:$B$47,2,FALSE),\"CR\"))))","v":""},{"$nulls":8},{"$f":"ROUND(IF($Q$18=\"\",0,IF(O127=\"SEL\",VLOOKUP(C127,Items!A:Y,25,FALSE),IF(O127=\"CR\",VLOOKUP(C127,Items!A:Z,26,FALSE),0))),2)","v":{"v":0,"d":"0.00"}},0,null,{"$f":"IFERROR(VLOOKUP(C127,Items!A:H,8,FALSE),0)","v":0},{"$f":"IF(C127=\"\",\"\",IF(E127&F127=\"\",VLOOKUP(C127,Items!A:D,4,FALSE),3))","v":""},{"$f":"IF(C127=\"\",\"\",'Misc Dropdowns'!$C$35)","v":""},{"v":0,"d":"0.00"},0,{"$f":"IF($O127=\"SEL\",VLOOKUP($C127,Items!A:F,6,FALSE),IF($O127=\"CR\",VLOOKUP('Order Form'!$C127,Items!A:G,7,FALSE),0))","v":0},{"$f":"IFERROR(AF127*(VLOOKUP(E127,'Misc Dropdowns'!$J$12:$M$16,4,FALSE)),0)","v":0},{"$f":"IFERROR(VLOOKUP(F127,'Misc Dropdowns'!$J$23:$M$27,4,FALSE)*AF127,0)","v":0},{"$f":"IFERROR(IF(ISNUMBER(FIND(\"PD\",I127,1)),AK127*5,0)+(AK127*(15*(VLOOKUP(C127,Items!A:AE,31,FALSE)))),0)","v":0},{"$f":"IF(G127=\"\",\"\",IF(G127=\"DD\",VLOOKUP(C127,Items!A:AH,34,FALSE),IF(G127=\"ID\",VLOOKUP(C127,Items!A:AG,33,FALSE))))","v":""},0,{"$f":"IF(I127=\"\",0,VLOOKUP(C127,Items!A:AF,32,FALSE))","v":0},0,0,"","","",0,0,{"$f":"IF(C127=\"\",0,D127*VLOOKUP(C127,Items!A:M,13,FALSE))","v":{"v":0,"d":"0.00"}},{"v":0,"d":"0.00"},{"$f":"IFERROR(IF(VLOOKUP(C127,'Modifications and Fees'!B:H,2,FALSE)=\"CR\",1*D127,0),0)","v":{"v":0,"d":"0.00"}},{"v":0,"d":"0.00"},{"$f":"ROUND(IFERROR(D127*X127*(VLOOKUP(E127,'Misc Dropdowns'!$J$12:$M$16,4,FALSE)),0),2)","v":{"v":0,"d":"0.00"}},{"$f":"ROUND(IFERROR(VLOOKUP(F127,'Misc Dropdowns'!$J$23:$M$27,4,FALSE)*X127*D127,0),2)","v":{"v":0,"d":"0.00"}},{"$f":"IF(C127=\"\",\"\",IF(AND(VLOOKUP(C127,Items!A:AI,35,FALSE)=\"Y\",'Order Form'!H127=\"\"),1,0))","v":""},{"v":0,"d":"0.00"}]
["1 Page",{"$nulls":25},{"$f":"SUM(AA26:AA96)","v":0}]
["1 Page",null,{"$f":"IF(OR($AR$22>0,$AS$22>0),\"Install Price:\",\"\")","v":""},{"$f":"IF(AR22>0,'Install Calc'!O31,IF('Order Form'!AS22>0,'Dealer Install Calc'!L24,0))","v":0},{"$nulls":6},{"$f":"IF(SUMIF(C24:C127,\"restocking fee\",K24:K127)=0,\"\",\"Product Cost\")","v":""},null,{"$f":"IF(K129=\"\",\"\",SUMIF(C25:C127,\"<>\"&\"INSTALL\",M25:M127))","v":""},{"$nulls":10},"List Prices Total",{"$f":"SUM(Y24:Y127)","v":{"v":0,"d":"0.00"}}]
["1 Page",null,{"$f":"IF(OR($AR$22>0,$AS$22>0),\"Install Tax:\",\"\")","v":""},{"$f":"IF(OR(D13=\"\",D13=\"Reseller\",D13=\"Out of State\",D13=\"OOS\",D13=\"NONTAX\"),0,IF(AR22>0,'Install Calc'!G11*'Order Form'!D129,IF(AS22>0,IF('Dealer Install Calc'!E9=\"Reseller\",0,'Dealer Install Calc'!E9*'Dealer Install Calc'!L24))))","v":0},{"$nulls":6},{"$f":"IF(SUMIF(C24:C127,\"restocking fee\",K24:K127)=0,\"Product Cost:\",\"Total Custom Price:\")","v":"Product Cost:"},null,{"$f":"IF(K130=\"Product Cost:\",SUMIF(C25:C127, \"<>\"&\"INSTALL\", M25:M127),SUMIF(C25:C127,\"<>\"&\"RESTOCKING FEE\",K25:K127))","v":0},{"$nulls":10},"Custom Prices",{"$f":"IF(SUMIF(C24:C127,\"restocking fee\",K24:K127)=0,M131,M130)","v":{"v":0,"d":"0.00"}}]
["1 Page",null,{"$f":"IF(OR($AR$22>0,$AS$22>0),\"Install Total:\",\"\")","v":""},{"$f":"SUM(D129:E130)","v":0},{"$nulls":6},{"$f":"IF(SUMIF(C24:C127,\"restocking fee\",K24:K127)=0,\"Total Custom Price:\",\"Delivery:\")","v":"Total Custom Price:"},null,{"$f":"IF(K131=\"Total Custom Price:\",SUMIF(C25:C127,\"<>\"&\"RESTOCKING FEE\",K25:K127),L13+N13)","v":0},{"$nulls":10},"Applied Skins",{"$f":"AI22","v":{"v":0,"d":"0.00"}}]
["1 Page",{"$nulls":9},{"$f":"IF(SUMIF(C24:C127,\"restocking fee\",K24:K127)=0,\"Delivery:\",\"Subtotal:\")","v":"Delivery:"},null,{"$f":"IF(K132=\"Delivery:\",L13+N13,SUM(M129,M130,M131))","v":0},{"$nulls":10},"Upgrades - CFG, SMI,DT, Modifications",{"$f":"SUM(AX22,AY22,AJ22)","v":{"v":0,"d":"0.00"}}]
["1 Page",{"$nulls":9},{"$f":"IF(SUMIF(C24:C127,\"restocking fee\",K24:K127)=0,\"Subtotal:\",\"Tax:\")","v":"Subtotal:"},null,{"$f":"IF(K133=\"Subtotal:\",SUM(M130,M131,M132),IF(OR(D13=\"Reseller\",D13=\"Out of State\",D13=\"OOS\",D13=\"NONTAX\"),0,M132*D13))","v":0},{"$nulls":10},"Subtotal",{"$f":"SUM(Y129:Y132)","v":{"v":0,"d":"0.00"}}]
["1 Page",{"$nulls":9},{"$f":"IF(SUMIF(C24:C127,\"restocking fee\",K24:K127)=0,\"Tax:\",\"Restocking Fee:\")","v":"Tax:"},null,{"$f":"IF(K134=\"Restocking Fee:\",SUMIF(C24:C127,\"restocking fee\",K24:K127),IF(OR(D13=\"\",D13=\"Reseller\",D13=\"Out of State\",D13=\"OOS\",D13=\"NONTAX\"),0,M133*D13))","v":0}]
["1 Page",{"$nulls":9},{"$f":"IF(SUM(AR22:AS22)>0,\"Install and Cabinet Total:\",\"Total:\")","v":"Total:"},null,{"$f":"IF(SUMIF(C24:C127,\"restocking fee\",K24:K127)=0,M133+M134,M132+M133+M134)+IF(SUM($AR$22:AS22)>0,D131,0)","v":0},{"$nulls":10},"Tax",{"$f":"IF(OR(D13=\"Reseller\",D13=\"Out of State\",D13=\"OOS\",D13=\"NONTAX\"),0,Y133*D13)","v":0}]
["1 Page",{"$nulls":9},"Less Deposit:",{"$nulls":12},"Restocking Fee",{"$f":"IF(SUMIF(C24:C127,\"restocking fee\",K24:K127)=0,0,M134)","v":0}]
["1 Page",null,"Contractor Number:",{"$nulls":7},"Total (Less Deposit):","Remaining Balance",{"$f":"M135-M136","v":0},{"$nulls":10},"Install",{"$f":"D131","v":0}]
["1 Page",null,"Contractor Expiration Date:",{"$nulls":20},"Total",{"$f":"Y135+Y133+Y136+Y137","v":{"v":0,"d":"0.00"}}]
["1 Page",{"$nulls":9}," Customer Approval:"]
["1 Page",null,"*All Sales Final, Quote is good for 30 days from printed date ",{"$nulls":7},"Customer Approval Date: "]
["1 Page",null,"**Once this document is signed, changes will no longer be accepted. \nALL add-ons will need to be on a separate order and will generate a new lead time. "]
["1 Page",{"$nulls":9},"Revision Date: 1-8-2020",null,null,{"$f":"\"FC FORM 1\"&Q18","v":"FC FORM 11"}]
["1 Page"]

{"sheet":"Proposal","index":4,"n_rows":172,"n_cols":15,"rows_kept":172,"hidden":true,"merged":[[2,1,4,5],[2,8,2,10],[2,14,2,15],[3,8,3,10],[3,14,3,15],[4,8,4,10],[4,14,4,15],[5,1,7,5],[5,8,5,10],[5,12,6,13],[5,14,6,15],[6,8,6,10],[9,3,9,5],[9,12,9,15],[10,3,10,5],[10,12,10,15],[11,3,11,5],[11,7,12,9],[11,12,11,15],[12,3,12,5],[12,12,12,15],[13,3,13,5],[13,12,13,15],[14,3,14,5],[14,12,14,15],[16,1,16,16],[17,1,17,7],[17,8,17,16],[18,1,19,7],[18,8,18,16],[19,8,19,16],[20,1,22,7],[20,8,20,16],[21,8,21,16],[22,8,22,16],[24,3,24,10],[24,12,24,13],[25,3,25,10],[25,12,25,13],[26,3,26,10],[26,12,26,13],[27,3,27,10],[27,12,27,13],[28,3,28,10],[28,12,28,13],[29,3,29,10],[29,12,29,13],[30,3,30,10],[30,12,30,13],[33,3,33,10],[33,12,33,13],[34,3,34,10],[34,12,34,13],[35,3,35,10],[35,12,35,13],[36,3,36,10],[36,12,36,13],[37,3,37,10],[37,12,37,13],[38,3,38,10],[38,12,38,13],[39,3,39,10],[39,12,39,13],[40,3,40,5],[40,6,40,10],[40,12,40,13],[41,3,41,5],[41,6,41,10],[41,12,41,13],[42,3,42,5],[42,6,42,10],[42,12,42,13],[43,3,43,5],[43,6,43,10],[43,12,43,13],[44,3,44,5],[44,6,44,10],[44,12,44,13],[45,3,45,5],[45,6,45,10],[45,12,45,13],[47,10,47,11],[47,12,47,13],[49,3,50,13],[52,2,53,4],[52,12,53,13],[56,2,58,15],[59,10,59,11],[59,12,59,13],[61,7,62,16],[63,1,63,16],[64,1,64,4],[64,6,64,16],[65,1,65,4],[65,6,65,16],[66,1,66,4],[66,6,66,16],[67,1,67,4],[67,6,67,16],[68,1,68,4],[68,6,68,16],[69,1,69,4],[69,6,69,16],[70,1,70,4],[70,6,70,16],[71,1,71,4],[71,6,71,16],[72,1,72,4],[72,6,72,16],[73,1,73,4],[73,6,73,16],[74,1,74,4],[74,6,74,16],[75,1,75,4],[75,6,75,16],[76,1,76,4],[76,6,76,16],[77,1,77,4],[77,6,77,16],[78,1,78,4],[78,6,78,16],[79,1,79,4],[79,6,79,16],[80,1,80,4],[80,6,80,16],[81,1,81,4],[81,6,81,16],[82,1,82,4],[82,6,82,16],[83,1,83,4],[83,6,83,16],[84,1,84,4],[84,6,84,16],[85,1,85,4],[85,6,85,16],[86,1,86,4],[86,6,86,16],[87,1,87,4],[87,6,87,16],[88,1,88,4],[88,6,88,16],[89,1,89,4],[89,6,89,16],[90,1,90,4],[90,6,90,16],[91,1,91,4],[91,6,91,16],[92,1,92,4],[92,6,92,16],[93,1,93,4],[93,6,93,16],[94,1,94,4],[94,6,94,16],[95,1,95,4],[95,6,95,16],[96,1,96,4],[96,6,96,16],[97,1,97,4],[97,6,97,16],[98,1,98,4],[98,6,98,16],[99,1,99,4],[99,6,99,16],[100,1,100,4],[100,6,100,16],[101,1,101,4],[101,6,101,16],[102,1,102,4],[102,6,102,16],[103,1,103,4],[103,6,103,16],[104,1,104,4],[104,6,104,16],[105,1,105,4],[105,6,105,16],[106,1,106,4],[106,6,106,16],[107,1,107,4],[107,6,107,16],[108,1,108,4],[108,6,108,16],[109,1,109,4],[109,6,109,16],[113,10,116,15],[117,1,117,16],[118,1,118,4],[118,6,118,16],[119,1,119,4],[119,6,119,16],[120,1,120,4],[120,6,120,16],[121,1,121,4],[121,6,121,16],[122,1,122,4],[122,6,122,16],[123,1,123,4],[123,6,123,16],[124,1,124,4],[124,6,124,16],[125,1,125,4],[125,6,125,16],[126,1,126,4],[126,6,126,16],[127,1,127,4],[127,6,127,16],[128,1,128,4],[128,6,128,16],[129,1,129,4],[129,6,129,16],[130,1,130,4],[130,6,130,16],[131,1,131,4],[131,6,131,16],[132,1,132,4],[132,6,132,16],[133,1,133,4],[133,6,133,16],[134,1,134,4],[134,6,134,16],[135,1,135,4],[135,6,135,16],[136,1,136,4],[136,6,136,16],[137,1,137,4],[137,6,137,16],[138,1,138,4],[138,6,138,16],[139,1,139,4],[139,6,139,16],[140,1,140,4],[140,6,140,16],[141,1,141,4],[141,6,141,16],[142,1,142,4],[142,6,142,16],[143,1,143,4],[143,6,143,16],[144,1,144,4],[144,6,144,16],[145,1,145,4],[145,6,145,16],[146,1,146,4],[146,6,146,16],[147,1,147,4],[147,6,147,16],[148,1,148,4],[148,6,148,16],[149,1,149,4],[149,6,149,16],[150,1,150,4],[150,6,150,16],[151,1,151,4],[151,6,151,16],[152,1,152,4],[152,6,152,16],[153,1,153,4],[153,6,153,16],[154,1,154,4],[154,6,154,16],[155,1,155,4],[155,6,155,16],[156,1,156,4],[156,6,156,16],[157,1,157,4],[157,6,157,16],[158,1,158,4],[158,6,158,16],[159,1,159,4],[159,6,159,16],[160,1,160,4],[160,6,160,16],[161,1,161,4],[161,6,161,16],[162,1,162,4],[162,6,162,16],[163,1,163,4],[163,6,163,16],[168,10,171,15]]}
[]
[]
[{"$nulls":6},"Customer Name",null,{"$f":"'Order Form'!J2","v":0},{"$nulls":3},"Quote Date",null,{"$f":"'Order Form'!M2","v":"00:00:00"}]
[{"$nulls":6},"Contact Name",null,{"$f":"'Order Form'!J3","v":0},{"$nulls":3},"Sales Rep",null,{"$f":"'Order Form'!M3","v":0}]
[{"$nulls":6},"Customer PO",null,{"$f":"'Order Form'!J4","v":0},{"$nulls":3},"Customer No.",null,{"$f":"'Order Form'!M4","v":0}]
[null,"Founder's Choice\n6002 McKinley Ave E Tacoma WA, 98404\n(253) 475-5544",{"$nulls":4},"Telephone",null,{"$f":"'Order Form'!J5","v":0},{"$nulls":3},"Requested Delivery Date",null,{"$f":"'Order Form'!M5","v":"2020-02-19"}]
[{"$nulls":6},"Email",null,{"$f":"'Order Form'!J6","v":0}]
[]
[]
[null,null,{"$f":"IF('Misc Dropdowns'!K3=TRUE,\"Bill to and Ship to Name\",\"Bill to Name\")","v":"Bill to Name"},{"$f":"'Order Form'!D8","v":0},{"$nulls":6},"Ship to Name",null,{"$f":"'Order Form'!L8","v":0}]
[null,null,"Address to ",{"$f":"'Order Form'!D9","v":0},null,null,"  Ship to Method",{"$nulls":3},"Ship to Address",null,{"$f":"'Order Form'!L9","v":0}]
[null,null," City",{"$f":"'Order Form'!D10","v":0},{"$nulls":3},{"$f":"'Misc Dropdowns'!C6","v":""},null,null,"City",null,{"$f":"'Order Form'!L10","v":0}]
[null,null," State",{"$f":"'Order Form'!D11","v":0},{"$nulls":6},"State",null,{"$f":"'Order Form'!L11","v":0}]
[null,null," Zip",{"$f":"'Order Form'!D12","v":0},{"$nulls":6},"Zip",null,{"$f":"'Order Form'!L12","v":0}]
[null,null," Tax Rate",{"$f":"'Order Form'!D13","v":{"v":0,"d":"0.0%"}},{"$nulls":6},"Delivery Cost",null,{"$f":"'Order Form'!L13+'Order Form'!N13","v":0}]
[]
["Page","Order Notes"]
["1 Page","Your Cabinet Specifications",{"$nulls":6},"All of Founder's Choice Orders"]
["1 Page","-Door style, Species, Color, Drawer style, Finish Options",{"$nulls":6},"- 1/2\" Thick Plywood boxes"]
["1 Page",{"$nulls":7},"- 3/4\" Thick, Full depth, plywood shelves"]
["1 Page",{"$f":"IF('Misc Dropdowns'!$K$8=\"\",\"\",\"-\"&'Misc Dropdowns'!$K$8)","v":""},{"$nulls":6},"- 3/4\" Thick Hardwood Face frames and Doors"]
["1 Page",{"$nulls":7},"- Dovetailed, full extension, soft close drawer boxes"]
["1 Page",{"$nulls":7},"- Six way adjustable, integrated soft close door hinges"]
["1 Page"]
["1 Page",null,null,"Install Total:",{"$nulls":8},{"$f":"IF('Order Form'!AR22>0,'Order Form'!D129,0)","v":{"v":0,"d":"$0.00"}}]
["1 Page",null,null,"List Price:",{"$nulls":8},{"$f":"IFERROR(IF('Order Form'!K134=\"Restocking Fee:\",('Order Form'!M132+'Order Form'!M134)/'Order Form'!Q18,'Order Form'!M133/'Order Form'!Q18),\"\")","v":{"v":0,"d":"$0.00"}}]
["1 Page",null,null,"Factory Showroom Discount",{"$nulls":8},{"$f":"IFERROR(-M26*(1-'Order Form'!$Q$18),\"\")","v":{"v":0,"d":"$0.00"}}]
["1 Page",null,null,"Subtotal:",{"$nulls":4},{"$f":"'Order Form'!V143","v":0},{"$nulls":3},{"$f":"SUM(M25:N27)","v":{"v":0,"d":"$0.00"}}]
["1 Page",null,null,"Tax:",{"$nulls":8},{"$f":"IFERROR(IF('Order Form'!K134=\"Restocking Fee:\",'Order Form'!M133+IF('Order Form'!AR22>0,'Order Form'!D130,0),'Order Form'!M134+IF('Order Form'!AR22>0,'Order Form'!D130,0)),\"\")","v":{"v":0,"d":"$0.00"}}]
["1 Page",null,null,"Less Design Deposit:",{"$nulls":8},{"$f":"-'Order Form'!M136","v":{"v":0,"d":"$0.00"}}]
["1 Page",null,null,"Grand Total Less Deposit:",{"$nulls":8},{"$f":"SUM(M28:N30)","v":{"v":0,"d":"$0.00"}}]
["1 Page"]
["1 Page",null,null,"ADDITIONAL OPTIONS - "]
["1 Page"]
["1 Page"]
["1 Page"]
["1 Page"]
["1 Page"]
["1 Page"]
["1 Page",null,null,"This proposal was created using the following specs:"]
["1 Page",null,null,"Range:",null,null,"36\" Wide"]
["1 Page",null,null,"Hood:",null,null,"36\" Wide, 12\" Tall"]
["1 Page",null,null,"Refrigerator:",null,null,"36\" Wide, 72\" Tall, Counter-Depth "]
["1 Page",null,null,"Dishwasher:",null,null,"24\" Wide"]
["1 Page",null,null,"Sink Exterior Width:",null,null,"30\" Wide"]
["1 Page"]
["1 Page"]
["1 Page",{"$nulls":9},"Total:",null,{"$f":"Proposal!M31+SUM(M34:N46)","v":{"v":0,"d":"$0.00"}}]
["1 Page"]
["1 Page",null,null,"Once this document is signed, changes will no longer be accepted. \nALL add-ons will need to be on a separate order and will generate a new lead time. "]
["1 Page"]
["1 Page"]
["1 Page",null,"Customer Approval:"]
["1 Page",{"$nulls":10},"Date: "]
["1 Page"]
["1 Page"]
["1 Page",null,"**By initialing this line, you waive the option for a field measure by your sales designer. All orders are based on the approved layout provided. Any incorrect measurements are the customer's responsibility and the customer will be charged for any additional pieces needed to correct measurement errors."]
["1 Page"]
["1 Page"]
["1 Page",{"$nulls":9},"Initials:"]
["1 Page"]
["1 Page","All Sales Final, ",{"$nulls":5},"*Pricing and lead time subject to and reliant upon customer supplied info, including but not limited to appliance specifications and room measurements. "]
["1 Page","Quote is good for 30 days from printed date "]
["2 Pages","Itemized List"]
["2 Pages","Item",{"$nulls":3},"Qty","Item Notes"]
["2 Pages",{"$f":"UPPER('Order Form'!C25)","v":"TOUCH UP"},{"$nulls":3},{"$f":"'Order Form'!D25","v":1},{"$f":"UPPER('Sage Upload'!F5)","v":""}]
["2 Pages",{"$f":"UPPER('Order Form'!C26)","v":""},{"$nulls":3},{"$f":"'Order Form'!D26","v":0},{"$f":"UPPER('Sage Upload'!F6)","v":""}]
["2 Pages",{"$f":"UPPER('Order Form'!C27)","v":""},{"$nulls":3},{"$f":"'Order Form'!D27","v":0},{"$f":"UPPER('Sage Upload'!F7)","v":""}]
["2 Pages",{"$f":"UPPER('Order Form'!C28)","v":""},{"$nulls":3},{"$f":"'Order Form'!D28","v":0},{"$f":"UPPER('Sage Upload'!F8)","v":""}]
["2 Pages",{"$f":"UPPER('Order Form'!C29)","v":""},{"$nulls":3},{"$f":"'Order Form'!D29","v":0},{"$f":"UPPER('Sage Upload'!F9)","v":""}]
["2 Pages",{"$f":"UPPER('Order Form'!C30)","v":""},{"$nulls":3},{"$f":"'Order Form'!D30","v":0},{"$f":"UPPER('Sage Upload'!F10)","v":""}]
["2 Pages",{"$f":"UPPER('Order Form'!C31)","v":""},{"$nulls":3},{"$f":"'Order Form'!D31","v":0},{"$f":"UPPER('Sage Upload'!F11)","v":""}]
["2 Pages",{"$f":"UPPER('Order Form'!C32)","v":""},{"$nulls":3},{"$f":"'Order Form'!D32","v":0},{"$f":"UPPER('Sage Upload'!F12)","v":""}]
["2 Pages",{"$f":"UPPER('Order Form'!C33)","v":""},{"$nulls":3},{"$f":"'Order Form'!D33","v":0},{"$f":"UPPER('Sage Upload'!F13)","v":""}]
["2 Pages",{"$f":"UPPER('Order Form'!C34)","v":""},{"$nulls":3},{"$f":"'Order Form'!D34","v":0},{"$f":"UPPER('Sage Upload'!F14)","v":""}]
["2 Pages",{"$f":"UPPER('Order Form'!C35)","v":""},{"$nulls":3},{"$f":"'Order Form'!D35","v":0},{"$f":"UPPER('Sage Upload'!F15)","v":""}]
["2 Pages",{"$f":"UPPER('Order Form'!C36)","v":""},{"$nulls":3},{"$f":"'Order Form'!D36","v":0},{"$f":"UPPER('Sage Upload'!F16)","v":""}]
["2 Pages",{"$f":"UPPER('Order Form'!C37)","v":""},{"$nulls":3},{"$f":"'Order Form'!D37","v":0},{"$f":"UPPER('Sage Upload'!F17)","v":""}]
["2 Pages",{"$f":"UPPER('Order Form'!C38)","v":""},{"$nulls":3},{"$f":"'Order Form'!D38","v":0},{"$f":"UPPER('Sage Upload'!F18)","v":""}]
["2 Pages",{"$f":"UPPER('Order Form'!C39)","v":""},{"$nulls":3},{"$f":"'Order Form'!D39","v":0},{"$f":"UPPER('Sage Upload'!F19)","v":""}]
["2 Pages",{"$f":"UPPER('Order Form'!C40)","v":""},{"$nulls":3},{"$f":"'Order Form'!D40","v":0},{"$f":"UPPER('Sage Upload'!F20)","v":""}]
["2 Pages",{"$f":"UPPER('Order Form'!C41)","v":""},{"$nulls":3},{"$f":"'Order Form'!D41","v":0},{"$f":"UPPER('Sage Upload'!F21)","v":""}]
["2 Pages",{"$f":"UPPER('Order Form'!C42)","v":""},{"$nulls":3},{"$f":"'Order Form'!D42","v":0},{"$f":"UPPER('Sage Upload'!F22)","v":""}]
["2 Pages",{"$f":"UPPER('Order Form'!C43)","v":""},{"$nulls":3},{"$f":"'Order Form'!D43","v":0},{"$f":"UPPER('Sage Upload'!F23)","v":""}]
["2 Pages",{"$f":"UPPER('Order Form'!C44)","v":""},{"$nulls":3},{"$f":"'Order Form'!D44","v":0},{"$f":"UPPER('Sage Upload'!F24)","v":""}]
["2 Pages",{"$f":"UPPER('Order Form'!C45)","v":""},{"$nulls":3},{"$f":"'Order Form'!D45","v":0},{"$f":"UPPER('Sage Upload'!F25)","v":""}]
["2 Pages",{"$f":"UPPER('Order Form'!C46)","v":""},{"$nulls":3},{"$f":"'Order Form'!D46","v":0},{"$f":"UPPER('Sage Upload'!F26)","v":""}]
["2 Pages",{"$f":"UPPER('Order Form'!C47)","v":""},{"$nulls":3},{"$f":"'Order Form'!D47","v":0},{"$f":"UPPER('Sage Upload'!F27)","v":""}]
["2 Pages",{"$f":"UPPER('Order Form'!C48)","v":""},{"$nulls":3},{"$f":"'Order Form'!D48","v":0},{"$f":"UPPER('Sage Upload'!F28)","v":""}]
["2 Pages",{"$f":"UPPER('Order Form'!C49)","v":""},{"$nulls":3},{"$f":"'Order Form'!D49","v":0},{"$f":"UPPER('Sage Upload'!F29)","v":""}]
["2 Pages",{"$f":"UPPER('Order Form'!C50)","v":""},{"$nulls":3},{"$f":"'Order Form'!D50","v":0},{"$f":"UPPER('Sage Upload'!F30)","v":""}]
["2 Pages",{"$f":"UPPER('Order Form'!C51)","v":""},{"$nulls":3},{"$f":"'Order Form'!D51","v":0},{"$f":"UPPER('Sage Upload'!F31)","v":""}]
["2 Pages",{"$f":"UPPER('Order Form'!C52)","v":""},{"$nulls":3},{"$f":"'Order Form'!D52","v":0},{"$f":"UPPER('Sage Upload'!F32)","v":""}]
["2 Pages",{"$f":"UPPER('Order Form'!C53)","v":""},{"$nulls":3},{"$f":"'Order Form'!D53","v":0},{"$f":"UPPER('Sage Upload'!F33)","v":""}]
["2 Pages",{"$f":"UPPER('Order Form'!C54)","v":""},{"$nulls":3},{"$f":"'Order Form'!D54","v":0},{"$f":"UPPER('Sage Upload'!F34)","v":""}]
["2 Pages",{"$f":"UPPER('Order Form'!C55)","v":""},{"$nulls":3},{"$f":"'Order Form'!D55","v":0},{"$f":"UPPER('Sage Upload'!F35)","v":""}]
["2 Pages",{"$f":"UPPER('Order Form'!C56)","v":""},{"$nulls":3},{"$f":"'Order Form'!D56","v":0},{"$f":"UPPER('Sage Upload'!F36)","v":""}]
["2 Pages",{"$f":"UPPER('Order Form'!C57)","v":""},{"$nulls":3},{"$f":"'Order Form'!D57","v":0},{"$f":"UPPER('Sage Upload'!F37)","v":""}]
["2 Pages",{"$f":"UPPER('Order Form'!C58)","v":""},{"$nulls":3},{"$f":"'Order Form'!D58","v":0},{"$f":"UPPER('Sage Upload'!F38)","v":""}]
["2 Pages",{"$f":"UPPER('Order Form'!C59)","v":""},{"$nulls":3},{"$f":"'Order Form'!D59","v":0},{"$f":"UPPER('Sage Upload'!F39)","v":""}]
["2 Pages",{"$f":"UPPER('Order Form'!C60)","v":""},{"$nulls":3},{"$f":"'Order Form'!D60","v":0},{"$f":"UPPER('Sage Upload'!F40)","v":""}]
["2 Pages",{"$f":"UPPER('Order Form'!C61)","v":""},{"$nulls":3},{"$f":"'Order Form'!D61","v":0},{"$f":"UPPER('Sage Upload'!F41)","v":""}]
["2 Pages",{"$f":"UPPER('Order Form'!C62)","v":""},{"$nulls":3},{"$f":"'Order Form'!D62","v":0},{"$f":"UPPER('Sage Upload'!F42)","v":""}]
["2 Pages",{"$f":"UPPER('Order Form'!C63)","v":""},{"$nulls":3},{"$f":"'Order Form'!D63","v":0},{"$f":"UPPER('Sage Upload'!F43)","v":""}]
["2 Pages",{"$f":"UPPER('Order Form'!C64)","v":""},{"$nulls":3},{"$f":"'Order Form'!D64","v":0},{"$f":"UPPER('Sage Upload'!F44)","v":""}]
["2 Pages",{"$f":"UPPER('Order Form'!C65)","v":""},{"$nulls":3},{"$f":"'Order Form'!D65","v":0},{"$f":"UPPER('Sage Upload'!F45)","v":""}]
["2 Pages",{"$f":"UPPER('Order Form'!C66)","v":""},{"$nulls":3},{"$f":"'Order Form'!D66","v":0},{"$f":"UPPER('Sage Upload'!F46)","v":""}]
["2 Pages",{"$f":"UPPER('Order Form'!C67)","v":""},{"$nulls":3},{"$f":"'Order Form'!D67","v":0},{"$f":"UPPER('Sage Upload'!F47)","v":""}]
["2 Pages",{"$f":"UPPER('Order Form'!C68)","v":""},{"$nulls":3},{"$f":"'Order Form'!D68","v":0},{"$f":"UPPER('Sage Upload'!F48)","v":""}]
["2 Pages",{"$f":"UPPER('Order Form'!C69)","v":""},{"$nulls":3},{"$f":"'Order Form'!D69","v":0},{"$f":"UPPER('Sage Upload'!F49)","v":""}]
["2 Pages"]
["2 Pages"]
["2 Pages"]
["2 Pages",{"$nulls":9},"*Pricing and lead time subject to and reliant upon customer supplied information, including but not limited to appliance specifications and room measurements. "]
["2 Pages"]
["2 Pages",null,"All Sales Final, "]
["2 Pages",null,"Quote is good for 30 days from printed date "]
["3 pages","Itemized List"]
["3 pages","Item",{"$nulls":3},"Qty","Item Notes"]
["3 pages",{"$f":"UPPER('Order Form'!C70)","v":""},{"$nulls":3},{"$f":"'Order Form'!D70","v":0},{"$f":"UPPER('Sage Upload'!F50)","v":""}]
["3 pages",{"$f":"UPPER('Order Form'!C71)","v":""},{"$nulls":3},{"$f":"'Order Form'!D71","v":0},{"$f":"UPPER('Sage Upload'!F51)","v":""}]
["3 pages",{"$f":"UPPER('Order Form'!C72)","v":""},{"$nulls":3},{"$f":"'Order Form'!D72","v":0},{"$f":"UPPER('Sage Upload'!F52)","v":""}]
["3 pages",{"$f":"UPPER('Order Form'!C73)","v":""},{"$nulls":3},{"$f":"'Order Form'!D73","v":0},{"$f":"UPPER('Sage Upload'!F53)","v":""}]
["3 pages",{"$f":"UPPER('Order Form'!C74)","v":""},{"$nulls":3},{"$f":"'Order Form'!D74","v":0},{"$f":"UPPER('Sage Upload'!F54)","v":""}]
["3 pages",{"$f":"UPPER('Order Form'!C75)","v":""},{"$nulls":3},{"$f":"'Order Form'!D75","v":0},{"$f":"UPPER('Sage Upload'!F55)","v":""}]
["3 pages",{"$f":"UPPER('Order Form'!C76)","v":""},{"$nulls":3},{"$f":"'Order Form'!D76","v":0},{"$f":"UPPER('Sage Upload'!F56)","v":""}]
["3 pages",{"$f":"UPPER('Order Form'!C77)","v":""},{"$nulls":3},{"$f":"'Order Form'!D77","v":0},{"$f":"UPPER('Sage Upload'!F57)","v":""}]
["3 pages",{"$f":"UPPER('Order Form'!C78)","v":""},{"$nulls":3},{"$f":"'Order Form'!D78","v":0},{"$f":"UPPER('Sage Upload'!F58)","v":""}]
["3 pages",{"$f":"UPPER('Order Form'!C79)","v":""},{"$nulls":3},{"$f":"'Order Form'!D79","v":0},{"$f":"UPPER('Sage Upload'!F59)","v":""}]
["3 pages",{"$f":"UPPER('Order Form'!C80)","v":""},{"$nulls":3},{"$f":"'Order Form'!D80","v":0},{"$f":"UPPER('Sage Upload'!F60)","v":""}]
["3 pages",{"$f":"UPPER('Order Form'!C81)","v":""},{"$nulls":3},{"$f":"'Order Form'!D81","v":0},{"$f":"UPPER('Sage Upload'!F61)","v":""}]
["3 pages",{"$f":"UPPER('Order Form'!C82)","v":""},{"$nulls":3},{"$f":"'Order Form'!D82","v":0},{"$f":"UPPER('Sage Upload'!F62)","v":""}]
["3 pages",{"$f":"UPPER('Order Form'!C83)","v":""},{"$nulls":3},{"$f":"'Order Form'!D83","v":0},{"$f":"UPPER('Sage Upload'!F63)","v":""}]
["3 pages",{"$f":"UPPER('Order Form'!C84)","v":""},{"$nulls":3},{"$f":"'Order Form'!D84","v":0},{"$f":"UPPER('Sage Upload'!F64)","v":""}]
["3 pages",{"$f":"UPPER('Order Form'!C85)","v":""},{"$nulls":3},{"$f":"'Order Form'!D85","v":0},{"$f":"UPPER('Sage Upload'!F65)","v":""}]
["3 pages",{"$f":"UPPER('Order Form'!C86)","v":""},{"$nulls":3},{"$f":"'Order Form'!D86","v":0},{"$f":"UPPER('Sage Upload'!F66)","v":""}]
["3 pages",{"$f":"UPPER('Order Form'!C87)","v":""},{"$nulls":3},{"$f":"'Order Form'!D87","v":0},{"$f":"UPPER('Sage Upload'!F67)","v":""}]
["3 pages",{"$f":"UPPER('Order Form'!C88)","v":""},{"$nulls":3},{"$f":"'Order Form'!D88","v":0},{"$f":"UPPER('Sage Upload'!F68)","v":""}]
["3 pages",{"$f":"UPPER('Order Form'!C89)","v":""},{"$nulls":3},{"$f":"'Order Form'!D89","v":0},{"$f":"UPPER('Sage Upload'!F69)","v":""}]
["3 pages",{"$f":"UPPER('Order Form'!C90)","v":""},{"$nulls":3},{"$f":"'Order Form'!D90","v":0},{"$f":"UPPER('Sage Upload'!F70)","v":""}]
["3 pages",{"$f":"UPPER('Order Form'!C91)","v":""},{"$nulls":3},{"$f":"'Order Form'!D91","v":0},{"$f":"UPPER('Sage Upload'!F71)","v":""}]
["3 pages",{"$f":"UPPER('Order Form'!C92)","v":""},{"$nulls":3},{"$f":"'Order Form'!D92","v":0},{"$f":"UPPER('Sage Upload'!F72)","v":""}]
["3 pages",{"$f":"UPPER('Order Form'!C93)","v":""},{"$nulls":3},{"$f":"'Order Form'!D93","v":0},{"$f":"UPPER('Sage Upload'!F73)","v":""}]
["3 pages",{"$f":"UPPER('Order Form'!C94)","v":""},{"$nulls":3},{"$f":"'Order Form'!D94","v":0},{"$f":"UPPER('Sage Upload'!F74)","v":""}]
["3 pages",{"$f":"UPPER('Order Form'!C95)","v":""},{"$nulls":3},{"$f":"'Order Form'!D95","v":0},{"$f":"UPPER('Sage Upload'!F75)","v":""}]
["3 pages",{"$f":"UPPER('Order Form'!C96)","v":""},{"$nulls":3},{"$f":"'Order Form'!D96","v":0},{"$f":"UPPER('Sage Upload'!F76)","v":""}]
["3 pages",{"$f":"UPPER('Order Form'!C97)","v":""},{"$nulls":3},{"$f":"'Order Form'!D97","v":0},{"$f":"UPPER('Sage Upload'!F77)","v":""}]
["3 pages",{"$f":"UPPER('Order Form'!C98)","v":""},{"$nulls":3},{"$f":"'Order Form'!D98","v":0},{"$f":"UPPER('Sage Upload'!F78)","v":""}]
["3 pages",{"$f":"UPPER('Order Form'!C99)","v":""},{"$nulls":3},{"$f":"'Order Form'!D99","v":0},{"$f":"UPPER('Sage Upload'!F79)","v":""}]
["3 pages",{"$f":"UPPER('Order Form'!C100)","v":""},{"$nulls":3},{"$f":"'Order Form'!D100","v":0},{"$f":"UPPER('Sage Upload'!F80)","v":""}]
["3 pages",{"$f":"UPPER('Order Form'!C101)","v":""},{"$nulls":3},{"$f":"'Order Form'!D101","v":0},{"$f":"UPPER('Sage Upload'!F81)","v":""}]
["3 pages",{"$f":"UPPER('Order Form'!C102)","v":""},{"$nulls":3},{"$f":"'Order Form'!D102","v":0},{"$f":"UPPER('Sage Upload'!F82)","v":""}]
["3 pages",{"$f":"UPPER('Order Form'!C103)","v":""},{"$nulls":3},{"$f":"'Order Form'!D103","v":0},{"$f":"UPPER('Sage Upload'!F83)","v":""}]
["3 pages",{"$f":"UPPER('Order Form'!C104)","v":""},{"$nulls":3},{"$f":"'Order Form'!D104","v":0},{"$f":"UPPER('Sage Upload'!F84)","v":""}]
["3 pages",{"$f":"UPPER('Order Form'!C105)","v":""},{"$nulls":3},{"$f":"'Order Form'!D118","v":0},{"$f":"UPPER('Sage Upload'!F85)","v":""}]
["3 pages",{"$f":"UPPER('Order Form'!C106)","v":""},{"$nulls":3},{"$f":"'Order Form'!D119","v":0},{"$f":"UPPER('Sage Upload'!F86)","v":""}]
["3 pages",{"$f":"UPPER('Order Form'!C107)","v":""},{"$nulls":3},{"$f":"'Order Form'!D120","v":0},{"$f":"UPPER('Sage Upload'!F87)","v":""}]
["3 pages",{"$f":"UPPER('Order Form'!C108)","v":""},{"$nulls":3},{"$f":"'Order Form'!D121","v":0},{"$f":"UPPER('Sage Upload'!F88)","v":""}]
["3 pages",{"$f":"UPPER('Order Form'!C109)","v":""},{"$nulls":3},{"$f":"'Order Form'!D122","v":0},{"$f":"UPPER('Sage Upload'!F89)","v":""}]
["3 pages",{"$f":"UPPER('Order Form'!C110)","v":""},{"$nulls":3},{"$f":"'Order Form'!D123","v":0},{"$f":"UPPER('Sage Upload'!F90)","v":""}]
["3 pages",{"$f":"UPPER('Order Form'!C111)","v":""},{"$nulls":3},{"$f":"'Order Form'!D124","v":0},{"$f":"UPPER('Sage Upload'!F91)","v":""}]
["3 pages",{"$f":"UPPER('Order Form'!C112)","v":""},{"$nulls":3},{"$f":"'Order Form'!D125","v":0},{"$f":"UPPER('Sage Upload'!F92)","v":""}]
["3 pages",{"$f":"UPPER('Order Form'!C113)","v":""},{"$nulls":3},{"$f":"'Order Form'!D126","v":0},{"$f":"UPPER('Sage Upload'!F93)","v":""}]
["3 pages",{"$f":"UPPER('Order Form'!C114)","v":""},{"$nulls":3},{"$f":"'Order Form'!D127","v":0},{"$f":"UPPER('Sage Upload'!F94)","v":""}]
["3 pages"]
["3 pages"]
["3 pages"]
["3 pages"]
["3 pages",{"$nulls":9},"*Pricing and lead time subject to and reliant upon customer supplied information, including but not limited to appliance specifications and room measurements. "]
["3 pages"]
["3 pages",null,"All Sales Final, "]
["3 pages",null,"Quote is good for 30 days from printed date "]

{"sheet":"Order Type","index":5,"n_rows":52,"n_cols":11,"rows_kept":52,"hidden":true,"merged":[[1,0,1,1]]}
[]
["Oreder Type Selection"]
["Based on Species",{"$f":"IF('Order Form'!D17=\"Paint Grade MDF\",6,5)","v":5},5]
[]
[null,null,"Prefix for Cabinets","Colors","Drawer Head","Custom Finish","Doors Style","Species"]
[null,null,{"$f":"VLOOKUP(B3,B7:C12,2,FALSE)","v":"01-"},{"$f":"VLOOKUP(B3,B7:D12,3,FALSE)","v":"COLORS"},{"$f":"VLOOKUP(B3,B8:E12,4,FALSE)","v":"DRAWER_HEAD"},{"$f":"VLOOKUP(B3,B7:F12,5,FALSE)","v":"CUSTOM_FINISH"},{"$f":"VLOOKUP(B3,B7:G12,6,FALSE)","v":"DOOR_STYLE"},{"$f":"VLOOKUP(B3,B7:H12,7,FALSE)","v":"SPECIES"}]
["Please Select Order Type",1]
["Flat Pack",2,"FP-","COLORS_PACK","DRAWER_HEAD_PACK","CUSTOM_FINISH_PACK","DOOR_STYLE_PACK","SPECIES_PACK"]
["Frameless",3,"02-","COLORS","DRAWER_HEAD","CUSTOM_FINISH","DOOR_STYLE","SPECIES"]
["Single Pack",4,"SP-","COLORS_PACK","DRAWER_HEAD_PACK","CUSTOM_FINISH_PACK","DOOR_STYLE_PACK","SPECIES_PACK"]
["Select/Craftsman",5,"01-","COLORS","DRAWER_HEAD","CUSTOM_FINISH","DOOR_STYLE","SPECIES"]
["MDF FRAMED",6,"01-","COLORS","DRAWER_HEAD_MDF","CUSTOM_FINISH_MDF_FRAMED","DOOR_STYLE_MDF_FRAMED","SPECIES"]
{"$rows_empty":39}
[{"$nulls":10},{"$f":"IF(OR('Order Type'!B3=5,),IF('Order Form'!AD22>2,0,1))","v":0}]

{"sheet":"Dealer Install Calc","index":6,"n_rows":119,"n_cols":22,"rows_kept":119,"hidden":true,"merged":[[1,1,1,4],[1,5,1,14],[2,5,3,7],[3,8,3,10],[3,11,3,13],[4,12,4,13],[5,5,5,7],[5,8,5,10],[5,12,5,13],[6,5,6,7],[6,8,6,10],[6,12,6,13],[7,5,7,7],[7,8,7,10],[8,5,8,7],[8,8,8,10],[11,3,11,7],[21,3,21,7],[23,9,23,10],[23,12,25,13],[24,9,24,10],[25,9,25,10],[27,2,27,3],[27,4,27,8],[30,2,31,13],[34,2,35,7],[34,9,38,13],[36,2,37,7],[38,2,39,7],[39,9,42,13],[40,2,40,7],[41,2,42,7],[43,2,44,7],[43,9,44,13],[45,9,48,13],[48,2,48,7],[49,2,49,7],[49,9,50,13],[50,2,51,7],[51,9,52,13],[52,2,52,7],[53,2,56,7],[53,9,54,13],[55,9,55,13],[56,9,56,13],[57,9,58,13],[60,2,62,13],[69,1,69,14],[71,1,71,14],[76,2,79,13],[80,2,82,13],[84,2,85,13],[86,2,88,13],[89,2,90,13],[91,2,94,13],[95,2,98,13],[100,2,101,13],[102,2,103,13],[104,2,107,13],[109,2,110,13],[112,2,114,13],[115,2,116,13],[118,2,119,13]]}
[]
[{"$nulls":5},"Dealer Cabinet Install Worksheet"]
[{"$nulls":5},"End Customer:"]
[null,null,"Customer PO:",null,{"$f":"IF('Order Form'!J4=\"\",\"\",\"INSTALL - \"&'Order Form'!J4)","v":""},{"$nulls":6},"General Contractor Information",{"$nulls":9},true]
[null,null,"Attached to SO #:",{"$nulls":8},"Name:"]
[null,null,"Customer Number:",null,{"$f":"IF('Order Form'!M4=\"\",\"\",'Order Form'!M4)","v":""},"Install Address:",null,null,{"$f":"IF(AND('Misc Dropdowns'!$K$3=TRUE,'Order Form'!$D$8<>\"\"),'Order Form'!$D$8,IF('Order Form'!$L$8=\"\",\"\",'Order Form'!$L$8))","v":""},null,null,"Number:"]
[null,null,"Contact Name: ",null,{"$f":"IF('Order Form'!J3=\"\",\"\",'Order Form'!J3)","v":""},{"$nulls":3},{"$f":"IF(AND('Misc Dropdowns'!$K$3=TRUE,'Order Form'!$D$9<>\"\"),'Order Form'!$D$9,IF('Order Form'!$L$9=\"\",\"\",'Order Form'!$L$9))","v":""},null,null,"Expiration Date:"]
[null,null,"Phone:",null,{"$f":"IF('Order Form'!J5=\"\",\"\",'Order Form'!J5)","v":""},{"$nulls":3},{"$f":"IF(AND('Misc Dropdowns'!$K$3=TRUE,'Order Form'!$D$10<>\"\"),IF('Order Form'!$D$10=\"\",\"\",'Order Form'!$D$10&\", \")&'Order Form'!$D$11&\" \"&'Order Form'!$D$12,IF('Order Form'!$L$10=\"\",\"\",IF('Order Form'!$L$10=\"\",\"\",'Order Form'!$L$10&\", \")&'Order Form'!$L$11&\" \"&'Order Form'!$L$12))","v":""}]
[null,null,"Total Tax Rate:",null,{"v":0.1,"d":"10.00%"}]
[]
[]
[{"$nulls":3},"Item",{"$nulls":5},"Qty","Unit Price","Total"]
[{"$nulls":3},"Base, Wall and Vanity Boxes- 6 box min",{"$nulls":6},{"v":56,"d":"$56.00"},{"$f":"IF(J13>0,K13*(IF(J13>6,J13,6)),\"\")","v":""}]
[{"$nulls":3},"Tall Boxes",{"$nulls":6},{"v":98,"d":"$98.00"},{"$f":"IF(J14>=1,J14*K14,\"\")","v":""}]
[{"$nulls":3},"Crown Molding",{"$nulls":6},{"v":49,"d":"$49.00"},""]
[{"$nulls":3},"Panels",{"$nulls":6},{"v":49,"d":"$49.00"},""]
[{"$nulls":3},"Skins",{"$nulls":6},{"v":10.5,"d":"$10.50"},""]
[{"$nulls":3},"Corbels",{"$nulls":6},{"v":7,"d":"$7.00"},""]
[{"$nulls":3},"Extra Hours (per man hour)",{"$nulls":6},{"v":63,"d":"$63.00"},""]
[{"$nulls":3},"Hardware (per hole)",{"$nulls":6},{"v":4,"d":"$4.00"},""]
[{"$nulls":3},"Tear Out ---- # of boxes",{"$nulls":6},{"v":14,"d":"$14.00"},""]
[{"$nulls":3},"Miles from Shop to Jobsite\n (one way road miles, shortest road distance) ",{"$nulls":6},{"v":2,"d":"$2.00"},""]
[]
[{"$nulls":9},"Subtotal:",null,{"$f":"IF(SUM(L13:L22)=0,0,IF(SUM(L13:L22)<480,480,SUM(L13:L22)))","v":{"v":0,"d":"$0.00"}},"Minimum of $480 per install job."]
[{"$nulls":9},"Tax:",null,{"$f":"IF(OR(E9=\"Reseller\",E9=\"Out of State\",E9=\"OOS\",E9=\"NONTAX\"),0,L24*E9)","v":{"v":0,"d":"$0.00"}}]
[{"$nulls":9},"Grand Total:",null,{"$f":"L24+L25","v":{"v":0,"d":"$0.00"}}]
[]
[null,null,"Signature:",{"$nulls":7},"Date:"]
[]
[null,null,"Notes:"]
[]
[]
[]
[null,null,"Assumptions And Responsibilities of Installer:",{"$nulls":6},"Assumptions And Responsibilities of Dealer:"]
[null,null,"•Proper measures will be taken to prevent damage to clients flooring.",{"$nulls":6},"• If the dealer is a general contractor, or is working with a license general contractor then Founder's Choice will act as subcontractor to their general contractor. The General Contractor is liable to report the sales tax. If this applies to the dealer tax rate should be marked reseller, and valid General Contractor information is required."]
[]
[null,null,"•Any changes to plan or this summary need to be documented by change-order, and the order desk must be informed."]
[]
[null,null,"•Installer and Dealer should work together in order to ensure mutual understanding of job requirements and special details."]
[{"$nulls":9},"• If the dealer is not working with a general contractor, and is not licensed themselves, the Founders Choice will act as General Contractor and remit sales tax to Washington State. Thus the tax rate should be the location of the install. "]
[null,null,"•Installer is responsible for damage caused by neglect. "]
[null,null,"•Install Includes: Setting and securing all cabinets, corbels, and trim moldings in place for day to day use. "]
[]
[null,null,"•Install includes: Cabinet tops will be made flat in order to facilitate installation of countertops.",{"$nulls":6},"• Dealers will agree to meet for a pre install meeting to go over any extra details about the install."]
[]
[{"$nulls":9},"• If a charge is missed, and found at the install meeting, the additional charges will be added to the order. (Example- If there were 6 boxes paid for to install, but there were really 7, the order desk will add the additional cabinet install to the order."]
[]
[null,null,"Not covered in this agreement:"]
[null,null,"•Abnormalities uncovered by tear out"]
[null,null,"•Any and all plumbing or electrical work ",{"$nulls":6},"• If the installers are installing a non Founder's Choice standard accessory, they will bill per hour. "]
[null,null,"•Hardware not supplied by Founder's Choice will be installed by Founder's Choice on an hourly basis. "]
[{"$nulls":9},"• Floor Plans will be provided to the installer at/before the pre install meeting."]
[null,null,"•Any uninstalling, moving, placing or installation of appliances."]
[null,null,"•Founder's Choice will disconnect water and drain lines from the sink, however there are times that water lines will slowly drip, we cannot be held responsible for this or other plumbing issues.",{"$nulls":6},"• Dealer will inform end user of pre install checklist, and is responsible for extra fees associated if these are not followed."]
[]
[{"$nulls":9},"• End customer is responsible for the final check on install."]
[{"$nulls":9},"• Install is only available in Pierce County until otherwise noted."]
[{"$nulls":9},"• There is an exclusive dealer list for install options, this has not been rolled out to all our dealers.  "]
[]
[null,null,"Disclaimer: "]
[null,null,"•In the event of unforeseen hazards or issues uncovered during tear out, tear out will be halted until the client approves the installers proposed course of action (and increase in cost, if applicable). Founder's Choice is not responsible for paint, drywall, wall coverings or baseboard moldings, unless otherwise noted. "]
[]
[]
[]
[null,null,{"$f":"\"Print Date: \"& TEXT(TODAY(), \"mm/dd/yy\")","v":"Print Date: 01/08/20"},{"$nulls":10},"Revision Date: 8/23/2018"]
[]
[]
[]
[]
[null,"Founder’s Choice Install Checklist"]
[]
[null,"Thank you for deciding to purchase from Founder's Choice!"]
[]
[null,null,"Our install checklist will help ensure you are ready when our install team arrives at your jobsite.  "]
[]
[null,null,"□   Countertop Tear-Out: Includes removal of all the countertop material and prepping for your new countertops."]
[null,null,"o   Customer: Please remove EVERYTHING from on top of your counter top, out of your sink and inside your cabinets. Your existing cabinets might not have solid tops and it is very likely that dust and debris from the countertop will fall into the cabinets.  Appliances and sink should also be removed and disconnected before tear-out. "]
[]
[]
[]
[null,null,"o   Founder’s Choice: In addition to tearing out the countertops we will clear away any nails, screws and glue which might have been left behind. "]
[]
[]
[null,null,"□   Cabinet Tear-Out: Consists of removing and disposing of your cabinets and prepping the area for the new cabinets. "]
[null,null,"o   Customer: Please remove EVERYTHING from inside, around, or near your cabinets. Please clear the general work area of all personal items.  "]
[]
[null,null,"o   Founder’s Choice: In addition to uninstalling the old cabinets, we will clear away any nails, screws and glue which might have been left behind. Appliances or plumbing hookups removed during tear out will not be expected to be re-installed. "]
[]
[]
[null,null,"□   Cabinet Install: Includes fixing the cabinets into their final position and ensuring they are ready for your countertop installation."]
[]
[null,null,"o   Customer: The floor must be in good condition and stable. Please make sure that the floor is clear of debris and any other obstructions to the cabinet installation. While we try to minimize dust inside the home, our install crews may need to make cuts inside at the jobsite. Please remove or cover your belongings which may be damaged by dust."]
[]
[]
[]
[null,null,"o   Founder’s Choice: We will place the cabinets in their final position and reasonably secure them to the walls and/or floor. The wall cabinets may need to be shimmed to make them square and level. The base cabinetry will form a reasonably flat, straight and level surface to support the future countertop. "]
[]
[]
[]
[null,null,"□   Countertop Install: Consists of the installation of your countertops and potentially your sink. "]
[null,null,"o   Customer: Please be sure that all the drawer and door space immediately underneath the countertop has been cleared out."]
[]
[null,null,"o   Founder’s Choice Template: After the cabinetry is in final position, the countertop may be templated for an exact fit. The templated size will be the size of the final countertop."]
[]
[null,null,"o   Founder’s Choice Install: We will bring the countertop to the jobsite and place it on the cabinets. We will make minor adjustments to level the countertop to a reasonable extent and secure the countertop to the cabinets. The sink will be secured to the countertop and prepped for your plumber to install the faucet and drain."]
[]
[]
[]
[]
[null,null,"Since you have received this, your job is already in the ‘in-progress’ stage and we are no longer able to change colors, styles, sizes or options. "]
[]
[]
[null,null,"Tearing out the cabinets and countertops does not include any wall or flooring repair that may be uncovered, or any painting that may need to be done after the new install is complete."]
[]
[]
[null,null,"While our crews will always make an effort to clean up their construction debris further cleanup of your jobsite should be expected."]
[]
[]
[null,null,"Employee and customer safety has always been a key concern for Founder’s Choice; please take the proper precautions to ensure that your children and pets are not in the construction area."]

{"sheet":"Install Calc","index":7,"n_rows":49,"n_cols":15,"rows_kept":49,"hidden":true,"merged":[[1,1,3,9],[4,1,4,9],[6,6,6,8],[7,6,7,8],[8,6,8,8],[9,6,9,8],[14,2,14,3],[15,2,15,3],[16,2,16,3],[17,2,17,3],[18,2,18,3],[19,2,19,3],[20,2,20,3],[21,2,21,3],[22,2,22,3],[23,2,23,3],[24,2,24,3],[25,2,25,3],[26,12,27,13],[29,3,29,5],[30,2,33,7],[30,12,30,13],[35,6,35,7],[40,1,40,9],[41,1,41,9],[42,1,42,9],[43,1,43,9],[44,1,44,9],[45,1,45,9],[46,1,46,9],[47,1,47,9]]}
[]
[]
[]
[]
[null,"Cabinet Install Worksheet"]
[]
[null,"Customer PO",{"$f":"IF('Order Form'!$J$4=\"\",\"\",\"INSTALL - \"&'Order Form'!$J$4)","v":""},null,null,"Date of Install"]
[null,"SO #",{"$nulls":3},"Install Address",{"$f":"IF(AND('Misc Dropdowns'!$K$3=TRUE,'Order Form'!$D$8<>\"\"),'Order Form'!$D$8,IF('Order Form'!$L$8=\"\",\"\",'Order Form'!$L$8))","v":""}]
[null,"Contact Name: ",{"$f":"IF('Order Form'!J3=\"\",\"\",'Order Form'!J3)","v":""},{"$nulls":3},{"$f":"'Order Form'!L9","v":0}]
[null,"Phone:",{"$f":"IF('Order Form'!J5=\"\",\"\",'Order Form'!J5)","v":""},{"$nulls":3},{"$f":"IF(AND('Misc Dropdowns'!$K$3=TRUE,'Order Form'!$D$10<>\"\"),IF('Order Form'!$D$10=\"\",\"\",'Order Form'!$D$10&\", \")&'Order Form'!$D$11&\" \"&'Order Form'!$D$12,IF('Order Form'!$L$10=\"\",\"\",IF('Order Form'!$L$10=\"\",\"\",'Order Form'!$L$10&\", \")&'Order Form'!$L$11&\" \"&'Order Form'!$L$12))","v":""}]
[null,"Email:",{"$f":"IF('Order Form'!J6=\"\",\"\",'Order Form'!J6)","v":""},null,null,"Tax Rate:",{"v":0.102,"d":"10.2%"}]
[{"$nulls":13},"For office use, will not print"]
[]
[null,null,"Item",null,null,"Qty",{"$nulls":7},"Price Per","Totals"]
[null,null,"Base, Wall and Vanity Boxes",{"$nulls":10},{"v":95,"d":"$95"},{"$f":"IF(F15>=1,F15*N15,\"\")","v":""}]
[null,null,"Tall Boxes",{"$nulls":10},{"v":190,"d":"$190"},""]
[null,null,"Crown Molding",{"$nulls":10},{"v":95,"d":"$95"},""]
[null,null,"Panels",{"$nulls":10},{"v":140,"d":"$140"},""]
[null,null,"Skins",{"$nulls":10},{"v":20,"d":"$20"},""]
[null,null,"Corbels",{"$nulls":10},{"v":12,"d":"$12"},""]
[null,null,"Extra Hours (per man hour)",{"$nulls":10},{"v":90,"d":"$90"},""]
[null,null,"Hardware (per hole)",{"$nulls":10},{"v":5,"d":"$5"},""]
[null,null,"Tear Out --- sq. ft. of Countertop",{"$nulls":10},{"v":10,"d":"$10"},""]
[null,null,"Tear Out ---- # of boxes",{"$nulls":10},{"v":20,"d":"$20"},""]
[null,null,"Miles from Shop to Jobsite\n (one way road miles)",{"$nulls":10},{"v":2,"d":"$2"},""]
[null,null,"Extras ?",{"$nulls":10},{"v":1,"d":"$1"},{"$f":"IF(F26>=1,F26*N26,\"\")","v":""}]
[{"$nulls":12},"Type cabinet price from other order form:"]
[]
[{"$nulls":13},"Total of Cabinets:",{"$f":"'Order Form'!M133+O28","v":{"v":0,"d":"$0.00"}}]
[null,null,"Notes: "]
[{"$nulls":12},"Install Price:",null,{"$f":"IF(SUM(O15:O26)>(O29*0.16),IF(SUM(O15:O26)<480,480,SUM(O15:O26)),IF(O29>40000,(O29*0.25),(O29*0.16)))","v":{"v":0,"d":"$0.00"}}]
[]
[{"$nulls":13},"*Enter all variables. This sheet will calculate the install price to match the job."]
[]
[]
[null,"Salesperson",{"$nulls":3},"Installer"]
[]
[]
[]
[]
[null,"Assumptions And Responsibilities of Installer:"]
[null,"Proper measures will be taken to prevent damage to clients flooring."]
[null,"Any changes to plan or this summary need to be documented by change-order, and sales person must be informed."]
[null,"Installer and sales person should work together in order to ensure mutual understanding of job requirements and special details."]
[null,"Installer is responsible for damage caused by neglect. "]
[null,"Sink disconnect included in counter tear out. Appliance disconnect included with cabinet tear out. "]
[null,"Disclaimer: "]
[null,"In the event of unforeseen hazards or issues uncovered during tear out, tear out will be halted until the client approves the installers proposed course of action (and increase in cost, if applicable). Founder's Choice is not responsible for paint, drywall, wall coverings or baseboard moldings, unless otherwise noted. "]
[null,{"$f":"\"Print Date: \"& TEXT(TODAY(), \"mm/dd/yy\")","v":"Print Date: 01/08/20"},{"$nulls":7},{"$f":"'Order Form'!K142","v":"Revision Date: 1-8-2020"}]

{"sheet":"Install Bid","index":8,"n_rows":50,"n_cols":9,"rows_kept":50,"hidden":true,"merged":[[0,0,2,8],[3,0,3,8],[5,2,5,3],[5,5,5,6],[6,2,6,3],[6,5,6,7],[7,2,7,3],[7,5,7,7],[8,2,8,3],[8,5,8,7],[9,2,9,3],[10,6,10,7],[11,1,11,7],[12,1,12,7],[13,1,13,7],[14,1,14,7],[15,1,15,7],[16,1,16,7],[31,1,31,7],[33,1,36,7],[44,3,44,5],[47,1,47,6],[48,0,48,8]]}
[]
[]
[]
[" Cabinet Installation Quote "]
[]
[null,"Customer",{"$f":"IF('Order Form'!J2=\"\",\"\",'Order Form'!J2)","v":""},null,"Sales Rep",{"$f":"IF('Order Form'!M3=\"\",\"\",'Order Form'!M3)","v":""}]
[null,"Contact Name",{"$f":"IF('Order Form'!J3=\"\",\"\",'Order Form'!J3)","v":""},null,"Install Address",{"$f":"'Install Calc'!G8","v":""}]
[null,"Cust PO",{"$f":"IF('Order Form'!$J$4=\"\",\"\",'Order Form'!$J$4)","v":""}]
[null,"Email",{"$nulls":3},{"$f":"'Install Calc'!G10","v":""}]
[null,"Phone #",{"$f":"IF('Order Form'!J5=\"\",\"\",'Order Form'!J5)","v":""}]
{"$rows_empty":10}
[null,"Install Includes:"]
[]
[null,"•Setting and securing all cabinets, corbels, and trim moldings in place for day to day use. "]
[null,"•Cabinet tops will be made flat in order to facilitate installation of countertops."]
[null,{"$f":"IF('Install Calc'!F24>1,\"•Tear out of existing Cabinets\",\" \")","v":" "}]
[null,{"$f":"IF('Install Calc'!F23>1,\"•Tear out of existing Countertops\",\"\")","v":""}]
[]
[null,"Not covered in this agreement:"]
[]
[null,"•Abnormalities uncovered by tear out"]
[null,"•Any and all plumbing or electrical work "]
[null,"•Hardware not supplied by Founder's Choice will be installed by Founder's Choice on an hourly basis. "]
[null,"•Any moving, arranging, placing or installation of appliances."]
[null,"•Founder's Choice will disconnect water and drain lines from the sink, however there are times that water lines will slowly drip, we cannot be held responsible for this or other plumbing issues."]
[]
[]
[]
[]
[]
[null,null,"Installation Price:",{"$f":"('Install Calc'!O31)","v":{"v":0,"d":"$0.00"}}]
[null,"Tax:",{"$f":"'Install Calc'!G11","v":{"v":0.102,"d":"10.2%"}},{"$f":"IF(OR(C41=\"RESELLER\",C41=\"Out of State\",C41=\"OOS\"),0,('Install Calc'!O31)*C41)","v":{"v":0,"d":"$0.00"}}]
[null,null,"Total Installation Price:",{"$f":"D40+D41","v":{"v":0,"d":"$0.00"}}]
[]
[]
[null,null,"Customer Approval",{"$nulls":3},"Date"]
[]
[]
[]
["In the event of unforeseen hazards or issues uncovered during tear out: tear out will be halted until the client approves the installers proposed course of action (and increase in cost, if applicable). Founder's Choice is not responsible for paint, drywall, wall coverings or baseboard moldings, unless otherwise stated in writing. "]
[{"$f":"\"Print Date: \"& TEXT(TODAY(), \"mm/dd/yy\")","v":"Print Date: 01/08/20"},{"$nulls":7},{"$f":"'Order Form'!K142","v":"Revision Date: 1-8-2020"}]

{"sheet":"Order Specifications","index":9,"n_rows":98,"n_cols":10,"rows_kept":98,"merged":[[1,1,5,9],[6,1,7,9],[8,1,17,3],[8,4,12,4],[8,5,12,5],[8,6,12,6],[8,7,12,7],[8,8,12,9],[13,4,17,4],[13,5,17,5],[13,6,17,6],[13,7,17,7],[13,8,17,9],[18,1,20,9],[21,1,22,3],[21,4,22,5],[21,6,22,7],[21,8,22,9],[23,8,23,9],[24,8,24,9],[25,8,25,9],[26,8,26,9],[27,8,27,9],[28,8,28,9],[29,8,29,9],[35,1,36,3],[35,4,36,5],[35,6,36,7],[35,8,36,9],[37,1,39,5],[37,6,39,9],[40,1,41,5],[40,6,41,9],[42,1,45,5],[42,6,45,9],[46,1,47,9],[48,1,49,3],[48,4,49,5],[48,6,49,9],[50,1,51,1],[50,2,51,3],[50,4,51,5],[50,6,51,9],[52,1,52,2],[52,6,52,7],[52,8,52,9],[53,6,53,7],[53,8,53,9],[54,8,54,9],[55,8,55,9],[56,8,56,9],[57,8,57,9],[58,6,58,7],[58,8,58,9],[59,8,59,9],[60,8,60,9],[61,6,61,7],[61,8,61,9],[62,8,62,9],[63,8,63,9],[64,8,64,9],[65,1,66,1],[65,2,66,3],[65,8,65,9],[66,8,66,9],[67,1,67,2],[67,4,68,5],[67,8,67,9],[68,1,68,2],[68,8,68,9],[69,4,70,5],[69,8,69,9],[70,6,71,9],[72,6,73,9],[74,6,75,9],[75,1,75,2],[77,1,78,5],[79,1,85,2],[79,3,85,5],[84,6,85,9],[86,3,86,5],[86,6,87,9],[87,3,87,5],[88,3,88,5],[88,6,89,7],[88,8,89,9],[89,3,89,5],[90,1,91,9],[94,1,95,5],[94,6,95,9],[96,6,96,9],[97,6,97,9]]}
[]
[]
[]
[]
[]
[]
[null,"Select Finish Upgrades Layout"]
[]
[null,"The \"Select\" Order Type and pricing will be produced with either of the two following selections:",null,null,"Species - \nWhite Birch","Door Style -  \nShaker FS\naka\nSelect Shaker","Custom Finish - None","Drawer Head -\n5 Piece","Color -\n Any option, this selection won't affect Order type, but it will affect lead times"]
[]
[]
[]
[]
[{"$nulls":4},"Species - \nMDF","Door Style -  \nMt Adams","Custom Finish - Not Available","Drawer Head -\nSlab","Color -\n Any painted option, this selection won't affect Order type, but it will affect lead times"]
[]
[]
[]
[]
[null,"FC colors\n are our standard offering that we feel can complement any home!"]
[]
[]
[null,"Stains",null,null,"       Add Percentage",null,"Paints",null,"Add Percentage"]
[]
[]
[null,"     Amber",null,null,{"v":0.1,"d":"10%"},null,"     Biscuit",null,{"v":0.1,"d":"10%"}]
[null,"     Ash",null,null,{"v":0.1,"d":"10%"},null,"     Cappuccino",null,{"v":0.1,"d":"10%"}]
[null,"     Black",null,null,{"v":0,"d":"0%"},null,"     Cranberry",null,{"v":0.1,"d":"10%"}]
[null,"     Chestnut",null,null,{"v":0.1,"d":"10%"},null,"     Linen",null,{"v":0.1,"d":"10%"}]
[null,"     Espresso",null,null,{"v":0.1,"d":"10%"},null,"     Pearl",null,{"v":0.1,"d":"10%"}]
[null,"     Java",null,null,{"v":0.1,"d":"10%"},null,"     Slate",null,{"v":0.1,"d":"10%"}]
[null,"     Merlot",null,null,{"v":0.1,"d":"10%"}]
[null,"     Mocha",null,null,{"v":0,"d":"0%"}]
[null,"     Natural",null,null,{"v":0,"d":"0%"}]
[]
[]
[null,"Catalog Color",null,null,{"v":0.25,"d":"25%"},null,"Custom Color Match",null,{"v":0.35,"d":"35%"}]
[]
[null,"We offer that any customer can pick from a virtually unlimited variety of colors from our finish suppliers: Sherwin Williams, Rudd Company, Rodda Paint.",{"$nulls":4},"If you have a color that is unlike any other, we will custom match to your sample."]
[]
[]
[null,"Shaker FS          -Price included",{"$nulls":4},"Mt Adams         -Price included"]
[]
[null,"Founder's Choice Select Shaker doorstyle, this timeless look has 5 piece drawer heads and finger scoops as a standard",{"$nulls":4},"Mt Adams is a classic slab door style with slab drawer fronts, available in paint only with a solid MDF core. "]
[]
[]
[]
[null,"Craftsman Upgrades Layout"]
[]
[null,"Color",null,null,"Wood Species",null,"Door Styles"]
[]
[null,"Stains","Add Percentage",null,"Add Percentage to Cabinet",null,"Add Percentage to Cabinet"]
[]
[]
[null,"     Amber",null,{"v":0,"d":"0%"},"     Alder ",{"v":0.25,"d":"25%"},"   Raised Panel - Custom",null,{"v":0.3,"d":"30%"}]
[null,"     Ash",null,{"v":0,"d":"0%"},"     Beech",{"v":0,"d":"0%"},"      Regent",null,{"v":0.25,"d":"25%"}]
[null,"     Black",null,{"v":0,"d":"0%"},"     Cherry",{"v":0.19999999999999996,"d":"20%"},"      Grandview FS",null,{"v":0.25,"d":"25%"}]
[null,"     Chestnut",null,{"v":0,"d":"0%"},"     Maple",{"v":0.10000000000000009,"d":"10%"},"      McCormick",null,{"v":0.25,"d":"25%"}]
[null,"     Espresso",null,{"v":0,"d":"0%"},"     Paint Grade Maple",{"v":0.10000000000000009,"d":"10%"},"      Ruston FS",null,{"v":0.25,"d":"25%"}]
[null,"     Java",null,{"v":0,"d":"0%"},"     Paint Grade MDF",{"v":0,"d":"0%"},"   Orchard (Beaded)",null,{"v":0.3,"d":"30%"}]
[null,"     Merlot",null,{"v":0,"d":"0%"},"     Red Oak",{"v":0.10000000000000009,"d":"10%"},"   Bridgeport (Slab)",null,{"v":0.25,"d":"25%"}]
[null,"     Mocha",null,{"v":0,"d":"0%"},"     Rustic Alder",{"v":0.35,"d":"35%"},"   Mt Adams (Slab)",null,{"v":0,"d":"0%"}]
[null,"     Natural",null,{"v":0.05,"d":"5%"},"     Rustic Beech",{"v":0.10000000000000009,"d":"10%"},"   Recessed Panel - Custom",null,{"v":0.25,"d":"25%"}]
[null,"     Stain Catalog",null,{"v":0.15,"d":"15%"},"     Rustic Cherry",{"v":0.30000000000000004,"d":"30%"},"      Lexington",null,{"v":0,"d":"0%"}]
[null,"     Stain Match",null,{"v":0,"d":"0%"},"     Rustic Hickory",{"v":0.2,"d":"20%"},"      Old Town FS",null,{"v":0,"d":"0%"}]
[{"$nulls":4},"     White Birch",{"v":0.10000000000000009,"d":"10%"},"      Pacific",null,{"v":0,"d":"0%"}]
[null,"Paints","Add Percentage",null,"     White Oak",{"v":0.19999999999999996,"d":"20%"},"      Pioneer FS",null,{"v":0,"d":"0%"}]
[{"$nulls":6},"      Proctor FS",null,{"v":0,"d":"0%"}]
[{"$nulls":4},"Drawer Head",null,"      Shaker FS",null,{"v":0,"d":"0%"}]
[null,"     Slate",null,{"v":0,"d":"0%"},null,null,"      Union FS",null,{"v":0,"d":"0%"}]
[null,"     Linen",null,{"v":0,"d":"0%"},"Add Percentage to Cabinet",null,"      Whitman",null,{"v":0,"d":"0%"}]
[null,"     Pearl",null,{"v":0,"d":"0%"},null,null,"FS Finger Scoops are optionally available on styles marked FS for a 3% fee."]
[null,"     Cranberry",null,{"v":0,"d":"0%"}]
[null,"     Biscuit",null,{"v":0,"d":"0%"},"     Slab",{"v":0,"d":"0%"},"Misc. Upgrades"]
[null,"     Cappuccino",null,{"v":0,"d":"0%"},"     Slab Top",{"v":0.03,"d":"3%"}]
[null,"     Paint Catalog",null,{"v":0.050000000000000044,"d":"5%"},"     5 PCS",{"v":0.05,"d":"5%"},"Add Percentage to Cabinet"]
[null,"     Paint Match",null,{"v":0.1499999999999999,"d":"15%"},"     5 PCS Top",{"v":0.03,"d":"3%"}]
[]
[null,"Prepped for Glass Doors/No Doors --- Glass Not Included",{"$nulls":4},"Dual Tone ",null,{"v":0.15,"d":"15%"}]
[{"$nulls":6},"Color Matched Interior",null,{"v":0.4,"d":"40%"}]
[null,"Add Percentage to Cabinet",null,"We are able to offer the following sizes for cut for glass:\nCut for Glass - Framed: Single Door Cabinet 15-22.5\" \nCut for Glass - Framed: Double Door Cabinet 30-39\" \nCut for Glass - Divided: Cabinet Width Greater than 9\" \nCut for Glass - Clear: No restrictions",null,null,"Species and Color Match Interiors",null,{"v":0.6000000000000001,"d":"60%"}]
[{"$nulls":6},"Color Match and Dual Tone",null,{"v":0.45,"d":"45%"}]
[{"$nulls":6},"Species Match and Dual Tone",null,{"v":0.65,"d":"65%"}]
[{"$nulls":6},"Craftsman No Doors",null,null,{"v":-0.2,"d":"-20%"}]
[]
[{"$nulls":6},"Custom Finish"]
[]
[null,"Cut for Glass - Clear",null,{"v":0,"d":"0%"},null,null,"Add Percentage to Cabinet"]
[null,"Cut for Glass - Divided",null,{"v":0.35,"d":"35%"}]
[null,"Cut for Glass - Framed",null,{"v":0.4,"d":"40%"},null,null,"Glaze",null,{"v":0.2,"d":"20%"}]
[null,"No Doors",null,"20% Discount for ordering a Craftsman cabinet without doors."]
[null,"Applied Skins "]
[]
[null,"Founder's Choice will apply skins for an extra charge.  For both Select and Craftsman, the price is added to the item price when the positioning is selected. "]
[]
[null,"Application fee per Skin",{"$nulls":4},"Application fee for Skin and Plant on Door"]
[]
[null,"   Base, Wall and Vanity Applied Skins",{"$nulls":3},{"v":15,"d":"$15"},{"v":20,"d":"$20"}]
[null,"   Tall Cabinet (Linen, Utility, Oven Cabinets)",{"$nulls":3},{"v":30,"d":"$30"},{"v":35,"d":"$35"}]

{"sheet":"Items","index":10,"n_rows":874,"n_cols":46,"rows_kept":874,"merged":[[0,41,1,44]]}
[{"$nulls":3},4,5,0.78,{"v":1.1,"d":"1.10"},"Everything else",9,10,11,12,13,14,15,16,17,18,19,20,21,22,23,24,25,26,27,28,29,30,31,32,33,34,35,null,null,"Price Change September 2019 - This change will be eliminating the 41 vs 54 dsecrepancy ",{"$nulls":3},"Need to Record Price Adjustments"]
[{"$nulls":7},"VB, LS,WOS"]
["Item Codes","Description","Updated Base Price","Order From Default by Item","PB Eligible","Select Price","Craftsman Price","IF Pull","Color Like this Prefix","Prefix","Suffix","Drawing Needed ","Full Cabinet (Delivery and UDF_num cabinets)","Sage Sku","Boxes","Qty","Frame Pre Concate","Frame","Qty","Accessory","Qty","Drawer Guide","Qty",null,"List Prices Select","List Price Craftsman",null,"Select color","Craftsman Color","Show on Items Tab?","Cabinet Type - Skins\n1- Full Cabinet1 - Full Cabinet\n2 - Tall Cabinet (UC, LC)\n3 - Trim, Accessories, things that can have applied skins","Skin type","Increase Depth","Decrease Depth","Require Hinge Orientation","Grouping","Updated Base Price","Notes","Select Base","Change","Change Category ",null,null,"400/sheet",{"$f":"400/32","v":12.5},"From Vanity Sheet"]
["2DFC18","2 Drawer File Cabinet 18\"",{"v":710,"d":"$710.00"},3,null,null,{"$f":"$C4*$G$1*'Order Form'!$Q$18*(Color!$D$6+'Door Style'!$G$6+Species!$C$6+'Drawer Head'!$E$6+'Custom Finish'!$C$6)","v":{"$error":"#VALUE!"}},null,"SC/PC",{"$f":"'Order Type'!$C$6","v":"01-"},{"$f":"CONCAT!$D$8","v":""},null,1,{"$f":"J4&A4&K4","v":"01-2DFC18"},"11-2DFC18",1,"12-2DFC18",{"$f":"Q4&K4","v":"12-2DFC18"},1,null,null,"DG 18IN VANITY SET-DTC",2,null,null,{"$f":"$C4*$G$1*1*(Color!$D$8+'Door Style'!$G$6+Species!$C$6+'Drawer Head'!$E$6+'Custom Finish'!$C$6)","v":{"$error":"#VALUE!"}},null,"Black","Light Gray",null,"1","BSKIN",175,150,"N","Office Components - Cabinet",{"$f":"ROUNDUP(AM4*AN4,0)","v":{"v":710,"d":"$710.00"}},"Price change for fall 2019",{"v":503,"d":"$503.00"},1.41,"G1",{"$nulls":4},{"$error":"#N/A"}]
["2DFC21","2 Drawer File Cabinet 21\"",{"v":828,"d":"$828.00"},3,null,null,{"$f":"$C5*$G$1*'Order Form'!$Q$18*(Color!$D$6+'Door Style'!$G$6+Species!$C$6+'Drawer Head'!$E$6+'Custom Finish'!$C$6)","v":{"$error":"#VALUE!"}},null,"SC/PC",{"$f":"'Order Type'!$C$6","v":"01-"},{"$f":"CONCAT!$D$8","v":""},null,1,"01-2DFC21","11-2DFC21",1,"12-2DFC21","12-2DFC21",1,null,null,"DG 18IN VANITY SET-DTC",2,null,null,{"$f":"$C5*$G$1*1*(Color!$D$8+'Door Style'!$G$6+Species!$C$6+'Drawer Head'!$E$6+'Custom Finish'!$C$6)","v":{"$error":"#VALUE!"}},null,"Black","Light Gray",null,"1","BSKIN",175,150,"N ","Office Components - Cabinet",{"$f":"ROUNDUP(AM5*AN5,0)","v":{"v":828,"d":"$828.00"}},"Price change for fall 2019",{"v":587,"d":"$587.00"},1.41,"G1",{"$nulls":4},{"$error":"#N/A"}]
["2DFC40","2 Drawer File Cabinet 40\"",{"v":1574,"d":"$1,574.00"},3,null,null,{"$f":"$C6*$G$1*'Order Form'!$Q$18*(Color!$D$6+'Door Style'!$G$6+Species!$C$6+'Drawer Head'!$E$6+'Custom Finish'!$C$6)","v":{"$error":"#VALUE!"}},null,"SC/PC",{"$f":"'Order Type'!$C$6","v":"01-"},{"$f":"CONCAT!$D$8","v":""},null,1,"01-2DFC40","11-2DFC40",1,"12-2DFC40","12-2DFC40",1,null,null,"DG 18IN VANITY SET-BLUM",2,null,null,{"$f":"$C6*$G$1*1*(Color!$D$8+'Door Style'!$G$6+Species!$C$6+'Drawer Head'!$E$6+'Custom Finish'!$C$6)","v":{"$error":"#VALUE!"}},null,"Black","Light Gray",null,"1","BSKIN",175,150,"N","Office Components - Cabinet",{"$f":"ROUNDUP(AM6*AN6,0)","v":{"v":1574,"d":"$1,574.00"}},"Price change for fall 2019",{"v":1116,"d":"$1,116.00"},1.41,"G1",{"$nulls":4},{"$error":"#N/A"}]
["2DVSB36","Vanity Combo Unit 36\"",{"v":917,"d":"$917.00"},2,null,{"$f":"$C7*$F$1*'Order Form'!$Q$18*(Color!$C$6+'Door Style'!$H$6)","v":{"$error":"#VALUE!"}},{"$f":"$C7*$G$1*'Order Form'!$Q$18*(Color!$D$6+'Door Style'!$G$6+Species!$C$6+'Drawer Head'!$E$6+'Custom Finish'!$C$6)","v":{"$error":"#VALUE!"}},null,{"$f":"'Order Type'!$C$6","v":"01-"},{"$f":"'Order Type'!$C$6","v":"01-"},{"$f":"CONCAT!$D$2","v":""},null,1,"01-2DVSB36","11-2DVSB36",1,"12-2DVSB36","12-2DVSB36",1,null,null,"DG 18IN VANITY SET-DTC",2,null,{"$f":"$C7*$F$1*(Color!$C$8+'Door Style'!$H$6)","v":{"v":786.7860000000001,"d":"$786.79"}},{"$f":"$C7*$G$1*1*(Color!$D$8+'Door Style'!$G$6+Species!$C$6+'Drawer Head'!$E$6+'Custom Finish'!$C$6)","v":{"$error":"#VALUE!"}},null,"Light Blue","Light Yellow",null,"1","BSKIN",175,150,"N","Vanity - Combo Units",{"$f":"ROUNDUP(AT7,0)","v":{"v":917,"d":"$917.00"}},"Price change for fall 2019",{"v":595,"d":"$595.00"},null,"Vanity Sheet",{"$nulls":4},917]
["2DVSB36T","Vanity Combo Unit 36\" Tall",{"v":1128,"d":"$1,128.00"},3,null,null,{"$f":"$C8*$G$1*'Order Form'!$Q$18*(Color!$D$6+'Door Style'!$G$6+Species!$C$6+'Drawer Head'!$E$6+'Custom Finish'!$C$6)","v":{"$error":"#VALUE!"}},null,"SC/PC",{"$f":"'Order Type'!$C$6","v":"01-"},{"$f":"CONCAT!$D$8","v":""},null,1,"01-2DVSB36T","11-2DVSB36T",1,"12-2DVSB36T","12-2DVSB36T",1,null,null,"DG 18IN VANITY SET-DTC",2,null,null,{"$f":"$C8*$G$1*1*(Color!$D$8+'Door Style'!$G$6+Species!$C$6+'Drawer Head'!$E$6+'Custom Finish'!$C$6)","v":{"$error":"#VALUE!"}},null,"Black","Light Yellow",null,1,"BSKIN",175,150,"N","Vanity - Combo Units",{"$f":"ROUNDUP(AT8,0)","v":{"v":1128,"d":"$1,128.00"}},"Price change for fall 2019",{"v":732,"d":"$732.00"},null,"G2",{"$nulls":4},1128]
["2DVSB42","Vanity Combo Unit 42\"",{"v":1008,"d":"$1,008.00"},2,null,{"$f":"$C9*$F$1*'Order Form'!$Q$18*(Color!$C$6+'Door Style'!$H$6)","v":{"$error":"#VALUE!"}},{"$f":"$C9*$G$1*'Order Form'!$Q$18*(Color!$D$6+'Door Style'!$G$6+Species!$C$6+'Drawer Head'!$E$6+'Custom Finish'!$C$6)","v":{"$error":"#VALUE!"}},null,{"$f":"'Order Type'!$C$6","v":"01-"},{"$f":"'Order Type'!$C$6","v":"01-"},{"$f":"CONCAT!$D$2","v":""},null,1,"01-2DVSB42","11-2DVSB42",1,"12-2DVSB42","12-2DVSB42",1,null,null,"DG 18IN VANITY SET-DTC",2,null,{"$f":"$C9*$F$1*(Color!$C$8+'Door Style'!$H$6)","v":{"v":864.864,"d":"$864.86"}},{"$f":"$C9*$G$1*1*(Color!$D$8+'Door Style'!$G$6+Species!$C$6+'Drawer Head'!$E$6+'Custom Finish'!$C$6)","v":{"$error":"#VALUE!"}},null,"Light Blue","Light Yellow",null,"1","BSKIN",175,150,"N","Vanity - Combo Units",{"$f":"ROUNDUP(AT9,0)","v":{"v":1008,"d":"$1,008.00"}},"Price change for fall 2019",{"v":654,"d":"$654.00"},null,"G2",{"$nulls":4},1008]
["2DVSB42T","Vanity Combo Unit 42\" Tall",{"v":1057,"d":"$1,057.00"},3,null,null,{"$f":"$C10*$G$1*'Order Form'!$Q$18*(Color!$D$6+'Door Style'!$G$6+Species!$C$6+'Drawer Head'!$E$6+'Custom Finish'!$C$6)","v":{"$error":"#VALUE!"}},null,"SC/PC",{"$f":"'Order Type'!$C$6","v":"01-"},{"$f":"CONCAT!$D$8","v":""},null,1,"01-2DVSB42T","11-2DVSB42T",1,"12-2DVSB42T","12-2DVSB42T",1,null,null,"DG 18IN VANITY SET-DTC",2,null,null,{"$f":"$C10*$G$1*1*(Color!$D$8+'Door Style'!$G$6+Species!$C$6+'Drawer Head'!$E$6+'Custom Finish'!$C$6)","v":{"$error":"#VALUE!"}},null,"Black","Light Yellow",null,1,"BSKIN",175,150,"N","Vanity - Combo Units",{"$f":"ROUNDUP(AT10,0)","v":{"v":1057,"d":"$1,057.00"}},"Price change for fall 2019",{"v":686,"d":"$686.00"},null,"G2",{"$nulls":4},1057]
["3DB12","3 Drawer Base 12\"",{"v":748,"d":"$748.00"},2,null,{"$f":"$C11*$F$1*'Order Form'!$Q$18*(Color!$C$6+'Door Style'!$H$6)","v":{"$error":"#VALUE!"}},{"$f":"$C11*$G$1*'Order Form'!$Q$18*(Color!$D$6+'Door Style'!$G$6+Species!$C$6+'Drawer Head'!$E$6+'Custom Finish'!$C$6)","v":{"$error":"#VALUE!"}},null,{"$f":"'Order Type'!$C$6","v":"01-"},{"$f":"'Order Type'!$C$6","v":"01-"},{"$f":"CONCAT!$D$2","v":""},null,1,"01-3DB12","11-3DB12",1,"12-3DB12","12-3DB12",1,null,null,"DG 21IN KITCHEN SET-DTC",3,null,{"$f":"$C11*$F$1*(Color!$C$8+'Door Style'!$H$6)","v":{"v":641.7840000000001,"d":"$641.78"}},{"$f":"$C11*$G$1*1*(Color!$D$8+'Door Style'!$G$6+Species!$C$6+'Drawer Head'!$E$6+'Custom Finish'!$C$6)","v":{"$error":"#VALUE!"}},null,"Light Blue","Light Gray",null,"1","BSKIN",225,200,"N","Base Cabinet - 3 Drawer Base",{"$f":"ROUNDUP(AM11*AN11,0)","v":{"v":748,"d":"$748.00"}},"Price change for fall 2019",{"v":530,"d":"$530.00"},1.41,"G1",{"$nulls":4},{"$error":"#N/A"}]
["3DB13.5","3 Drawer Base 13.5\"",{"v":821,"d":"$821.00"},3,null,null,{"$f":"$C12*$G$1*'Order Form'!$Q$18*(Color!$D$6+'Door Style'!$G$6+Species!$C$6+'Drawer Head'!$E$6+'Custom Finish'!$C$6)","v":{"$error":"#VALUE!"}},null,"SC/PC",{"$f":"'Order Type'!$C$6","v":"01-"},{"$f":"CONCAT!$D$8","v":""},null,1,"01-3DB13.5","11-3DB13.5",1,"12-3DB13.5","12-3DB13.5",1,null,null,"DG 21IN KITCHEN SET-DTC",3,null,null,{"$f":"$C12*$G$1*1*(Color!$D$8+'Door Style'!$G$6+Species!$C$6+'Drawer Head'!$E$6+'Custom Finish'!$C$6)","v":{"$error":"#VALUE!"}},null,"Black","Light Gray",null,"1","BSKIN",225,200,"N","Base Cabinet - 3 Drawer Base",{"v":821,"d":"$821.00"},"Price change for fall 2019",{"v":582,"d":"$582.00"},1.41,"G1",{"$nulls":4},{"$error":"#N/A"}]
["3DB15","3 Drawer Base 15\"",{"v":817,"d":"$817.00"},2,"PB",{"$f":"$C13*$F$1*'Order Form'!$Q$18*(Color!$C$6+'Door Style'!$H$6)","v":{"$error":"#VALUE!"}},{"$f":"$C13*$G$1*'Order Form'!$Q$18*(Color!$D$6+'Door Style'!$G$6+Species!$C$6+'Drawer Head'!$E$6+'Custom Finish'!$C$6)","v":{"$error":"#VALUE!"}},null,{"$f":"'Order Type'!$C$6","v":"01-"},{"$f":"'Order Type'!$C$6","v":"01-"},{"$f":"CONCAT!$D$2","v":""},null,1,"01-3DB15","11-3DB15",1,"12-3DB15","12-3DB15",1,null,null,"DG 21IN KITCHEN SET-DTC",3,null,{"$f":"$C13*$F$1*(Color!$C$8+'Door Style'!$H$6)","v":{"v":700.986,"d":"$700.99"}},{"$f":"$C13*$G$1*1*(Color!$D$8+'Door Style'!$G$6+Species!$C$6+'Drawer Head'!$E$6+'Custom Finish'!$C$6)","v":{"$error":"#VALUE!"}},null,"Light Blue","Light Gray",null,"1","BSKIN",225,200,"N","Base Cabinet - 3 Drawer Base",{"v":817,"d":"$817.00"},"Price change for fall 2019",{"v":579,"d":"$579.00"},1.41,"G1",{"$nulls":4},{"$error":"#N/A"}]
["3DB16.5","3 Drawer Base 16.5\"",{"v":890,"d":"$890.00"},3,null,null,{"$f":"$C14*$G$1*'Order Form'!$Q$18*(Color!$D$6+'Door Style'!$G$6+Species!$C$6+'Drawer Head'!$E$6+'Custom Finish'!$C$6)","v":{"$error":"#VALUE!"}},null,"SC/PC",{"$f":"'Order Type'!$C$6","v":"01-"},{"$f":"CONCAT!$D$8","v":""},null,1,"01-3DB16.5","11-3DB16.5",1,"12-3DB16.5","12-3DB16.5",1,null,null,"DG 21IN KITCHEN SET-DTC",3,null,null,{"$f":"$C14*$G$1*1*(Color!$D$8+'Door Style'!$G$6+Species!$C$6+'Drawer Head'!$E$6+'Custom Finish'!$C$6)","v":{"$error":"#VALUE!"}},null,"Black","Light Gray",null,"1","BSKIN",225,200,"N","Base Cabinet - 3 Drawer Base",{"v":890,"d":"$890.00"},"Price change for fall 2019",{"v":631,"d":"$631.00"},1.41,"G1",{"$nulls":4},{"$error":"#N/A"}]
["3DB18","3 Drawer Base 18\"",{"v":885,"d":"$885.00"},2,"PB",{"$f":"$C15*$F$1*'Order Form'!$Q$18*(Color!$C$6+'Door Style'!$H$6)","v":{"$error":"#VALUE!"}},{"$f":"$C15*$G$1*'Order Form'!$Q$18*(Color!$D$6+'Door Style'!$G$6+Species!$C$6+'Drawer Head'!$E$6+'Custom Finish'!$C$6)","v":{"$error":"#VALUE!"}},null,{"$f":"'Order Type'!$C$6","v":"01-"},{"$f":"'Order Type'!$C$6","v":"01-"},{"$f":"CONCAT!$D$2","v":""},null,1,"01-3DB18","11-3DB18",1,"12-3DB18","12-3DB18",1,null,null,"DG 21IN KITCHEN SET-DTC",3,null,{"$f":"$C15*$F$1*(Color!$C$8+'Door Style'!$H$6)","v":{"v":759.3300000000002,"d":"$759.33"}},{"$f":"$C15*$G$1*1*(Color!$D$8+'Door Style'!$G$6+Species!$C$6+'Drawer Head'!$E$6+'Custom Finish'!$C$6)","v":{"$error":"#VALUE!"}},null,"Light Blue","Light Gray",null,"1","BSKIN",225,200,"N","Base Cabinet - 3 Drawer Base",{"v":885,"d":"$885.00"},"Price change for fall 2019",{"v":627,"d":"$627.00"},1.41,"G1",{"$nulls":4},{"$error":"#N/A"}]
["3DB19.5","3 Drawer Base 19.5\"",{"v":959,"d":"$959.00"},3,null,null,{"$f":"$C16*$G$1*'Order Form'!$Q$18*(Color!$D$6+'Door Style'!$G$6+Species!$C$6+'Drawer Head'!$E$6+'Custom Finish'!$C$6)","v":{"$error":"#VALUE!"}},null,"SC/PC",{"$f":"'Order Type'!$C$6","v":"01-"},{"$f":"CONCAT!$D$8","v":""},null,1,"01-3DB19.5","11-3DB19.5",1,"12-3DB19.5","12-3DB19.5",1,null,null,"DG 21IN KITCHEN SET-DTC",3,null,null,{"$f":"$C16*$G$1*1*(Color!$D$8+'Door Style'!$G$6+Species!$C$6+'Drawer Head'!$E$6+'Custom Finish'!$C$6)","v":{"$error":"#VALUE!"}},null,"Black","Light Gray",null,"1","BSKIN",225,200,"N","Base Cabinet - 3 Drawer Base",{"v":959,"d":"$959.00"},"Price change for fall 2019",{"v":680,"d":"$680.00"},1.41,"G1",{"$nulls":4},{"$error":"#N/A"}]
["3DB21","3 Drawer Base 21\"",{"v":954,"d":"$954.00"},2,null,{"$f":"$C17*$F$1*'Order Form'!$Q$18*(Color!$C$6+'Door Style'!$H$6)","v":{"$error":"#VALUE!"}},{"$f":"$C17*$G$1*'Order Form'!$Q$18*(Color!$D$6+'Door Style'!$G$6+Species!$C$6+'Drawer Head'!$E$6+'Custom Finish'!$C$6)","v":{"$error":"#VALUE!"}},null,{"$f":"'Order Type'!$C$6","v":"01-"},{"$f":"'Order Type'!$C$6","v":"01-"},{"$f":"CONCAT!$D$2","v":""},null,1,"01-3DB21","11-3DB21",1,"12-3DB21","12-3DB21",1,null,null,"DG 21IN KITCHEN SET-DTC",3,null,{"$f":"$C17*$F$1*(Color!$C$8+'Door Style'!$H$6)","v":{"v":818.532,"d":"$818.53"}},{"$f":"$C17*$G$1*1*(Color!$D$8+'Door Style'!$G$6+Species!$C$6+'Drawer Head'!$E$6+'Custom Finish'!$C$6)","v":{"$error":"#VALUE!"}},null,"Light Blue","Light Gray",null,"1","BSKIN",225,200,"N","Base Cabinet - 3 Drawer Base",{"v":954,"d":"$954.00"},"Price change for fall 2019",{"v":676,"d":"$676.00"},1.41,"G1",{"$nulls":4},{"$error":"#N/A"}]
["3DB22.5","3 Drawer Base 22.5\"",{"v":1034,"d":"$1,034.00"},3,null,null,{"$f":"$C18*$G$1*'Order Form'!$Q$18*(Color!$D$6+'Door Style'!$G$6+Species!$C$6+'Drawer Head'!$E$6+'Custom Finish'!$C$6)","v":{"$error":"#VALUE!"}},null,"SC/PC",{"$f":"'Order Type'!$C$6","v":"01-"},{"$f":"CONCAT!$D$8","v":""},null,1,"01-3DB22.5","11-3DB22.5",1,"12-3DB22.5","12-3DB22.5",1,null,null,"DG 21IN KITCHEN SET-DTC",3,null,null,{"$f":"$C18*$G$1*1*(Color!$D$8+'Door Style'!$G$6+Species!$C$6+'Drawer Head'!$E$6+'Custom Finish'!$C$6)","v":{"$error":"#VALUE!"}},null,"Black","Light Gray",null,"1","BSKIN",225,200,"N","Base Cabinet - 3 Drawer Base",{"v":1034,"d":"$1,034.00"},"Price change for fall 2019",{"v":733,"d":"$733.00"},1.41,"G1",{"$nulls":4},{"$error":"#N/A"}]
["3DB24","3 Drawer Base 24\"",{"v":1027,"d":"$1,027.00"},2,"PB",{"$f":"$C19*$F$1*'Order Form'!$Q$18*(Color!$C$6+'Door Style'!$H$6)","v":{"$error":"#VALUE!"}},{"$f":"$C19*$G$1*'Order Form'!$Q$18*(Color!$D$6+'Door Style'!$G$6+Species!$C$6+'Drawer Head'!$E$6+'Custom Finish'!$C$6)","v":{"$error":"#VALUE!"}},null,{"$f":"'Order Type'!$C$6","v":"01-"},{"$f":"'Order Type'!$C$6","v":"01-"},{"$f":"CONCAT!$D$2","v":""},null,1,"01-3DB24","11-3DB24",1,"12-3DB24","12-3DB24",1,null,null,"DG 21IN KITCHEN SET-DTC",3,null,{"$f":"$C19*$F$1*(Color!$C$8+'Door Style'!$H$6)","v":{"v":881.1660000000002,"d":"$881.17"}},{"$f":"$C19*$G$1*1*(Color!$D$8+'Door Style'!$G$6+Species!$C$6+'Drawer Head'!$E$6+'Custom Finish'!$C$6)","v":{"$error":"#VALUE!"}},null,"Light Blue","Light Gray",null,"1","BSKIN",225,200,"N","Base Cabinet - 3 Drawer Base",{"v":1027,"d":"$1,027.00"},"Price change for fall 2019",{"v":728,"d":"$728.00"},1.41,"G1",{"$nulls":4},{"$error":"#N/A"}]
["3DB25.5","3 Drawer Base 25.5\"",{"v":1127,"d":"$1,127.00"},3,null,null,{"$f":"$C20*$G$1*'Order Form'!$Q$18*(Color!$D$6+'Door Style'!$G$6+Species!$C$6+'Drawer Head'!$E$6+'Custom Finish'!$C$6)","v":{"$error":"#VALUE!"}},null,"SC/PC",{"$f":"'Order Type'!$C$6","v":"01-"},{"$f":"CONCAT!$D$8","v":""},null,1,"01-3DB25.5","11-3DB25.5",1,"12-3DB25.5","12-3DB25.5",1,null,null,"DG 21IN KITCHEN SET-DTC",3,null,null,{"$f":"$C20*$G$1*1*(Color!$D$8+'Door Style'!$G$6+Species!$C$6+'Drawer Head'!$E$6+'Custom Finish'!$C$6)","v":{"$error":"#VALUE!"}},null,"Black","Light Gray",null,"1","BSKIN",225,200,"N","Base Cabinet - 3 Drawer Base",{"v":1127,"d":"$1,127.00"},"Price change for fall 2019",{"v":799,"d":"$799.00"},1.41,"G1",{"$nulls":4},{"$error":"#N/A"}]
["3DB27","3 Drawer Base 27\"",{"v":1120,"d":"$1,120.00"},2,null,{"$f":"$C21*$F$1*'Order Form'!$Q$18*(Color!$C$6+'Door Style'!$H$6)","v":{"$error":"#VALUE!"}},{"$f":"$C21*$G$1*'Order Form'!$Q$18*(Color!$D$6+'Door Style'!$G$6+Species!$C$6+'Drawer Head'!$E$6+'Custom Finish'!$C$6)","v":{"$error":"#VALUE!"}},null,{"$f":"'Order Type'!$C$6","v":"01-"},{"$f":"'Order Type'!$C$6","v":"01-"},{"$f":"CONCAT!$D$2","v":""},null,1,"01-3DB27","11-3DB27",1,"12-3DB27","12-3DB27",1,null,null,"DG 21IN KITCHEN SET-DTC",3,null,{"$f":"$C21*$F$1*(Color!$C$8+'Door Style'!$H$6)","v":{"v":960.9600000000002,"d":"$960.96"}},{"$f":"$C21*$G$1*1*(Color!$D$8+'Door Style'!$G$6+Species!$C$6+'Drawer Head'!$E$6+'Custom Finish'!$C$6)","v":{"$error":"#VALUE!"}},null,"Light Blue","Light Gray",null,"1","BSKIN",225,200,"N","Base Cabinet - 3 Drawer Base",{"v":1120,"d":"$1,120.00"},"Price change for fall 2019",{"v":794,"d":"$794.00"},1.41,"G1",{"$nulls":4},{"$error":"#N/A"}]
["3DB30","3 Drawer Base 30\"",{"v":1186,"d":"$1,186.00"},2,"PB",{"$f":"$C22*$F$1*'Order Form'!$Q$18*(Color!$C$6+'Door Style'!$H$6)","v":{"$error":"#VALUE!"}},{"$f":"$C22*$G$1*'Order Form'!$Q$18*(Color!$D$6+'Door Style'!$G$6+Species!$C$6+'Drawer Head'!$E$6+'Custom Finish'!$C$6)","v":{"$error":"#VALUE!"}},null,{"$f":"'Order Type'!$C$6","v":"01-"},{"$f":"'Order Type'!$C$6","v":"01-"},{"$f":"CONCAT!$D$2","v":""},null,1,"01-3DB30","11-3DB30",1,"12-3DB30","12-3DB30",1,null,null,"DG 21IN KITCHEN SET-DTC",3,null,{"$f":"$C22*$F$1*(Color!$C$8+'Door Style'!$H$6)","v":{"v":1017.5880000000001,"d":"$1,017.59"}},{"$f":"$C22*$G$1*1*(Color!$D$8+'Door Style'!$G$6+Species!$C$6+'Drawer Head'!$E$6+'Custom Finish'!$C$6)","v":{"$error":"#VALUE!"}},null,"Light Blue","Light Gray",null,"1","BSKIN",225,200,"N","Base Cabinet - 3 Drawer Base",{"v":1186,"d":"$1,186.00"},"Price change for fall 2019",{"v":841,"d":"$841.00"},1.41,"G1",{"$nulls":4},{"$error":"#N/A"}]
["3DB33","3 Drawer Base 33\"",{"v":1449,"d":"$1,449.00"},3,null,null,{"$f":"$C23*$G$1*'Order Form'!$Q$18*(Color!$D$6+'Door Style'!$G$6+Species!$C$6+'Drawer Head'!$E$6+'Custom Finish'!$C$6)","v":{"$error":"#VALUE!"}},null,"PROJECT",{"$f":"'Order Type'!$C$6","v":"01-"},{"$f":"CONCAT!$D$2","v":""},null,1,"01-3DB33","11-3DB33",1,"12-3DB33","12-3DB33",1,null,null,"DG 21IN KITCHEN SET-DTC",3,null,null,{"$f":"$C23*$G$1*1*(Color!$D$8+'Door Style'!$G$6+Species!$C$6+'Drawer Head'!$E$6+'Custom Finish'!$C$6)","v":{"$error":"#VALUE!"}},null,"Black","Light Gray",null,"1","BSKIN",225,200,"N","Base Cabinet - 3 Drawer Base",{"v":1449,"d":"$1,449.00"},"Price change for fall 2019",{"v":1027,"d":"$1,027.00"},1.41,"G1",{"$nulls":4},{"$error":"#N/A"}]
["3DB36","3 Drawer Base 36\"",{"v":1719,"d":"$1,719.00"},3,null,null,{"$f":"$C24*$G$1*'Order Form'!$Q$18*(Color!$D$6+'Door Style'!$G$6+Species!$C$6+'Drawer Head'!$E$6+'Custom Finish'!$C$6)","v":{"$error":"#VALUE!"}},null,"PROJECT",{"$f":"'Order Type'!$C$6","v":"01-"},{"$f":"CONCAT!$D$2","v":""},null,1,"01-3DB36","11-3DB36",1,"12-3DB36","12-3DB36",1,null,null,"DG 21IN KITCHEN SET-DTC",3,null,null,{"$f":"$C24*$G$1*1*(Color!$D$8+'Door Style'!$G$6+Species!$C$6+'Drawer Head'!$E$6+'Custom Finish'!$C$6)","v":{"$error":"#VALUE!"}},null,"Black","Light Gray",null,"1","BSKIN",225,200,"N","Base Cabinet - 3 Drawer Base",{"v":1719,"d":"$1,719.00"},"Price change for fall 2019",{"v":1219,"d":"$1,219.00"},1.41,"G1",{"$nulls":4},{"$error":"#N/A"}]
["3DFC18","3 Drawer File Cabinet 18\"",{"v":751,"d":"$751.00"},3,null,null,{"$f":"$C25*$G$1*'Order Form'!$Q$18*(Color!$D$6+'Door Style'!$G$6+Species!$C$6+'Drawer Head'!$E$6+'Custom Finish'!$C$6)","v":{"$error":"#VALUE!"}},null,"SC/PC",{"$f":"'Order Type'!$C$6","v":"01-"},{"$f":"CONCAT!$D$8","v":""},null,1,"01-3DFC18","11-3DFC18",1,"12-3DFC18","12-3DFC18",1,null,null,"DG 18IN VANITY SET-DTC",3,null,null,{"$f":"$C25*$G$1*1*(Color!$D$8+'Door Style'!$G$6+Species!$C$6+'Drawer Head'!$E$6+'Custom Finish'!$C$6)","v":{"$error":"#VALUE!"}},null,"Black","Light Gray",null,"1","BSKIN",225,200,"N","Office Components - Cabinet",{"v":751,"d":"$751.00"},"Price change for fall 2019",{"v":532,"d":"$532.00"},1.41,"G1",{"$nulls":4},{"$error":"#N/A"}]
["3DVB12","3 Drawer Vanity Base 12\"",{"v":684,"d":"$684.00"},2,"PB",{"$f":"$C26*$F$1*'Order Form'!$Q$18*(Color!$C$6+'Door Style'!$H$6)","v":{"$error":"#VALUE!"}},{"$f":"$C26*$G$1*'Order Form'!$Q$18*(Color!$D$6+'Door Style'!$G$6+Species!$C$6+'Drawer Head'!$E$6+'Custom Finish'!$C$6)","v":{"$error":"#VALUE!"}},null,{"$f":"'Order Type'!$C$6","v":"01-"},{"$f":"'Order Type'!$C$6","v":"01-"},{"$f":"CONCAT!$D$2","v":""},null,1,"01-3DVB12","11-3DVB12",1,"12-3DVB12","12-3DVB12",1,null,null,"DG 18IN VANITY SET-DTC",3,null,{"$f":"$C26*$F$1*(Color!$C$8+'Door Style'!$H$6)","v":{"v":586.8720000000001,"d":"$586.87"}},{"$f":"$C26*$G$1*1*(Color!$D$8+'Door Style'!$G$6+Species!$C$6+'Drawer Head'!$E$6+'Custom Finish'!$C$6)","v":{"$error":"#VALUE!"}},null,"Light Blue","Light Yellow",null,"1","BSKIN",225,200,"N","Vanity - 3 Drawer Base",{"$f":"ROUNDUP(AT26,0)","v":{"v":684,"d":"$684.00"}},"Price change for fall 2019",{"v":444,"d":"$444.00"},null,"G2",{"$nulls":4},684]
["3DVB12T","3 Drawer Vanity Base 12\" Tall",{"v":752,"d":"$752.00"},2,null,{"$f":"$C27*$F$1*'Order Form'!$Q$18*(Color!$C$6+'Door Style'!$H$6)","v":{"$error":"#VALUE!"}},{"$f":"$C27*$G$1*'Order Form'!$Q$18*(Color!$D$6+'Door Style'!$G$6+Species!$C$6+'Drawer Head'!$E$6+'Custom Finish'!$C$6)","v":{"$error":"#VALUE!"}},null,{"$f":"'Order Type'!$C$6","v":"01-"},{"$f":"'Order Type'!$C$6","v":"01-"},{"$f":"CONCAT!$D$2","v":""},null,1,"01-3DVB12T","11-3DVB12T",1,"12-3DB12","12-3DB12",1,null,null,"DG 18IN VANITY SET-DTC",3,null,{"$f":"$C27*$F$1*(Color!$C$8+'Door Style'!$H$6)","v":{"v":645.2160000000001,"d":"$645.22"}},{"$f":"$C27*$G$1*1*(Color!$D$8+'Door Style'!$G$6+Species!$C$6+'Drawer Head'!$E$6+'Custom Finish'!$C$6)","v":{"$error":"#VALUE!"}},null,"Light Blue","Light Yellow",null,"1","BSKIN",225,200,"N","Vanity - 3 Drawer Base - Tall",{"v":752,"d":"$752.00"},"Price change for fall 2019",{"v":488,"d":"$488.00"},null,"G2",{"$nulls":4},752]
["3DVB13.5","3 Drawer Vanity Base 13.5\"",{"v":752,"d":"$752.00"},3,null,null,{"$f":"$C28*$G$1*'Order Form'!$Q$18*(Color!$D$6+'Door Style'!$G$6+Species!$C$6+'Drawer Head'!$E$6+'Custom Finish'!$C$6)","v":{"$error":"#VALUE!"}},null,"SC/PC",{"$f":"'Order Type'!$C$6","v":"01-"},{"$f":"CONCAT!$D$8","v":""},null,1,"01-3DVB13.5","11-3DVB13.5",1,"12-3DVB13.5","12-3DVB13.5",1,null,null,"DG 18IN VANITY SET-DTC",3,null,null,{"$f":"$C28*$G$1*1*(Color!$D$8+'Door Style'!$G$6+Species!$C$6+'Drawer Head'!$E$6+'Custom Finish'!$C$6)","v":{"$error":"#VALUE!"}},null,"Black","Light Yellow",null,"1","BSKIN",225,200,"N","Vanity - 3 Drawer Base",{"v":752,"d":"$752.00"},"Price change for fall 2019",{"v":488,"d":"$488.00"},null,"G2",{"$nulls":4},752]
["3DVB13.5T","3 Drawer Vanity Base 13.5\" Tall",{"v":786,"d":"$786.00"},3,null,null,{"$f":"$C29*$G$1*'Order Form'!$Q$18*(Color!$D$6+'Door Style'!$G$6+Species!$C$6+'Drawer Head'!$E$6+'Custom Finish'!$C$6)","v":{"$error":"#VALUE!"}},null,"SC/PC",{"$f":"'Order Type'!$C$6","v":"01-"},{"$f":"CONCAT!$D$8","v":""},null,1,"01-3DVB13.5T","11-3DVB13.5T",1,"12-3DB13.5","12-3DB13.5",1,null,null,"DG 18IN VANITY SET-DTC",3,null,null,{"$f":"$C29*$G$1*1*(Color!$D$8+'Door Style'!$G$6+Species!$C$6+'Drawer Head'!$E$6+'Custom Finish'!$C$6)","v":{"$error":"#VALUE!"}},null,"Black","Light Yellow",null,"1","BSKIN",225,200,"N","Vanity - 3 Drawer Base - Tall",{"v":786,"d":"$786.00"},"Price change for fall 2019",{"v":537,"d":"$537.00"},null,"G2",{"$nulls":4},786]
["3DVB15","3 Drawer Vanity Base 15\"",{"v":824,"d":"$824.00"},2,"PB",{"$f":"$C30*$F$1*'Order Form'!$Q$18*(Color!$C$6+'Door Style'!$H$6)","v":{"$error":"#VALUE!"}},{"$f":"$C30*$G$1*'Order Form'!$Q$18*(Color!$D$6+'Door Style'!$G$6+Species!$C$6+'Drawer Head'!$E$6+'Custom Finish'!$C$6)","v":{"$error":"#VALUE!"}},null,{"$f":"'Order Type'!$C$6","v":"01-"},{"$f":"'Order Type'!$C$6","v":"01-"},{"$f":"CONCAT!$D$2","v":""},null,1,"01-3DVB15","11-3DVB15",1,"12-3DVB15","12-3DVB15",1,null,null,"DG 18IN VANITY SET-DTC",3,null,{"$f":"$C30*$F$1*(Color!$C$8+'Door Style'!$H$6)","v":{"v":706.9920000000001,"d":"$706.99"}},{"$f":"$C30*$G$1*1*(Color!$D$8+'Door Style'!$G$6+Species!$C$6+'Drawer Head'!$E$6+'Custom Finish'!$C$6)","v":{"$error":"#VALUE!"}},null,"Light Blue","Light Yellow",null,"1","BSKIN",225,200,"N","Vanity - 3 Drawer Base",{"v":824,"d":"$824.00"},"Price change for fall 2019",{"v":486,"d":"$486.00"},null,"G2",{"$nulls":4},824]
["3DVB15T","3 Drawer Vanity Base 15\" Tall",{"v":827,"d":"$827.00"},2,null,{"$f":"$C31*$F$1*'Order Form'!$Q$18*(Color!$C$6+'Door Style'!$H$6)","v":{"$error":"#VALUE!"}},{"$f":"$C31*$G$1*'Order Form'!$Q$18*(Color!$D$6+'Door Style'!$G$6+Species!$C$6+'Drawer Head'!$E$6+'Custom Finish'!$C$6)","v":{"$error":"#VALUE!"}},null,{"$f":"'Order Type'!$C$6","v":"01-"},{"$f":"'Order Type'!$C$6","v":"01-"},{"$f":"CONCAT!$D$2","v":""},null,1,"01-3DVB15T","11-3DVB15T",1,"12-3DB15","12-3DB15",1,null,null,"DG 18IN VANITY SET-DTC",3,null,{"$f":"$C31*$F$1*(Color!$C$8+'Door Style'!$H$6)","v":{"v":709.5660000000001,"d":"$709.57"}},{"$f":"$C31*$G$1*1*(Color!$D$8+'Door Style'!$G$6+Species!$C$6+'Drawer Head'!$E$6+'Custom Finish'!$C$6)","v":{"$error":"#VALUE!"}},null,"Light Blue","Light Yellow",null,"1","BSKIN",225,200,"N","Vanity - 3 Drawer Base - Tall",{"v":827,"d":"$827.00"},"Price change for fall 2019",{"v":537,"d":"$537.00"},null,"G2",{"$nulls":4},827]
["3DVB16.5","3 Drawer Vanity Base 16.5\"",{"v":820,"d":"$820.00"},3,null,null,{"$f":"$C32*$G$1*'Order Form'!$Q$18*(Color!$D$6+'Door Style'!$G$6+Species!$C$6+'Drawer Head'!$E$6+'Custom Finish'!$C$6)","v":{"$error":"#VALUE!"}},null,"SC/PC",{"$f":"'Order Type'!$C$6","v":"01-"},{"$f":"CONCAT!$D$8","v":""},null,1,"01-3DVB16.5","11-3DVB16.5",1,"12-3DVB16.5","12-3DVB16.5",1,null,null,"DG 18IN VANITY SET-DTC",3,null,null,{"$f":"$C32*$G$1*1*(Color!$D$8+'Door Style'!$G$6+Species!$C$6+'Drawer Head'!$E$6+'Custom Finish'!$C$6)","v":{"$error":"#VALUE!"}},null,"Black","Light Yellow",null,"1","BSKIN",225,200,"N","Vanity - 3 Drawer Base",{"v":820,"d":"$820.00"},"Price change for fall 2019",{"v":532,"d":"$532.00"},null,"G2",{"$nulls":4},820]
["3DVB16.5T","3 Drawer Vanity Base 16.5\" Tall",{"v":856,"d":"$856.00"},3,null,null,{"$f":"$C33*$G$1*'Order Form'!$Q$18*(Color!$D$6+'Door Style'!$G$6+Species!$C$6+'Drawer Head'!$E$6+'Custom Finish'!$C$6)","v":{"$error":"#VALUE!"}},null,"SC/PC",{"$f":"'Order Type'!$C$6","v":"01-"},{"$f":"CONCAT!$D$8","v":""},null,1,"01-3DVB16.5T","11-3DVB16.5T",1,"12-3DB16.5","12-3DB16.5",1,null,null,"DG 18IN VANITY SET-DTC",3,null,null,{"$f":"$C33*$G$1*1*(Color!$D$8+'Door Style'!$G$6+Species!$C$6+'Drawer Head'!$E$6+'Custom Finish'!$C$6)","v":{"$error":"#VALUE!"}},null,"Black","Light Yellow",null,"1","BSKIN",225,200,"N","Vanity - 3 Drawer Base - Tall",{"v":856,"d":"$856.00"},"Price change for fall 2019",{"v":585,"d":"$585.00"},null,"G2",{"$nulls":4},856]
["3DVB18","3 Drawer Vanity Base 18\"",{"v":855,"d":"$855.00"},2,"PB",{"$f":"$C34*$F$1*'Order Form'!$Q$18*(Color!$C$6+'Door Style'!$H$6)","v":{"$error":"#VALUE!"}},{"$f":"$C34*$G$1*'Order Form'!$Q$18*(Color!$D$6+'Door Style'!$G$6+Species!$C$6+'Drawer Head'!$E$6+'Custom Finish'!$C$6)","v":{"$error":"#VALUE!"}},null,{"$f":"'Order Type'!$C$6","v":"01-"},{"$f":"'Order Type'!$C$6","v":"01-"},{"$f":"CONCAT!$D$2","v":""},null,1,"01-3DVB18","11-3DVB18",1,"12-3DVB18","12-3DVB18",1,null,null,"DG 18IN VANITY SET-DTC",3,null,{"$f":"$C34*$F$1*(Color!$C$8+'Door Style'!$H$6)","v":{"v":733.59,"d":"$733.59"}},{"$f":"$C34*$G$1*1*(Color!$D$8+'Door Style'!$G$6+Species!$C$6+'Drawer Head'!$E$6+'Custom Finish'!$C$6)","v":{"$error":"#VALUE!"}},null,"Light Blue","Light Yellow",null,"1","BSKIN",225,200,"N","Vanity - 3 Drawer Base",{"v":855,"d":"$855.00"},"Price change for fall 2019",{"v":528,"d":"$528.00"},null,"G2",{"$nulls":4},855]
["3DVB18T","3 Drawer Vanity Base 18\" Tall",{"v":901,"d":"$901.00"},2,null,{"$f":"$C35*$F$1*'Order Form'!$Q$18*(Color!$C$6+'Door Style'!$H$6)","v":{"$error":"#VALUE!"}},{"$f":"$C35*$G$1*'Order Form'!$Q$18*(Color!$D$6+'Door Style'!$G$6+Species!$C$6+'Drawer Head'!$E$6+'Custom Finish'!$C$6)","v":{"$error":"#VALUE!"}},null,{"$f":"'Order Type'!$C$6","v":"01-"},{"$f":"'Order Type'!$C$6","v":"01-"},{"$f":"CONCAT!$D$2","v":""},null,1,"01-3DVB18T","11-3DVB18T",1,"12-3DB18","12-3DB18",1,null,null,"DG 18IN VANITY SET-DTC",3,null,{"$f":"$C35*$F$1*(Color!$C$8+'Door Style'!$H$6)","v":{"v":773.058,"d":"$773.06"}},{"$f":"$C35*$G$1*1*(Color!$D$8+'Door Style'!$G$6+Species!$C$6+'Drawer Head'!$E$6+'Custom Finish'!$C$6)","v":{"$error":"#VALUE!"}},null,"Light Blue","Light Yellow",null,"1","BSKIN",225,200,"N","Vanity - 3 Drawer Base - Tall",{"v":901,"d":"$901.00"},"Price change for fall 2019",{"v":585,"d":"$585.00"},null,"G2",{"$nulls":4},901]
["3DVB19.5","3 Drawer Vanity Base 19.5\"",{"v":897,"d":"$897.00"},3,null,null,{"$f":"$C36*$G$1*'Order Form'!$Q$18*(Color!$D$6+'Door Style'!$G$6+Species!$C$6+'Drawer Head'!$E$6+'Custom Finish'!$C$6)","v":{"$error":"#VALUE!"}},null,"SC/PC",{"$f":"'Order Type'!$C$6","v":"01-"},{"$f":"CONCAT!$D$8","v":""},null,1,{"$f":"J36&A36&K36","v":"01-3DVB19.5"},"11-3DVB19.5",1,"12-3DVB19.5",{"$f":"Q36&K36","v":"12-3DVB19.5"},1,null,null,"DG 18IN VANITY SET-DTC",3,null,null,{"$f":"$C36*$G$1*1*(Color!$D$8+'Door Style'!$G$6+Species!$C$6+'Drawer Head'!$E$6+'Custom Finish'!$C$6)","v":{"$error":"#VALUE!"}},null,"Black","Light Yellow",null,"1","BSKIN",225,200,"N","Vanity - 3 Drawer Base",{"v":897,"d":"$897.00"},"Price change for fall 2019",{"v":576,"d":"$576.00"},null,"G2",{"$nulls":4},897]
["3DVB19.5T","3 Drawer Vanity Base 19.5\" Tall",{"v":941,"d":"$941.00"},3,null,null,{"$f":"$C37*$G$1*'Order Form'!$Q$18*(Color!$D$6+'Door Style'!$G$6+Species!$C$6+'Drawer Head'!$E$6+'Custom Finish'!$C$6)","v":{"$error":"#VALUE!"}},null,"SC/PC",{"$f":"'Order Type'!$C$6","v":"01-"},{"$f":"CONCAT!$D$8","v":""},null,1,"01-3DVB19.5T","11-3DVB19.5T",1,"12-3DB19.5","12-3DB19.5",1,null,null,"DG 18IN VANITY SET-DTC",3,null,null,{"$f":"$C37*$G$1*1*(Color!$D$8+'Door Style'!$G$6+Species!$C$6+'Drawer Head'!$E$6+'Custom Finish'!$C$6)","v":{"$error":"#VALUE!"}},null,"Black","Light Yellow",null,"1","BSKIN",225,200,"N","Vanity - 3 Drawer Base - Tall",{"v":941,"d":"$941.00"},"Price change for fall 2019",{"v":636,"d":"$636.00"},null,"G2",{"$nulls":4},941]
["3DVB21","3 Drawer Vanity Base 21\"",{"v":930,"d":"$930.00"},3,null,null,{"$f":"$C38*$G$1*'Order Form'!$Q$18*(Color!$D$6+'Door Style'!$G$6+Species!$C$6+'Drawer Head'!$E$6+'Custom Finish'!$C$6)","v":{"$error":"#VALUE!"}},null,"PROJECT",{"$f":"'Order Type'!$C$6","v":"01-"},{"$f":"CONCAT!$D$2","v":""},null,1,"01-3DVB21","11-3DVB21",1,"12-3DVB21","12-3DVB21",1,null,null,"DG 18IN VANITY SET-DTC",3,null,null,{"$f":"$C38*$G$1*1*(Color!$D$8+'Door Style'!$G$6+Species!$C$6+'Drawer Head'!$E$6+'Custom Finish'!$C$6)","v":{"$error":"#VALUE!"}},null,"Black","Light Yellow",null,"1","BSKIN",225,200,"N","Vanity - 3 Drawer Base",{"v":930,"d":"$930.00"},"Price change for fall 2019",{"v":580,"d":"$580.00"},null,"G2",{"$nulls":4},930]
["3DVB21T","3 Drawer Vanity Base 21\" Tall",{"v":974,"d":"$974.00"},2,null,{"$f":"$C39*$F$1*'Order Form'!$Q$18*(Color!$C$6+'Door Style'!$H$6)","v":{"$error":"#VALUE!"}},{"$f":"$C39*$G$1*'Order Form'!$Q$18*(Color!$D$6+'Door Style'!$G$6+Species!$C$6+'Drawer Head'!$E$6+'Custom Finish'!$C$6)","v":{"$error":"#VALUE!"}},null,{"$f":"'Order Type'!$C$6","v":"01-"},{"$f":"'Order Type'!$C$6","v":"01-"},{"$f":"CONCAT!$D$2","v":""},null,1,"01-3DVB21T","11-3DVB21T",1,"12-3DB21","12-3DB21",1,null,null,"DG 18IN VANITY SET-DTC",3,null,{"$f":"$C39*$F$1*(Color!$C$8+'Door Style'!$H$6)","v":{"v":835.6920000000001,"d":"$835.69"}},{"$f":"$C39*$G$1*1*(Color!$D$8+'Door Style'!$G$6+Species!$C$6+'Drawer Head'!$E$6+'Custom Finish'!$C$6)","v":{"$error":"#VALUE!"}},null,"Light Blue","Light Yellow",null,"1","BSKIN",225,200,"N","Vanity - 3 Drawer Base - Tall",{"v":974,"d":"$974.00"},"Price change for fall 2019",{"v":632,"d":"$632.00"},null,"G2",{"$nulls":4},974]
["3DVB22.5","3 Drawer Vanity Base 22.5\"",{"v":1022,"d":"$1,022.00"},3,null,null,{"$f":"$C40*$G$1*'Order Form'!$Q$18*(Color!$D$6+'Door Style'!$G$6+Species!$C$6+'Drawer Head'!$E$6+'Custom Finish'!$C$6)","v":{"$error":"#VALUE!"}},null,"SC/PC",{"$f":"'Order Type'!$C$6","v":"01-"},{"$f":"CONCAT!$D$8","v":""},null,1,"01-3DVB22.5","11-3DVB22.5",1,"12-3DVB22.5","12-3DVB22.5",1,null,null,"DG 18IN VANITY SET-DTC",3,null,null,{"$f":"$C40*$G$1*1*(Color!$D$8+'Door Style'!$G$6+Species!$C$6+'Drawer Head'!$E$6+'Custom Finish'!$C$6)","v":{"$error":"#VALUE!"}},null,"Black","Light Yellow",null,"1","BSKIN",225,200,"N","Vanity - 3 Drawer Base",{"v":1022,"d":"$1,022.00"},"Price change for fall 2019",{"v":670,"d":"$670.00"},null,"G2",{"$nulls":4},1022]
["3DVB22.5T","3 Drawer Vanity Base 22.5\" Tall",{"v":1067,"d":"$1,067.00"},3,null,null,{"$f":"$C41*$G$1*'Order Form'!$Q$18*(Color!$D$6+'Door Style'!$G$6+Species!$C$6+'Drawer Head'!$E$6+'Custom Finish'!$C$6)","v":{"$error":"#VALUE!"}},null,"SC/PC",{"$f":"'Order Type'!$C$6","v":"01-"},{"$f":"CONCAT!$D$8","v":""},null,1,"01-3DVB22.5T","11-3DVB22.5T",1,"12-3DB22.5","12-3DB22.5",1,null,null,"DG 18IN VANITY SET-DTC",3,null,null,{"$f":"$C41*$G$1*1*(Color!$D$8+'Door Style'!$G$6+Species!$C$6+'Drawer Head'!$E$6+'Custom Finish'!$C$6)","v":{"$error":"#VALUE!"}},null,"Black","Light Yellow",null,"1","BSKIN",225,200,"N","Vanity - 3 Drawer Base - Tall",{"v":1067,"d":"$1,067.00"},"Price change for fall 2019",{"v":721,"d":"$721.00"},null,"G2",{"$nulls":4},1067]
["3DVB24","3 Drawer Vanity Base 24\"",{"v":1089,"d":"$1,089.00"},3,null,null,{"$f":"$C42*$G$1*'Order Form'!$Q$18*(Color!$D$6+'Door Style'!$G$6+Species!$C$6+'Drawer Head'!$E$6+'Custom Finish'!$C$6)","v":{"$error":"#VALUE!"}},null,"PROJECT",{"$f":"'Order Type'!$C$6","v":"01-"},{"$f":"CONCAT!$D$2","v":""},null,1,"01-3DVB24","11-3DVB24",1,"12-3DVB24","12-3DVB24",1,null,null,"DG 18IN VANITY SET-DTC",3,null,null,{"$f":"$C42*$G$1*1*(Color!$D$8+'Door Style'!$G$6+Species!$C$6+'Drawer Head'!$E$6+'Custom Finish'!$C$6)","v":{"$error":"#VALUE!"}},null,"Black","Light Yellow",null,"1","BSKIN",225,200,"N","Vanity - 3 Drawer Base",{"v":1089,"d":"$1,089.00"},"Price change for fall 2019",{"v":721,"d":"$721.00"},null,"G2",{"$nulls":4},1089]
["3DVB24T","3 Drawer Vanity Base 24\" Tall",{"v":1105,"d":"$1,105.00"},2,null,{"$f":"$C43*$F$1*'Order Form'!$Q$18*(Color!$C$6+'Door Style'!$H$6)","v":{"$error":"#VALUE!"}},{"$f":"$C43*$G$1*'Order Form'!$Q$18*(Color!$D$6+'Door Style'!$G$6+Species!$C$6+'Drawer Head'!$E$6+'Custom Finish'!$C$6)","v":{"$error":"#VALUE!"}},null,{"$f":"'Order Type'!$C$6","v":"01-"},{"$f":"'Order Type'!$C$6","v":"01-"},{"$f":"CONCAT!$D$2","v":""},null,1,"01-3DVB24T","11-3DVB24T",1,"12-3DB24","12-3DB24",1,null,null,"DG 18IN VANITY SET-DTC",3,null,{"$f":"$C43*$F$1*(Color!$C$8+'Door Style'!$H$6)","v":{"v":948.09,"d":"$948.09"}},{"$f":"$C43*$G$1*1*(Color!$D$8+'Door Style'!$G$6+Species!$C$6+'Drawer Head'!$E$6+'Custom Finish'!$C$6)","v":{"$error":"#VALUE!"}},null,"Light Blue","Light Yellow",null,"1","BSKIN",225,200,"N","Vanity - 3 Drawer Base - Tall",{"v":1105,"d":"$1,105.00"},"Price change for fall 2019",{"v":717,"d":"$717.00"},null,"G2",{"$nulls":4},1105]
["3DVB25.5","3 Drawer Vanity Base 25.5\"",{"v":1216,"d":"$1,216.00"},3,null,null,{"$f":"$C44*$G$1*'Order Form'!$Q$18*(Color!$D$6+'Door Style'!$G$6+Species!$C$6+'Drawer Head'!$E$6+'Custom Finish'!$C$6)","v":{"$error":"#VALUE!"}},null,"SC/PC",{"$f":"'Order Type'!$C$6","v":"01-"},{"$f":"CONCAT!$D$8","v":""},null,1,"01-3DVB25.5","11-3DVB25.5",1,"12-3DVB25.5","12-3DVB25.5",1,null,null,"DG 18IN VANITY SET-DTC",3,null,null,{"$f":"$C44*$G$1*1*(Color!$D$8+'Door Style'!$G$6+Species!$C$6+'Drawer Head'!$E$6+'Custom Finish'!$C$6)","v":{"$error":"#VALUE!"}},null,"Black","Light Yellow",null,"1","BSKIN",225,200,"N","Vanity - 3 Drawer Base",{"v":1216,"d":"$1,216.00"},"Price change for fall 2019",{"v":789,"d":"$789.00"},null,"G2",{"$nulls":4},1216]
["3DVB25.5T","3 Drawer Vanity Base 25.5\" Tall",{"v":1216,"d":"$1,216.00"},3,null,null,{"$f":"$C45*$G$1*'Order Form'!$Q$18*(Color!$D$6+'Door Style'!$G$6+Species!$C$6+'Drawer Head'!$E$6+'Custom Finish'!$C$6)","v":{"$error":"#VALUE!"}},null,"SC/PC",{"$f":"'Order Type'!$C$6","v":"01-"},{"$f":"CONCAT!$D$8","v":""},null,1,"01-3DVB25.5T","11-3DVB25.5T",1,"12-3DB25.5","12-3DB25.5",1,null,null,"DG 18IN VANITY SET-DTC",3,null,null,{"$f":"$C45*$G$1*1*(Color!$D$8+'Door Style'!$G$6+Species!$C$6+'Drawer Head'!$E$6+'Custom Finish'!$C$6)","v":{"$error":"#VALUE!"}},null,"Black","Light Yellow",null,"1","BSKIN",225,200,"N","Vanity - 3 Drawer Base - Tall",{"v":1216,"d":"$1,216.00"},"Price change for fall 2019",{"v":789,"d":"$789.00"},null,"G2",{"$nulls":4},1216]
["3DVB27","3 Drawer Vanity Base 27\"",{"v":1216,"d":"$1,216.00"},3,null,null,{"$f":"$C46*$G$1*'Order Form'!$Q$18*(Color!$D$6+'Door Style'!$G$6+Species!$C$6+'Drawer Head'!$E$6+'Custom Finish'!$C$6)","v":{"$error":"#VALUE!"}},null,"PROJECT",{"$f":"'Order Type'!$C$6","v":"01-"},{"$f":"CONCAT!$D$2","v":""},null,1,"01-3DVB27","11-3DVB27",1,"12-3DVB27","12-3DVB27",1,null,null,"DG 18IN VANITY SET-DTC",3,null,null,{"$f":"$C46*$G$1*1*(Color!$D$8+'Door Style'!$G$6+Species!$C$6+'Drawer Head'!$E$6+'Custom Finish'!$C$6)","v":{"$error":"#VALUE!"}},null,"Black","Light Yellow",null,"1","BSKIN",225,200,"N","Vanity - 3 Drawer Base",{"v":1216,"d":"$1,216.00"},"Price change for fall 2019",{"v":789,"d":"$789.00"},null,"G2",{"$nulls":4},1216]
["3DVB27T","3 Drawer Vanity Base 27\" Tall",{"v":1206,"d":"$1,206.00"},2,null,{"$f":"$C47*$F$1*'Order Form'!$Q$18*(Color!$C$6+'Door Style'!$H$6)","v":{"$error":"#VALUE!"}},{"$f":"$C47*$G$1*'Order Form'!$Q$18*(Color!$D$6+'Door Style'!$G$6+Species!$C$6+'Drawer Head'!$E$6+'Custom Finish'!$C$6)","v":{"$error":"#VALUE!"}},null,{"$f":"'Order Type'!$C$6","v":"01-"},{"$f":"'Order Type'!$C$6","v":"01-"},{"$f":"CONCAT!$D$2","v":""},null,1,"01-3DVB27T","11-3DVB27T",1,"12-3DB27","12-3DB27",1,null,null,"DG 18IN VANITY SET-DTC",3,null,{"$f":"$C47*$F$1*(Color!$C$8+'Door Style'!$H$6)","v":{"v":1034.748,"d":"$1,034.75"}},{"$f":"$C47*$G$1*1*(Color!$D$8+'Door Style'!$G$6+Species!$C$6+'Drawer Head'!$E$6+'Custom Finish'!$C$6)","v":{"$error":"#VALUE!"}},null,"Light Blue","Light Yellow",null,"1","BSKIN",225,200,"N","Vanity - 3 Drawer Base - Tall",{"v":1206,"d":"$1,206.00"},"Price change for fall 2019",{"v":783,"d":"$783.00"},null,"G2",{"$nulls":4},1206]
["3DVB30","3 Drawer Vanity Base 30\"",{"v":1239,"d":"$1,239.00"},3,null,null,{"$f":"$C48*$G$1*'Order Form'!$Q$18*(Color!$D$6+'Door Style'!$G$6+Species!$C$6+'Drawer Head'!$E$6+'Custom Finish'!$C$6)","v":{"$error":"#VALUE!"}},null,"SC/PC",{"$f":"'Order Type'!$C$6","v":"01-"},{"$f":"CONCAT!$D$8","v":""},null,1,"01-3DVB30","11-3DVB30",1,"12-3DVB30","12-3DVB30",1,null,null,"DG 18IN VANITY SET-DTC",3,null,null,{"$f":"$C48*$G$1*1*(Color!$D$8+'Door Style'!$G$6+Species!$C$6+'Drawer Head'!$E$6+'Custom Finish'!$C$6)","v":{"$error":"#VALUE!"}},null,"Black","Light Yellow",null,"1","BSKIN",225,200,"N","Vanity - 3 Drawer Base",{"v":1239,"d":"$1,239.00"},"Price change for fall 2019",{"v":838,"d":"$838.00"},null,"G2",{"$nulls":4},1239]
["3DVB30T","3 Drawer Vanity Base 30\" Tall",{"v":1245,"d":"$1,245.00"},3,null,null,{"$f":"$C49*$G$1*'Order Form'!$Q$18*(Color!$D$6+'Door Style'!$G$6+Species!$C$6+'Drawer Head'!$E$6+'Custom Finish'!$C$6)","v":{"$error":"#VALUE!"}},null,"SC/PC",{"$f":"'Order Type'!$C$6","v":"01-"},{"$f":"CONCAT!$D$8","v":""},null,1,"01-3DVB30T","11-3DVB30T",1,"12-3DB30","12-3DB30",1,null,null,"DG 18IN VANITY SET-DTC",3,null,null,{"$f":"$C49*$G$1*1*(Color!$D$8+'Door Style'!$G$6+Species!$C$6+'Drawer Head'!$E$6+'Custom Finish'!$C$6)","v":{"$error":"#VALUE!"}},null,"Black","Light Yellow",null,"1","BSKIN",225,200,"N","Vanity - 3 Drawer Base - Tall",{"v":1245,"d":"$1,245.00"},"Price change for fall 2019",{"v":833,"d":"$833.00"},null,"G2",{"$nulls":4},1245]
["4DB15","4 Drawer Base 15\"",{"v":862,"d":"$862.00"},2,"PB",{"$f":"$C50*$F$1*'Order Form'!$Q$18*(Color!$C$6+'Door Style'!$H$6)","v":{"$error":"#VALUE!"}},{"$f":"$C50*$G$1*'Order Form'!$Q$18*(Color!$D$6+'Door Style'!$G$6+Species!$C$6+'Drawer Head'!$E$6+'Custom Finish'!$C$6)","v":{"$error":"#VALUE!"}},null,{"$f":"'Order Type'!$C$6","v":"01-"},{"$f":"'Order Type'!$C$6","v":"01-"},{"$f":"CONCAT!$D$2","v":""},null,1,"01-4DB15","11-4DB15",1,"12-4DB15","12-4DB15",1,null,null,"DG 21IN KITCHEN SET-DTC",4,null,{"$f":"$C50*$F$1*(Color!$C$8+'Door Style'!$H$6)","v":{"v":739.5960000000001,"d":"$739.60"}},{"$f":"$C50*$G$1*1*(Color!$D$8+'Door Style'!$G$6+Species!$C$6+'Drawer Head'!$E$6+'Custom Finish'!$C$6)","v":{"$error":"#VALUE!"}},null,"Light Blue","Light Gray",null,"1","BSKIN",275,250,"N","Base Cabinet - 4 Drawer Base",{"$f":"ROUNDUP(AM50*AN50,0)","v":{"v":862,"d":"$862.00"}},"Price change for fall 2019",{"v":611,"d":"$611.00"},1.41,"G1",{"$nulls":4},{"$error":"#N/A"}]
["4DB16.5","4 Drawer Base 16.5\"",{"v":956,"d":"$956.00"},3,null,null,{"$f":"$C51*$G$1*'Order Form'!$Q$18*(Color!$D$6+'Door Style'!$G$6+Species!$C$6+'Drawer Head'!$E$6+'Custom Finish'!$C$6)","v":{"$error":"#VALUE!"}},null,"SC/PC",{"$f":"'Order Type'!$C$6","v":"01-"},{"$f":"CONCAT!$D$8","v":""},null,1,"01-4DB16.5","11-4DB16.5",1,"12-4DB16.5","12-4DB16.5",1,null,null,"DG 21IN KITCHEN SET-DTC",4,null,null,{"$f":"$C51*$G$1*1*(Color!$D$8+'Door Style'!$G$6+Species!$C$6+'Drawer Head'!$E$6+'Custom Finish'!$C$6)","v":{"$error":"#VALUE!"}},null,"Black","Light Gray",null,"1","BSKIN",275,250,"N","Base Cabinet - 4 Drawer Base",{"v":956,"d":"$956.00"},"Price change for fall 2019",{"v":678,"d":"$678.00"},1.41,"G1",{"$nulls":4},{"$error":"#N/A"}]
["4DB18","4 Drawer Base 18\"",{"v":931,"d":"$931.00"},2,"PB",{"$f":"$C52*$F$1*'Order Form'!$Q$18*(Color!$C$6+'Door Style'!$H$6)","v":{"$error":"#VALUE!"}},{"$f":"$C52*$G$1*'Order Form'!$Q$18*(Color!$D$6+'Door Style'!$G$6+Species!$C$6+'Drawer Head'!$E$6+'Custom Finish'!$C$6)","v":{"$error":"#VALUE!"}},null,{"$f":"'Order Type'!$C$6","v":"01-"},{"$f":"'Order Type'!$C$6","v":"01-"},{"$f":"CONCAT!$D$2","v":""},null,1,"01-4DB18","11-4DB18",1,"12-4DB18","12-4DB18",1,null,null,"DG 21IN KITCHEN SET-DTC",4,null,{"$f":"$C52*$F$1*(Color!$C$8+'Door Style'!$H$6)","v":{"v":798.7980000000001,"d":"$798.80"}},{"$f":"$C52*$G$1*1*(Color!$D$8+'Door Style'!$G$6+Species!$C$6+'Drawer Head'!$E$6+'Custom Finish'!$C$6)","v":{"$error":"#VALUE!"}},null,"Light Blue","Light Gray",null,"1","BSKIN",275,250,"N","Base Cabinet - 4 Drawer Base",{"v":931,"d":"$931.00"},"Price change for fall 2019",{"v":660,"d":"$660.00"},1.41,"G1",{"$nulls":4},{"$error":"#N/A"}]
["4DB19.5","4 Drawer Base 19.5\"",{"v":1016,"d":"$1,016.00"},3,null,null,{"$f":"$C53*$G$1*'Order Form'!$Q$18*(Color!$D$6+'Door Style'!$G$6+Species!$C$6+'Drawer Head'!$E$6+'Custom Finish'!$C$6)","v":{"$error":"#VALUE!"}},null,"SC/PC",{"$f":"'Order Type'!$C$6","v":"01-"},{"$f":"CONCAT!$D$8","v":""},null,1,"01-4DB19.5","11-4DB19.5",1,"12-4DB19.5","12-4DB19.5",1,null,null,"DG 21IN KITCHEN SET-DTC",4,null,null,{"$f":"$C53*$G$1*1*(Color!$D$8+'Door Style'!$G$6+Species!$C$6+'Drawer Head'!$E$6+'Custom Finish'!$C$6)","v":{"$error":"#VALUE!"}},null,"Black","Light Gray",null,"1","BSKIN",275,250,"N","Base Cabinet - 4 Drawer Base",{"v":1016,"d":"$1,016.00"},"Price change for fall 2019",{"v":720,"d":"$720.00"},1.41,"G1",{"$nulls":4},{"$error":"#N/A"}]
["4DB21","4 Drawer Base 21\"",{"v":1000,"d":"$1,000.00"},2,null,{"$f":"$C54*$F$1*'Order Form'!$Q$18*(Color!$C$6+'Door Style'!$H$6)","v":{"$error":"#VALUE!"}},{"$f":"$C54*$G$1*'Order Form'!$Q$18*(Color!$D$6+'Door Style'!$G$6+Species!$C$6+'Drawer Head'!$E$6+'Custom Finish'!$C$6)","v":{"$error":"#VALUE!"}},null,{"$f":"'Order Type'!$C$6","v":"01-"},{"$f":"'Order Type'!$C$6","v":"01-"},{"$f":"CONCAT!$D$2","v":""},null,1,"01-4DB21","11-4DB21",1,"12-4DB21","12-4DB21",1,null,null,"DG 21IN KITCHEN SET-DTC",4,null,{"$f":"$C54*$F$1*(Color!$C$8+'Door Style'!$H$6)","v":{"v":858.0000000000001,"d":"$858.00"}},{"$f":"$C54*$G$1*1*(Color!$D$8+'Door Style'!$G$6+Species!$C$6+'Drawer Head'!$E$6+'Custom Finish'!$C$6)","v":{"$error":"#VALUE!"}},null,"Light Blue","Light Gray",null,"1","BSKIN",275,250,"N","Base Cabinet - 4 Drawer Base",{"v":1000,"d":"$1,000.00"},"Price change for fall 2019",{"v":709,"d":"$709.00"},1.41,"G1",{"$nulls":4},{"$error":"#N/A"}]
["4DB22.5","4 Drawer Base 22.5\"",{"v":1076,"d":"$1,076.00"},3,null,null,{"$f":"$C55*$G$1*'Order Form'!$Q$18*(Color!$D$6+'Door Style'!$G$6+Species!$C$6+'Drawer Head'!$E$6+'Custom Finish'!$C$6)","v":{"$error":"#VALUE!"}},null,"SC/PC",{"$f":"'Order Type'!$C$6","v":"01-"},{"$f":"CONCAT!$D$8","v":""},null,1,"01-4DB22.5","11-4DB22.5",1,"12-4DB22.5","12-4DB22.5",1,null,null,"DG 21IN KITCHEN SET-DTC",4,null,null,{"$f":"$C55*$G$1*1*(Color!$D$8+'Door Style'!$G$6+Species!$C$6+'Drawer Head'!$E$6+'Custom Finish'!$C$6)","v":{"$error":"#VALUE!"}},null,"Black","Light Gray",null,"1","BSKIN",275,250,"N","Base Cabinet - 4 Drawer Base",{"v":1076,"d":"$1,076.00"},"Price change for fall 2019",{"v":763,"d":"$763.00"},1.41,"G1",{"$nulls":4},{"$error":"#N/A"}]
["4DB24","4 Drawer Base 24\"",{"v":1068,"d":"$1,068.00"},2,"PB",{"$f":"$C56*$F$1*'Order Form'!$Q$18*(Color!$C$6+'Door Style'!$H$6)","v":{"$error":"#VALUE!"}},{"$f":"$C56*$G$1*'Order Form'!$Q$18*(Color!$D$6+'Door Style'!$G$6+Species!$C$6+'Drawer Head'!$E$6+'Custom Finish'!$C$6)","v":{"$error":"#VALUE!"}},null,{"$f":"'Order Type'!$C$6","v":"01-"},{"$f":"'Order Type'!$C$6","v":"01-"},{"$f":"CONCAT!$D$2","v":""},null,1,"01-4DB24","11-4DB24",1,"12-4DB24","12-4DB24",1,null,null,"DG 21IN KITCHEN SET-DTC",4,null,{"$f":"$C56*$F$1*(Color!$C$8+'Door Style'!$H$6)","v":{"v":916.3440000000002,"d":"$916.34"}},{"$f":"$C56*$G$1*1*(Color!$D$8+'Door Style'!$G$6+Species!$C$6+'Drawer Head'!$E$6+'Custom Finish'!$C$6)","v":{"$error":"#VALUE!"}},null,"Light Blue","Light Gray",null,"1","BSKIN",275,250,"N","Base Cabinet - 4 Drawer Base",{"v":1068,"d":"$1,068.00"},"Price change for fall 2019",{"v":757,"d":"$757.00"},1.41,"G1",{"$nulls":4},{"$error":"#N/A"}]
["6DB24-ISLAND","6 Drawer Base Island  24 (No Depth Modifications)",{"v":1449,"d":"$1,449.00"},3,null,null,{"$f":"$C57*$G$1*'Order Form'!$Q$18*(Color!$D$6+'Door Style'!$G$6+Species!$C$6+'Drawer Head'!$E$6+'Custom Finish'!$C$6)","v":{"$error":"#VALUE!"}},null,"SC/PC",{"$f":"'Order Type'!$C$6","v":"01-"},{"$f":"CONCAT!$D$8","v":""},null,1,"01-6DB24-ISLAND","11-6DB24",1,"12-6DB24-FRONT","12-6DB24-FRONT",1,null,null,"DG 21IN KITCHEN SET-DTC",6,null,null,{"$f":"$C57*$G$1*1*(Color!$D$8+'Door Style'!$G$6+Species!$C$6+'Drawer Head'!$E$6+'Custom Finish'!$C$6)","v":{"$error":"#VALUE!"}},null,"Black","Light Gray",null,"1","BSKIN","No","No","N","Base Cabinet - 6 Drawer Base",{"v":1449,"d":"$1,449.00"},"Price change for fall 2019",{"v":1027,"d":"$1,027.00"},1.41,"G1",{"$nulls":4},{"$error":"#N/A"}]
["6DB24L","6 Drawer Base 24 Left (No Depth Modifications)",{"v":1449,"d":"$1,449.00"},3,null,null,{"$f":"$C58*$G$1*'Order Form'!$Q$18*(Color!$D$6+'Door Style'!$G$6+Species!$C$6+'Drawer Head'!$E$6+'Custom Finish'!$C$6)","v":{"$error":"#VALUE!"}},null,"SC/PC",{"$f":"'Order Type'!$C$6","v":"01-"},{"$f":"CONCAT!$D$8","v":""},null,1,"01-6DB24L","11-6DB24",1,"12-6DB24","12-6DB24",1,null,null,"DG 21IN KITCHEN SET-DTC",6,null,null,{"$f":"$C58*$G$1*1*(Color!$D$8+'Door Style'!$G$6+Species!$C$6+'Drawer Head'!$E$6+'Custom Finish'!$C$6)","v":{"$error":"#VALUE!"}},null,"Black","Light Gray",null,"1","BSKIN","No","No","N","Base Cabinet - 6 Drawer Base",{"v":1449,"d":"$1,449.00"},"Price change for fall 2019",{"v":1027,"d":"$1,027.00"},1.41,"G1",{"$nulls":4},{"$error":"#N/A"}]
["6DB24R","6 Drawer Base 24 Right (No Depth Modifications)",{"v":1449,"d":"$1,449.00"},3,null,null,{"$f":"$C59*$G$1*'Order Form'!$Q$18*(Color!$D$6+'Door Style'!$G$6+Species!$C$6+'Drawer Head'!$E$6+'Custom Finish'!$C$6)","v":{"$error":"#VALUE!"}},null,"SC/PC",{"$f":"'Order Type'!$C$6","v":"01-"},{"$f":"CONCAT!$D$8","v":""},null,1,"01-6DB24R","11-6DB24",1,"12-6DB24","12-6DB24",1,null,null,"DG 21IN KITCHEN SET-DTC",6,null,null,{"$f":"$C59*$G$1*1*(Color!$D$8+'Door Style'!$G$6+Species!$C$6+'Drawer Head'!$E$6+'Custom Finish'!$C$6)","v":{"$error":"#VALUE!"}},null,"Black","Light Gray",null,"1","BSKIN","No","No","N","Base Cabinet - 6 Drawer Base",{"v":1449,"d":"$1,449.00"},"Price change for fall 2019",{"v":1027,"d":"$1,027.00"},1.41,"G1",{"$nulls":4},{"$error":"#N/A"}]
["ACCESSORY","Misc. Accessory",{"v":0,"d":"$0.00"},2,null,{"v":0,"d":"$0.00"},{"v":0,"d":"$0.00"},null,"/","","",null,0,"ACCESSORY",{"$nulls":3},"",null,{"$f":"N60","v":"ACCESSORY"},1,{"$nulls":3},{"v":0,"d":"$0.00"},{"v":0,"d":"$0.00"},null,"Dark Blue","Dark Blue",{"$nulls":3},"No","No","N","Accessory",{"$nulls":4},"Zero Price",{"$nulls":4},{"$error":"#N/A"}]
["ADHESIVE200","Approved Adhesive for Attaching Skins",{"v":15,"d":"$15.00"},2,null,{"$f":"$C61","v":{"v":15,"d":"$15.00"}},{"$f":"$C61","v":{"v":15,"d":"$15.00"}},null,"/","","",null,0,"ADHESIVE200",{"$nulls":3},"",null,"ADHESIVE200",1,{"$nulls":3},{"$f":"$C61","v":{"v":15,"d":"$15.00"}},{"$f":"$C61","v":{"v":15,"d":"$15.00"}},null,"Tan","Tan",{"$nulls":3},"No","No","N","Accessory",{"$f":"ROUNDUP(AM61*AN61,0)","v":{"v":15,"d":"$15.00"}},null,{"v":15,"d":"$15.00"},1,"ACC",{"$nulls":4},{"$error":"#N/A"}]
["AZURE DISCOUNT","PO Match",{"v":0,"d":"$0.00"},2,null,{"v":0,"d":"$0.00"},{"v":0,"d":"$0.00"},null,"/","/","",null,0,"/AZURE DISCOUNT",{"$nulls":3},"",null,"/AZURE DISCOUNT",1,{"$nulls":3},{"v":0,"d":"$0.00"},{"v":0,"d":"$0.00"},null,"Dark Blue","Dark Blue","N",null,null,"No","No","N",{"$nulls":5},"Zero Price",{"$nulls":4},{"$error":"#N/A"}]
["AZURE PO MATCH","PO Match",{"v":0,"d":"$0.00"},2,null,{"v":0,"d":"$0.00"},{"v":0,"d":"$0.00"},null,"/","/","",null,0,"/AZURE PO MATCH",{"$nulls":3},"",null,"/AZURE PO MATCH",1,{"$nulls":3},{"v":0,"d":"$0.00"},{"v":0,"d":"$0.00"},null,"Dark Blue","Dark Blue","N",null,null,"No","No","N",{"$nulls":5},"Zero Price",{"$nulls":4},{"$error":"#N/A"}]
["AZURE UPGRADES","PO Match",{"v":0,"d":"$0.00"},2,null,{"v":0,"d":"$0.00"},{"v":0,"d":"$0.00"},null,"/","/","",null,0,"/AZURE UPGRADES",{"$nulls":3},"",null,"/AZURE UPGRADES",1,{"$nulls":3},{"v":0,"d":"$0.00"},{"v":0,"d":"$0.00"},null,"Dark Blue","Dark Blue","N",null,null,"No","No","N",{"$nulls":5},"Zero Price",{"$nulls":4},{"$error":"#N/A"}]
["B09-SHELF","Base Shelf For 9\"",{"v":20,"d":"$20.00"},2,null,{"$f":"$C65*'Order Form'!$Q$18","v":{"v":20,"d":"$20.00"}},{"$f":"$C65*'Order Form'!$Q$18","v":{"v":20,"d":"$20.00"}},null,"14-","14-","",null,0,"14-B09-SHELF",{"$nulls":5},"14-B09-SHELF",1,{"$nulls":3},{"$f":"$C65*1","v":{"v":20,"d":"$20.00"}},{"$f":"$C65*1","v":{"v":20,"d":"$20.00"}},null,"Purple","Purple",{"$nulls":3},"No","No","N","Shelf - Base",{"$f":"AL65","v":{"v":37.19,"d":"$37.19"}},{"$f":"ROUNDUP(AS65,2)","v":37.19},{"v":27,"d":"$27.00"},1.1,null,9,22,{"$f":"(AP65*AQ65)/144","v":1.375},{"$f":"(AR65*12.5)+20","v":{"v":37.1875,"d":"37.19"}}]
["B10.5-SHELF","Base Shelf For 10.5\"",{"v":24,"d":"$24.00"},3,null,{"$f":"$C66*'Order Form'!$Q$18","v":{"v":24,"d":"$24.00"}},{"$f":"$C66*'Order Form'!$Q$18","v":{"v":24,"d":"$24.00"}},null,"14-","14-","",null,0,"14-B10.5-SHELF",{"$nulls":5},"14-B10.5-SHELF",1,{"$nulls":3},{"$f":"$C66*1","v":{"v":24,"d":"$24.00"}},{"$f":"$C66*1","v":{"v":24,"d":"$24.00"}},null,"Purple","Purple",{"$nulls":3},"No","No","N","Shelf - Base",{"$f":"AL66","v":{"v":40.059999999999995,"d":"$40.06"}},{"$f":"ROUNDUP(AS66,2)","v":{"v":40.059999999999995,"d":"40.06"}},{"v":27,"d":"$27.00"},1.1,null,10.5,22,{"$f":"(AP66*AQ66)/144","v":1.6041666666666667},{"$f":"(AR66*12.5)+20","v":{"v":40.052083333333336,"d":"40.05"}}]
["B12","Base 12\"",{"v":291,"d":"$291.00"},2,null,{"$f":"$C67*$F$1*'Order Form'!$Q$18*(Color!$C$6+'Door Style'!$H$6)","v":{"$error":"#VALUE!"}},{"$f":"$C67*$G$1*'Order Form'!$Q$18*(Color!$D$6+'Door Style'!$G$6+Species!$C$6+'Drawer Head'!$E$6+'Custom Finish'!$C$6)","v":{"$error":"#VALUE!"}},null,{"$f":"'Order Type'!$C$6","v":"01-"},{"$f":"'Order Type'!$C$6","v":"01-"},{"$f":"CONCAT!$D$2","v":""},null,1,"01-B12","11-B12",1,"12-B12",{"$f":"Q67&K67","v":"12-B12"},1,null,null,"DG 21IN KITCHEN SET-DTC",1,null,{"$f":"$C67*$F$1*(Color!$C$8+'Door Style'!$H$6)","v":{"v":249.67800000000005,"d":"$249.68"}},{"$f":"$C67*$G$1*1*(Color!$D$8+'Door Style'!$G$6+Species!$C$6+'Drawer Head'!$E$6+'Custom Finish'!$C$6)","v":{"$error":"#VALUE!"}},null,"Light Blue","Light Gray",null,1,"BSKIN",125,100,"Y","Base Cabinet",{"$f":"ROUNDUP(AM67*AN67,0)","v":{"v":411,"d":"$411.00"}},"Price change for fall 2019",{"v":291,"d":"$291.00"},1.41,"G1"]
["B12-SHELF","Base Shelf For 12\"",{"v":42.919999999999995,"d":"$42.92"},2,null,{"$f":"$C68*'Order Form'!$Q$18","v":{"v":42.919999999999995,"d":"$42.92"}},{"$f":"$C68*'Order Form'!$Q$18","v":{"v":42.919999999999995,"d":"$42.92"}},null,"14-","14-","",null,0,{"$f":"J68&A68&K68","v":"14-B12-SHELF"},{"$nulls":3},"",null,{"$f":"N68","v":"14-B12-SHELF"},1,{"$nulls":3},{"$f":"$C68*1","v":{"v":42.919999999999995,"d":"$42.92"}},{"$f":"$C68*1","v":{"v":42.919999999999995,"d":"$42.92"}},null,"Purple","Purple",{"$nulls":3},"No","No","N","Shelf - Base",{"$f":"AL68","v":{"v":42.919999999999995,"d":"$42.92"}},{"$f":"ROUNDUP(AS68,2)","v":{"v":42.919999999999995,"d":"42.92"}},{"v":27,"d":"$27.00"},1.1,"Plywood",12,22,{"$f":"(AP68*AQ68)/144","v":1.8333333333333333},{"$f":"(AR68*12.5)+20","v":{"v":42.916666666666664,"d":"42.92"}},{"$error":"#N/A"}]
["B13.5","Base 13.5\"",{"v":452,"d":"$452.00"},3,null,null,{"$f":"$C69*$G$1*'Order Form'!$Q$18*(Color!$D$6+'Door Style'!$G$6+Species!$C$6+'Drawer Head'!$E$6+'Custom Finish'!$C$6)","v":{"$error":"#VALUE!"}},null,"SC/PC",{"$f":"'Order Type'!$C$6","v":"01-"},{"$f":"CONCAT!$D$8","v":""},null,1,"01-B13.5","11-B13.5",1,"12-B13.5","12-B13.5",1,null,null,"DG 21IN KITCHEN SET-DTC",1,null,null,{"$f":"$C69*$G$1*1*(Color!$D$8+'Door Style'!$G$6+Species!$C$6+'Drawer Head'!$E$6+'Custom Finish'!$C$6)","v":{"$error":"#VALUE!"}},null,"Black","Light Gray",null,"1","BSKIN",125,100,"Y","Base Cabinet",{"$f":"ROUNDUP(AM69*AN69,0)","v":{"v":452,"d":"$452.00"}},"Price change for fall 2019",{"v":320,"d":"$320.00"},1.41,"G1",{"$nulls":4},{"$error":"#N/A"}]
["B13.5-SHELF","Base Shelf For 13.5\"",{"v":46.739999999999995,"d":"$46.74"},2,null,{"$f":"$C70*'Order Form'!$Q$18","v":{"v":46.739999999999995,"d":"$46.74"}},{"$f":"$C70*'Order Form'!$Q$18","v":{"v":46.739999999999995,"d":"$46.74"}},null,"14-","14-","",null,0,"14-B13.5-SHELF",{"$nulls":3},"",null,{"$f":"N70","v":"14-B13.5-SHELF"},1,{"$nulls":3},{"$f":"$C70*1","v":{"v":46.739999999999995,"d":"$46.74"}},{"$f":"$C70*1","v":{"v":46.739999999999995,"d":"$46.74"}},null,"Purple","Purple",{"$nulls":3},"No","No","N","Shelf - Base",{"$f":"AL70","v":{"v":46.739999999999995,"d":"$46.74"}},{"$f":"ROUNDUP(AS70,2)","v":{"v":46.739999999999995,"d":"46.74"}},{"v":32,"d":"$32.00"},1.1,"Plywood",14,22,{"$f":"(AP70*AQ70)/144","v":2.138888888888889},{"$f":"(AR70*12.5)+20","v":{"v":46.736111111111114,"d":"46.74"}},{"$error":"#N/A"}]
["B15","Base 15\"",{"v":449,"d":"$449.00"},2,"PB",{"$f":"$C71*$F$1*'Order Form'!$Q$18*(Color!$C$6+'Door Style'!$H$6)","v":{"$error":"#VALUE!"}},{"$f":"$C71*$G$1*'Order Form'!$Q$18*(Color!$D$6+'Door Style'!$G$6+Species!$C$6+'Drawer Head'!$E$6+'Custom Finish'!$C$6)","v":{"$error":"#VALUE!"}},null,{"$f":"'Order Type'!$C$6","v":"01-"},{"$f":"'Order Type'!$C$6","v":"01-"},{"$f":"CONCAT!$D$2","v":""},null,1,"01-B15","11-B15",1,"12-B15","12-B15",1,null,null,"DG 21IN KITCHEN SET-DTC",1,null,{"$f":"$C71*$F$1*(Color!$C$8+'Door Style'!$H$6)","v":{"v":385.2420000000001,"d":"$385.24"}},{"$f":"$C71*$G$1*1*(Color!$D$8+'Door Style'!$G$6+Species!$C$6+'Drawer Head'!$E$6+'Custom Finish'!$C$6)","v":{"$error":"#VALUE!"}},null,"Light Blue","Light Gray",null,"1","BSKIN",125,100,"Y","Base Cabinet",{"$f":"ROUNDUP(AM71*AN71,0)","v":{"v":449,"d":"$449.00"}},"Price change for fall 2019",{"v":318,"d":"$318.00"},1.41,"G1",{"$nulls":4},{"$error":"#N/A"}]
["B15-SHELF","Base Shelf For 15\"",{"v":48.65,"d":"$48.65"},2,null,{"$f":"$C72*'Order Form'!$Q$18","v":{"v":48.65,"d":"$48.65"}},{"$f":"$C72*'Order Form'!$Q$18","v":{"v":48.65,"d":"$48.65"}},null,"14-","14-","",null,0,"14-B15-SHELF",{"$nulls":3},"",null,{"$f":"N72","v":"14-B15-SHELF"},1,{"$nulls":3},{"$f":"$C72*1","v":{"v":48.65,"d":"$48.65"}},{"$f":"$C72*1","v":{"v":48.65,"d":"$48.65"}},null,"Purple","Purple",{"$nulls":3},"No","No","N","Shelf - Base",{"$f":"AL72","v":{"v":48.65,"d":"$48.65"}},{"$f":"ROUNDUP(AS72,2)","v":48.65},{"v":35,"d":"$35.00"},1.1,"Plywood",15,22,{"$f":"(AP72*AQ72)/144","v":2.2916666666666665},{"$f":"(AR72*12.5)+20","v":{"v":48.64583333333333,"d":"48.65"}},{"$error":"#N/A"}]
["B16.5","Base 16.5",{"v":493,"d":"$493.00"},3,null,null,{"$f":"$C73*$G$1*'Order Form'!$Q$18*(Color!$D$6+'Door Style'!$G$6+Species!$C$6+'Drawer Head'!$E$6+'Custom Finish'!$C$6)","v":{"$error":"#VALUE!"}},null,"SC/PC",{"$f":"'Order Type'!$C$6","v":"01-"},{"$f":"CONCAT!$D$8","v":""},null,1,"01-B16.5","11-B16.5",1,"12-B16.5","12-B16.5",1,null,null,"DG 21IN KITCHEN SET-DTC",1,null,null,{"$f":"$C73*$G$1*1*(Color!$D$8+'Door Style'!$G$6+Species!$C$6+'Drawer Head'!$E$6+'Custom Finish'!$C$6)","v":{"$error":"#VALUE!"}},null,"Black","Light Gray",null,"1","BSKIN",125,100,"Y","Base Cabinet",{"$f":"ROUNDUP(AM73*AN73,0)","v":{"v":493,"d":"$493.00"}},"Price change for fall 2019",{"v":349,"d":"$349.00"},1.41,"G1",{"$nulls":4},{"$error":"#N/A"}]
["B16.5-SHELF","Base Shelf For 16.5\"",{"v":52.47,"d":"$52.47"},2,null,{"$f":"$C74*'Order Form'!$Q$18","v":{"v":52.47,"d":"$52.47"}},{"$f":"$C74*'Order Form'!$Q$18","v":{"v":52.47,"d":"$52.47"}},null,"14-","14-","",null,0,"14-B16.5-SHELF",{"$nulls":3},"",null,{"$f":"N74","v":"14-B16.5-SHELF"},1,{"$nulls":3},{"$f":"$C74*1","v":{"v":52.47,"d":"$52.47"}},{"$f":"$C74*1","v":{"v":52.47,"d":"$52.47"}},null,"Purple","Purple",{"$nulls":3},"No","No","N","Shelf - Base",{"$f":"AL74","v":{"v":52.47,"d":"$52.47"}},{"$f":"ROUNDUP(AS74,2)","v":52.47},{"v":38,"d":"$38.00"},1.1,"Plywood",17,22,{"$f":"(AP74*AQ74)/144","v":2.5972222222222223},{"$f":"(AR74*12.5)+20","v":{"v":52.46527777777778,"d":"52.47"}},{"$error":"#N/A"}]
["B18","Base 18",{"v":491,"d":"$491.00"},2,"PB",{"$f":"$C75*$F$1*'Order Form'!$Q$18*(Color!$C$6+'Door Style'!$H$6)","v":{"$error":"#VALUE!"}},{"$f":"$C75*$G$1*'Order Form'!$Q$18*(Color!$D$6+'Door Style'!$G$6+Species!$C$6+'Drawer Head'!$E$6+'Custom Finish'!$C$6)","v":{"$error":"#VALUE!"}},null,{"$f":"'Order Type'!$C$6","v":"01-"},{"$f":"'Order Type'!$C$6","v":"01-"},{"$f":"CONCAT!$D$2","v":""},null,1,"01-B18","11-B18",1,"12-B18","12-B18",1,null,null,"DG 21IN KITCHEN SET-DTC",1,null,{"$f":"$C75*$F$1*(Color!$C$8+'Door Style'!$H$6)","v":{"v":421.2780000000001,"d":"$421.28"}},{"$f":"$C75*$G$1*1*(Color!$D$8+'Door Style'!$G$6+Species!$C$6+'Drawer Head'!$E$6+'Custom Finish'!$C$6)","v":{"$error":"#VALUE!"}},null,"Light Blue","Light Gray",null,"1","BSKIN",125,100,"Y","Base Cabinet",{"$f":"ROUNDUP(AM75*AN75,0)","v":{"v":491,"d":"$491.00"}},"Price change for fall 2019",{"v":348,"d":"$348.00"},1.41,"G1",{"$nulls":4},{"$error":"#N/A"}]
["B18-SHELF","Base Shelf For 18\"",{"v":54.379999999999995,"d":"$54.38"},2,null,{"$f":"$C76*'Order Form'!$Q$18","v":{"v":54.379999999999995,"d":"$54.38"}},{"$f":"$C76*'Order Form'!$Q$18","v":{"v":54.379999999999995,"d":"$54.38"}},null,"14-","14-","",null,0,"14-B18-SHELF",{"$nulls":3},"",null,{"$f":"N76","v":"14-B18-SHELF"},1,{"$nulls":3},{"$f":"$C76*1","v":{"v":54.379999999999995,"d":"$54.38"}},{"$f":"$C76*1","v":{"v":54.379999999999995,"d":"$54.38"}},null,"Purple","Purple",{"$nulls":3},"No","No","N","Shelf - Base",{"$f":"AL76","v":{"v":54.379999999999995,"d":"$54.38"}},{"$f":"ROUNDUP(AS76,2)","v":{"v":54.379999999999995,"d":"54.38"}},{"v":41,"d":"$41.00"},1.1,"Plywood",18,22,{"$f":"(AP76*AQ76)/144","v":2.75},{"$f":"(AR76*12.5)+20","v":{"v":54.375,"d":"54.38"}},{"$error":"#N/A"}]
["B19.5","Base 19.5\"",{"v":549,"d":"$549.00"},3,null,null,{"$f":"$C77*$G$1*'Order Form'!$Q$18*(Color!$D$6+'Door Style'!$G$6+Species!$C$6+'Drawer Head'!$E$6+'Custom Finish'!$C$6)","v":{"$error":"#VALUE!"}},null,"SC/PC",{"$f":"'Order Type'!$C$6","v":"01-"},{"$f":"CONCAT!$D$8","v":""},null,1,"01-B19.5","11-B19.5",1,"12-B19.5","12-B19.5",1,null,null,"DG 21IN KITCHEN SET-DTC",1,null,null,{"$f":"$C77*$G$1*1*(Color!$D$8+'Door Style'!$G$6+Species!$C$6+'Drawer Head'!$E$6+'Custom Finish'!$C$6)","v":{"$error":"#VALUE!"}},null,"Black","Light Gray",null,"1","BSKIN",125,100,"Y","Base Cabinet",{"$f":"ROUNDUP(AM77*AN77,0)","v":{"v":549,"d":"$549.00"}},"Price change for fall 2019",{"v":389,"d":"$389.00"},1.41,"G1",{"$nulls":4},{"$error":"#N/A"}]
["B19.5-SHELF","Base Shelf For 19.5\"",{"v":58.199999999999996,"d":"$58.20"},2,null,{"$f":"$C78*'Order Form'!$Q$18","v":{"v":58.199999999999996,"d":"$58.20"}},{"$f":"$C78*'Order Form'!$Q$18","v":{"v":58.199999999999996,"d":"$58.20"}},null,"14-","14-","",null,0,"14-B19.5-SHELF",{"$nulls":3},"",null,{"$f":"N78","v":"14-B19.5-SHELF"},1,{"$nulls":3},{"$f":"$C78*1","v":{"v":58.199999999999996,"d":"$58.20"}},{"$f":"$C78*1","v":{"v":58.199999999999996,"d":"$58.20"}},null,"Purple","Purple",{"$nulls":3},"No","No","N","Shelf - Base",{"$f":"AL78","v":{"v":58.199999999999996,"d":"$58.20"}},{"$f":"ROUNDUP(AS78,2)","v":{"v":58.199999999999996,"d":"58.20"}},{"v":44,"d":"$44.00"},1.1,"Plywood",20,22,{"$f":"(AP78*AQ78)/144","v":3.0555555555555554},{"$f":"(AR78*12.5)+20","v":{"v":58.19444444444444,"d":"58.19"}},{"$error":"#N/A"}]
["B21","Base 21\"",{"v":545,"d":"$545.00"},2,"PB",{"$f":"$C79*$F$1*'Order Form'!$Q$18*(Color!$C$6+'Door Style'!$H$6)","v":{"$error":"#VALUE!"}},{"$f":"$C79*$G$1*'Order Form'!$Q$18*(Color!$D$6+'Door Style'!$G$6+Species!$C$6+'Drawer Head'!$E$6+'Custom Finish'!$C$6)","v":{"$error":"#VALUE!"}},null,{"$f":"'Order Type'!$C$6","v":"01-"},{"$f":"'Order Type'!$C$6","v":"01-"},{"$f":"CONCAT!$D$2","v":""},null,1,"01-B21","11-B21",1,"12-B21","12-B21",1,null,null,"DG 21IN KITCHEN SET-DTC",1,null,{"$f":"$C79*$F$1*(Color!$C$8+'Door Style'!$H$6)","v":{"v":467.61000000000007,"d":"$467.61"}},{"$f":"$C79*$G$1*1*(Color!$D$8+'Door Style'!$G$6+Species!$C$6+'Drawer Head'!$E$6+'Custom Finish'!$C$6)","v":{"$error":"#VALUE!"}},null,"Light Blue","Light Gray",null,"1","BSKIN",125,100,"Y","Base Cabinet",{"$f":"ROUNDUP(AM79*AN79,0)","v":{"v":545,"d":"$545.00"}},"Price change for fall 2019",{"v":386,"d":"$386.00"},1.41,"G1",{"$nulls":4},{"$error":"#N/A"}]
["B21-SHELF","Base Shelf For 21\"",{"v":60.11,"d":"$60.11"},2,null,{"$f":"$C80*'Order Form'!$Q$18","v":{"v":60.11,"d":"$60.11"}},{"$f":"$C80*'Order Form'!$Q$18","v":{"v":60.11,"d":"$60.11"}},null,"14-","14-","",null,0,"14-B21-SHELF",{"$nulls":3},"",null,{"$f":"N80","v":"14-B21-SHELF"},1,{"$nulls":3},{"$f":"$C80*1","v":{"v":60.11,"d":"$60.11"}},{"$f":"$C80*1","v":{"v":60.11,"d":"$60.11"}},null,"Purple","Purple",{"$nulls":3},"No","No","N","Shelf - Base",{"$f":"AL80","v":{"v":60.11,"d":"$60.11"}},{"$f":"ROUNDUP(AS80,2)","v":60.11},{"v":47,"d":"$47.00"},1.1,"Plywood",21,22,{"$f":"(AP80*AQ80)/144","v":3.2083333333333335},{"$f":"(AR80*12.5)+20","v":{"v":60.10416666666667,"d":"60.10"}},{"$error":"#N/A"}]
["B22.5","Base 22.5\"",{"v":583,"d":"$583.00"},3,null,null,{"$f":"$C81*$G$1*'Order Form'!$Q$18*(Color!$D$6+'Door Style'!$G$6+Species!$C$6+'Drawer Head'!$E$6+'Custom Finish'!$C$6)","v":{"$error":"#VALUE!"}},null,"SC/PC",{"$f":"'Order Type'!$C$6","v":"01-"},{"$f":"CONCAT!$D$8","v":""},null,1,"01-B22.5","11-B22.5",1,"12-B22.5","12-B22.5",1,null,null,"DG 21IN KITCHEN SET-DTC",1,null,null,{"$f":"$C81*$G$1*1*(Color!$D$8+'Door Style'!$G$6+Species!$C$6+'Drawer Head'!$E$6+'Custom Finish'!$C$6)","v":{"$error":"#VALUE!"}},null,"Black","Light Gray",null,"1","BSKIN",125,100,"Y","Base Cabinet",{"$f":"ROUNDUP(AM81*AN81,0)","v":{"v":583,"d":"$583.00"}},"Price change for fall 2019",{"v":413,"d":"$413.00"},1.41,"G1",{"$nulls":4},{"$error":"#N/A"}]
["B22.5-SHELF","Base Shelf For 22.5\"",{"v":63.93,"d":"$63.93"},2,null,{"$f":"$C82*'Order Form'!$Q$18","v":{"v":63.93,"d":"$63.93"}},{"$f":"$C82*'Order Form'!$Q$18","v":{"v":63.93,"d":"$63.93"}},null,"14-","14-","",null,0,"14-B22.5-SHELF",{"$nulls":3},"",null,{"$f":"N82","v":"14-B22.5-SHELF"},1,{"$nulls":3},{"$f":"$C82*1","v":{"v":63.93,"d":"$63.93"}},{"$f":"$C82*1","v":{"v":63.93,"d":"$63.93"}},null,"Purple","Purple",{"$nulls":3},"No","No","N","Shelf - Base",{"$f":"AL82","v":{"v":63.93,"d":"$63.93"}},{"$f":"ROUNDUP(AS82,2)","v":63.93},{"v":50,"d":"$50.00"},1.1,"Plywood",23,22,{"$f":"(AP82*AQ82)/144","v":3.513888888888889},{"$f":"(AR82*12.5)+20","v":{"v":63.92361111111111,"d":"63.92"}},{"$error":"#N/A"}]
["B24","Base 24\"",{"v":576,"d":"$576.00"},2,"PB",{"$f":"$C83*$F$1*'Order Form'!$Q$18*(Color!$C$6+'Door Style'!$H$6)","v":{"$error":"#VALUE!"}},{"$f":"$C83*$G$1*'Order Form'!$Q$18*(Color!$D$6+'Door Style'!$G$6+Species!$C$6+'Drawer Head'!$E$6+'Custom Finish'!$C$6)","v":{"$error":"#VALUE!"}},null,{"$f":"'Order Type'!$C$6","v":"01-"},{"$f":"'Order Type'!$C$6","v":"01-"},{"$f":"CONCAT!$D$2","v":""},null,1,"01-B24","11-B24",1,"12-B24","12-B24",1,null,null,"DG 21IN KITCHEN SET-DTC",1,null,{"$f":"$C83*$F$1*(Color!$C$8+'Door Style'!$H$6)","v":{"v":494.2080000000001,"d":"$494.21"}},{"$f":"$C83*$G$1*1*(Color!$D$8+'Door Style'!$G$6+Species!$C$6+'Drawer Head'!$E$6+'Custom Finish'!$C$6)","v":{"$error":"#VALUE!"}},null,"Light Blue","Light Gray",null,"1","BSKIN",125,100,"N","Base Cabinet",{"$f":"ROUNDUP(AM83*AN83,0)","v":{"v":576,"d":"$576.00"}},"Price change for fall 2019",{"v":408,"d":"$408.00"},1.41,"G1",{"$nulls":4},{"$error":"#N/A"}]
["B24-SHELF","Base Shelf For 24\"",{"v":65.84,"d":"$65.84"},2,null,{"$f":"$C84*'Order Form'!$Q$18","v":{"v":65.84,"d":"$65.84"}},{"$f":"$C84*'Order Form'!$Q$18","v":{"v":65.84,"d":"$65.84"}},null,"14-","14-","",null,0,"14-B24-SHELF",{"$nulls":3},"",null,{"$f":"N84","v":"14-B24-SHELF"},1,{"$nulls":3},{"$f":"$C84*1","v":{"v":65.84,"d":"$65.84"}},{"$f":"$C84*1","v":{"v":65.84,"d":"$65.84"}},null,"Purple","Purple",{"$nulls":3},"No","No","N","Shelf - Base",{"$f":"AL84","v":{"v":65.84,"d":"$65.84"}},{"$f":"ROUNDUP(AS84,2)","v":65.84},{"v":54,"d":"$54.00"},1.1,"Plywood",24,22,{"$f":"(AP84*AQ84)/144","v":3.6666666666666665},{"$f":"(AR84*12.5)+20","v":{"v":65.83333333333333,"d":"65.83"}},{"$error":"#N/A"}]
["B25.5","Base 25.5\"",{"v":673,"d":"$673.00"},3,null,null,{"$f":"$C85*$G$1*'Order Form'!$Q$18*(Color!$D$6+'Door Style'!$G$6+Species!$C$6+'Drawer Head'!$E$6+'Custom Finish'!$C$6)","v":{"$error":"#VALUE!"}},null,"SC/PC",{"$f":"'Order Type'!$C$6","v":"01-"},{"$f":"CONCAT!$D$8","v":""},null,1,"01-B25.5","11-B25.5",1,"12-B25.5","12-B25.5",1,null,null,"DG 21IN KITCHEN SET-DTC",1,null,null,{"$f":"$C85*$G$1*1*(Color!$D$8+'Door Style'!$G$6+Species!$C$6+'Drawer Head'!$E$6+'Custom Finish'!$C$6)","v":{"$error":"#VALUE!"}},null,"Black","Light Gray",null,"1","BSKIN",125,100,"N","Base Cabinet",{"$f":"ROUNDUP(AM85*AN85,0)","v":{"v":673,"d":"$673.00"}},"Price change for fall 2019",{"v":477,"d":"$477.00"},1.41,"G1",{"$nulls":4},{"$error":"#N/A"}]
["B25.5-SHELF","Base Shelf For 25.5\"",{"v":69.66000000000001,"d":"$69.66"},2,null,{"$f":"$C86*'Order Form'!$Q$18","v":{"v":69.66000000000001,"d":"$69.66"}},{"$f":"$C86*'Order Form'!$Q$18","v":{"v":69.66000000000001,"d":"$69.66"}},null,"14-","14-","",null,0,"14-B25.5-SHELF",{"$nulls":3},"",null,{"$f":"N86","v":"14-B25.5-SHELF"},1,{"$nulls":3},{"$f":"$C86*1","v":{"v":69.66000000000001,"d":"$69.66"}},{"$f":"$C86*1","v":{"v":69.66000000000001,"d":"$69.66"}},null,"Purple","Purple",{"$nulls":3},"No","No","N","Shelf - Base",{"$f":"AL86","v":{"v":69.66000000000001,"d":"$69.66"}},{"$f":"ROUNDUP(AS86,2)","v":{"v":69.66000000000001,"d":"69.66"}},{"v":58,"d":"$58.00"},1.1,"Plywood",26,22,{"$f":"(AP86*AQ86)/144","v":3.9722222222222223},{"$f":"(AR86*12.5)+20","v":{"v":69.65277777777777,"d":"69.65"}},{"$error":"#N/A"}]
["B27","Base 27\"",{"v":669,"d":"$669.00"},2,"PB",{"$f":"$C87*$F$1*'Order Form'!$Q$18*(Color!$C$6+'Door Style'!$H$6)","v":{"$error":"#VALUE!"}},{"$f":"$C87*$G$1*'Order Form'!$Q$18*(Color!$D$6+'Door Style'!$G$6+Species!$C$6+'Drawer Head'!$E$6+'Custom Finish'!$C$6)","v":{"$error":"#VALUE!"}},null,{"$f":"'Order Type'!$C$6","v":"01-"},{"$f":"'Order Type'!$C$6","v":"01-"},{"$f":"CONCAT!$D$2","v":""},null,1,"01-B27","11-B27",1,"12-B27","12-B27",1,null,null,"DG 21IN KITCHEN SET-DTC",1,null,{"$f":"$C87*$F$1*(Color!$C$8+'Door Style'!$H$6)","v":{"v":574.0020000000001,"d":"$574.00"}},{"$f":"$C87*$G$1*1*(Color!$D$8+'Door Style'!$G$6+Species!$C$6+'Drawer Head'!$E$6+'Custom Finish'!$C$6)","v":{"$error":"#VALUE!"}},null,"Light Blue","Light Gray",null,"1","BSKIN",125,100,"N","Base Cabinet",{"$f":"ROUNDUP(AM87*AN87,0)","v":{"v":669,"d":"$669.00"}},"Price change for fall 2019",{"v":474,"d":"$474.00"},1.41,"G1",{"$nulls":4},{"$error":"#N/A"}]
["B27-SHELF","Base Shelf For 27\"",{"v":71.57000000000001,"d":"$71.57"},2,null,{"$f":"$C88*'Order Form'!$Q$18","v":{"v":71.57000000000001,"d":"$71.57"}},{"$f":"$C88*'Order Form'!$Q$18","v":{"v":71.57000000000001,"d":"$71.57"}},null,"14-","14-","",null,0,"14-B27-SHELF",{"$nulls":3},"",null,{"$f":"N88","v":"14-B27-SHELF"},1,{"$nulls":3},{"$f":"$C88*1","v":{"v":71.57000000000001,"d":"$71.57"}},{"$f":"$C88*1","v":{"v":71.57000000000001,"d":"$71.57"}},null,"Purple","Purple",{"$nulls":3},"No","No","N","Shelf - Base",{"$f":"AL88","v":{"v":71.57000000000001,"d":"$71.57"}},{"$f":"ROUNDUP(AS88,2)","v":{"v":71.57000000000001,"d":"71.57"}},{"v":61,"d":"$61.00"},1.1,"Plywood",27,22,{"$f":"(AP88*AQ88)/144","v":4.125},{"$f":"(AR88*12.5)+20","v":{"v":71.5625,"d":"71.56"}},{"$error":"#N/A"}]
["B30","Base 30\"",{"v":732,"d":"$732.00"},2,"PB",{"$f":"$C89*$F$1*'Order Form'!$Q$18*(Color!$C$6+'Door Style'!$H$6)","v":{"$error":"#VALUE!"}},{"$f":"$C89*$G$1*'Order Form'!$Q$18*(Color!$D$6+'Door Style'!$G$6+Species!$C$6+'Drawer Head'!$E$6+'Custom Finish'!$C$6)","v":{"$error":"#VALUE!"}},null,{"$f":"'Order Type'!$C$6","v":"01-"},{"$f":"'Order Type'!$C$6","v":"01-"},{"$f":"CONCAT!$D$2","v":""},null,1,"01-B30","11-B30",1,"12-B30","12-B30",1,null,null,"DG 21IN KITCHEN SET-DTC",1,null,{"$f":"$C89*$F$1*(Color!$C$8+'Door Style'!$H$6)","v":{"v":628.056,"d":"$628.06"}},{"$f":"$C89*$G$1*1*(Color!$D$8+'Door Style'!$G$6+Species!$C$6+'Drawer Head'!$E$6+'Custom Finish'!$C$6)","v":{"$error":"#VALUE!"}},null,"Light Blue","Light Gray",null,"1","BSKIN",125,100,"N","Base Cabinet",{"$f":"ROUNDUP(AM89*AN89,0)","v":{"v":732,"d":"$732.00"}},"Price change for fall 2019",{"v":519,"d":"$519.00"},1.41,"G1",{"$nulls":4},{"$error":"#N/A"}]
["B30-SHELF","Base Shelf For 30\"",{"v":77.30000000000001,"d":"$77.30"},2,null,{"$f":"$C90*'Order Form'!$Q$18","v":{"v":77.30000000000001,"d":"$77.30"}},{"$f":"$C90*'Order Form'!$Q$18","v":{"v":77.30000000000001,"d":"$77.30"}},null,"14-","14-","",null,0,"14-B30-SHELF",{"$nulls":3},"",null,{"$f":"N90","v":"14-B30-SHELF"},1,{"$nulls":3},{"$f":"$C90*1","v":{"v":77.30000000000001,"d":"$77.30"}},{"$f":"$C90*1","v":{"v":77.30000000000001,"d":"$77.30"}},null,"Purple","Purple",{"$nulls":3},"No","No","N","Shelf - Base",{"$f":"AL90","v":{"v":77.30000000000001,"d":"$77.30"}},{"$f":"ROUNDUP(AS90,2)","v":{"v":77.30000000000001,"d":"77.30"}},{"v":68,"d":"$68.00"},1.1,"Plywood",30,22,{"$f":"(AP90*AQ90)/144","v":4.583333333333333},{"$f":"(AR90*12.5)+20","v":{"v":77.29166666666666,"d":"77.29"}},{"$error":"#N/A"}]
["B33","Base 33\"",{"v":870,"d":"$870.00"},2,"PB",{"$f":"$C91*$F$1*'Order Form'!$Q$18*(Color!$C$6+'Door Style'!$H$6)","v":{"$error":"#VALUE!"}},{"$f":"$C91*$G$1*'Order Form'!$Q$18*(Color!$D$6+'Door Style'!$G$6+Species!$C$6+'Drawer Head'!$E$6+'Custom Finish'!$C$6)","v":{"$error":"#VALUE!"}},null,{"$f":"'Order Type'!$C$6","v":"01-"},{"$f":"'Order Type'!$C$6","v":"01-"},{"$f":"CONCAT!$D$2","v":""},null,1,"01-B33","11-B33",1,"12-B33","12-B33",1,null,null,"DG 21IN KITCHEN SET-DTC",2,null,{"$f":"$C91*$F$1*(Color!$C$8+'Door Style'!$H$6)","v":{"v":746.46,"d":"$746.46"}},{"$f":"$C91*$G$1*1*(Color!$D$8+'Door Style'!$G$6+Species!$C$6+'Drawer Head'!$E$6+'Custom Finish'!$C$6)","v":{"$error":"#VALUE!"}},null,"Light Blue","Light Gray",null,"1","BSKIN",175,150,"N","Base Cabinet",{"$f":"ROUNDUP(AM91*AN91,0)","v":{"v":870,"d":"$870.00"}},"Price change for fall 2019",{"v":617,"d":"$617.00"},1.41,"G1",{"$nulls":4},{"$error":"#N/A"}]
["B33-SHELF","Base Shelf For 33\"",{"v":83.03,"d":"$83.03"},2,null,{"$f":"$C92*'Order Form'!$Q$18","v":{"v":83.03,"d":"$83.03"}},{"$f":"$C92*'Order Form'!$Q$18","v":{"v":83.03,"d":"$83.03"}},null,"14-","14-","",null,0,"14-B33-SHELF",{"$nulls":3},"",null,{"$f":"N92","v":"14-B33-SHELF"},1,{"$nulls":3},{"$f":"$C92*1","v":{"v":83.03,"d":"$83.03"}},{"$f":"$C92*1","v":{"v":83.03,"d":"$83.03"}},null,"Purple","Purple",{"$nulls":3},"No","No","N","Shelf - Base",{"$f":"AL92","v":{"v":83.03,"d":"$83.03"}},{"$f":"ROUNDUP(AS92,2)","v":83.03},{"v":75,"d":"$75.00"},1.1,"Plywood",33,22,{"$f":"(AP92*AQ92)/144","v":5.041666666666667},{"$f":"(AR92*12.5)+20","v":{"v":83.02083333333334,"d":"83.02"}},{"$error":"#N/A"}]
["B36","Base 36\"",{"v":918,"d":"$918.00"},2,"PB",{"$f":"$C93*$F$1*'Order Form'!$Q$18*(Color!$C$6+'Door Style'!$H$6)","v":{"$error":"#VALUE!"}},{"$f":"$C93*$G$1*'Order Form'!$Q$18*(Color!$D$6+'Door Style'!$G$6+Species!$C$6+'Drawer Head'!$E$6+'Custom Finish'!$C$6)","v":{"$error":"#VALUE!"}},null,{"$f":"'Order Type'!$C$6","v":"01-"},{"$f":"'Order Type'!$C$6","v":"01-"},{"$f":"CONCAT!$D$2","v":""},null,1,"01-B36","11-B36",1,"12-B36","12-B36",1,null,null,"DG 21IN KITCHEN SET-DTC",2,null,{"$f":"$C93*$F$1*(Color!$C$8+'Door Style'!$H$6)","v":{"v":787.6440000000001,"d":"$787.64"}},{"$f":"$C93*$G$1*1*(Color!$D$8+'Door Style'!$G$6+Species!$C$6+'Drawer Head'!$E$6+'Custom Finish'!$C$6)","v":{"$error":"#VALUE!"}},null,"Light Blue","Light Gray",null,"1","BSKIN",175,150,"N","Base Cabinet",{"$f":"ROUNDUP(AM93*AN93,0)","v":{"v":918,"d":"$918.00"}},"Price change for fall 2019",{"v":651,"d":"$651.00"},1.41,"G1",{"$nulls":4},{"$error":"#N/A"}]
["B36-SHELF","Base Shelf For 36\"",{"v":88.75,"d":"$88.75"},2,null,{"$f":"$C94*'Order Form'!$Q$18","v":{"v":88.75,"d":"$88.75"}},{"$f":"$C94*'Order Form'!$Q$18","v":{"v":88.75,"d":"$88.75"}},null,"14-","14-","",null,0,"14-B36-SHELF",{"$nulls":3},"",null,{"$f":"N94","v":"14-B36-SHELF"},1,{"$nulls":3},{"$f":"$C94*1","v":{"v":88.75,"d":"$88.75"}},{"$f":"$C94*1","v":{"v":88.75,"d":"$88.75"}},null,"Purple","Purple",{"$nulls":3},"No","No","N","Shelf - Base",{"$f":"AL94","v":{"v":88.75,"d":"$88.75"}},{"$f":"ROUNDUP(AS94,2)","v":88.75},{"v":81,"d":"$81.00"},1.1,"Plywood",36,22,{"$f":"(AP94*AQ94)/144","v":5.5},{"$f":"(AR94*12.5)+20","v":88.75},{"$error":"#N/A"}]
["B39","Base 39\"",{"v":968,"d":"$968.00"},2,null,{"$f":"$C95*$F$1*'Order Form'!$Q$18*(Color!$C$6+'Door Style'!$H$6)","v":{"$error":"#VALUE!"}},{"$f":"$C95*$G$1*'Order Form'!$Q$18*(Color!$D$6+'Door Style'!$G$6+Species!$C$6+'Drawer Head'!$E$6+'Custom Finish'!$C$6)","v":{"$error":"#VALUE!"}},null,{"$f":"'Order Type'!$C$6","v":"01-"},{"$f":"'Order Type'!$C$6","v":"01-"},{"$f":"CONCAT!$D$2","v":""},null,1,"01-B39","11-B39",1,"12-B39","12-B39",1,null,null,"DG 21IN KITCHEN SET-DTC",2,null,{"$f":"$C95*$F$1*(Color!$C$8+'Door Style'!$H$6)","v":{"v":830.5440000000001,"d":"$830.54"}},{"$f":"$C95*$G$1*1*(Color!$D$8+'Door Style'!$G$6+Species!$C$6+'Drawer Head'!$E$6+'Custom Finish'!$C$6)","v":{"$error":"#VALUE!"}},null,"Light Blue","Light Gray",null,"1","BSKIN",175,150,"N","Base Cabinet",{"$f":"ROUNDUP(AM95*AN95,0)","v":{"v":968,"d":"$968.00"}},"Price change for fall 2019",{"v":686,"d":"$686.00"},1.41,"G1",{"$nulls":4},{"$error":"#N/A"}]
["B39-SHELF","Base Shelf For 39\"",{"v":94.48,"d":"$94.48"},2,null,{"$f":"$C96*'Order Form'!$Q$18","v":{"v":94.48,"d":"$94.48"}},{"$f":"$C96*'Order Form'!$Q$18","v":{"v":94.48,"d":"$94.48"}},null,"14-","14-","",null,0,"14-B39-SHELF",{"$nulls":3},"",null,{"$f":"N96","v":"14-B39-SHELF"},1,{"$nulls":3},{"$f":"$C96*1","v":{"v":94.48,"d":"$94.48"}},{"$f":"$C96*1","v":{"v":94.48,"d":"$94.48"}},null,"Purple","Purple",{"$nulls":3},"No","No","N","Shelf - Base",{"$f":"AL96","v":{"v":94.48,"d":"$94.48"}},{"$f":"ROUNDUP(AS96,2)","v":94.48},{"v":88,"d":"$88.00"},1.1,"Plywood",39,22,{"$f":"(AP96*AQ96)/144","v":5.958333333333333},{"$f":"(AR96*12.5)+20","v":{"v":94.47916666666666,"d":"94.48"}},{"$error":"#N/A"}]
["BASE PULLOUT (11)","Base Pull Out 11\"",{"v":340,"d":"$340.00"},2,null,{"$f":"$C97","v":{"v":340,"d":"$340.00"}},{"v":340,"d":"$340.00"},null,"/","","",null,0,"BASE PULLOUT (11)",{"$nulls":3},"",null,{"$f":"N97","v":"BASE PULLOUT (11)"},1,{"$nulls":3},{"$f":"$C97","v":{"v":340,"d":"$340.00"}},{"v":340,"d":"$340.00"},null,"Tan","Tan",{"$nulls":3},"No","No","N","Accessory - Base - Full Height",{"$f":"ROUNDUP(AM97*AN97,0)","v":{"v":340,"d":"$340.00"}},null,{"v":340,"d":"$340.00"},1,"ACC",{"$nulls":4},{"$error":"#N/A"}]
["BASE PULLOUT (14)","Base Pull Out 14\"",{"v":400,"d":"$400.00"},2,null,{"v":400,"d":"$400.00"},{"v":400,"d":"$400.00"},null,"/","","",null,0,"BASE PULLOUT (14)",{"$nulls":3},"",null,{"$f":"N98","v":"BASE PULLOUT (14)"},1,{"$nulls":3},{"v":400,"d":"$400.00"},{"v":400,"d":"$400.00"},null,"Tan","Tan",{"$nulls":3},"No","No","N","Accessory - Base - Full Height",{"v":400,"d":"$400.00"},null,{"v":400,"d":"$400.00"},1,"ACC",{"$nulls":4},{"$error":"#N/A"}]
["BASE PULLOUT (5)","Base Pull Out 5\"",{"v":275,"d":"$275.00"},2,null,{"v":275,"d":"$275.00"},{"v":275,"d":"$275.00"},null,"/","","",null,0,"BASE PULLOUT (5)",{"$nulls":3},"",null,{"$f":"N99","v":"BASE PULLOUT (5)"},1,{"$nulls":3},{"v":275,"d":"$275.00"},{"v":275,"d":"$275.00"},null,"Tan","Tan",{"$nulls":3},"No","No","N","Accessory - Base - Full Height",{"v":275,"d":"$275.00"},null,{"v":275,"d":"$275.00"},1,"ACC",{"$nulls":4},{"$error":"#N/A"}]
["BASE PULLOUT (8)","Base Pull Out 8\"",{"v":295,"d":"$295.00"},2,null,{"v":295,"d":"$295.00"},{"v":295,"d":"$295.00"},null,"/","","",null,0,{"$f":"J100&A100&K100","v":"BASE PULLOUT (8)"},{"$nulls":3},"",null,{"$f":"N100","v":"BASE PULLOUT (8)"},1,{"$nulls":3},{"v":295,"d":"$295.00"},{"v":295,"d":"$295.00"},null,"Tan","Tan",{"$nulls":3},"No","No","N","Accessory - Base - Full Height",{"v":295,"d":"$295.00"},null,{"v":295,"d":"$295.00"},1,"ACC",{"$nulls":4},{"$error":"#N/A"}]
["BASE PULLOUT BASKET (5) ","Optional Metal Basket that goes into Base Pullout (5)",{"v":95,"d":"$95.00"},2,null,{"v":95,"d":"$95.00"},{"v":95,"d":"$95.00"},null,"/","","",null,0,"BASE PULLOUT BASKET (5) ",{"$nulls":5},"BASE PULLOUT (5) BASKET",1,{"$nulls":3},{"v":95,"d":"$95.00"},{"v":95,"d":"$95.00"},null,"Tan","Tan",{"$nulls":3},"No","No","N","Accessory - Base - Full Height",{"v":95,"d":"$95.00"},null,{"v":95,"d":"$95.00"},1,"ACC",{"$nulls":4},{"$error":"#N/A"}]
["BASE PULLOUT BASKET (8) ","Optional Metal Basket that goes into Base Pullout (8)",{"v":130,"d":"$130.00"},2,null,{"v":130,"d":"$130.00"},{"v":130,"d":"$130.00"},null,"/","","",null,0,"BASE PULLOUT BASKET (8) ",{"$nulls":5},"BASE PULLOUT (8) BASKET",1,{"$nulls":3},{"v":130,"d":"$130.00"},{"v":130,"d":"$130.00"},null,"Tan","Tan",{"$nulls":3},"No","No","N","Accessory - Base - Full Height",{"v":130,"d":"$130.00"},null,{"v":130,"d":"$130.00"},1,"ACC",{"$nulls":4},{"$error":"#N/A"}]
["BATTEN","Molding",{"v":61,"d":"$61.00"},2,null,{"$f":"($C103*$F$1*Color!$G$6*'Order Form'!$Q$18)","v":{"$error":"#VALUE!"}},{"$f":"$C103*$G$1*'Order Form'!$Q$18*(Color!$D$6+Species!$C$6)","v":{"$error":"#VALUE!"}},null,"13-","13-",{"$f":"CONCAT!$D$3","v":""},null,0,"13-BATTEN",{"$nulls":3},{"$f":"Q103&K103","v":""},null,{"$f":"N103","v":"13-BATTEN"},1,{"$nulls":3},{"$f":"($C103*$F$1*Color!$G$8*1)","v":{"v":52.338,"d":"$52.34"}},{"$f":"$C103*$G$1*1*(Color!$D$8+Species!$C$6)","v":{"$error":"#VALUE!"}},null,"Orange","Pink",{"$nulls":3},"No","No","N","Trim",{"v":61,"d":"$61.00"},"Price change for fall 2019",{"v":43,"d":"$43.00"},1.41,"G1",{"$nulls":4},{"$error":"#N/A"}]
["BCB PULLOUT-BEAN48","BCB Pullout-Bean 48\"",{"v":525,"d":"$525.00"},3,null,null,{"$f":"$C104","v":{"v":525,"d":"$525.00"}},null,"/","","",null,0,"BCB PULLOUT-BEAN48",{"$nulls":3},"",null,{"$f":"N104","v":"BCB PULLOUT-BEAN48"},1,{"$nulls":4},{"$f":"$C104","v":{"v":525,"d":"$525.00"}},null,"Black","Tan",{"$nulls":3},"No","No","N","Accessory - Base - Blind Corner",{"v":525,"d":"$525.00"},null,{"v":525,"d":"$525.00"},1,"ACC",{"$nulls":4},{"$error":"#N/A"}]
["BCB PULLOUT-HALF MOON45","BCB Pullout-Half Moon 45",{"v":270,"d":"$270.00"},3,null,null,{"$f":"$C105","v":{"v":270,"d":"$270.00"}},null,"/","","",null,0,"BCB PULLOUT-HALF MOON45",{"$nulls":3},"",null,{"$f":"N105","v":"BCB PULLOUT-HALF MOON45"},1,{"$nulls":4},{"$f":"$C105","v":{"v":270,"d":"$270.00"}},null,"Black","Tan",{"$nulls":3},"No","No","N","Accessory - Base - Blind Corner",{"v":270,"d":"$270.00"},null,{"v":270,"d":"$270.00"},1,"ACC",{"$nulls":4},{"$error":"#N/A"}]
["BCB36L","Blind Corner Base 36\" (Blind Left)",{"v":691,"d":"$691.00"},2,null,{"$f":"$C106*$F$1*'Order Form'!$Q$18*(Color!$C$6+'Door Style'!$H$6)","v":{"$error":"#VALUE!"}},{"$f":"$C106*$G$1*'Order Form'!$Q$18*(Color!$D$6+'Door Style'!$G$6+Species!$C$6+'Drawer Head'!$E$6+'Custom Finish'!$C$6)","v":{"$error":"#VALUE!"}},null,{"$f":"'Order Type'!$C$6","v":"01-"},{"$f":"'Order Type'!$C$6","v":"01-"},{"$f":"CONCAT!$D$2","v":""},null,1,"01-BCB36L","11-BCB36",1,"12-BCB36","12-BCB36",1,null,null,"DG 21IN KITCHEN SET-DTC",1,null,{"$f":"$C106*$F$1*(Color!$C$8+'Door Style'!$H$6)","v":{"v":592.878,"d":"$592.88"}},{"$f":"$C106*$G$1*1*(Color!$D$8+'Door Style'!$G$6+Species!$C$6+'Drawer Head'!$E$6+'Custom Finish'!$C$6)","v":{"$error":"#VALUE!"}},null,"Light Blue","Light Gray",null,"1","BSKIN",125,100,"N","Base Cabinet - Corner - Blind",{"v":691,"d":"$691.00"},"Price change for fall 2019",{"v":490,"d":"$490.00"},1.41,"G1",{"$nulls":4},{"$error":"#N/A"}]
["BCB36R","Blind Corner Base 36\" (Blind Right)",{"v":691,"d":"$691.00"},2,null,{"$f":"$C107*$F$1*'Order Form'!$Q$18*(Color!$C$6+'Door Style'!$H$6)","v":{"$error":"#VALUE!"}},{"$f":"$C107*$G$1*'Order Form'!$Q$18*(Color!$D$6+'Door Style'!$G$6+Species!$C$6+'Drawer Head'!$E$6+'Custom Finish'!$C$6)","v":{"$error":"#VALUE!"}},null,{"$f":"'Order Type'!$C$6","v":"01-"},{"$f":"'Order Type'!$C$6","v":"01-"},{"$f":"CONCAT!$D$2","v":""},null,1,"01-BCB36R","11-BCB36",1,"12-BCB36","12-BCB36",1,null,null,"DG 21IN KITCHEN SET-DTC",1,null,{"$f":"$C107*$F$1*(Color!$C$8+'Door Style'!$H$6)","v":{"v":592.878,"d":"$592.88"}},{"$f":"$C107*$G$1*1*(Color!$D$8+'Door Style'!$G$6+Species!$C$6+'Drawer Head'!$E$6+'Custom Finish'!$C$6)","v":{"$error":"#VALUE!"}},null,"Light Blue","Light Gray",null,"1","BSKIN",125,100,"N","Base Cabinet - Corner - Blind",{"v":691,"d":"$691.00"},"Price change for fall 2019",{"v":490,"d":"$490.00"},1.41,"G1",{"$nulls":4},{"$error":"#N/A"}]
["BCB39L","Blind Corner Base 39\" (Blind Left)",{"v":727,"d":"$727.00"},3,null,null,{"$f":"$C108*$G$1*'Order Form'!$Q$18*(Color!$D$6+'Door Style'!$G$6+Species!$C$6+'Drawer Head'!$E$6+'Custom Finish'!$C$6)","v":{"$error":"#VALUE!"}},null,"SC/PC",{"$f":"'Order Type'!$C$6","v":"01-"},{"$f":"CONCAT!$D$8","v":""},null,1,"01-BCB39L","11-BCB39",1,"12-BCB39L","12-BCB39L",1,null,null,"DG 21IN KITCHEN SET-DTC",1,null,null,{"$f":"$C108*$G$1*1*(Color!$D$8+'Door Style'!$G$6+Species!$C$6+'Drawer Head'!$E$6+'Custom Finish'!$C$6)","v":{"$error":"#VALUE!"}},null,"Black","Light Gray",null,"1","BSKIN",125,100,"N","Base Cabinet - Corner - Blind",{"v":727,"d":"$727.00"},"Price change for fall 2019",{"v":515,"d":"$515.00"},1.41,"G1",{"$nulls":4},{"$error":"#N/A"}]
["BCB39R","Blind Corner Base 39\" (Blind Right)",{"v":727,"d":"$727.00"},3,null,null,{"$f":"$C109*$G$1*'Order Form'!$Q$18*(Color!$D$6+'Door Style'!$G$6+Species!$C$6+'Drawer Head'!$E$6+'Custom Finish'!$C$6)","v":{"$error":"#VALUE!"}},null,"SC/PC",{"$f":"'Order Type'!$C$6","v":"01-"},{"$f":"CONCAT!$D$8","v":""},null,1,"01-BCB39R","11-BCB39",1,"12-BCB39R","12-BCB39R",1,null,null,"DG 21IN KITCHEN SET-DTC",1,null,null,{"$f":"$C109*$G$1*1*(Color!$D$8+'Door Style'!$G$6+Species!$C$6+'Drawer Head'!$E$6+'Custom Finish'!$C$6)","v":{"$error":"#VALUE!"}},null,"Black","Light Gray",null,"1","BSKIN",125,100,"N","Base Cabinet - Corner - Blind",{"v":727,"d":"$727.00"},"Price change for fall 2019",{"v":515,"d":"$515.00"},1.41,"G1",{"$nulls":4},{"$error":"#N/A"}]
["BCB42L","Blind Corner Base 42\" (Blind Left)",{"v":848,"d":"$848.00"},2,null,{"$f":"$C110*$F$1*'Order Form'!$Q$18*(Color!$C$6+'Door Style'!$H$6)","v":{"$error":"#VALUE!"}},{"$f":"$C110*$G$1*'Order Form'!$Q$18*(Color!$D$6+'Door Style'!$G$6+Species!$C$6+'Drawer Head'!$E$6+'Custom Finish'!$C$6)","v":{"$error":"#VALUE!"}},null,{"$f":"'Order Type'!$C$6","v":"01-"},{"$f":"'Order Type'!$C$6","v":"01-"},{"$f":"CONCAT!$D$2","v":""},null,1,"01-BCB42L","11-BCB42",1,"12-BCB42","12-BCB42",1,null,null,"DG 21IN KITCHEN SET-DTC",1,null,{"$f":"$C110*$F$1*(Color!$C$8+'Door Style'!$H$6)","v":{"v":727.5840000000002,"d":"$727.58"}},{"$f":"$C110*$G$1*1*(Color!$D$8+'Door Style'!$G$6+Species!$C$6+'Drawer Head'!$E$6+'Custom Finish'!$C$6)","v":{"$error":"#VALUE!"}},null,"Light Blue","Light Gray",null,"1","BSKIN",125,100,"N","Base Cabinet - Corner - Blind",{"v":848,"d":"$848.00"},"Price change for fall 2019",{"v":601,"d":"$601.00"},1.41,"G1",{"$nulls":4},{"$error":"#N/A"}]
["BCB42R","Blind Corner Base 42\" (Blind Right)",{"v":848,"d":"$848.00"},2,null,{"$f":"$C111*$F$1*'Order Form'!$Q$18*(Color!$C$6+'Door Style'!$H$6)","v":{"$error":"#VALUE!"}},{"$f":"$C111*$G$1*'Order Form'!$Q$18*(Color!$D$6+'Door Style'!$G$6+Species!$C$6+'Drawer Head'!$E$6+'Custom Finish'!$C$6)","v":{"$error":"#VALUE!"}},null,{"$f":"'Order Type'!$C$6","v":"01-"},{"$f":"'Order Type'!$C$6","v":"01-"},{"$f":"CONCAT!$D$2","v":""},null,1,"01-BCB42R","11-BCB42",1,"12-BCB42","12-BCB42",1,null,null,"DG 21IN KITCHEN SET-DTC",1,null,{"$f":"$C111*$F$1*(Color!$C$8+'Door Style'!$H$6)","v":{"v":727.5840000000002,"d":"$727.58"}},{"$f":"$C111*$G$1*1*(Color!$D$8+'Door Style'!$G$6+Species!$C$6+'Drawer Head'!$E$6+'Custom Finish'!$C$6)","v":{"$error":"#VALUE!"}},null,"Light Blue","Light Gray",null,"1","BSKIN",125,100,"N","Base Cabinet - Corner - Blind",{"v":848,"d":"$848.00"},"Price change for fall 2019",{"v":601,"d":"$601.00"},1.41,"G1",{"$nulls":4},{"$error":"#N/A"}]
["BCB45L","Blind Corner Base 45\" (Blind Left)",{"v":865,"d":"$865.00"},3,null,null,{"$f":"$C112*$G$1*'Order Form'!$Q$18*(Color!$D$6+'Door Style'!$G$6+Species!$C$6+'Drawer Head'!$E$6+'Custom Finish'!$C$6)","v":{"$error":"#VALUE!"}},null,"SC/PC",{"$f":"'Order Type'!$C$6","v":"01-"},{"$f":"CONCAT!$D$8","v":""},null,1,"01-BCB45L","11-BCB45",1,"12-BCB45L","12-BCB45L",1,null,null,"DG 21IN KITCHEN SET-DTC",1,null,null,{"$f":"$C112*$G$1*1*(Color!$D$8+'Door Style'!$G$6+Species!$C$6+'Drawer Head'!$E$6+'Custom Finish'!$C$6)","v":{"$error":"#VALUE!"}},null,"Black","Light Gray",null,"1","BSKIN",125,100,"N","Base Cabinet - Corner - Blind",{"v":865,"d":"$865.00"},"Price change for fall 2019",{"v":613,"d":"$613.00"},1.41,"G1",{"$nulls":4},{"$error":"#N/A"}]
["BCB45R","Blind Corner Base 45\" (Blind Right)",{"v":865,"d":"$865.00"},3,null,null,{"$f":"$C113*$G$1*'Order Form'!$Q$18*(Color!$D$6+'Door Style'!$G$6+Species!$C$6+'Drawer Head'!$E$6+'Custom Finish'!$C$6)","v":{"$error":"#VALUE!"}},null,"SC/PC",{"$f":"'Order Type'!$C$6","v":"01-"},{"$f":"CONCAT!$D$8","v":""},null,1,"01-BCB45R","11-BCB45",1,"12-BCB45R","12-BCB45R",1,null,null,"DG 21IN KITCHEN SET-DTC",1,null,null,{"$f":"$C113*$G$1*1*(Color!$D$8+'Door Style'!$G$6+Species!$C$6+'Drawer Head'!$E$6+'Custom Finish'!$C$6)","v":{"$error":"#VALUE!"}},null,"Black","Light Gray",null,"1","BSKIN",125,100,"N","Base Cabinet - Corner - Blind",{"v":865,"d":"$865.00"},"Price change for fall 2019",{"v":613,"d":"$613.00"},1.41,"G1",{"$nulls":4},{"$error":"#N/A"}]
["BCB48L","Blind Corner Base 48\" (Blind Left)",{"v":899,"d":"$899.00"},3,null,null,{"$f":"$C114*$G$1*'Order Form'!$Q$18*(Color!$D$6+'Door Style'!$G$6+Species!$C$6+'Drawer Head'!$E$6+'Custom Finish'!$C$6)","v":{"$error":"#VALUE!"}},null,"PROJECT",{"$f":"'Order Type'!$C$6","v":"01-"},{"$f":"CONCAT!$D$2","v":""},null,1,"01-BCB48L","11-BCB48",1,"12-BCB48L","12-BCB48L",1,null,null,"DG 21IN KITCHEN SET-DTC",1,null,null,{"$f":"$C114*$G$1*1*(Color!$D$8+'Door Style'!$G$6+Species!$C$6+'Drawer Head'!$E$6+'Custom Finish'!$C$6)","v":{"$error":"#VALUE!"}},null,"Black","Light Gray",null,"1","BSKIN",125,100,"N","Base Cabinet - Corner - Blind",{"v":899,"d":"$899.00"},"Price change for fall 2019",{"v":637,"d":"$637.00"},1.41,"G1",{"$nulls":4},{"$error":"#N/A"}]
["BCB48R","Blind Corner Base 48\" (Blind Right)",{"v":899,"d":"$899.00"},3,null,null,{"$f":"$C115*$G$1*'Order Form'!$Q$18*(Color!$D$6+'Door Style'!$G$6+Species!$C$6+'Drawer Head'!$E$6+'Custom Finish'!$C$6)","v":{"$error":"#VALUE!"}},null,"PROJECT",{"$f":"'Order Type'!$C$6","v":"01-"},{"$f":"CONCAT!$D$2","v":""},null,1,"01-BCB48R","11-BCB48",1,"12-BCB48R","12-BCB48R",1,null,null,"DG 21IN KITCHEN SET-DTC",1,null,null,{"$f":"$C115*$G$1*1*(Color!$D$8+'Door Style'!$G$6+Species!$C$6+'Drawer Head'!$E$6+'Custom Finish'!$C$6)","v":{"$error":"#VALUE!"}},null,"Black","Light Gray",null,"1","BSKIN",125,100,"N","Base Cabinet - Corner - Blind",{"v":899,"d":"$899.00"},"Price change for fall 2019",{"v":637,"d":"$637.00"},1.41,"G1",{"$nulls":4},{"$error":"#N/A"}]
["BCW3630L","Blind Corner Wall 36\" x 30\" (Blind Left)",{"v":635,"d":"$635.00"},3,null,null,{"$f":"$C116*$G$1*'Order Form'!$Q$18*(Color!$D$6+'Door Style'!$G$6+Species!$C$6+'Custom Finish'!$C$6)","v":{"$error":"#VALUE!"}},null,"SC/PC",{"$f":"'Order Type'!$C$6","v":"01-"},{"$f":"CONCAT!$D$8","v":""},null,1,"01-BCW3630L","11-BCW3630L",1,"12-BCW3630L","12-BCW3630L",1,{"$nulls":6},{"$f":"$C116*$G$1*1*(Color!$D$8+'Door Style'!$G$6+Species!$C$6+'Custom Finish'!$C$6)","v":{"$error":"#VALUE!"}},null,"Black","Dark Gray",null,"1","WSKIN30",75,25,"N","Wall Cabinet - Corner - Blind",{"v":635,"d":"$635.00"},"Price change for fall 2019",{"v":450,"d":"$450.00"},1.41,"G1",{"$nulls":4},{"$error":"#N/A"}]
["BCW3630R","Blind Corner Wall 36\" x 30\" (Blind Right)",{"v":635,"d":"$635.00"},3,null,null,{"$f":"$C117*$G$1*'Order Form'!$Q$18*(Color!$D$6+'Door Style'!$G$6+Species!$C$6+'Custom Finish'!$C$6)","v":{"$error":"#VALUE!"}},null,"SC/PC",{"$f":"'Order Type'!$C$6","v":"01-"},{"$f":"CONCAT!$D$8","v":""},null,1,"01-BCW3630R","11-BCW3630R",1,"12-BCW3630R","12-BCW3630R",1,{"$nulls":6},{"$f":"$C117*$G$1*1*(Color!$D$8+'Door Style'!$G$6+Species!$C$6+'Custom Finish'!$C$6)","v":{"$error":"#VALUE!"}},null,"Black","Dark Gray",null,"1","WSKIN30",75,25,"N","Wall Cabinet - Corner - Blind",{"v":635,"d":"$635.00"},"Price change for fall 2019",{"v":450,"d":"$450.00"},1.41,"G1",{"$nulls":4},{"$error":"#N/A"}]
["BCW3636L","Blind Corner Wall 36\" x 36\" (Blind Left)",{"v":727,"d":"$727.00"},3,null,null,{"$f":"$C118*$G$1*'Order Form'!$Q$18*(Color!$D$6+'Door Style'!$G$6+Species!$C$6+'Custom Finish'!$C$6)","v":{"$error":"#VALUE!"}},null,"SC/PC",{"$f":"'Order Type'!$C$6","v":"01-"},{"$f":"CONCAT!$D$8","v":""},null,1,"01-BCW3636L","11-BCW3636L",1,"12-BCW3636L","12-BCW3636L",1,{"$nulls":6},{"$f":"$C118*$G$1*1*(Color!$D$8+'Door Style'!$G$6+Species!$C$6+'Custom Finish'!$C$6)","v":{"$error":"#VALUE!"}},null,"Black","Dark Gray",null,"1","WSKIN36",75,25,"N","Wall Cabinet - Corner - Blind",{"v":727,"d":"$727.00"},"Price change for fall 2019",{"v":515,"d":"$515.00"},1.41,"G1",{"$nulls":4},{"$error":"#N/A"}]
["BCW3636R","Blind Corner Wall 36\" x 36\" (Blind Right)",{"v":727,"d":"$727.00"},3,null,null,{"$f":"$C119*$G$1*'Order Form'!$Q$18*(Color!$D$6+'Door Style'!$G$6+Species!$C$6+'Custom Finish'!$C$6)","v":{"$error":"#VALUE!"}},null,"SC/PC",{"$f":"'Order Type'!$C$6","v":"01-"},{"$f":"CONCAT!$D$8","v":""},null,1,"01-BCW3636R","11-BCW3636R",1,"12-BCW3636R","12-BCW3636R",1,{"$nulls":6},{"$f":"$C119*$G$1*1*(Color!$D$8+'Door Style'!$G$6+Species!$C$6+'Custom Finish'!$C$6)","v":{"$error":"#VALUE!"}},null,"Black","Dark Gray",null,"1","WSKIN36",75,25,"N","Wall Cabinet - Corner - Blind",{"v":727,"d":"$727.00"},"Price change for fall 2019",{"v":515,"d":"$515.00"},1.41,"G1",{"$nulls":4},{"$error":"#N/A"}]
["BCW3642L","Blind Corner Wall 36\" x 42\" (Blind Left)",{"v":889,"d":"$889.00"},3,null,null,{"$f":"$C120*$G$1*'Order Form'!$Q$18*(Color!$D$6+'Door Style'!$G$6+Species!$C$6+'Custom Finish'!$C$6)","v":{"$error":"#VALUE!"}},null,"SC/PC",{"$f":"'Order Type'!$C$6","v":"01-"},{"$f":"CONCAT!$D$8","v":""},null,1,"01-BCW3642L","11-BCW3642L",1,"12-BCW3642L","12-BCW3642L",1,{"$nulls":6},{"$f":"$C120*$G$1*1*(Color!$D$8+'Door Style'!$G$6+Species!$C$6+'Custom Finish'!$C$6)","v":{"$error":"#VALUE!"}},null,"Black","Dark Gray",null,"1","WSKIN42",75,25,"N","Wall Cabinet - Corner - Blind",{"v":889,"d":"$889.00"},"Price change for fall 2019",{"v":630,"d":"$630.00"},1.41,"G1",{"$nulls":4},{"$error":"#N/A"}]
["BCW3642R","Blind Corner Wall 36\" x 42\" (Blind Right)",{"v":889,"d":"$889.00"},3,null,null,{"$f":"$C121*$G$1*'Order Form'!$Q$18*(Color!$D$6+'Door Style'!$G$6+Species!$C$6+'Custom Finish'!$C$6)","v":{"$error":"#VALUE!"}},null,"SC/PC",{"$f":"'Order Type'!$C$6","v":"01-"},{"$f":"CONCAT!$D$8","v":""},null,1,"01-BCW3642R","11-BCW3642R",1,"12-BCW3642R","12-BCW3642R",1,{"$nulls":6},{"$f":"$C121*$G$1*1*(Color!$D$8+'Door Style'!$G$6+Species!$C$6+'Custom Finish'!$C$6)","v":{"$error":"#VALUE!"}},null,"Black","Dark Gray",null,"1","WSKIN42",75,25,"N","Wall Cabinet - Corner - Blind",{"v":889,"d":"$889.00"},"Price change for fall 2019",{"v":630,"d":"$630.00"},1.41,"G1",{"$nulls":4},{"$error":"#N/A"}]
["BOS1230","Base Open Shelf 12\" x 30\"",{"v":411,"d":"$411.00"},3,null,null,{"$f":"$C122*$G$1*'Order Form'!$Q$18*(Color!$D$6+'Door Style'!$G$6+Species!$C$6+'Custom Finish'!$C$6)","v":{"$error":"#VALUE!"}},null,"SC/PC",{"$f":"'Order Type'!$C$6","v":"01-"},{"$f":"CONCAT!$D$8","v":""},null,1,"01-BOS1230","11-BOS1230",1,"12-BOS1230","12-BOS1230",1,{"$nulls":6},{"$f":"$C122*$G$1*1*(Color!$D$8+'Door Style'!$G$6+Species!$C$6+'Custom Finish'!$C$6)","v":{"$error":"#VALUE!"}},null,"Black","Dark Gray",null,"1","BSKIN",75,50,"N","Base Cabinet - Open Shelf",{"v":411,"d":"$411.00"},"Price change for fall 2019",{"v":291,"d":"$291.00"},1.41,"G1",{"$nulls":4},{"$error":"#N/A"}]
["BP-K-1-143","Square Antique Nickel Knob",{"v":2,"d":"$2.00"},2,null,{"$f":"$C123","v":{"v":2,"d":"$2.00"}},{"v":2,"d":"$2.00"},1,"/","","",null,0,"K-1-143",{"$nulls":3},"",null,"K-1-143",1,{"$nulls":3},{"$f":"$C123","v":{"v":2,"d":"$2.00"}},{"v":2,"d":"$2.00"},null,"Tan","Tan","N",null,null,"No","No","N","Accessory - Pull",{"v":2,"d":"$2.00"},null,{"v":2,"d":"$2.00"},1,"ACC",{"$nulls":4},{"$error":"#N/A"}]
["BP-K-1-195","Square Brushed Nickel Knob",{"v":2,"d":"$2.00"},2,null,{"v":2,"d":"$2.00"},{"v":2,"d":"$2.00"},1,"/","","",null,0,{"$f":"J124&A124&K124","v":"BP-K-1-195"},{"$nulls":3},{"$f":"Q124&K124","v":""},null,{"$f":"N124","v":"BP-K-1-195"},1,{"$nulls":3},{"v":2,"d":"$2.00"},{"v":2,"d":"$2.00"},null,"Tan","Tan","N",null,null,"No","No","N","Accessory - Pull",{"v":2,"d":"$2.00"},null,{"v":2,"d":"$2.00"},1,"ACC",{"$nulls":4},{"$error":"#N/A"}]
["BP-K-1-BORB","Square Brushed Oil Rubbed Bronze Knob",{"v":2,"d":"$2.00"},2,null,{"v":2,"d":"$2.00"},{"v":2,"d":"$2.00"},1,"/","","",null,0,"BP-K-1-BORB",{"$nulls":3},"",null,"BP-K-1-BORB",1,{"$nulls":3},{"v":2,"d":"$2.00"},{"v":2,"d":"$2.00"},null,"Tan","Tan","N",null,null,"No","No","N","Accessory - Pull",{"v":2,"d":"$2.00"},null,{"v":2,"d":"$2.00"},1,"ACC",{"$nulls":4},{"$error":"#N/A"}]
["BP-K-2-195","Circular Brushed Nickel Knob",{"v":2,"d":"$2.00"},2,null,{"v":2,"d":"$2.00"},{"v":2,"d":"$2.00"},1,"/","","",null,0,"BP-K-2-195",{"$nulls":3},"",null,"BP-K-2-195",1,{"$nulls":3},{"v":2,"d":"$2.00"},{"v":2,"d":"$2.00"},null,"Tan","Tan","N",null,null,"No","No","N","Accessory - Pull",{"v":2,"d":"$2.00"},null,{"v":2,"d":"$2.00"},1,"ACC",{"$nulls":4},{"$error":"#N/A"}]
["BP-K-2-BORB","Circular Brushed Oil Rubbed Bronze Knob",{"v":2,"d":"$2.00"},2,null,{"v":2,"d":"$2.00"},{"v":2,"d":"$2.00"},1,"/","","",null,0,"BP-K-2-BORB",{"$nulls":3},"",null,"BP-K-2-BORB",1,{"$nulls":3},{"v":2,"d":"$2.00"},{"v":2,"d":"$2.00"},null,"Tan","Tan","N",null,null,"No","No","N","Accessory - Pull",{"v":2,"d":"$2.00"},null,{"v":2,"d":"$2.00"},1,"ACC",{"$nulls":4},{"$error":"#N/A"}]
["BP-K-3-143","Square Bevel Edge Antique Nickel Knob",{"v":2,"d":"$2.00"},2,null,{"v":2,"d":"$2.00"},{"v":2,"d":"$2.00"},1,"/","","",null,0,"BP-K-3-143",{"$nulls":3},"",null,"BP-K-3-143",1,{"$nulls":3},{"v":2,"d":"$2.00"},{"v":2,"d":"$2.00"},null,"Tan","Tan","N",null,null,"No","No","N","Accessory - Pull",{"v":2,"d":"$2.00"},null,{"v":2,"d":"$2.00"},1,"ACC",{"$nulls":4},{"$error":"#N/A"}]
["BP-K-3-195","Square Bevel Edge Brushed Nickel Knob",{"v":2,"d":"$2.00"},2,null,{"v":2,"d":"$2.00"},{"v":2,"d":"$2.00"},1,"/","","",null,0,"BP-K-3-195",{"$nulls":3},"",null,"BP-K-3-195",1,{"$nulls":3},{"v":2,"d":"$2.00"},{"v":2,"d":"$2.00"},null,"Tan","Tan","N",null,null,"No","No","N","Accessory - Pull",{"v":2,"d":"$2.00"},null,{"v":2,"d":"$2.00"},1,"ACC",{"$nulls":4},{"$error":"#N/A"}]
["BP-K-3-BORB","Square Bevel Edge Brushed Oil Rubbed Bronze Knob",{"v":2,"d":"$2.00"},2,null,{"v":2,"d":"$2.00"},{"v":2,"d":"$2.00"},1,"/","","",null,0,"BP-K-3-BORB",{"$nulls":3},"",null,"BP-K-3-BORB",1,{"$nulls":3},{"v":2,"d":"$2.00"},{"v":2,"d":"$2.00"},null,"Tan","Tan","N",null,null,"No","No","N","Accessory - Pull",{"v":2,"d":"$2.00"},null,{"v":2,"d":"$2.00"},1,"ACC",{"$nulls":4},{"$error":"#N/A"}]
["BP-P-1-143","Arched Antique Nickel Pull",{"v":2,"d":"$2.00"},2,null,{"v":2,"d":"$2.00"},{"v":2,"d":"$2.00"},1,"/","","",null,0,"BP-P-1-143",{"$nulls":3},"",null,"BP-P-1-143",1,{"$nulls":3},{"v":2,"d":"$2.00"},{"v":2,"d":"$2.00"},null,"Tan","Tan","N",null,null,"No","No","N","Accessory - Pull",{"v":2,"d":"$2.00"},null,{"v":2,"d":"$2.00"},1,"ACC",{"$nulls":4},{"$error":"#N/A"}]
["BP-P-1-195","Arched Brushed Nickel Pull",{"v":2,"d":"$2.00"},2,null,{"v":2,"d":"$2.00"},{"v":2,"d":"$2.00"},1,"/","","",null,0,"BP-P-1-195",{"$nulls":3},"",null,"BP-P-1-195",1,{"$nulls":3},{"v":2,"d":"$2.00"},{"v":2,"d":"$2.00"},null,"Tan","Tan","N",null,null,"No","No","N","Accessory - Pull",{"v":2,"d":"$2.00"},null,{"v":2,"d":"$2.00"},1,"ACC",{"$nulls":4},{"$error":"#N/A"}]
["BP-P-1-BORB","Arched Brushed Oil Rubbed Bronze Pull",{"v":2,"d":"$2.00"},2,null,{"v":2,"d":"$2.00"},{"v":2,"d":"$2.00"},1,"/","","",null,0,"BP-P-1-BORB",{"$nulls":3},"",null,"BP-P-1-BORB",1,{"$nulls":3},{"v":2,"d":"$2.00"},{"v":2,"d":"$2.00"},null,"Tan","Tan","N",null,null,"No","No","N","Accessory - Pull",{"v":2,"d":"$2.00"},null,{"v":2,"d":"$2.00"},1,"ACC",{"$nulls":4},{"$error":"#N/A"}]
["BP-P-2-195","Tubular Brushed Nickel Pull",{"v":2,"d":"$2.00"},2,null,{"v":2,"d":"$2.00"},{"v":2,"d":"$2.00"},1,"/","","",null,0,"BP-P-2-195",{"$nulls":3},"",null,"BP-P-2-195",1,{"$nulls":3},{"v":2,"d":"$2.00"},{"v":2,"d":"$2.00"},null,"Tan","Tan","N",null,null,"No","No","N","Accessory - Pull",{"v":2,"d":"$2.00"},null,{"v":2,"d":"$2.00"},1,"ACC",{"$nulls":4},{"$error":"#N/A"}]
["BP-P-2-BORB","Tubular Brushed Oil Rubbed Bronze Pull",{"v":2,"d":"$2.00"},2,null,{"v":2,"d":"$2.00"},{"v":2,"d":"$2.00"},1,"/","","",null,0,"BP-P-2-BORB",{"$nulls":3},"",null,"BP-P-2-BORB",1,{"$nulls":3},{"v":2,"d":"$2.00"},{"v":2,"d":"$2.00"},null,"Tan","Tan","N",null,null,"No","No","N","Accessory - Pull",{"v":2,"d":"$2.00"},null,{"v":2,"d":"$2.00"},1,"ACC",{"$nulls":4},{"$error":"#N/A"}]
["BP-P-3-143","Squared Antique Nickel Pull",{"v":2,"d":"$2.00"},2,null,{"v":2,"d":"$2.00"},{"v":2,"d":"$2.00"},1,"/","","",null,0,"BP-P-3-143",{"$nulls":3},"",null,"BP-P-3-143",1,{"$nulls":3},{"v":2,"d":"$2.00"},{"v":2,"d":"$2.00"},null,"Tan","Tan","N",null,null,"No","No","N","Accessory - Pull",{"v":2,"d":"$2.00"},null,{"v":2,"d":"$2.00"},1,"ACC",{"$nulls":4},{"$error":"#N/A"}]
["BP-P-3-195","Squared Brushed Nickel Pull",{"v":2,"d":"$2.00"},2,null,{"v":2,"d":"$2.00"},{"v":2,"d":"$2.00"},1,"/","","",null,0,"BP-P-3-195",{"$nulls":3},"",null,"BP-P-3-195",1,{"$nulls":3},{"v":2,"d":"$2.00"},{"v":2,"d":"$2.00"},null,"Tan","Tan","N",null,null,"No","No","N","Accessory - Pull",{"v":2,"d":"$2.00"},null,{"v":2,"d":"$2.00"},1,"ACC",{"$nulls":4},{"$error":"#N/A"}]
["BP-P-3-BORB","Squared Brushed Oil Rubbed Bronze Pull",{"v":2,"d":"$2.00"},2,null,{"v":2,"d":"$2.00"},{"v":2,"d":"$2.00"},1,"/","","",null,0,"BP-P-3-BORB",{"$nulls":3},"",null,"BP-P-3-BORB",1,{"$nulls":3},{"v":2,"d":"$2.00"},{"v":2,"d":"$2.00"},null,"Tan","Tan","N",null,null,"No","No","N","Accessory - Pull",{"v":2,"d":"$2.00"},null,{"v":2,"d":"$2.00"},1,"ACC",{"$nulls":4},{"$error":"#N/A"}]
["BREAD BOARD 16","Bread Board 16\" x 22\"",{"v":90,"d":"$90.00"},2,null,{"v":90,"d":"$90.00"},{"v":90,"d":"$90.00"},null,"/",{"$f":"'Order Type'!$C$6","v":"01-"},"",null,0,"01-BREAD BOARD 16",{"$nulls":3},"",null,"01-BREAD BOARD 16",1,{"$nulls":3},{"v":90,"d":"$90.00"},{"v":90,"d":"$90.00"},null,"Tan","Tan",{"$nulls":3},"No","No","N","Accessory - Base - Cutting board",{"v":90,"d":"$90.00"},null,{"v":90,"d":"$90.00"},1,"ACC",{"$nulls":4},{"$error":"#N/A"}]
["BREAD BOARD 18","Bread Board 18\" x 22\"",{"v":105,"d":"$105.00"},2,null,{"v":105,"d":"$105.00"},{"v":105,"d":"$105.00"},null,"/",{"$f":"'Order Type'!$C$6","v":"01-"},"",null,0,"01-BREAD BOARD 18",{"$nulls":3},"",null,"01-BREAD BOARD 18",1,{"$nulls":3},{"v":105,"d":"$105.00"},{"v":105,"d":"$105.00"},null,"Tan","Tan",{"$nulls":3},"No","No","N","Accessory - Base - Cutting board",{"v":105,"d":"$105.00"},null,{"v":105,"d":"$105.00"},1,"ACC",{"$nulls":4},{"$error":"#N/A"}]
["BREAD BOARD 24","Bread Board 24\" x 22\"",{"v":120,"d":"$120.00"},2,null,{"v":120,"d":"$120.00"},{"v":120,"d":"$120.00"},null,"/",{"$f":"'Order Type'!$C$6","v":"01-"},"",null,0,"01-BREAD BOARD 24",{"$nulls":3},"",null,"01-BREAD BOARD 24",1,{"$nulls":3},{"v":120,"d":"$120.00"},{"v":120,"d":"$120.00"},null,"Tan","Tan",{"$nulls":3},"No","No","N","Accessory - Base - Cutting board",{"v":120,"d":"$120.00"},null,{"v":120,"d":"$120.00"},1,"ACC",{"$nulls":4},{"$error":"#N/A"}]
["BROOKSTONE DISCOUNT","PO Match",{"v":0,"d":"$0.00"},2,null,{"v":0,"d":"$0.00"},{"v":0,"d":"$0.00"},null,"/","/","",null,0,"/BROOKSTONE DISCOUNT",{"$nulls":3},"",null,"/BROOKSTONE DISCOUNT",1,{"$nulls":3},{"v":0,"d":"$0.00"},{"v":0,"d":"$0.00"},null,"Dark Blue","Dark Blue","N",null,null,"No","No","N",{"$nulls":5},"Zero Price",{"$nulls":4},{"$error":"#N/A"}]
["BROOKSTONE PO MATCH","PO Match",{"v":0,"d":"$0.00"},2,null,{"v":0,"d":"$0.00"},{"v":0,"d":"$0.00"},null,"/","/","",null,0,"/BROOKSTONE PO MATCH",{"$nulls":3},"",null,"/BROOKSTONE PO MATCH",1,{"$nulls":3},{"v":0,"d":"$0.00"},{"v":0,"d":"$0.00"},null,"Dark Blue","Dark Blue","N",null,null,"No","No","N",{"$nulls":5},"Zero Price",{"$nulls":4},{"$error":"#N/A"}]
["BSHELF","Base Shelf 8' Length",{"v":203.34,"d":"$203.34"},2,null,{"$f":"$C144*'Order Form'!$Q$18","v":{"v":203.34,"d":"$203.34"}},{"$f":"$C144*'Order Form'!$Q$18","v":{"v":203.34,"d":"$203.34"}},null,"14-","13-","",null,0,"13-BSHELF",{"$nulls":3},"",null,"13-BSHELF",1,{"$nulls":3},{"$f":"$C144*1","v":{"v":203.34,"d":"$203.34"}},{"$f":"$C144*1","v":{"v":203.34,"d":"$203.34"}},null,"Purple","Purple",{"$nulls":3},"No","No","N","Shelf - Base",{"$f":"AL144","v":{"v":203.34,"d":"$203.34"}},{"$f":"ROUNDUP(AS144,2)","v":203.34},{"v":175,"d":"$175.00"},1.1,"Plywood",96,22,{"$f":"(AP144*AQ144)/144","v":14.666666666666666},{"$f":"(AR144*12.5)+20","v":{"v":203.33333333333331,"d":"203.33"}},{"$error":"#N/A"}]
["BSKIN","Base Skin",{"v":82,"d":"$82.00"},2,"PB",{"$f":"($C145*$F$1*Color!$G$6*'Order Form'!$Q$18)","v":{"$error":"#VALUE!"}},{"$f":"$C145*$G$1*'Order Form'!$Q$18*(Color!$D$6+Species!$C$6)","v":{"$error":"#VALUE!"}},null,"13-","13-",{"$f":"CONCAT!$D$3","v":""},null,0,"13-BSKIN",{"$nulls":3},"",null,"13-BSKIN",1,{"$nulls":3},{"$f":"($C145*$F$1*Color!$G$8*1)","v":{"v":70.35600000000001,"d":"$70.36"}},{"$f":"$C145*$G$1*1*(Color!$D$8+Species!$C$6)","v":{"$error":"#VALUE!"}},null,"Orange","Pink",{"$nulls":3},"No","No","N","Skin - Base",{"$f":"ROUNDUP(AM145*AN145,0)","v":{"v":82,"d":"$82.00"}},"Price change for fall 2019",{"v":58,"d":"$58.00"},1.41,"G1",{"$nulls":4},{"$error":"#N/A"}]
["BUILD UP STRIP","3/4\" Plywood 1.5\" x 96\"",{"v":11,"d":"$11.00"},2,null,{"$f":"$C146","v":{"v":11,"d":"$11.00"}},{"$f":"$C146","v":{"v":11,"d":"$11.00"}},null,"/","","",null,0,"BUILD UP STRIP",{"$nulls":3},"",null,"BUILD UP STRIP",1,{"$nulls":3},{"$f":"$C146","v":{"v":11,"d":"$11.00"}},{"$f":"$C146","v":{"v":11,"d":"$11.00"}},null,"Tan","Tan",{"$nulls":3},"No","No","N","Accessory",{"$f":"ROUNDUP(AM146*AN146,0)","v":{"v":11,"d":"$11.00"}},null,{"v":11,"d":"$11.00"},1,"ACC",{"$nulls":4},{"$error":"#N/A"}]
["BUTCHER BLOCK","Butcher Block",{"v":300,"d":"$300.00"},2,null,{"$f":"$C147","v":{"v":300,"d":"$300.00"}},{"$f":"$C147","v":{"v":300,"d":"$300.00"}},null,"/",{"$f":"'Order Type'!$C$6","v":"01-"},"",null,0,"01-BUTCHER BLOCK",{"$nulls":3},"",null,"01-BUTCHER BLOCK",1,{"$nulls":3},{"$f":"$C147","v":{"v":300,"d":"$300.00"}},{"$f":"$C147","v":{"v":300,"d":"$300.00"}},null,"Tan","Tan",{"$nulls":3},"No","No","N","Accessory - Base - Cutting board",{"$f":"ROUNDUP(AM147*AN147,0)","v":{"v":300,"d":"$300.00"}},null,{"v":300,"d":"$300.00"},1,"ACC",{"$nulls":4},{"$error":"#N/A"}]
["CLEARANCE CABINET","Clearance Cabinet",{"v":0,"d":"$0.00"},2,null,{"v":0,"d":"$0.00"},{"v":0,"d":"$0.00"},null,"/","","",null,0,"CLEARANCE CABINET",{"$nulls":3},"",null,"CLEARANCE CABINET",1,{"$nulls":3},{"v":0,"d":"$0.00"},{"v":0,"d":"$0.00"},null,"Dark Blue","Dark Blue","N",null,null,"No","No","N",{"$nulls":5},"Zero Price",{"$nulls":4},{"$error":"#N/A"}]
["COMPOST BIN-DOUBLE","Two Bin Compost for FHB21",{"v":465,"d":"$465.00"},2,null,{"$f":"$C149","v":{"v":465,"d":"$465.00"}},{"$f":"$C149","v":{"v":465,"d":"$465.00"}},null,"/","","",null,0,"COMPOST BIN-DOUBLE",{"$nulls":3},"",null,"COMPOST BIN-DOUBLE",1,{"$nulls":3},{"$f":"$C149","v":{"v":465,"d":"$465.00"}},{"$f":"$C149","v":{"v":465,"d":"$465.00"}},null,"Tan","Tan",{"$nulls":3},"No","No","N","Accessory - Base - Recycle/Trash",{"$f":"ROUNDUP(AM149*AN149,0)","v":{"v":465,"d":"$465.00"}},null,{"v":465,"d":"$465.00"},1,"ACC",{"$nulls":4},{"$error":"#N/A"}]
["COMPOST BIN-SINGLE","Single Bin Compost for B18",{"v":415,"d":"$415.00"},2,null,{"$f":"$C150","v":{"v":415,"d":"$415.00"}},{"$f":"$C150","v":{"v":415,"d":"$415.00"}},null,"/","","",null,0,"COMPOST BIN-SINGLE",{"$nulls":3},"",null,"COMPOST BIN-SINGLE",1,{"$nulls":3},{"$f":"$C150","v":{"v":415,"d":"$415.00"}},{"$f":"$C150","v":{"v":415,"d":"$415.00"}},null,"Tan","Tan",{"$nulls":3},"No","No","N","Accessory - Base - Recycle/Trash",{"$f":"ROUNDUP(AM150*AN150,0)","v":{"v":415,"d":"$415.00"}},null,{"v":415,"d":"$415.00"},1,"ACC",{"$nulls":4},{"$error":"#N/A"}]
["CONNER HOMES DISCOUNT","PO Match",{"v":0,"d":"$0.00"},2,null,{"v":0,"d":"$0.00"},{"v":0,"d":"$0.00"},null,"/","/","",null,0,"/CONNER HOMES DISCOUNT",{"$nulls":3},"",null,"/CONNER HOMES DISCOUNT",1,{"$nulls":3},{"v":0,"d":"$0.00"},{"v":0,"d":"$0.00"},null,"Dark Blue","Dark Blue","N",null,null,"No","No","N",{"$nulls":5},"Zero Price",{"$nulls":4},{"$error":"#N/A"}]
["CONNER HOMES UPCHARGE","PO Match",{"v":0,"d":"$0.00"},2,null,{"v":0,"d":"$0.00"},{"v":0,"d":"$0.00"},null,"/","/","",null,0,"/CONNER HOMES UPCHARGE",{"$nulls":3},"",null,"/CONNER HOMES UPCHARGE",1,{"$nulls":3},{"v":0,"d":"$0.00"},{"v":0,"d":"$0.00"},null,"Dark Blue","Dark Blue","N",null,null,"No","No","N",{"$nulls":5},"Zero Price",{"$nulls":4},{"$error":"#N/A"}]
["CORBEL1","Corbel Simple / Straight with pre drilled holes and plugs",{"v":101,"d":"$101.00"},2,null,{"$f":"($C153*$F$1*Color!$G$6*'Order Form'!$Q$18)","v":{"$error":"#VALUE!"}},{"$f":"$C153*$G$1*'Order Form'!$Q$18*(Color!$D$6+Species!$C$6)","v":{"$error":"#VALUE!"}},null,"13-","13-",{"$f":"CONCAT!$D$3","v":""},null,0,"13-CORBEL1",{"$nulls":3},"",null,"13-CORBEL1",1,{"$nulls":3},{"$f":"($C153*$F$1*Color!$G$8*1)","v":{"v":86.658,"d":"$86.66"}},{"$f":"$C153*$G$1*1*(Color!$D$8+Species!$C$6)","v":{"$error":"#VALUE!"}},null,"Orange","Pink",{"$nulls":3},"No","No","N","Trim",{"$f":"ROUNDUP(AM153*AN153,0)","v":{"v":101,"d":"$101.00"}},"Price change for fall 2019",{"v":71,"d":"$71.00"},1.41,"G1",{"$nulls":4},{"$error":"#N/A"}]
["CRAFTSMAN DOOR SET","Dealer Craftsman Door With Bag",{"v":1000,"d":"$1,000.00"},3,null,null,{"$f":"$C154","v":{"v":1000,"d":"$1,000.00"}},null,"/",null,"",null,0,"CRAFTSMAN DOOR SET",{"$nulls":3},"",null,"CRAFTSMAN DOOR SET",1,{"$nulls":4},{"$f":"$C154","v":{"v":1000,"d":"$1,000.00"}},null,"Black","Tan","Dealer",null,null,"No","No","N","Dealer support item",{"$f":"ROUNDUP(AM154*AN154,0)","v":{"v":1000,"d":"$1,000.00"}},null,{"v":1000,"d":"$1,000.00"},1,"ACC",{"$nulls":4},{"$error":"#N/A"}]
["CRBACKER1.5","8' x 1 1/2\" x 3/4\" Material ",{"v":13,"d":"$13.00"},2,null,{"$f":"$C155*'Order Form'!$Q$18","v":{"v":13,"d":"$13.00"}},{"$f":"$C155*'Order Form'!$Q$18","v":{"v":13,"d":"$13.00"}},null,"/","13-","",null,0,"13-CRBACKER1.5",{"$nulls":3},"",null,"13-CRBACKER1.5",1,{"$nulls":3},{"$f":"$C155*1","v":{"v":13,"d":"$13.00"}},{"$f":"$C155*1","v":{"v":13,"d":"$13.00"}},null,"Purple","Purple",{"$nulls":3},"No","No","N","Trim - Crown",{"$f":"ROUNDUP(AM155*AN155,0)","v":{"v":13,"d":"$13.00"}},null,{"v":11,"d":"$11.00"},1.1,"Plywood",1.5,96,{"$f":"(AP155*AQ155)/144","v":1},{"$f":"(AR155*12.5)+20","v":{"v":32.5,"d":"32.50"}},{"$error":"#N/A"}]
["CRBACKER12","8' x 11 7/8\" x 3/4\" Material ",{"v":55,"d":"$55.00"},2,null,{"$f":"$C156*'Order Form'!$Q$18","v":{"v":55,"d":"$55.00"}},{"$f":"$C156*'Order Form'!$Q$18","v":{"v":55,"d":"$55.00"}},null,"/","13-","",null,0,"13-CRBACKER12",{"$nulls":3},"",null,{"$f":"N156","v":"13-CRBACKER12"},1,{"$nulls":3},{"$f":"$C156*1","v":{"v":55,"d":"$55.00"}},{"$f":"$C156*1","v":{"v":55,"d":"$55.00"}},null,"Purple","Purple",{"$nulls":3},"No","No","N","Trim - Crown",{"$f":"ROUNDUP(AM156*AN156,0)","v":{"v":55,"d":"$55.00"}},null,{"v":50,"d":"$50.00"},1.1,"Plywood",12,96,{"$f":"(AP156*AQ156)/144","v":8},{"$f":"(AR156*12.5)+20","v":{"v":120,"d":"120.00"}},{"$error":"#N/A"}]
["CREDIT-MISC DISCOUNT","Use this Sku Sparely and with Approval",{"v":0,"d":"$0.00"},2,null,{"v":0,"d":"$0.00"},{"v":0,"d":"$0.00"},null,"/","/","",null,0,"/CREDIT-MISC DISCOUNT",{"$nulls":3},"",null,"/CREDIT-MISC DISCOUNT",1,{"$nulls":3},{"v":0,"d":"$0.00"},{"v":0,"d":"$0.00"},null,"Dark Blue","Dark Blue","N",null,null,"No","No","N",{"$nulls":5},"Zero Price",{"$nulls":4},{"$error":"#N/A"}]
["CROWN RING","Sales Center Crown Sample  Insert",{"v":10,"d":"$10.00"},2,null,{"$f":"$C158","v":{"v":10,"d":"$10.00"}},{"$f":"$C158","v":{"v":10,"d":"$10.00"}},null,"/","FCC SALES CENTER-","",null,0,"FCC SALES CENTER-CROWN RING",{"$nulls":3},"",null,"FCC SALES CENTER-CROWN RING",1,{"$nulls":3},{"$f":"$C158","v":{"v":10,"d":"$10.00"}},{"$f":"$C158","v":{"v":10,"d":"$10.00"}},null,"Tan","Tan","Dealer",null,null,"No","No","N","Dealer support item",{"$f":"ROUNDUP(AM158*AN158,0)","v":{"v":10,"d":"$10.00"}},null,{"v":10,"d":"$10.00"},1,"ACC",{"$nulls":4},{"$error":"#N/A"}]
["CROWN1","8' Crown Installs at 2 3/4\" Tall",{"v":187,"d":"$187.00"},2,"PB",{"$f":"($C159*$F$1*Color!$G$6*'Order Form'!$Q$18)","v":{"$error":"#VALUE!"}},{"$f":"$C159*$G$1*'Order Form'!$Q$18*(Color!$D$6+Species!$C$6+'Custom Finish'!$C$6)","v":{"$error":"#VALUE!"}},null,"13-","13-",{"$f":"CONCAT!$D$3","v":""},null,0,"13-CROWN1",{"$nulls":3},"",null,"13-CROWN1",1,{"$nulls":3},{"$f":"($C159*$F$1*Color!$G$8*1)","v":{"v":160.44600000000003,"d":"$160.45"}},{"$f":"$C159*$G$1*1*(Color!$D$8+Species!$C$6+'Custom Finish'!$C$6)","v":{"$error":"#VALUE!"}},null,"Orange","Maroon",{"$nulls":3},"No","No","N","Trim - Crown",{"v":187,"d":"$187.00"},"Price change for fall 2019",{"v":132,"d":"$132.00"},1.41,"G1",{"$nulls":4},{"$error":"#N/A"}]
["CROWN1.12","12' Crown Installs at 2 3/4\" Tall",{"v":271,"d":"$271.00"},2,null,{"$f":"($C160*$F$1*Color!$G$6*'Order Form'!$Q$18)","v":{"$error":"#VALUE!"}},{"$f":"$C160*$G$1*'Order Form'!$Q$18*(Color!$D$6+Species!$C$6+'Custom Finish'!$C$6)","v":{"$error":"#VALUE!"}},null,"13-","13-",{"$f":"CONCAT!$D$3","v":""},null,0,"13-CROWN1.12",{"$nulls":3},"",null,"13-CROWN1.12",1,{"$nulls":3},{"$f":"($C160*$F$1*Color!$G$8*1)","v":{"v":232.518,"d":"$232.52"}},{"$f":"$C160*$G$1*1*(Color!$D$8+Species!$C$6+'Custom Finish'!$C$6)","v":{"$error":"#VALUE!"}},null,"Orange","Maroon",{"$nulls":3},"No","No","N","Trim - Crown",{"v":271,"d":"$271.00"},"Price change for fall 2019",{"v":192,"d":"$192.00"},1.41,"G1",{"$nulls":4},{"$error":"#N/A"}]
["CROWN2","8' Crown Installs at 1 5/8\" Tall",{"v":187,"d":"$187.00"},2,"PB",{"$f":"($C161*$F$1*Color!$G$6*'Order Form'!$Q$18)","v":{"$error":"#VALUE!"}},{"$f":"$C161*$G$1*'Order Form'!$Q$18*(Color!$D$6+Species!$C$6+'Custom Finish'!$C$6)","v":{"$error":"#VALUE!"}},null,"13-","13-",{"$f":"CONCAT!$D$3","v":""},null,0,"13-CROWN2",{"$nulls":3},"",null,"13-CROWN2",1,{"$nulls":3},{"$f":"($C161*$F$1*Color!$G$8*1)","v":{"v":160.44600000000003,"d":"$160.45"}},{"$f":"$C161*$G$1*1*(Color!$D$8+Species!$C$6+'Custom Finish'!$C$6)","v":{"$error":"#VALUE!"}},null,"Orange","Maroon",{"$nulls":3},"No","No","N","Trim - Crown",{"v":187,"d":"$187.00"},"Price change for fall 2019",{"v":132,"d":"$132.00"},1.41,"G1",{"$nulls":4},{"$error":"#N/A"}]
["CROWN2.12","12' Crown Installs at 1 5/8\" Tall",{"v":271,"d":"$271.00"},2,null,{"$f":"($C162*$F$1*Color!$G$6*'Order Form'!$Q$18)","v":{"$error":"#VALUE!"}},{"$f":"$C162*$G$1*'Order Form'!$Q$18*(Color!$D$6+Species!$C$6+'Custom Finish'!$C$6)","v":{"$error":"#VALUE!"}},null,"13-","13-",{"$f":"CONCAT!$D$3","v":""},null,0,"13-CROWN2.12",{"$nulls":3},"",null,"13-CROWN2.12",1,{"$nulls":3},{"$f":"($C162*$F$1*Color!$G$8*1)","v":{"v":232.518,"d":"$232.52"}},{"$f":"$C162*$G$1*1*(Color!$D$8+Species!$C$6+'Custom Finish'!$C$6)","v":{"$error":"#VALUE!"}},null,"Orange","Maroon",{"$nulls":3},"No","No","N","Trim - Crown",{"v":271,"d":"$271.00"},"Price change for fall 2019",{"v":192,"d":"$192.00"},1.41,"G1",{"$nulls":4},{"$error":"#N/A"}]
["CROWNA","8' Crown 2 5/8\"",{"v":181,"d":"$181.00"},3,null,null,{"$f":"$C163*$G$1*'Order Form'!$Q$18*(Color!$D$6+Species!$C$6+'Custom Finish'!$C$6)","v":{"$error":"#VALUE!"}},null,"SC/PC","13-",{"$f":"CONCAT!$D$8","v":""},null,0,"13-CROWNA",{"$nulls":3},"",null,"13-CROWNA",1,{"$nulls":4},{"$f":"$C163*$G$1*1*(Color!$D$8+Species!$C$6+'Custom Finish'!$C$6)","v":{"$error":"#VALUE!"}},null,"Black","Maroon",{"$nulls":3},"No","No","N","Trim - Crown",{"v":181,"d":"$181.00"},"Price change for fall 2019",{"v":128,"d":"$128.00"},1.41,"G1",{"$nulls":4},{"$error":"#N/A"}]
["CROWNB","8' Crown 2\"",{"v":149,"d":"$149.00"},3,null,null,{"$f":"$C164*$G$1*'Order Form'!$Q$18*(Color!$D$6+Species!$C$6+'Custom Finish'!$C$6)","v":{"$error":"#VALUE!"}},null,"SC/PC","13-",{"$f":"CONCAT!$D$8","v":""},null,0,"13-CROWNB",{"$nulls":3},"",null,"13-CROWNB",1,{"$nulls":4},{"$f":"$C164*$G$1*1*(Color!$D$8+Species!$C$6+'Custom Finish'!$C$6)","v":{"$error":"#VALUE!"}},null,"Black","Maroon",{"$nulls":3},"No","No","N","Trim - Crown",{"v":149,"d":"$149.00"},"Price change for fall 2019",{"v":105,"d":"$105.00"},1.41,"G1",{"$nulls":4},{"$error":"#N/A"}]
["CROWNC","8' Crown 2 7/16\"",{"v":181,"d":"$181.00"},3,null,null,{"$f":"$C165*$G$1*'Order Form'!$Q$18*(Color!$D$6+Species!$C$6+'Custom Finish'!$C$6)","v":{"$error":"#VALUE!"}},null,"SC/PC","13-",{"$f":"CONCAT!$D$8","v":""},null,0,"13-CROWNC",{"$nulls":3},"",null,"13-CROWNC",1,{"$nulls":4},{"$f":"$C165*$G$1*1*(Color!$D$8+Species!$C$6+'Custom Finish'!$C$6)","v":{"$error":"#VALUE!"}},null,"Black","Maroon",{"$nulls":3},"No","No","N","Trim - Crown",{"v":181,"d":"$181.00"},"Price change for fall 2019",{"v":128,"d":"$128.00"},1.41,"G1",{"$nulls":4},{"$error":"#N/A"}]
["CROWND","8' Crown 1 9/16\"",{"v":149,"d":"$149.00"},3,null,null,{"$f":"$C166*$G$1*'Order Form'!$Q$18*(Color!$D$6+Species!$C$6+'Custom Finish'!$C$6)","v":{"$error":"#VALUE!"}},null,"SC/PC","13-",{"$f":"CONCAT!$D$8","v":""},null,0,"13-CROWND",{"$nulls":3},"",null,"13-CROWND",1,{"$nulls":4},{"$f":"$C166*$G$1*1*(Color!$D$8+Species!$C$6+'Custom Finish'!$C$6)","v":{"$error":"#VALUE!"}},null,"Black","Maroon",{"$nulls":3},"No","No","N","Trim - Crown",{"v":149,"d":"$149.00"},"Price change for fall 2019",{"v":105,"d":"$105.00"},1.41,"G1",{"$nulls":4},{"$error":"#N/A"}]
["CROWNMDF","13' Painted MDF Crown, Installs at 2 1/2\" Tall ",{"v":211,"d":"$211.00"},2,null,{"$f":"($C167*$F$1*Color!$G$6*'Order Form'!$Q$18)","v":{"$error":"#VALUE!"}},{"$f":"$C167*$G$1*'Order Form'!$Q$18*(Color!$D$6+Species!$C$6+'Custom Finish'!$C$6)","v":{"$error":"#VALUE!"}},null,"13-","13-",{"$f":"CONCAT!$D$3","v":""},null,0,"13-CROWNMDF",{"$nulls":3},"",null,"13-CROWNMDF",1,{"$nulls":3},{"$f":"($C167*$F$1*Color!$G$8*1)","v":{"v":181.03800000000004,"d":"$181.04"}},{"$f":"$C167*$G$1*1*(Color!$D$8+Species!$C$6+'Custom Finish'!$C$6)","v":{"$error":"#VALUE!"}},null,"Orange","Maroon",{"$nulls":3},"No","No","N","Trim - Crown",{"v":211,"d":"$211.00"},"Price change for fall 2019",{"v":149,"d":"$149.00"},1.41,"G1",{"$nulls":4},{"$error":"#N/A"}]
["CROWNS","8' Short Crown Kit Installs at 3\" Tall ",{"v":219,"d":"$219.00"},2,"PB",{"$f":"($C168*$F$1*Color!$G$6*'Order Form'!$Q$18)","v":{"$error":"#VALUE!"}},{"$f":"$C168*$G$1*'Order Form'!$Q$18*(Color!$D$6+Species!$C$6+'Custom Finish'!$C$6)","v":{"$error":"#VALUE!"}},null,"13-","13-",{"$f":"CONCAT!$D$8","v":""},null,0,"13-CROWNS",{"$nulls":5},"13-CROWNS",1,{"$nulls":3},{"$f":"($C168*$F$1*Color!$G$8*1)","v":{"v":187.90200000000002,"d":"$187.90"}},{"$f":"$C168*$G$1*1*(Color!$D$8+Species!$C$6+'Custom Finish'!$C$6)","v":{"$error":"#VALUE!"}},null,"Orange","Maroon",{"$nulls":3},"No","No","N","Trim - Crown",{"v":219,"d":"$219.00"},"Price change for fall 2019",{"v":155,"d":"$155.00"},1.41,"G1",{"$nulls":4},{"$error":"#N/A"}]
["CROWNT","8' Tall Crown Kit Installs at 6\" Tall ",{"v":364,"d":"$364.00"},2,null,{"$f":"($C169*$F$1*Color!$G$6*'Order Form'!$Q$18)","v":{"$error":"#VALUE!"}},{"$f":"$C169*$G$1*'Order Form'!$Q$18*(Color!$D$6+Species!$C$6+'Custom Finish'!$C$6)","v":{"$error":"#VALUE!"}},null,"13-","13-",{"$f":"CONCAT!$D$8","v":""},null,0,"13-CROWNT",{"$nulls":5},"13-CROWNT",1,{"$nulls":3},{"$f":"($C169*$F$1*Color!$G$8*1)","v":{"v":312.31200000000007,"d":"$312.31"}},{"$f":"$C169*$G$1*1*(Color!$D$8+Species!$C$6+'Custom Finish'!$C$6)","v":{"$error":"#VALUE!"}},null,"Orange","Maroon",{"$nulls":3},"No","No","N","Trim - Crown",{"v":364,"d":"$364.00"},"Price change for fall 2019",{"v":258,"d":"$258.00"},1.41,"G1",{"$nulls":4},{"$error":"#N/A"}]
["CRSTART03","8' x 3\" x 3/4\" Hardwood - Finished 3 sides",{"v":116,"d":"$116.00"},2,null,{"$f":"($C170*$F$1*Color!$G$6*'Order Form'!$Q$18)","v":{"$error":"#VALUE!"}},{"$f":"$C170*$G$1*'Order Form'!$Q$18*(Color!$D$6+Species!$C$6)","v":{"$error":"#VALUE!"}},null,"13-","13-",{"$f":"CONCAT!$D$3","v":""},null,0,"13-CRSTART03",{"$nulls":3},{"$f":"Q170&K170","v":""},null,"13-CRSTART03",1,{"$nulls":3},{"$f":"($C170*$F$1*Color!$G$8*1)","v":{"v":99.528,"d":"$99.53"}},{"$f":"$C170*$G$1*1*(Color!$D$8+Species!$C$6)","v":{"$error":"#VALUE!"}},null,"Orange","Pink",{"$nulls":3},"No","No","N","Trim - Crown",{"v":116,"d":"$116.00"},"Price change for fall 2019",{"v":82,"d":"$82.00"},1.41,"G1",{"$nulls":4},{"$error":"#N/A"}]
["CRSTART06","8' x 6\" x 3/4\" Hardwood - Finished 3 sides",{"v":263,"d":"$263.00"},2,null,{"$f":"($C171*$F$1*Color!$G$6*'Order Form'!$Q$18)","v":{"$error":"#VALUE!"}},{"$f":"$C171*$G$1*'Order Form'!$Q$18*(Color!$D$6+Species!$C$6)","v":{"$error":"#VALUE!"}},null,"13-","13-",{"$f":"CONCAT!$D$3","v":""},null,0,"13-CRSTART06",{"$nulls":3},{"$f":"Q171&K171","v":""},null,"13-CRSTART06",1,{"$nulls":3},{"$f":"($C171*$F$1*Color!$G$8*1)","v":{"v":225.65400000000002,"d":"$225.65"}},{"$f":"$C171*$G$1*1*(Color!$D$8+Species!$C$6)","v":{"$error":"#VALUE!"}},null,"Orange","Pink",{"$nulls":3},"No","No","N","Trim - Crown",{"v":263,"d":"$263.00"},"Price change for fall 2019",{"v":186,"d":"$186.00"},1.41,"G1",{"$nulls":4},{"$error":"#N/A"}]
["CRSTART12","8' x 11 7/8\" x 3/4\" Plywood - Finished 3 sides",{"v":579,"d":"$579.00"},2,null,{"$f":"($C172*$F$1*Color!$G$6*'Order Form'!$Q$18)","v":{"$error":"#VALUE!"}},{"$f":"$C172*$G$1*'Order Form'!$Q$18*(Color!$D$6+Species!$C$6)","v":{"$error":"#VALUE!"}},null,"13-","13-",{"$f":"CONCAT!$D$3","v":""},null,0,"13-CRSTART12",{"$nulls":3},{"$f":"Q172&K172","v":""},null,"13-CRSTART12",1,{"$nulls":3},{"$f":"($C172*$F$1*Color!$G$8*1)","v":{"v":496.78200000000004,"d":"$496.78"}},{"$f":"$C172*$G$1*1*(Color!$D$8+Species!$C$6)","v":{"$error":"#VALUE!"}},null,"Orange","Pink",{"$nulls":3},"No","No","N","Trim - Crown",{"v":579,"d":"$579.00"},"Price change for fall 2019",{"v":410,"d":"$410.00"},1.41,"G1",{"$nulls":4},{"$error":"#N/A"}]
["CTOP","Countertop Molding",{"v":91,"d":"$91.00"},2,null,{"$f":"($C173*$F$1*Color!$G$6*'Order Form'!$Q$18)","v":{"$error":"#VALUE!"}},{"$f":"$C173*$G$1*'Order Form'!$Q$18*(Color!$D$6+Species!$C$6)","v":{"$error":"#VALUE!"}},null,"13-","13-",{"$f":"CONCAT!$D$3","v":""},null,0,"13-CTOP",{"$nulls":3},{"$f":"Q173&K173","v":""},null,"13-CTOP",1,{"$nulls":3},{"$f":"($C173*$F$1*Color!$G$8*1)","v":{"v":78.07800000000002,"d":"$78.08"}},{"$f":"$C173*$G$1*1*(Color!$D$8+Species!$C$6)","v":{"$error":"#VALUE!"}},null,"Orange","Pink",{"$nulls":3},"No","No","N","Trim",{"v":91,"d":"$91.00"},"Price change for fall 2019",{"v":64,"d":"$64.00"},1.41,"G1",{"$nulls":4},{"$error":"#N/A"}]
["CT-STRAP","Overhang Strap",{"v":0,"d":"$0.00"},2,null,{"v":0,"d":"$0.00"},{"v":0,"d":"$0.00"},null,"/","","",null,0,"CT-STRAP",{"$nulls":10},{"v":0,"d":"$0.00"},{"v":0,"d":"$0.00"},null,"Dark Blue","Dark Blue",{"$nulls":3},"No","No","N","Countertop",{"$nulls":4},"Zero Price",{"$nulls":4},{"$error":"#N/A"}]
["CUSTOM-CABINET","Non catalog full cabinet- drawing and approved price must be attached.",{"v":0,"d":"$0.00"},3,null,null,{"v":0,"d":"$0.00"},null,"/","","","Yes",1,"CUSTOM-CABINET",{"$nulls":3},{"$f":"Q175&K175","v":""},null,{"$f":"N175","v":"CUSTOM-CABINET"},1,{"$nulls":4},{"v":0,"d":"$0.00"},null,"Black","Dark Blue",{"$nulls":3},"No","No","N","Custom Item",{"$nulls":4},"Zero Price",{"$nulls":4},{"$error":"#N/A"}]
["CUSTOM-DOOR","Code for custom door - approved price must be attached.",{"v":0,"d":"$0.00"},3,null,null,{"v":0,"d":"$0.00"},null,"/","","",null,0,"CUSTOM-DOOR",{"$nulls":3},{"$f":"Q176&K176","v":""},null,"CUSTOM-DOOR",1,{"$nulls":4},{"v":0,"d":"$0.00"},null,"Black","Dark Blue",{"$nulls":3},"No","No","N","Custom Item",{"$nulls":4},"Zero Price New",{"$nulls":4},{"$error":"#N/A"}]
["CUSTOM-DOOR-FRAME","Code for custom frame and door - approved price must be attached.",{"v":0,"d":"$0.00"},3,null,null,{"v":0,"d":"$0.00"},null,"/","","",null,0,"CUSTOM-DOOR-FRAME",{"$nulls":3},{"$f":"Q177&K177","v":""},null,"CUSTOM-DOOR-FRAME",1,{"$nulls":4},{"v":0,"d":"$0.00"},null,"Black","Dark Blue",{"$nulls":3},"No","No","N","Custom Item",{"$nulls":4},"Zero Price",{"$nulls":4},{"$error":"#N/A"}]
["CUSTOM-DRAWER BOX AND FACE","Code for Custom Drawer Box and Frame",{"v":0,"d":"$0.00"},3,null,null,{"v":0,"d":"$0.00"},null,"/","","","Yes",0,"CUSTOM-DRAWER BOX AND FACE",{"$nulls":5},"CUSTOM-DRAWER BOX AND FACE",1,"DG TBD",1,null,null,{"v":0,"d":"$0.00"},null,"Black","Dark Blue",{"$nulls":3},"No","No","N","Custom Item",{"$nulls":4},"Zero Price",{"$nulls":4},{"$error":"#N/A"}]
["CUSTOM-FLOATING SHELF","Custom Size Floating Shelf - drawing and approved price must be attached.",{"v":0,"d":"$0.00"},3,null,null,{"v":0,"d":"$0.00"},null,"/","","","Yes",0,"CUSTOM-FLOATING SHELF",{"$nulls":3},{"$f":"Q179&K179","v":""},null,"CUSTOM-FLOATING SHELF",1,{"$nulls":4},{"v":0,"d":"$0.00"},null,"Black","Dark Blue",{"$nulls":3},"No","No","N","Custom Item",{"$nulls":4},"Zero Price",{"$nulls":4},{"$error":"#N/A"}]
["CUSTOM-HOOD","Code for Custom Hood - drawing and approved price must be attached.",{"v":0,"d":"$0.00"},3,null,null,{"v":0,"d":"$0.00"},null,"/","","","Yes",1,"CUSTOM-HOOD",{"$nulls":3},"",null,"CUSTOM-HOOD",1,{"$nulls":4},{"v":0,"d":"$0.00"},null,"Black","Dark Blue",{"$nulls":3},"No","No","N","Custom Item",{"$nulls":4},"Zero Price",{"$nulls":4},{"$error":"#N/A"}]
["CUSTOM-PD","Custom Plant on Door - approved price must be attached.",{"v":0,"d":"$0.00"},3,null,null,{"v":0,"d":"$0.00"},null,"/","","",null,0,"CUSTOM-PD",{"$nulls":3},"",null,"CUSTOM-PD",1,{"$nulls":4},{"v":0,"d":"$0.00"},null,"Black","Dark Blue",{"$nulls":3},"No","No","N","Custom Item",{"$nulls":4},"Zero Price",{"$nulls":4},{"$error":"#N/A"}]
["CUSTOM-PLYWOOD TOP","Custom Plywood Top - Provide drawings and material type",{"v":0,"d":"$0.00"},3,null,null,{"v":0,"d":"$0.00"},null,"/","","","Yes",0,"CUSTOM-PLYWOOD TOP",{"$nulls":3},"",null,"CUSTOM-PLYWOOD TOP",1,{"$nulls":4},{"v":0,"d":"$0.00"},null,"Black","Dark Blue",{"$nulls":3},"No","No","N","Custom Item",{"$nulls":4},"Zero Price",{"$nulls":4},{"$error":"#N/A"}]
["CUSTOM-ROS","Custom Size Roll Out Shelf - corresponding cabinet must be noted.",{"v":136,"d":"$136.00"},3,null,null,{"v":0,"d":"$0.00"},null,"/","","",null,0,"CUSTOM-ROS",{"$nulls":3},"",null,"CUSTOM-ROS",1,{"$nulls":4},{"v":0,"d":"$0.00"},null,"Black","Dark Blue",{"$nulls":3},"No","No","N","Custom Item",{"$nulls":4},"Zero Price",{"$nulls":4},{"$error":"#N/A"}]
["CUSTOM-SHELF","Custom Size Shelf - corresponding cabinet must be noted.",{"v":0,"d":"$0.00"},3,null,null,{"v":0,"d":"$0.00"},null,"/","","",null,0,"CUSTOM-SHELF",{"$nulls":3},"",null,"CUSTOM-SHELF",1,{"$nulls":4},{"v":0,"d":"$0.00"},null,"Black","Dark Blue",{"$nulls":3},"No","No","N","Custom Item",{"$nulls":4},"Zero Price",{"$nulls":4},{"$error":"#N/A"}]
["CUSTOM-TRIM","Custom Size Trim - drawing and approved price must be attached.",{"v":0,"d":"$0.00"},3,null,null,{"v":0,"d":"$0.00"},null,"/","","","Yes",0,"CUSTOM-TRIM",{"$nulls":3},"",null,"CUSTOM-TRIM",1,{"$nulls":4},{"v":0,"d":"$0.00"},null,"Black","Dark Blue",{"$nulls":3},"No","No","N","Custom Item",{"$nulls":4},"Zero Price",{"$nulls":4},{"$error":"#N/A"}]
["DCW2430","Diagonal Corner Wall 24\" x 30\"",{"v":573,"d":"$573.00"},2,"PB",{"$f":"$C186*$F$1*'Order Form'!$Q$18*(Color!$C$6+'Door Style'!$H$6)","v":{"$error":"#VALUE!"}},{"$f":"$C186*$G$1*'Order Form'!$Q$18*(Color!$D$6+'Door Style'!$G$6+Species!$C$6+'Custom Finish'!$C$6)","v":{"$error":"#VALUE!"}},null,{"$f":"'Order Type'!$C$6","v":"01-"},{"$f":"'Order Type'!$C$6","v":"01-"},{"$f":"CONCAT!$D$2","v":""},null,1,"01-DCW2430","11-DCW2430",1,"12-DCW30","12-DCW30",1,{"$nulls":5},{"$f":"$C186*$F$1*(Color!$C$8+'Door Style'!$H$6)","v":{"v":491.634,"d":"$491.63"}},{"$f":"$C186*$G$1*1*(Color!$D$8+'Door Style'!$G$6+Species!$C$6+'Custom Finish'!$C$6)","v":{"$error":"#VALUE!"}},null,"Light Blue","Dark Gray",null,"1","WSKIN30",150,75,"Y","Wall Cabinet - Corner - Diagonal",{"$f":"ROUNDUP(AM186*AN186,0)","v":{"v":573,"d":"$573.00"}},"Price change for fall 2019",{"v":406,"d":"$406.00"},1.41,"G1",{"$nulls":4},{"$error":"#N/A"}]
["DCW2436","Diagonal Corner Wall 24\" x 36\"",{"v":662,"d":"$662.00"},2,null,{"$f":"$C187*$F$1*'Order Form'!$Q$18*(Color!$C$6+'Door Style'!$H$6)","v":{"$error":"#VALUE!"}},{"$f":"$C187*$G$1*'Order Form'!$Q$18*(Color!$D$6+'Door Style'!$G$6+Species!$C$6+'Custom Finish'!$C$6)","v":{"$error":"#VALUE!"}},null,{"$f":"'Order Type'!$C$6","v":"01-"},{"$f":"'Order Type'!$C$6","v":"01-"},{"$f":"CONCAT!$D$2","v":""},null,1,"01-DCW2436","11-DCW2436",1,"12-DCW36","12-DCW36",1,{"$nulls":5},{"$f":"$C187*$F$1*(Color!$C$8+'Door Style'!$H$6)","v":{"v":567.9960000000001,"d":"$568.00"}},{"$f":"$C187*$G$1*1*(Color!$D$8+'Door Style'!$G$6+Species!$C$6+'Custom Finish'!$C$6)","v":{"$error":"#VALUE!"}},null,"Light Blue","Dark Gray",null,"1","WSKIN36",150,75,"Y","Wall Cabinet - Corner - Diagonal",{"$f":"ROUNDUP(AM187*AN187,0)","v":{"v":662,"d":"$662.00"}},"Price change for fall 2019",{"v":469,"d":"$469.00"},1.41,"G1",{"$nulls":4},{"$error":"#N/A"}]
["DCW2442","Diagonal Corner Wall 24\" x 42\"",{"v":801,"d":"$801.00"},2,null,{"$f":"$C188*$F$1*'Order Form'!$Q$18*(Color!$C$6+'Door Style'!$H$6)","v":{"$error":"#VALUE!"}},{"$f":"$C188*$G$1*'Order Form'!$Q$18*(Color!$D$6+'Door Style'!$G$6+Species!$C$6+'Custom Finish'!$C$6)","v":{"$error":"#VALUE!"}},null,{"$f":"'Order Type'!$C$6","v":"01-"},{"$f":"'Order Type'!$C$6","v":"01-"},{"$f":"CONCAT!$D$2","v":""},null,1,{"$f":"J188&A188&K188","v":"01-DCW2442"},"11-DCW2442",1,"12-DCW42","12-DCW42",1,{"$nulls":5},{"$f":"$C188*$F$1*(Color!$C$8+'Door Style'!$H$6)","v":{"v":687.258,"d":"$687.26"}},{"$f":"$C188*$G$1*1*(Color!$D$8+'Door Style'!$G$6+Species!$C$6+'Custom Finish'!$C$6)","v":{"$error":"#VALUE!"}},null,"Light Blue","Dark Gray",null,"1","WSKIN42",150,75,"Y","Wall Cabinet - Corner - Diagonal",{"$f":"ROUNDUP(AM188*AN188,0)","v":{"v":801,"d":"$801.00"}},"Price change for fall 2019",{"v":568,"d":"$568.00"},1.41,"G1",{"$nulls":4},{"$error":"#N/A"}]
["DCW2736","Diagonal Corner Wall 27\" x 36\"",{"v":748,"d":"$748.00"},2,null,{"$f":"$C189*$F$1*'Order Form'!$Q$18*(Color!$C$6+'Door Style'!$H$6)","v":{"$error":"#VALUE!"}},{"$f":"$C189*$G$1*'Order Form'!$Q$18*(Color!$D$6+'Door Style'!$G$6+Species!$C$6+'Custom Finish'!$C$6)","v":{"$error":"#VALUE!"}},null,{"$f":"'Order Type'!$C$6","v":"01-"},{"$f":"'Order Type'!$C$6","v":"01-"},{"$f":"CONCAT!$D$2","v":""},null,1,"01-DCW2736","11-DCW2736",1,"12-DCW36","12-DCW36",1,{"$nulls":5},{"$f":"$C189*$F$1*(Color!$C$8+'Door Style'!$H$6)","v":{"v":641.7840000000001,"d":"$641.78"}},{"$f":"$C189*$G$1*1*(Color!$D$8+'Door Style'!$G$6+Species!$C$6+'Custom Finish'!$C$6)","v":{"$error":"#VALUE!"}},null,"Light Blue","Dark Gray",null,"1","WSKIN36",150,75,"Y","Wall Cabinet - Corner - Diagonal",{"$f":"ROUNDUP(AM189*AN189,0)","v":{"v":748,"d":"$748.00"}},"Price change for fall 2019",{"v":530,"d":"$530.00"},1.41,"G1",{"$nulls":4},{"$error":"#N/A"}]
["DCW2742","Diagonal Corner Wall 27\" x 42\"",{"v":875,"d":"$875.00"},2,null,{"$f":"$C190*$F$1*'Order Form'!$Q$18*(Color!$C$6+'Door Style'!$H$6)","v":{"$error":"#VALUE!"}},{"$f":"$C190*$G$1*'Order Form'!$Q$18*(Color!$D$6+'Door Style'!$G$6+Species!$C$6+'Custom Finish'!$C$6)","v":{"$error":"#VALUE!"}},null,{"$f":"'Order Type'!$C$6","v":"01-"},{"$f":"'Order Type'!$C$6","v":"01-"},{"$f":"CONCAT!$D$2","v":""},null,1,"01-DCW2742","11-DCW2742",1,"12-DCW42","12-DCW42",1,{"$nulls":5},{"$f":"$C190*$F$1*(Color!$C$8+'Door Style'!$H$6)","v":{"v":750.7500000000001,"d":"$750.75"}},{"$f":"$C190*$G$1*1*(Color!$D$8+'Door Style'!$G$6+Species!$C$6+'Custom Finish'!$C$6)","v":{"$error":"#VALUE!"}},null,"Light Blue","Dark Gray",null,"1","WSKIN42",150,75,"Y","Wall Cabinet - Corner - Diagonal",{"$f":"ROUNDUP(AM190*AN190,0)","v":{"v":875,"d":"$875.00"}},"Price change for fall 2019",{"v":620,"d":"$620.00"},1.41,"G1",{"$nulls":4},{"$error":"#N/A"}]
["DEALER BOOK","Dealer Book",{"v":1,"d":"$1.00"},2,null,{"$f":"$C191","v":{"v":1,"d":"$1.00"}},{"$f":"$C191","v":{"v":1,"d":"$1.00"}},null,"/","/","",null,0,"/DEALER BOOK",{"$nulls":3},"",null,{"$f":"N191","v":"/DEALER BOOK"},1,{"$nulls":3},{"$f":"$C191","v":{"v":1,"d":"$1.00"}},{"$f":"$C191","v":{"v":1,"d":"$1.00"}},null,"Tan","Tan","Dealer",null,null,"No","No","N","Dealer support item",{"v":1,"d":"$1.00"},null,0,1,"ACC",{"$nulls":4},{"$error":"#N/A"}]
["DEALER PLACARD","Tent Style Sign saying Authorized Dealer",{"v":20,"d":"$20.00"},2,null,{"$f":"$C192","v":{"v":20,"d":"$20.00"}},{"$f":"$C192","v":{"v":20,"d":"$20.00"}},null,"/","/",null,null,0,"/DEALER PLACARD",{"$nulls":3},"",null,{"$f":"N192","v":"/DEALER PLACARD"},1,{"$nulls":3},{"$f":"$C192","v":{"v":20,"d":"$20.00"}},{"$f":"$C192","v":{"v":20,"d":"$20.00"}},null,"Tan","Tan","Dealer",null,null,"No","No","N","Dealer support item",{"$f":"ROUNDUP(AM192*AN192,0)","v":{"v":20,"d":"$20.00"}},null,{"v":20,"d":"$20.00"},1,"ACC",{"$nulls":4},{"$error":"#N/A"}]
["DEALER SUPPORT MATERIAL","Misc. Dealer Support Material",{"v":0,"d":"$0.00"},2,null,{"v":0,"d":"$0.00"},{"v":0,"d":"$0.00"},null,"/","/","",null,0,"/DEALER SUPPORT MATERIAL",{"$nulls":3},"",null,{"$f":"N193","v":"/DEALER SUPPORT MATERIAL"},1,{"$nulls":3},{"$f":"V193","v":{"v":0,"d":"$0.00"}},{"$f":"V193","v":{"v":0,"d":"$0.00"}},null,"Dark Blue","Dark Blue","Dealer",null,null,"No","No","N","Dealer support item",{"$nulls":4},"Zero Price",{"$nulls":4},{"$error":"#N/A"}]
["DEP","Desk End Panel",{"v":288,"d":"$288.00"},3,null,null,{"$f":"$C194*$G$1*'Order Form'!$Q$18*(Color!$D$6+Species!$C$6)","v":{"$error":"#VALUE!"}},null,"SC/PC","13-",{"$f":"CONCAT!$D$8","v":""},null,0,"13-DEP",{"$nulls":3},"",null,{"$f":"N194","v":"13-DEP"},1,{"$nulls":4},{"$f":"$C194*$G$1*1*(Color!$D$8+Species!$C$6)","v":{"$error":"#VALUE!"}},null,"Black","Pink",{"$nulls":3},"No","No","N","Office Components - Panel",{"$f":"ROUNDUP(AM194*AN194,0)","v":{"v":288,"d":"$288.00"}},"Price change for fall 2019",{"v":204,"d":"$204.00"},1.41,"G1",{"$nulls":4},{"$error":"#N/A"}]
["DLS36","Diagonal Lazy Susan 36\"",{"v":1114,"d":"$1,114.00"},2,null,{"$f":"$C195*$F$1*'Order Form'!$Q$18*(Color!$C$6+'Door Style'!$H$6)","v":{"$error":"#VALUE!"}},{"$f":"$C195*$G$1*'Order Form'!$Q$18*(Color!$D$6+'Door Style'!$G$6+Species!$C$6+'Custom Finish'!$C$6)","v":{"$error":"#VALUE!"}},null,{"$f":"'Order Type'!$C$6","v":"01-"},{"$f":"'Order Type'!$C$6","v":"01-"},{"$f":"CONCAT!$D$2","v":""},null,1,"01-DLS36","11-DLS36",1,"12-DCW30","12-DCW30",1,{"$nulls":5},{"$f":"$C195*$F$1*(Color!$C$8+'Door Style'!$H$6)","v":{"v":955.8120000000001,"d":"$955.81"}},{"$f":"$C195*$G$1*1*(Color!$D$8+'Door Style'!$G$6+Species!$C$6+'Custom Finish'!$C$6)","v":{"$error":"#VALUE!"}},null,"Light Blue","Dark Yellow",null,"1","BSKIN","No",100,"Y","Base Cabinet - Corner - Lazy Susan - Diagonal",{"v":1114,"d":"$1,114.00"},"Price change for fall 2019",{"v":723,"d":"$723.00"},1.54,"G2",{"$nulls":4},{"$error":"#N/A"}]
["DWEP.75","Dishwasher End Panel .75\"",{"v":212,"d":"$212.00"},2,"PB",{"$f":"($C196*$F$1*Color!$G$6*'Order Form'!$Q$18)","v":{"$error":"#VALUE!"}},{"$f":"$C196*$G$1*'Order Form'!$Q$18*(Color!$D$6+Species!$C$6)","v":{"$error":"#VALUE!"}},null,"13-","13-",{"$f":"CONCAT!$D$3","v":""},null,0,"13-DWEP.75",{"$nulls":3},"",null,{"$f":"N196","v":"13-DWEP.75"},1,{"$nulls":3},{"$f":"($C196*$F$1*Color!$G$8*1)","v":{"v":181.89600000000004,"d":"$181.90"}},{"$f":"$C196*$G$1*1*(Color!$D$8+Species!$C$6)","v":{"$error":"#VALUE!"}},null,"Orange","Pink",{"$nulls":3},"No","No","N","Trim - Panel - Dishwasher",{"v":212,"d":"$212.00"},"Price change for fall 2019",{"v":150,"d":"$150.00"},1.41,"G1",{"$nulls":4},{"$error":"#N/A"}]
["DWEP1.5","Dishwasher End Panel 1.5\"",{"v":225,"d":"$225.00"},2,"PB",{"$f":"($C197*$F$1*Color!$G$6*'Order Form'!$Q$18)","v":{"$error":"#VALUE!"}},{"$f":"$C197*$G$1*'Order Form'!$Q$18*(Color!$D$6+Species!$C$6)","v":{"$error":"#VALUE!"}},null,"13-","13-",{"$f":"CONCAT!$D$3","v":""},null,0,"13-DWEP1.5",{"$nulls":3},"",null,"13-DWEP1.5",1,{"$nulls":3},{"$f":"($C197*$F$1*Color!$G$8*1)","v":{"v":193.05,"d":"$193.05"}},{"$f":"$C197*$G$1*1*(Color!$D$8+Species!$C$6)","v":{"$error":"#VALUE!"}},null,"Orange","Pink",{"$nulls":3},"No","No","N","Trim - Panel - Dishwasher",{"v":225,"d":"$225.00"},"Price change for fall 2019",{"v":159,"d":"$159.00"},1.41,"G1",{"$nulls":4},{"$error":"#N/A"}]
["DWEP3","Dishwasher End Panel 3\"",{"v":323,"d":"$323.00"},3,null,null,{"$f":"$C198*$G$1*'Order Form'!$Q$18*(Color!$D$6+Species!$C$6)","v":{"$error":"#VALUE!"}},null,"SC/PC","13-",{"$f":"CONCAT!$D$8","v":""},null,0,"13-DWEP3",{"$nulls":3},"",null,"13-DWEP3",1,{"$nulls":4},{"$f":"$C198*$G$1*1*(Color!$D$8+Species!$C$6)","v":{"$error":"#VALUE!"}},null,"Black","Pink",{"$nulls":3},"No","No","N","Trim - Panel - Dishwasher",{"v":323,"d":"$323.00"},"Price change for fall 2019",{"v":229,"d":"$229.00"},1.41,"G1",{"$nulls":4},{"$error":"#N/A"}]
["F0230","Filler 2\" x 30\"",{"v":21,"d":"$21.00"},2,null,{"$f":"($C199*$F$1*Color!$G$6*'Order Form'!$Q$18)","v":{"$error":"#VALUE!"}},{"$f":"$C199*$G$1*'Order Form'!$Q$18*(Color!$D$6+Species!$C$6)","v":{"$error":"#VALUE!"}},null,"13-","13-",{"$f":"CONCAT!$D$3","v":""},null,0,"13-F0230",{"$nulls":3},"",null,"13-F0230",1,{"$nulls":3},{"$f":"($C199*$F$1*Color!$G$8*1)","v":{"v":18.018,"d":"$18.02"}},{"$f":"$C199*$G$1*1*(Color!$D$8+Species!$C$6)","v":{"$error":"#VALUE!"}},null,"Orange","Pink","N",null,null,"No","No","N","Trim - Filler",{"v":21,"d":"$21.00"},"New Item for fall 2019",{"v":26,"d":"$26.00"},0.8,"New",{"$nulls":4},{"$error":"#N/A"}]
["F0242","Filler 2\" x 42\"",{"v":28,"d":"$28.00"},2,null,{"$f":"($C200*$F$1*Color!$G$6*'Order Form'!$Q$18)","v":{"$error":"#VALUE!"}},{"$f":"$C200*$G$1*'Order Form'!$Q$18*(Color!$D$6+Species!$C$6)","v":{"$error":"#VALUE!"}},null,"13-","13-",{"$f":"CONCAT!$D$3","v":""},null,0,"13-F0242",{"$nulls":3},"",null,"13-F0242",1,{"$nulls":3},{"$f":"($C200*$F$1*Color!$G$8*1)","v":{"v":24.024,"d":"$24.02"}},{"$f":"$C200*$G$1*1*(Color!$D$8+Species!$C$6)","v":{"$error":"#VALUE!"}},null,"Orange","Pink","N",null,null,"No","No","N","Trim - Filler",{"v":21,"d":"$21.00"},"New Item for fall 2019",{"v":26,"d":"$26.00"},0.8,"New",{"$nulls":4},{"$error":"#N/A"}]
["F0296","Filler 2\" x 96\"",{"v":35,"d":"$35.00"},2,null,{"$f":"($C201*$F$1*Color!$G$6*'Order Form'!$Q$18)","v":{"$error":"#VALUE!"}},{"$f":"$C201*$G$1*'Order Form'!$Q$18*(Color!$D$6+Species!$C$6)","v":{"$error":"#VALUE!"}},null,"13-","13-",{"$f":"CONCAT!$D$3","v":""},null,0,"13-F0296",{"$nulls":3},"",null,"13-F0296",1,{"$nulls":3},{"$f":"($C201*$F$1*Color!$G$8*1)","v":{"v":30.030000000000005,"d":"$30.03"}},{"$f":"$C201*$G$1*1*(Color!$D$8+Species!$C$6)","v":{"$error":"#VALUE!"}},null,"Orange","Pink","N",null,null,"No","No","N","Trim - Filler",{"v":21,"d":"$21.00"},"New Item for fall 2019",{"v":26,"d":"$26.00"},0.8,"New",{"$nulls":4},{"$error":"#N/A"}]
["F03108","Filler 3\" x 108\"",{"v":141,"d":"$141.00"},3,null,null,{"$f":"$C202*$G$1*'Order Form'!$Q$18*(Color!$D$6+Species!$C$6)","v":{"$error":"#VALUE!"}},null,"13-","13-",{"$f":"CONCAT!$D$8","v":""},null,0,"13-F03108",{"$nulls":5},"13-F03108",1,{"$nulls":4},{"$f":"$C202*$G$1*1*(Color!$D$8+Species!$C$6)","v":{"$error":"#VALUE!"}},null,"Black","Pink",{"$nulls":3},"No","No","N","Trim - Filler",{"v":141,"d":"$141.00"},"Price change for fall 2019",{"v":100,"d":"$100.00"},1.41,"G1",{"$nulls":4},{"$error":"#N/A"}]
["F03120","Filler 3\" x 120\"",{"v":164,"d":"$164.00"},3,null,null,{"$f":"$C203*$G$1*'Order Form'!$Q$18*(Color!$D$6+Species!$C$6)","v":{"$error":"#VALUE!"}},null,"13-","13-",{"$f":"CONCAT!$D$8","v":""},null,0,"13-F03120",{"$nulls":5},"13-F03120",1,{"$nulls":4},{"$f":"$C203*$G$1*1*(Color!$D$8+Species!$C$6)","v":{"$error":"#VALUE!"}},null,"Black","Pink",{"$nulls":3},"No","No","N","Trim - Filler",{"v":164,"d":"$164.00"},"Price change for fall 2019",{"v":116,"d":"$116.00"},1.41,"G1",{"$nulls":4},{"$error":"#N/A"}]
["F0330","Filler 3\" x 30\"",{"v":37,"d":"$37.00"},2,"PB",{"$f":"($C204*$F$1*Color!$G$6*'Order Form'!$Q$18)","v":{"$error":"#VALUE!"}},{"$f":"$C204*$G$1*'Order Form'!$Q$18*(Color!$D$6+Species!$C$6)","v":{"$error":"#VALUE!"}},null,"13-","13-",{"$f":"CONCAT!$D$3","v":""},null,0,"13-F0330",{"$nulls":3},{"$f":"Q204&K204","v":""},null,"13-F0330",1,{"$nulls":3},{"$f":"($C204*$F$1*Color!$G$8*1)","v":{"v":31.746000000000002,"d":"$31.75"}},{"$f":"$C204*$G$1*1*(Color!$D$8+Species!$C$6)","v":{"$error":"#VALUE!"}},null,"Orange","Pink",{"$nulls":3},"No","No","N","Trim - Filler",{"v":37,"d":"$37.00"},"Price change for fall 2019",{"v":26,"d":"$26.00"},1.41,"G1",{"$nulls":4},{"$error":"#N/A"}]
["F0342","Filler 3\" x 42\"",{"v":72,"d":"$72.00"},2,null,{"$f":"($C205*$F$1*Color!$G$6*'Order Form'!$Q$18)","v":{"$error":"#VALUE!"}},{"$f":"$C205*$G$1*'Order Form'!$Q$18*(Color!$D$6+Species!$C$6)","v":{"$error":"#VALUE!"}},null,"13-","13-",{"$f":"CONCAT!$D$3","v":""},null,0,"13-F0342",{"$nulls":3},{"$f":"Q205&K205","v":""},null,"13-F0342",1,{"$nulls":3},{"$f":"($C205*$F$1*Color!$G$8*1)","v":{"v":61.77600000000001,"d":"$61.78"}},{"$f":"$C205*$G$1*1*(Color!$D$8+Species!$C$6)","v":{"$error":"#VALUE!"}},null,"Orange","Pink",{"$nulls":3},"No","No","N","Trim - Filler",{"v":72,"d":"$72.00"},"Price change for fall 2019",{"v":51,"d":"$51.00"},1.41,"G1",{"$nulls":4},{"$error":"#N/A"}]
["F0396","Filler 3\" x 96\"",{"v":116,"d":"$116.00"},2,"PB",{"$f":"($C206*$F$1*Color!$G$6*'Order Form'!$Q$18)","v":{"$error":"#VALUE!"}},{"$f":"$C206*$G$1*'Order Form'!$Q$18*(Color!$D$6+Species!$C$6)","v":{"$error":"#VALUE!"}},null,"13-","13-",{"$f":"CONCAT!$D$3","v":""},null,0,"13-F0396",{"$nulls":3},{"$f":"Q206&K206","v":""},null,"13-F0396",1,{"$nulls":3},{"$f":"($C206*$F$1*Color!$G$8*1)","v":{"v":99.528,"d":"$99.53"}},{"$f":"$C206*$G$1*1*(Color!$D$8+Species!$C$6)","v":{"$error":"#VALUE!"}},null,"Orange","Pink",{"$nulls":3},"No","No","N","Trim - Filler",{"v":116,"d":"$116.00"},"Price change for fall 2019",{"v":82,"d":"$82.00"},1.41,"G1",{"$nulls":4},{"$error":"#N/A"}]
["F06108","Filler 6\" x 108\"",{"v":297,"d":"$297.00"},3,null,null,{"$f":"$C207*$G$1*'Order Form'!$Q$18*(Color!$D$6+Species!$C$6)","v":{"$error":"#VALUE!"}},null,"13-","13-",{"$f":"CONCAT!$D$8","v":""},null,0,"13-F06108",{"$nulls":5},"13-F06108",1,{"$nulls":4},{"$f":"$C207*$G$1*1*(Color!$D$8+Species!$C$6)","v":{"$error":"#VALUE!"}},null,"Black","Pink",{"$nulls":3},"No","No","N","Trim - Filler",{"v":297,"d":"$297.00"},"Price change for fall 2019",{"v":210,"d":"$210.00"},1.41,"G1",{"$nulls":4},{"$error":"#N/A"}]
["F06120","Filler 6\" x 120\"",{"v":342,"d":"$342.00"},3,null,null,{"$f":"$C208*$G$1*'Order Form'!$Q$18*(Color!$D$6+Species!$C$6)","v":{"$error":"#VALUE!"}},null,"13-","13-",{"$f":"CONCAT!$D$8","v":""},null,0,"13-F06120",{"$nulls":5},"13-F06120",1,{"$nulls":4},{"$f":"$C208*$G$1*1*(Color!$D$8+Species!$C$6)","v":{"$error":"#VALUE!"}},null,"Black","Pink",{"$nulls":3},"No","No","N","Trim - Filler",{"v":342,"d":"$342.00"},"Price change for fall 2019",{"v":242,"d":"$242.00"},1.41,"G1",{"$nulls":4},{"$error":"#N/A"}]
["F0630","Filler 6\" x 30\"",{"v":72,"d":"$72.00"},2,"PB",{"$f":"($C209*$F$1*Color!$G$6*'Order Form'!$Q$18)","v":{"$error":"#VALUE!"}},{"$f":"$C209*$G$1*'Order Form'!$Q$18*(Color!$D$6+Species!$C$6)","v":{"$error":"#VALUE!"}},null,"13-","13-",{"$f":"CONCAT!$D$3","v":""},null,0,"13-F0630",{"$nulls":3},{"$f":"Q209&K209","v":""},null,"13-F0630",1,{"$nulls":3},{"$f":"($C209*$F$1*Color!$G$8*1)","v":{"v":61.77600000000001,"d":"$61.78"}},{"$f":"$C209*$G$1*1*(Color!$D$8+Species!$C$6)","v":{"$error":"#VALUE!"}},null,"Orange","Pink",{"$nulls":3},"No","No","N","Trim - Filler",{"v":72,"d":"$72.00"},"Price change for fall 2019",{"v":51,"d":"$51.00"},1.41,"G1",{"$nulls":4},{"$error":"#N/A"}]
["F0642","Filler 6\" x 42\"",{"v":144,"d":"$144.00"},2,null,{"$f":"($C210*$F$1*Color!$G$6*'Order Form'!$Q$18)","v":{"$error":"#VALUE!"}},{"$f":"$C210*$G$1*'Order Form'!$Q$18*(Color!$D$6+Species!$C$6)","v":{"$error":"#VALUE!"}},null,"13-","13-",{"$f":"CONCAT!$D$3","v":""},null,0,"13-F0642",{"$nulls":3},{"$f":"Q210&K210","v":""},null,"13-F0642",1,{"$nulls":3},{"$f":"($C210*$F$1*Color!$G$8*1)","v":{"v":123.55200000000002,"d":"$123.55"}},{"$f":"$C210*$G$1*1*(Color!$D$8+Species!$C$6)","v":{"$error":"#VALUE!"}},null,"Orange","Pink",{"$nulls":3},"No","No","N","Trim - Filler",{"v":144,"d":"$144.00"},"Price change for fall 2019",{"v":102,"d":"$102.00"},1.41,"G1",{"$nulls":4},{"$error":"#N/A"}]
["F0696","Filler 6\" x 96\"",{"v":263,"d":"$263.00"},2,"PB",{"$f":"($C211*$F$1*Color!$G$6*'Order Form'!$Q$18)","v":{"$error":"#VALUE!"}},{"$f":"$C211*$G$1*'Order Form'!$Q$18*(Color!$D$6+Species!$C$6)","v":{"$error":"#VALUE!"}},null,"13-","13-",{"$f":"CONCAT!$D$3","v":""},null,0,"13-F0696",{"$nulls":3},{"$f":"Q211&K211","v":""},null,"13-F0696",1,{"$nulls":3},{"$f":"($C211*$F$1*Color!$G$8*1)","v":{"v":225.65400000000002,"d":"$225.65"}},{"$f":"$C211*$G$1*1*(Color!$D$8+Species!$C$6)","v":{"$error":"#VALUE!"}},null,"Orange","Pink",{"$nulls":3},"No","No","N","Trim - Filler",{"v":263,"d":"$263.00"},"Price change for fall 2019",{"v":186,"d":"$186.00"},1.41,"G1",{"$nulls":4},{"$error":"#N/A"}]
["F1.5108","Filler 1.5\" x 108\"",{"v":122,"d":"$122.00"},3,null,null,{"$f":"$C212*$G$1*'Order Form'!$Q$18*(Color!$D$6+Species!$C$6)","v":{"$error":"#VALUE!"}},null,"13-","13-",{"$f":"CONCAT!$D$8","v":""},null,0,"13-F1.5108",{"$nulls":5},"13-F1.5108",1,{"$nulls":4},{"$f":"$C212*$G$1*1*(Color!$D$8+Species!$C$6)","v":{"$error":"#VALUE!"}},null,"Black","Pink",{"$nulls":3},"No","No","N","Trim - Filler",{"v":122,"d":"$122.00"},"Price change for fall 2019",{"v":86,"d":"$86.00"},1.41,"G1",{"$nulls":4},{"$error":"#N/A"}]
["F1.5120","Filler 1.5\" x 120\"",{"v":141,"d":"$141.00"},3,null,null,{"$f":"$C213*$G$1*'Order Form'!$Q$18*(Color!$D$6+Species!$C$6)","v":{"$error":"#VALUE!"}},null,"13-","13-",{"$f":"CONCAT!$D$8","v":""},null,0,"13-F1.5120",{"$nulls":5},"13-F1.5120",1,{"$nulls":4},{"$f":"$C213*$G$1*1*(Color!$D$8+Species!$C$6)","v":{"$error":"#VALUE!"}},null,"Black","Pink",{"$nulls":3},"No","No","N","Trim - Filler",{"v":141,"d":"$141.00"},"Price change for fall 2019",{"v":100,"d":"$100.00"},1.41,"G1",{"$nulls":4},{"$error":"#N/A"}]
["F1.530","Filler 1.5\" x 30\"",{"v":47,"d":"$47.00"},2,null,{"$f":"($C214*$F$1*Color!$G$6*'Order Form'!$Q$18)","v":{"$error":"#VALUE!"}},{"$f":"$C214*$G$1*'Order Form'!$Q$18*(Color!$D$6+Species!$C$6)","v":{"$error":"#VALUE!"}},null,"13-","13-",{"$f":"CONCAT!$D$3","v":""},null,0,"13-F1.530",{"$nulls":3},{"$f":"Q214&K214","v":""},null,"13-F1.530",1,{"$nulls":3},{"$f":"($C214*$F$1*Color!$G$8*1)","v":{"v":40.32600000000001,"d":"$40.33"}},{"$f":"$C214*$G$1*1*(Color!$D$8+Species!$C$6)","v":{"$error":"#VALUE!"}},null,"Orange","Pink",{"$nulls":3},"No","No","N","Trim - Filler",{"v":47,"d":"$47.00"},"Price change for fall 2019",{"v":33,"d":"$33.00"},1.41,"G1",{"$nulls":4},{"$error":"#N/A"}]
["F1.542","Filler 1.5\" x 42\"",{"v":70,"d":"$70.00"},2,null,{"$f":"($C215*$F$1*Color!$G$6*'Order Form'!$Q$18)","v":{"$error":"#VALUE!"}},{"$f":"$C215*$G$1*'Order Form'!$Q$18*(Color!$D$6+Species!$C$6)","v":{"$error":"#VALUE!"}},null,"13-","13-",{"$f":"CONCAT!$D$3","v":""},null,0,"13-F1.542",{"$nulls":3},"",null,"13-F1.542",1,{"$nulls":3},{"$f":"($C215*$F$1*Color!$G$8*1)","v":{"v":60.06000000000001,"d":"$60.06"}},{"$f":"$C215*$G$1*1*(Color!$D$8+Species!$C$6)","v":{"$error":"#VALUE!"}},null,"Orange","Pink",{"$nulls":3},"No","No","N","Trim - Filler",{"v":70,"d":"$70.00"},"Price change for fall 2019",{"v":49,"d":"$49.00"},1.41,"G1",{"$nulls":4},{"$error":"#N/A"}]
["F1.596","Filler 1.5\" x 96\"",{"v":88,"d":"$88.00"},2,null,{"$f":"($C216*$F$1*Color!$G$6*'Order Form'!$Q$18)","v":{"$error":"#VALUE!"}},{"$f":"$C216*$G$1*'Order Form'!$Q$18*(Color!$D$6+Species!$C$6)","v":{"$error":"#VALUE!"}},null,"13-","13-",{"$f":"CONCAT!$D$3","v":""},null,0,"13-F1.596",{"$nulls":3},"",null,"13-F1.596",1,{"$nulls":3},{"$f":"($C216*$F$1*Color!$G$8*1)","v":{"v":75.504,"d":"$75.50"}},{"$f":"$C216*$G$1*1*(Color!$D$8+Species!$C$6)","v":{"$error":"#VALUE!"}},null,"Orange","Pink",{"$nulls":3},"No","No","N","Trim - Filler",{"v":88,"d":"$88.00"},"Price change for fall 2019",{"v":62,"d":"$62.00"},1.41,"G1",{"$nulls":4},{"$error":"#N/A"}]
["FCC SALES CENTER","Sales Center Hutch",{"v":2495,"d":"$2,495.00"},2,null,{"$f":"$C217","v":{"v":2495,"d":"$2,495.00"}},{"$f":"$C217","v":{"v":2495,"d":"$2,495.00"}},null,"/",null,"",null,1,"FCC SALES CENTER",{"$nulls":3},"",null,"FCC SALES CENTER",1,{"$nulls":3},{"$f":"$C217","v":{"v":2495,"d":"$2,495.00"}},{"$f":"$C217","v":{"v":2495,"d":"$2,495.00"}},null,"Tan","Tan","Dealer",null,null,"No","No","N","Dealer support item",{"v":2495,"d":"$2,495.00"},null,{"v":2495,"d":"$2,495.00"},1,"ACC",{"$nulls":4},{"$error":"#N/A"}]
["FHB09","Full Height Base  09\"",{"v":295,"d":"$295.00"},2,"PB",{"$f":"$C218*$F$1*'Order Form'!$Q$18*(Color!$C$6+'Door Style'!$H$6)","v":{"$error":"#VALUE!"}},{"$f":"$C218*$G$1*'Order Form'!$Q$18*(Color!$D$6+'Door Style'!$G$6+Species!$C$6+'Custom Finish'!$C$6)","v":{"$error":"#VALUE!"}},null,{"$f":"'Order Type'!$C$6","v":"01-"},{"$f":"'Order Type'!$C$6","v":"01-"},{"$f":"CONCAT!$D$2","v":""},null,1,"01-FHB09","11-FHB09",1,"12-W0930","12-W0930",1,{"$nulls":5},{"$f":"$C218*$F$1*(Color!$C$8+'Door Style'!$H$6)","v":{"v":253.11,"d":"$253.11"}},{"$f":"$C218*$G$1*1*(Color!$D$8+'Door Style'!$G$6+Species!$C$6+'Custom Finish'!$C$6)","v":{"$error":"#VALUE!"}},null,"Light Blue","Dark Gray",null,"1","BSKIN",75,50,"Y","Base Cabinet  - Full Height",{"v":295,"d":"$295.00"},"Price change for fall 2019",{"v":209,"d":"$209.00"},1.41,"G1",{"$nulls":4},{"$error":"#N/A"}]
["FHB10.5","Full Height Base 10.5\"",{"v":335,"d":"$335.00"},3,null,null,{"$f":"$C219*$G$1*'Order Form'!$Q$18*(Color!$D$6+'Door Style'!$G$6+Species!$C$6+'Custom Finish'!$C$6)","v":{"$error":"#VALUE!"}},null,"SC/PC",{"$f":"'Order Type'!$C$6","v":"01-"},{"$f":"CONCAT!$D$8","v":""},null,1,"01-FHB10.5","11-FHB10.5",1,"12-W10.530","12-W10.530",1,{"$nulls":6},{"$f":"$C219*$G$1*1*(Color!$D$8+'Door Style'!$G$6+Species!$C$6+'Custom Finish'!$C$6)","v":{"$error":"#VALUE!"}},null,"Black","Dark Gray",null,"1","BSKIN",75,50,"Y","Base Cabinet  - Full Height",{"v":335,"d":"$335.00"},"Price change for fall 2019",{"v":237,"d":"$237.00"},1.41,"G1",{"$nulls":4},{"$error":"#N/A"}]
["FHB12","Full Height Base 12\"",{"v":333,"d":"$333.00"},2,null,{"$f":"$C220*$F$1*'Order Form'!$Q$18*(Color!$C$6+'Door Style'!$H$6)","v":{"$error":"#VALUE!"}},{"$f":"$C220*$G$1*'Order Form'!$Q$18*(Color!$D$6+'Door Style'!$G$6+Species!$C$6+'Custom Finish'!$C$6)","v":{"$error":"#VALUE!"}},null,{"$f":"'Order Type'!$C$6","v":"01-"},{"$f":"'Order Type'!$C$6","v":"01-"},{"$f":"CONCAT!$D$2","v":""},null,1,"01-FHB12","11-B12",1,"12-W1230","12-W1230",1,{"$nulls":5},{"$f":"$C220*$F$1*(Color!$C$8+'Door Style'!$H$6)","v":{"v":285.71400000000006,"d":"$285.71"}},{"$f":"$C220*$G$1*1*(Color!$D$8+'Door Style'!$G$6+Species!$C$6+'Custom Finish'!$C$6)","v":{"$error":"#VALUE!"}},null,"Light Blue","Dark Gray",null,"1","BSKIN",75,50,"Y","Base Cabinet  - Full Height",{"v":333,"d":"$333.00"},"Price change for fall 2019",{"v":236,"d":"$236.00"},1.41,"G1",{"$nulls":4},{"$error":"#N/A"}]
["FHB13.5","Full Height Base 13.5\"",{"v":373,"d":"$373.00"},3,null,null,{"$f":"$C221*$G$1*'Order Form'!$Q$18*(Color!$D$6+'Door Style'!$G$6+Species!$C$6+'Custom Finish'!$C$6)","v":{"$error":"#VALUE!"}},null,"SC/PC",{"$f":"'Order Type'!$C$6","v":"01-"},{"$f":"CONCAT!$D$8","v":""},null,1,"01-FHB13.5","11-FHB13.5",1,"12-W13.530","12-W13.530",1,{"$nulls":6},{"$f":"$C221*$G$1*1*(Color!$D$8+'Door Style'!$G$6+Species!$C$6+'Custom Finish'!$C$6)","v":{"$error":"#VALUE!"}},null,"Black","Dark Gray",null,"1","BSKIN",75,50,"Y","Base Cabinet  - Full Height",{"v":373,"d":"$373.00"},"Price change for fall 2019",{"v":264,"d":"$264.00"},1.41,"G1",{"$nulls":4},{"$error":"#N/A"}]
["FHB15","Full Height Base 15\"",{"v":371,"d":"$371.00"},2,null,{"$f":"$C222*$F$1*'Order Form'!$Q$18*(Color!$C$6+'Door Style'!$H$6)","v":{"$error":"#VALUE!"}},{"$f":"$C222*$G$1*'Order Form'!$Q$18*(Color!$D$6+'Door Style'!$G$6+Species!$C$6+'Custom Finish'!$C$6)","v":{"$error":"#VALUE!"}},null,{"$f":"'Order Type'!$C$6","v":"01-"},{"$f":"'Order Type'!$C$6","v":"01-"},{"$f":"CONCAT!$D$2","v":""},null,1,"01-FHB15","11-B15",1,"12-W1530","12-W1530",1,{"$nulls":5},{"$f":"$C222*$F$1*(Color!$C$8+'Door Style'!$H$6)","v":{"v":318.31800000000004,"d":"$318.32"}},{"$f":"$C222*$G$1*1*(Color!$D$8+'Door Style'!$G$6+Species!$C$6+'Custom Finish'!$C$6)","v":{"$error":"#VALUE!"}},null,"Light Blue","Dark Gray",null,"1","BSKIN",75,50,"Y","Base Cabinet  - Full Height",{"v":371,"d":"$371.00"},"Price change for fall 2019",{"v":263,"d":"$263.00"},1.41,"G1",{"$nulls":4},{"$error":"#N/A"}]
["FHB16.5","Full Height Base 16.5\"",{"v":409,"d":"$409.00"},3,null,null,{"$f":"$C223*$G$1*'Order Form'!$Q$18*(Color!$D$6+'Door Style'!$G$6+Species!$C$6+'Custom Finish'!$C$6)","v":{"$error":"#VALUE!"}},null,"SC/PC",{"$f":"'Order Type'!$C$6","v":"01-"},{"$f":"CONCAT!$D$8","v":""},null,1,"01-FHB16.5","11-FHB16.5",1,"12-W16.530","12-W16.530",1,{"$nulls":6},{"$f":"$C223*$G$1*1*(Color!$D$8+'Door Style'!$G$6+Species!$C$6+'Custom Finish'!$C$6)","v":{"$error":"#VALUE!"}},null,"Black","Dark Gray",null,"1","BSKIN",75,50,"Y","Base Cabinet  - Full Height",{"v":409,"d":"$409.00"},"Price change for fall 2019",{"v":290,"d":"$290.00"},1.41,"G1",{"$nulls":4},{"$error":"#N/A"}]
["FHB18","Full Height Base 18\"",{"v":408,"d":"$408.00"},2,null,{"$f":"$C224*$F$1*'Order Form'!$Q$18*(Color!$C$6+'Door Style'!$H$6)","v":{"$error":"#VALUE!"}},{"$f":"$C224*$G$1*'Order Form'!$Q$18*(Color!$D$6+'Door Style'!$G$6+Species!$C$6+'Custom Finish'!$C$6)","v":{"$error":"#VALUE!"}},null,{"$f":"'Order Type'!$C$6","v":"01-"},{"$f":"'Order Type'!$C$6","v":"01-"},{"$f":"CONCAT!$D$2","v":""},null,1,"01-FHB18","11-B18",1,"12-W1830","12-W1830",1,{"$nulls":5},{"$f":"$C224*$F$1*(Color!$C$8+'Door Style'!$H$6)","v":{"v":350.064,"d":"$350.06"}},{"$f":"$C224*$G$1*1*(Color!$D$8+'Door Style'!$G$6+Species!$C$6+'Custom Finish'!$C$6)","v":{"$error":"#VALUE!"}},null,"Light Blue","Dark Gray",null,"1","BSKIN",75,50,"Y","Base Cabinet  - Full Height",{"v":408,"d":"$408.00"},"Price change for fall 2019",{"v":289,"d":"$289.00"},1.41,"G1",{"$nulls":4},{"$error":"#N/A"}]
["FHB19.5","Full Height Base 19.5\"",{"v":462,"d":"$462.00"},3,null,null,{"$f":"$C225*$G$1*'Order Form'!$Q$18*(Color!$D$6+'Door Style'!$G$6+Species!$C$6+'Custom Finish'!$C$6)","v":{"$error":"#VALUE!"}},null,"SC/PC",{"$f":"'Order Type'!$C$6","v":"01-"},{"$f":"CONCAT!$D$8","v":""},null,1,"01-FHB19.5","11-FHB19.5",1,"12-W19.530","12-W19.530",1,{"$nulls":6},{"$f":"$C225*$G$1*1*(Color!$D$8+'Door Style'!$G$6+Species!$C$6+'Custom Finish'!$C$6)","v":{"$error":"#VALUE!"}},null,"Black","Dark Gray",null,"1","BSKIN",75,50,"Y","Base Cabinet  - Full Height",{"v":462,"d":"$462.00"},"Price change for fall 2019",{"v":327,"d":"$327.00"},1.41,"G1",{"$nulls":4},{"$error":"#N/A"}]
["FHB21","Full Height Base 21\"",{"v":460,"d":"$460.00"},2,null,{"$f":"$C226*$F$1*'Order Form'!$Q$18*(Color!$C$6+'Door Style'!$H$6)","v":{"$error":"#VALUE!"}},{"$f":"$C226*$G$1*'Order Form'!$Q$18*(Color!$D$6+'Door Style'!$G$6+Species!$C$6+'Custom Finish'!$C$6)","v":{"$error":"#VALUE!"}},null,{"$f":"'Order Type'!$C$6","v":"01-"},{"$f":"'Order Type'!$C$6","v":"01-"},{"$f":"CONCAT!$D$2","v":""},null,1,"01-FHB21","11-B21",1,"12-W2130","12-W2130",1,{"$nulls":5},{"$f":"$C226*$F$1*(Color!$C$8+'Door Style'!$H$6)","v":{"v":394.68000000000006,"d":"$394.68"}},{"$f":"$C226*$G$1*1*(Color!$D$8+'Door Style'!$G$6+Species!$C$6+'Custom Finish'!$C$6)","v":{"$error":"#VALUE!"}},null,"Light Blue","Dark Gray",null,"1","BSKIN",75,50,"Y","Base Cabinet  - Full Height",{"$f":"ROUNDUP(AM226*AN226,0)","v":{"v":460,"d":"$460.00"}},"Price change for fall 2019",{"v":326,"d":"$326.00"},1.41,"G1",{"$nulls":4},{"$error":"#N/A"}]
["FHB22.5","Full Height Base 22.5\"",{"v":493,"d":"$493.00"},3,null,null,{"$f":"$C227*$G$1*'Order Form'!$Q$18*(Color!$D$6+'Door Style'!$G$6+Species!$C$6+'Custom Finish'!$C$6)","v":{"$error":"#VALUE!"}},null,"SC/PC",{"$f":"'Order Type'!$C$6","v":"01-"},{"$f":"CONCAT!$D$8","v":""},null,1,"01-FHB22.5","11-FHB22.5",1,"12-W22.530","12-W22.530",1,{"$nulls":6},{"$f":"$C227*$G$1*1*(Color!$D$8+'Door Style'!$G$6+Species!$C$6+'Custom Finish'!$C$6)","v":{"$error":"#VALUE!"}},null,"Black","Dark Gray",null,"1","BSKIN",75,50,"Y","Base Cabinet  - Full Height",{"v":493,"d":"$493.00"},"Price change for fall 2019",{"v":349,"d":"$349.00"},1.41,"G1",{"$nulls":4},{"$error":"#N/A"}]
["FHB24","Full Height Base 24\"",{"v":491,"d":"$491.00"},2,null,{"$f":"$C228*$F$1*'Order Form'!$Q$18*(Color!$C$6+'Door Style'!$H$6)","v":{"$error":"#VALUE!"}},{"$f":"$C228*$G$1*'Order Form'!$Q$18*(Color!$D$6+'Door Style'!$G$6+Species!$C$6+'Custom Finish'!$C$6)","v":{"$error":"#VALUE!"}},null,{"$f":"'Order Type'!$C$6","v":"01-"},{"$f":"'Order Type'!$C$6","v":"01-"},{"$f":"CONCAT!$D$2","v":""},null,1,"01-FHB24","11-B24",1,"12-W2430","12-W2430",1,{"$nulls":5},{"$f":"$C228*$F$1*(Color!$C$8+'Door Style'!$H$6)","v":{"v":421.2780000000001,"d":"$421.28"}},{"$f":"$C228*$G$1*1*(Color!$D$8+'Door Style'!$G$6+Species!$C$6+'Custom Finish'!$C$6)","v":{"$error":"#VALUE!"}},null,"Light Blue","Dark Gray",null,"1","BSKIN",75,50,"N","Base Cabinet  - Full Height",{"v":491,"d":"$491.00"},"Price change for fall 2019",{"v":348,"d":"$348.00"},1.41,"G1",{"$nulls":4},{"$error":"#N/A"}]
["FHB25.5","Full Height Base 25.5\"",{"v":579,"d":"$579.00"},3,null,null,{"$f":"$C229*$G$1*'Order Form'!$Q$18*(Color!$D$6+'Door Style'!$G$6+Species!$C$6+'Custom Finish'!$C$6)","v":{"$error":"#VALUE!"}},null,"SC/PC",{"$f":"'Order Type'!$C$6","v":"01-"},{"$f":"CONCAT!$D$8","v":""},null,1,"01-FHB25.5","11-FHB25.5",1,"12-W25.530","12-W25.530",1,{"$nulls":6},{"$f":"$C229*$G$1*1*(Color!$D$8+'Door Style'!$G$6+Species!$C$6+'Custom Finish'!$C$6)","v":{"$error":"#VALUE!"}},null,"Black","Dark Gray",null,"1","BSKIN",75,50,"N","Base Cabinet  - Full Height",{"v":579,"d":"$579.00"},"Price change for fall 2019",{"v":410,"d":"$410.00"},1.41,"G1",{"$nulls":4},{"$error":"#N/A"}]
["FHB27","Full Height Base 27\"",{"v":574,"d":"$574.00"},2,null,{"$f":"$C230*$F$1*'Order Form'!$Q$18*(Color!$C$6+'Door Style'!$H$6)","v":{"$error":"#VALUE!"}},{"$f":"$C230*$G$1*'Order Form'!$Q$18*(Color!$D$6+'Door Style'!$G$6+Species!$C$6+'Custom Finish'!$C$6)","v":{"$error":"#VALUE!"}},null,{"$f":"'Order Type'!$C$6","v":"01-"},{"$f":"'Order Type'!$C$6","v":"01-"},{"$f":"CONCAT!$D$2","v":""},null,1,"01-FHB27","11-B27",1,"12-W2730","12-W2730",1,{"$nulls":5},{"$f":"$C230*$F$1*(Color!$C$8+'Door Style'!$H$6)","v":{"v":492.4920000000001,"d":"$492.49"}},{"$f":"$C230*$G$1*1*(Color!$D$8+'Door Style'!$G$6+Species!$C$6+'Custom Finish'!$C$6)","v":{"$error":"#VALUE!"}},null,"Light Blue","Dark Gray",null,"1","BSKIN",75,50,"N","Base Cabinet  - Full Height",{"v":574,"d":"$574.00"},"Price change for fall 2019",{"v":407,"d":"$407.00"},1.41,"G1",{"$nulls":4},{"$error":"#N/A"}]
["FHB30","Full Height Base 30\"",{"v":638,"d":"$638.00"},2,null,{"$f":"$C231*$F$1*'Order Form'!$Q$18*(Color!$C$6+'Door Style'!$H$6)","v":{"$error":"#VALUE!"}},{"$f":"$C231*$G$1*'Order Form'!$Q$18*(Color!$D$6+'Door Style'!$G$6+Species!$C$6+'Custom Finish'!$C$6)","v":{"$error":"#VALUE!"}},null,{"$f":"'Order Type'!$C$6","v":"01-"},{"$f":"'Order Type'!$C$6","v":"01-"},{"$f":"CONCAT!$D$2","v":""},null,1,"01-FHB30","11-B30",1,"12-W3030","12-W3030",1,{"$nulls":5},{"$f":"$C231*$F$1*(Color!$C$8+'Door Style'!$H$6)","v":{"v":547.4040000000001,"d":"$547.40"}},{"$f":"$C231*$G$1*1*(Color!$D$8+'Door Style'!$G$6+Species!$C$6+'Custom Finish'!$C$6)","v":{"$error":"#VALUE!"}},null,"Light Blue","Dark Gray",null,"1","BSKIN",75,50,"N","Base Cabinet  - Full Height",{"v":638,"d":"$638.00"},"Price change for fall 2019",{"v":452,"d":"$452.00"},1.41,"G1",{"$nulls":4},{"$error":"#N/A"}]
["FHB33","Full Height Base 33\"",{"v":704,"d":"$704.00"},2,null,{"$f":"$C232*$F$1*'Order Form'!$Q$18*(Color!$C$6+'Door Style'!$H$6)","v":{"$error":"#VALUE!"}},{"$f":"$C232*$G$1*'Order Form'!$Q$18*(Color!$D$6+'Door Style'!$G$6+Species!$C$6+'Custom Finish'!$C$6)","v":{"$error":"#VALUE!"}},null,{"$f":"'Order Type'!$C$6","v":"01-"},{"$f":"'Order Type'!$C$6","v":"01-"},{"$f":"CONCAT!$D$2","v":""},null,1,"01-FHB33","11-B33",1,"12-W3330","12-W3330",1,{"$nulls":5},{"$f":"$C232*$F$1*(Color!$C$8+'Door Style'!$H$6)","v":{"v":604.032,"d":"$604.03"}},{"$f":"$C232*$G$1*1*(Color!$D$8+'Door Style'!$G$6+Species!$C$6+'Custom Finish'!$C$6)","v":{"$error":"#VALUE!"}},null,"Light Blue","Dark Gray",null,"1","BSKIN",75,50,"N","Base Cabinet  - Full Height",{"v":704,"d":"$704.00"},"Price change for fall 2019",{"v":499,"d":"$499.00"},1.41,"G1",{"$nulls":4},{"$error":"#N/A"}]
["FHB36","Full Height Base 36\"",{"v":749,"d":"$749.00"},2,null,{"$f":"$C233*$F$1*'Order Form'!$Q$18*(Color!$C$6+'Door Style'!$H$6)","v":{"$error":"#VALUE!"}},{"$f":"$C233*$G$1*'Order Form'!$Q$18*(Color!$D$6+'Door Style'!$G$6+Species!$C$6+'Custom Finish'!$C$6)","v":{"$error":"#VALUE!"}},null,{"$f":"'Order Type'!$C$6","v":"01-"},{"$f":"'Order Type'!$C$6","v":"01-"},{"$f":"CONCAT!$D$2","v":""},null,1,"01-FHB36","11-B36",1,"12-W3630","12-W3630",1,{"$nulls":5},{"$f":"$C233*$F$1*(Color!$C$8+'Door Style'!$H$6)","v":{"v":642.642,"d":"$642.64"}},{"$f":"$C233*$G$1*1*(Color!$D$8+'Door Style'!$G$6+Species!$C$6+'Custom Finish'!$C$6)","v":{"$error":"#VALUE!"}},null,"Light Blue","Dark Gray",null,"1","BSKIN",75,50,"N","Base Cabinet  - Full Height",{"v":749,"d":"$749.00"},"Price change for fall 2019",{"v":531,"d":"$531.00"},1.41,"G1",{"$nulls":4},{"$error":"#N/A"}]
["FHB39","Full Height Base 39\"",{"v":794,"d":"$794.00"},2,null,{"$f":"$C234*$F$1*'Order Form'!$Q$18*(Color!$C$6+'Door Style'!$H$6)","v":{"$error":"#VALUE!"}},{"$f":"$C234*$G$1*'Order Form'!$Q$18*(Color!$D$6+'Door Style'!$G$6+Species!$C$6+'Custom Finish'!$C$6)","v":{"$error":"#VALUE!"}},null,{"$f":"'Order Type'!$C$6","v":"01-"},{"$f":"'Order Type'!$C$6","v":"01-"},{"$f":"CONCAT!$D$2","v":""},null,1,"01-FHB39","11-B39",1,"12-W3930","12-W3930",1,{"$nulls":5},{"$f":"$C234*$F$1*(Color!$C$8+'Door Style'!$H$6)","v":{"v":681.2520000000001,"d":"$681.25"}},{"$f":"$C234*$G$1*1*(Color!$D$8+'Door Style'!$G$6+Species!$C$6+'Custom Finish'!$C$6)","v":{"$error":"#VALUE!"}},null,"Light Blue","Dark Gray",null,"1","BSKIN",75,50,"N","Base Cabinet  - Full Height",{"v":794,"d":"$794.00"},"Price change for fall 2019",{"v":563,"d":"$563.00"},1.41,"G1",{"$nulls":4},{"$error":"#N/A"}]
["FHBCB PULLOUT-OPTIMIZER45","BCB Pullout-Optimizer 45\"",{"v":625,"d":"$625.00"},3,null,null,{"$f":"$C235","v":{"v":625,"d":"$625.00"}},null,"/","","",null,0,"FHBCB PULLOUT-OPTIMIZER45",{"$nulls":3},"",null,{"$f":"N235","v":"FHBCB PULLOUT-OPTIMIZER45"},1,{"$nulls":4},{"$f":"$C235","v":{"v":625,"d":"$625.00"}},null,"Black","Tan",{"$nulls":3},"No","No","N","Accessory - Base - Blind Corner",{"v":625,"d":"$625.00"},null,{"v":625,"d":"$625.00"},1,"ACC",{"$nulls":4},{"$error":"#N/A"}]
["FHBCB PULLOUT-OPTIMIZER48","BCB Pullout-Optimizer 48\"",{"v":655,"d":"$655.00"},3,null,null,{"$f":"$C236","v":{"v":655,"d":"$655.00"}},null,"/","","",null,0,"FHBCB PULLOUT-OPTIMIZER48",{"$nulls":3},"",null,{"$f":"N236","v":"FHBCB PULLOUT-OPTIMIZER48"},1,{"$nulls":4},{"$f":"$C236","v":{"v":655,"d":"$655.00"}},null,"Black","Tan",{"$nulls":3},"No","No","N","Accessory - Base - Blind Corner",{"v":655,"d":"$655.00"},null,{"v":655,"d":"$655.00"},1,"ACC",{"$nulls":4},{"$error":"#N/A"}]
["FHBCB PULLOUT-PREMIER45","BCB Pullout-premiere Corner ",{"v":885,"d":"$885.00"},2,null,{"$f":"$C237","v":{"v":885,"d":"$885.00"}},{"$f":"$C237","v":{"v":885,"d":"$885.00"}},null,"/","","",null,0,"FHBCB PULLOUT-PREMIER45",{"$nulls":3},"",null,{"$f":"N237","v":"FHBCB PULLOUT-PREMIER45"},1,{"$nulls":3},{"$f":"$C237","v":{"v":885,"d":"$885.00"}},{"$f":"$C237","v":{"v":885,"d":"$885.00"}},null,"Tan","Tan",{"$nulls":3},"No","No","N","Accessory - Base - Blind Corner",{"v":885,"d":"$885.00"},null,{"v":885,"d":"$885.00"},1,"ACC",{"$nulls":4},{"$error":"#N/A"}]
["FHBCB PULLOUT-PREMIER48","BCB Pullout-premiere Corner ",{"v":930,"d":"$930.00"},2,null,{"$f":"$C238","v":{"v":930,"d":"$930.00"}},{"$f":"$C238","v":{"v":930,"d":"$930.00"}},null,"/","","",null,0,"FHBCB PULLOUT-PREMIER48",{"$nulls":3},"",null,{"$f":"N238","v":"FHBCB PULLOUT-PREMIER48"},1,{"$nulls":3},{"$f":"$C238","v":{"v":930,"d":"$930.00"}},{"$f":"$C238","v":{"v":930,"d":"$930.00"}},null,"Tan","Tan",{"$nulls":3},"No","No","N","Accessory - Base - Blind Corner",{"v":930,"d":"$930.00"},null,{"v":930,"d":"$930.00"},1,"ACC",{"$nulls":4},{"$error":"#N/A"}]
["FHBCB36L","Full Height Blind Corner Base 36\" (Blind Left)",{"v":691,"d":"$691.00"},3,null,null,{"$f":"$C239*$G$1*'Order Form'!$Q$18*(Color!$D$6+'Door Style'!$G$6+Species!$C$6+'Custom Finish'!$C$6)","v":{"$error":"#VALUE!"}},null,"SC/PC",{"$f":"'Order Type'!$C$6","v":"01-"},{"$f":"CONCAT!$D$8","v":""},null,1,"01-FHBCB36L","11-BCB36",1,"12-FHBCB36","12-FHBCB36",1,{"$nulls":6},{"$f":"$C239*$G$1*1*(Color!$D$8+'Door Style'!$G$6+Species!$C$6+'Custom Finish'!$C$6)","v":{"$error":"#VALUE!"}},null,"Black","Dark Gray",null,"1","BSKIN",75,50,"N","Base Cabinet - Corner - Blind - Full Height",{"v":691,"d":"$691.00"},"Price change for fall 2019",{"v":490,"d":"$490.00"},1.41,"G1",{"$nulls":4},{"$error":"#N/A"}]
["FHBCB36R","Full Height Blind Corner Base 36\" (Blind Right)",{"v":691,"d":"$691.00"},3,null,null,{"$f":"$C240*$G$1*'Order Form'!$Q$18*(Color!$D$6+'Door Style'!$G$6+Species!$C$6+'Custom Finish'!$C$6)","v":{"$error":"#VALUE!"}},null,"SC/PC",{"$f":"'Order Type'!$C$6","v":"01-"},{"$f":"CONCAT!$D$8","v":""},null,1,"01-FHBCB36R","11-BCB36",1,"12-FHBCB36","12-FHBCB36",1,{"$nulls":6},{"$f":"$C240*$G$1*1*(Color!$D$8+'Door Style'!$G$6+Species!$C$6+'Custom Finish'!$C$6)","v":{"$error":"#VALUE!"}},null,"Black","Dark Gray",null,"1","BSKIN",75,50,"N","Base Cabinet - Corner - Blind - Full Height",{"v":691,"d":"$691.00"},"Price change for fall 2019",{"v":490,"d":"$490.00"},1.41,"G1",{"$nulls":4},{"$error":"#N/A"}]
["FHBCB39L","Full Height Blind Corner Base 39\" (Blind Left)",{"v":727,"d":"$727.00"},3,null,null,{"$f":"$C241*$G$1*'Order Form'!$Q$18*(Color!$D$6+'Door Style'!$G$6+Species!$C$6+'Custom Finish'!$C$6)","v":{"$error":"#VALUE!"}},null,"SC/PC",{"$f":"'Order Type'!$C$6","v":"01-"},{"$f":"CONCAT!$D$8","v":""},null,1,"01-FHBCB39L","11-BCB39",1,"12-FHBCB39L","12-FHBCB39L",1,{"$nulls":6},{"$f":"$C241*$G$1*1*(Color!$D$8+'Door Style'!$G$6+Species!$C$6+'Custom Finish'!$C$6)","v":{"$error":"#VALUE!"}},null,"Black","Dark Gray",null,"1","BSKIN",75,50,"N","Base Cabinet - Corner - Blind - Full Height",{"v":727,"d":"$727.00"},"Price change for fall 2019",{"v":515,"d":"$515.00"},1.41,"G1",{"$nulls":4},{"$error":"#N/A"}]
["FHBCB39R","Full Height Blind Corner Base 39\" (Blind Right)",{"v":727,"d":"$727.00"},3,null,null,{"$f":"$C242*$G$1*'Order Form'!$Q$18*(Color!$D$6+'Door Style'!$G$6+Species!$C$6+'Custom Finish'!$C$6)","v":{"$error":"#VALUE!"}},null,"SC/PC",{"$f":"'Order Type'!$C$6","v":"01-"},{"$f":"CONCAT!$D$8","v":""},null,1,"01-FHBCB39R","11-BCB39",1,"12-FHBCB39R","12-FHBCB39R",1,{"$nulls":6},{"$f":"$C242*$G$1*1*(Color!$D$8+'Door Style'!$G$6+Species!$C$6+'Custom Finish'!$C$6)","v":{"$error":"#VALUE!"}},null,"Black","Dark Gray",null,"1","BSKIN",75,50,"N","Base Cabinet - Corner - Blind - Full Height",{"v":727,"d":"$727.00"},"Price change for fall 2019",{"v":515,"d":"$515.00"},1.41,"G1",{"$nulls":4},{"$error":"#N/A"}]
["FHBCB42L","Full Height Blind Corner Base 42\" (Blind Left)",{"v":848,"d":"$848.00"},3,null,null,{"$f":"$C243*$G$1*'Order Form'!$Q$18*(Color!$D$6+'Door Style'!$G$6+Species!$C$6+'Custom Finish'!$C$6)","v":{"$error":"#VALUE!"}},null,"SC/PC",{"$f":"'Order Type'!$C$6","v":"01-"},{"$f":"CONCAT!$D$8","v":""},null,1,"01-FHBCB42L","11-BCB42",1,"12-FHBCB42","12-FHBCB42",1,{"$nulls":6},{"$f":"$C243*$G$1*1*(Color!$D$8+'Door Style'!$G$6+Species!$C$6+'Custom Finish'!$C$6)","v":{"$error":"#VALUE!"}},null,"Black","Dark Gray",null,"1","BSKIN",75,50,"N","Base Cabinet - Corner - Blind - Full Height",{"v":848,"d":"$848.00"},"Price change for fall 2019",{"v":601,"d":"$601.00"},1.41,"G1",{"$nulls":4},{"$error":"#N/A"}]
["FHBCB42R","Full Height Blind Corner Base 42\" (Blind Right)",{"v":848,"d":"$848.00"},3,null,null,{"$f":"$C244*$G$1*'Order Form'!$Q$18*(Color!$D$6+'Door Style'!$G$6+Species!$C$6+'Custom Finish'!$C$6)","v":{"$error":"#VALUE!"}},null,"SC/PC",{"$f":"'Order Type'!$C$6","v":"01-"},{"$f":"CONCAT!$D$8","v":""},null,1,"01-FHBCB42R","11-BCB42",1,"12-FHBCB42","12-FHBCB42",1,{"$nulls":6},{"$f":"$C244*$G$1*1*(Color!$D$8+'Door Style'!$G$6+Species!$C$6+'Custom Finish'!$C$6)","v":{"$error":"#VALUE!"}},null,"Black","Dark Gray",null,"1","BSKIN",75,50,"N","Base Cabinet - Corner - Blind - Full Height",{"v":848,"d":"$848.00"},"Price change for fall 2019",{"v":601,"d":"$601.00"},1.41,"G1",{"$nulls":4},{"$error":"#N/A"}]
["FHBCB45L","Full Height Blind Corner Base 45\" (Blind Left)",{"v":865,"d":"$865.00"},3,null,null,{"$f":"$C245*$G$1*'Order Form'!$Q$18*(Color!$D$6+'Door Style'!$G$6+Species!$C$6+'Custom Finish'!$C$6)","v":{"$error":"#VALUE!"}},null,"SC/PC",{"$f":"'Order Type'!$C$6","v":"01-"},{"$f":"CONCAT!$D$8","v":""},null,1,"01-FHBCB45L","11-BCB45",1,"12-FHBCB45L","12-FHBCB45L",1,{"$nulls":6},{"$f":"$C245*$G$1*1*(Color!$D$8+'Door Style'!$G$6+Species!$C$6+'Custom Finish'!$C$6)","v":{"$error":"#VALUE!"}},null,"Black","Dark Gray",null,"1","BSKIN",75,50,"N","Base Cabinet - Corner - Blind - Full Height",{"v":865,"d":"$865.00"},"Price change for fall 2019",{"v":613,"d":"$613.00"},1.41,"G1",{"$nulls":4},{"$error":"#N/A"}]
["FHBCB45R","Full Height Blind Corner Base 45\" (Blind Right)",{"v":865,"d":"$865.00"},3,null,null,{"$f":"$C246*$G$1*'Order Form'!$Q$18*(Color!$D$6+'Door Style'!$G$6+Species!$C$6+'Custom Finish'!$C$6)","v":{"$error":"#VALUE!"}},null,"SC/PC",{"$f":"'Order Type'!$C$6","v":"01-"},{"$f":"CONCAT!$D$8","v":""},null,1,"01-FHBCB45R","11-BCB45",1,"12-FHBCB45R",{"$f":"Q246&K246","v":"12-FHBCB45R"},1,{"$nulls":6},{"$f":"$C246*$G$1*1*(Color!$D$8+'Door Style'!$G$6+Species!$C$6+'Custom Finish'!$C$6)","v":{"$error":"#VALUE!"}},null,"Black","Dark Gray",null,"1","BSKIN",75,50,"N","Base Cabinet - Corner - Blind - Full Height",{"v":865,"d":"$865.00"},"Price change for fall 2019",{"v":613,"d":"$613.00"},1.41,"G1",{"$nulls":4},{"$error":"#N/A"}]
["FHBCB48L","Full Height Blind Corner Base 48\" (Blind Left)",{"v":899,"d":"$899.00"},3,null,null,{"$f":"$C247*$G$1*'Order Form'!$Q$18*(Color!$D$6+'Door Style'!$G$6+Species!$C$6+'Custom Finish'!$C$6)","v":{"$error":"#VALUE!"}},null,"SC/PC",{"$f":"'Order Type'!$C$6","v":"01-"},{"$f":"CONCAT!$D$8","v":""},null,1,"01-FHBCB48L","11-BCB48",1,"12-FHBCB48L","12-FHBCB48L",1,{"$nulls":6},{"$f":"$C247*$G$1*1*(Color!$D$8+'Door Style'!$G$6+Species!$C$6+'Custom Finish'!$C$6)","v":{"$error":"#VALUE!"}},null,"Black","Dark Gray",null,"1","BSKIN",75,50,"N","Base Cabinet - Corner - Blind - Full Height",{"v":899,"d":"$899.00"},"Price change for fall 2019",{"v":637,"d":"$637.00"},1.41,"G1",{"$nulls":4},{"$error":"#N/A"}]
["FHBCB48R","Full Height Blind Corner Base 48\" (Blind Right)",{"v":899,"d":"$899.00"},3,null,null,{"$f":"$C248*$G$1*'Order Form'!$Q$18*(Color!$D$6+'Door Style'!$G$6+Species!$C$6+'Custom Finish'!$C$6)","v":{"$error":"#VALUE!"}},null,"SC/PC",{"$f":"'Order Type'!$C$6","v":"01-"},{"$f":"CONCAT!$D$8","v":""},null,1,"01-FHBCB48R","11-BCB48",1,"12-FHBCB48R","12-FHBCB48R",1,{"$nulls":6},{"$f":"$C248*$G$1*1*(Color!$D$8+'Door Style'!$G$6+Species!$C$6+'Custom Finish'!$C$6)","v":{"$error":"#VALUE!"}},null,"Black","Dark Gray",null,"1","BSKIN",75,50,"N","Base Cabinet - Corner - Blind - Full Height",{"v":899,"d":"$899.00"},"Price change for fall 2019",{"v":637,"d":"$637.00"},1.41,"G1",{"$nulls":4},{"$error":"#N/A"}]
["FHDFC18","Full Height Door File Cabinet 18\"",{"v":505,"d":"$505.00"},3,null,null,{"$f":"$C249*$G$1*'Order Form'!$Q$18*(Color!$D$6+'Door Style'!$G$6+Species!$C$6+'Custom Finish'!$C$6)","v":{"$error":"#VALUE!"}},null,"SC/PC",{"$f":"'Order Type'!$C$6","v":"01-"},{"$f":"CONCAT!$D$8","v":""},null,1,"01-FHDFC18","11-FHDFC18",1,"12-FHDFC18","12-FHDFC18",1,{"$nulls":6},{"$f":"$C249*$G$1*1*(Color!$D$8+'Door Style'!$G$6+Species!$C$6+'Custom Finish'!$C$6)","v":{"$error":"#VALUE!"}},null,"Black","Dark Gray",null,"1","BSKIN",75,50,"Y","Office Components - Cabinet - Full Height",{"v":505,"d":"$505.00"},"Price change for fall 2019",{"v":358,"d":"$358.00"},1.41,"G1",{"$nulls":4},{"$error":"#N/A"}]
["FHSB18","Full Height Sink Base 18\"",{"v":408,"d":"$408.00"},2,null,{"$f":"$C250*$F$1*'Order Form'!$Q$18*(Color!$C$6+'Door Style'!$H$6)","v":{"$error":"#VALUE!"}},{"$f":"$C250*$G$1*'Order Form'!$Q$18*(Color!$D$6+'Door Style'!$G$6+Species!$C$6+'Custom Finish'!$C$6)","v":{"$error":"#VALUE!"}},null,{"$f":"'Order Type'!$C$6","v":"01-"},{"$f":"'Order Type'!$C$6","v":"01-"},{"$f":"CONCAT!$D$2","v":""},null,1,"01-FHSB18","11-SB18",1,"12-W1830","12-W1830",1,{"$nulls":5},{"$f":"$C250*$F$1*(Color!$C$8+'Door Style'!$H$6)","v":{"v":350.064,"d":"$350.06"}},{"$f":"$C250*$G$1*1*(Color!$D$8+'Door Style'!$G$6+Species!$C$6+'Custom Finish'!$C$6)","v":{"$error":"#VALUE!"}},null,"Light Blue","Dark Gray",null,"1","BSKIN",75,50,"Y","Base Cabinet - Sink - Full Height",{"v":408,"d":"$408.00"},"Price change for fall 2019",{"v":289,"d":"$289.00"},1.41,"G1",{"$nulls":4},{"$error":"#N/A"}]
["FHSB19.5","Full Height Sink Base 19.5\"",{"v":460,"d":"$460.00"},3,null,null,{"$f":"$C251*$G$1*'Order Form'!$Q$18*(Color!$D$6+'Door Style'!$G$6+Species!$C$6+'Custom Finish'!$C$6)","v":{"$error":"#VALUE!"}},null,"SC/PC",{"$f":"'Order Type'!$C$6","v":"01-"},{"$f":"CONCAT!$D$8","v":""},null,1,"01-FHSB19.5","11-FHSB19.5",1,"12-W19.530","12-W19.530",1,{"$nulls":6},{"$f":"$C251*$G$1*1*(Color!$D$8+'Door Style'!$G$6+Species!$C$6+'Custom Finish'!$C$6)","v":{"$error":"#VALUE!"}},null,"Black","Dark Gray",null,"1","BSKIN",75,50,"Y","Base Cabinet - Sink - Full Height",{"v":460,"d":"$460.00"},"Price change for fall 2019",{"v":326,"d":"$326.00"},1.41,"G1",{"$nulls":4},{"$error":"#N/A"}]
["FHSB21","Full Height Sink Base 21\"",{"v":457,"d":"$457.00"},2,null,{"$f":"$C252*$F$1*'Order Form'!$Q$18*(Color!$C$6+'Door Style'!$H$6)","v":{"$error":"#VALUE!"}},{"$f":"$C252*$G$1*'Order Form'!$Q$18*(Color!$D$6+'Door Style'!$G$6+Species!$C$6+'Custom Finish'!$C$6)","v":{"$error":"#VALUE!"}},null,{"$f":"'Order Type'!$C$6","v":"01-"},{"$f":"'Order Type'!$C$6","v":"01-"},{"$f":"CONCAT!$D$2","v":""},null,1,{"$f":"J252&A252&K252","v":"01-FHSB21"},"11-SB21",1,"12-W2130","12-W2130",1,{"$nulls":5},{"$f":"$C252*$F$1*(Color!$C$8+'Door Style'!$H$6)","v":{"v":392.10600000000005,"d":"$392.11"}},{"$f":"$C252*$G$1*1*(Color!$D$8+'Door Style'!$G$6+Species!$C$6+'Custom Finish'!$C$6)","v":{"$error":"#VALUE!"}},null,"Light Blue","Dark Gray",null,"1","BSKIN",75,50,"Y","Base Cabinet - Sink - Full Height",{"v":457,"d":"$457.00"},"Price change for fall 2019",{"v":324,"d":"$324.00"},1.41,"G1",{"$nulls":4},{"$error":"#N/A"}]
["FHSB22.5","Full Height Sink Base 22.5\"",{"v":510,"d":"$510.00"},3,null,null,{"$f":"$C253*$G$1*'Order Form'!$Q$18*(Color!$D$6+'Door Style'!$G$6+Species!$C$6+'Custom Finish'!$C$6)","v":{"$error":"#VALUE!"}},null,"SC/PC",{"$f":"'Order Type'!$C$6","v":"01-"},{"$f":"CONCAT!$D$8","v":""},null,1,"01-FHSB22.5","11-FHSB22.5",1,"12-W22.530","12-W22.530",1,{"$nulls":6},{"$f":"$C253*$G$1*1*(Color!$D$8+'Door Style'!$G$6+Species!$C$6+'Custom Finish'!$C$6)","v":{"$error":"#VALUE!"}},null,"Black","Dark Gray",null,"1","BSKIN",75,50,"Y","Base Cabinet - Sink - Full Height",{"v":510,"d":"$510.00"},"Price change for fall 2019",{"v":361,"d":"$361.00"},1.41,"G1",{"$nulls":4},{"$error":"#N/A"}]
["FHSB24","Full Height Sink Base 24\"",{"v":507,"d":"$507.00"},2,null,{"$f":"$C254*$F$1*'Order Form'!$Q$18*(Color!$C$6+'Door Style'!$H$6)","v":{"$error":"#VALUE!"}},{"$f":"$C254*$G$1*'Order Form'!$Q$18*(Color!$D$6+'Door Style'!$G$6+Species!$C$6+'Custom Finish'!$C$6)","v":{"$error":"#VALUE!"}},null,{"$f":"'Order Type'!$C$6","v":"01-"},{"$f":"'Order Type'!$C$6","v":"01-"},{"$f":"CONCAT!$D$2","v":""},null,1,"01-FHSB24","11-SB24",1,"12-W2430","12-W2430",1,{"$nulls":5},{"$f":"$C254*$F$1*(Color!$C$8+'Door Style'!$H$6)","v":{"v":435.0060000000001,"d":"$435.01"}},{"$f":"$C254*$G$1*1*(Color!$D$8+'Door Style'!$G$6+Species!$C$6+'Custom Finish'!$C$6)","v":{"$error":"#VALUE!"}},null,"Light Blue","Dark Gray",null,"1","BSKIN",75,50,"N","Base Cabinet - Sink - Full Height",{"v":507,"d":"$507.00"},"Price change for fall 2019",{"v":359,"d":"$359.00"},1.41,"G1",{"$nulls":4},{"$error":"#N/A"}]
["FHSB25.5","Full Height Sink Base 25.5\"",{"v":560,"d":"$560.00"},3,null,null,{"$f":"$C255*$G$1*'Order Form'!$Q$18*(Color!$D$6+'Door Style'!$G$6+Species!$C$6+'Custom Finish'!$C$6)","v":{"$error":"#VALUE!"}},null,"SC/PC",{"$f":"'Order Type'!$C$6","v":"01-"},{"$f":"CONCAT!$D$8","v":""},null,1,"01-FHSB25.5","11-FHSB25.5",1,"12-W25.530","12-W25.530",1,{"$nulls":6},{"$f":"$C255*$G$1*1*(Color!$D$8+'Door Style'!$G$6+Species!$C$6+'Custom Finish'!$C$6)","v":{"$error":"#VALUE!"}},null,"Black","Dark Gray",null,"1","BSKIN",75,50,"N","Base Cabinet - Sink - Full Height",{"v":560,"d":"$560.00"},"Price change for fall 2019",{"v":397,"d":"$397.00"},1.41,"G1",{"$nulls":4},{"$error":"#N/A"}]
["FHSB27","Full Height Sink Base 27\"",{"v":557,"d":"$557.00"},2,null,{"$f":"$C256*$F$1*'Order Form'!$Q$18*(Color!$C$6+'Door Style'!$H$6)","v":{"$error":"#VALUE!"}},{"$f":"$C256*$G$1*'Order Form'!$Q$18*(Color!$D$6+'Door Style'!$G$6+Species!$C$6+'Custom Finish'!$C$6)","v":{"$error":"#VALUE!"}},null,{"$f":"'Order Type'!$C$6","v":"01-"},{"$f":"'Order Type'!$C$6","v":"01-"},{"$f":"CONCAT!$D$2","v":""},null,1,"01-FHSB27","11-SB27",1,"12-W2730","12-W2730",1,{"$nulls":5},{"$f":"$C256*$F$1*(Color!$C$8+'Door Style'!$H$6)","v":{"v":477.90600000000006,"d":"$477.91"}},{"$f":"$C256*$G$1*1*(Color!$D$8+'Door Style'!$G$6+Species!$C$6+'Custom Finish'!$C$6)","v":{"$error":"#VALUE!"}},null,"Light Blue","Dark Gray",null,"1","BSKIN",75,50,"N","Base Cabinet - Sink - Full Height",{"v":557,"d":"$557.00"},"Price change for fall 2019",{"v":395,"d":"$395.00"},1.41,"G1",{"$nulls":4},{"$error":"#N/A"}]
["FHSB30","Full Height Sink Base 30\"",{"v":596,"d":"$596.00"},2,null,{"$f":"$C257*$F$1*'Order Form'!$Q$18*(Color!$C$6+'Door Style'!$H$6)","v":{"$error":"#VALUE!"}},{"$f":"$C257*$G$1*'Order Form'!$Q$18*(Color!$D$6+'Door Style'!$G$6+Species!$C$6+'Custom Finish'!$C$6)","v":{"$error":"#VALUE!"}},null,{"$f":"'Order Type'!$C$6","v":"01-"},{"$f":"'Order Type'!$C$6","v":"01-"},{"$f":"CONCAT!$D$2","v":""},null,1,"01-FHSB30","11-SB30",1,"12-W3030","12-W3030",1,{"$nulls":5},{"$f":"$C257*$F$1*(Color!$C$8+'Door Style'!$H$6)","v":{"v":511.36800000000005,"d":"$511.37"}},{"$f":"$C257*$G$1*1*(Color!$D$8+'Door Style'!$G$6+Species!$C$6+'Custom Finish'!$C$6)","v":{"$error":"#VALUE!"}},null,"Light Blue","Dark Gray",null,"1","BSKIN",75,50,"N","Base Cabinet - Sink - Full Height",{"v":596,"d":"$596.00"},"Price change for fall 2019",{"v":422,"d":"$422.00"},1.41,"G1",{"$nulls":4},{"$error":"#N/A"}]
["FHSB33","Full Height Sink Base 33\"",{"v":632,"d":"$632.00"},2,null,{"$f":"$C258*$F$1*'Order Form'!$Q$18*(Color!$C$6+'Door Style'!$H$6)","v":{"$error":"#VALUE!"}},{"$f":"$C258*$G$1*'Order Form'!$Q$18*(Color!$D$6+'Door Style'!$G$6+Species!$C$6+'Custom Finish'!$C$6)","v":{"$error":"#VALUE!"}},null,{"$f":"'Order Type'!$C$6","v":"01-"},{"$f":"'Order Type'!$C$6","v":"01-"},{"$f":"CONCAT!$D$2","v":""},null,1,"01-FHSB33","11-SB33",1,"12-W3330","12-W3330",1,{"$nulls":5},{"$f":"$C258*$F$1*(Color!$C$8+'Door Style'!$H$6)","v":{"v":542.2560000000001,"d":"$542.26"}},{"$f":"$C258*$G$1*1*(Color!$D$8+'Door Style'!$G$6+Species!$C$6+'Custom Finish'!$C$6)","v":{"$error":"#VALUE!"}},null,"Light Blue","Dark Gray",null,"1","BSKIN",75,50,"N","Base Cabinet - Sink - Full Height",{"v":632,"d":"$632.00"},"Price change for fall 2019",{"v":448,"d":"$448.00"},1.41,"G1",{"$nulls":4},{"$error":"#N/A"}]
["FHSB36","Full Height Sink Base 36\"",{"v":667,"d":"$667.00"},2,null,{"$f":"$C259*$F$1*'Order Form'!$Q$18*(Color!$C$6+'Door Style'!$H$6)","v":{"$error":"#VALUE!"}},{"$f":"$C259*$G$1*'Order Form'!$Q$18*(Color!$D$6+'Door Style'!$G$6+Species!$C$6+'Custom Finish'!$C$6)","v":{"$error":"#VALUE!"}},null,{"$f":"'Order Type'!$C$6","v":"01-"},{"$f":"'Order Type'!$C$6","v":"01-"},{"$f":"CONCAT!$D$2","v":""},null,1,"01-FHSB36","11-SB36",1,"12-W3630","12-W3630",1,{"$nulls":5},{"$f":"$C259*$F$1*(Color!$C$8+'Door Style'!$H$6)","v":{"v":572.2860000000001,"d":"$572.29"}},{"$f":"$C259*$G$1*1*(Color!$D$8+'Door Style'!$G$6+Species!$C$6+'Custom Finish'!$C$6)","v":{"$error":"#VALUE!"}},null,"Light Blue","Dark Gray",null,"1","BSKIN",75,50,"N","Base Cabinet - Sink - Full Height",{"v":667,"d":"$667.00"},"Price change for fall 2019",{"v":473,"d":"$473.00"},1.41,"G1",{"$nulls":4},{"$error":"#N/A"}]
["FHSB39","Full Height Sink Base 39\"",{"v":708,"d":"$708.00"},2,null,{"$f":"$C260*$F$1*'Order Form'!$Q$18*(Color!$C$6+'Door Style'!$H$6)","v":{"$error":"#VALUE!"}},{"$f":"$C260*$G$1*'Order Form'!$Q$18*(Color!$D$6+'Door Style'!$G$6+Species!$C$6+'Custom Finish'!$C$6)","v":{"$error":"#VALUE!"}},null,{"$f":"'Order Type'!$C$6","v":"01-"},{"$f":"'Order Type'!$C$6","v":"01-"},{"$f":"CONCAT!$D$2","v":""},null,1,"01-FHSB39","11-SB39",1,"12-W3930","12-W3930",1,{"$nulls":5},{"$f":"$C260*$F$1*(Color!$C$8+'Door Style'!$H$6)","v":{"v":607.464,"d":"$607.46"}},{"$f":"$C260*$G$1*1*(Color!$D$8+'Door Style'!$G$6+Species!$C$6+'Custom Finish'!$C$6)","v":{"$error":"#VALUE!"}},null,"Light Blue","Dark Gray",null,"1","BSKIN",75,50,"N","Base Cabinet - Sink - Full Height",{"v":708,"d":"$708.00"},"Price change for fall 2019",{"v":502,"d":"$502.00"},1.41,"G1",{"$nulls":4},{"$error":"#N/A"}]
["FHVB12","Full Height Vanity Base 12\"",{"v":298,"d":"$298.00"},3,null,null,{"$f":"$C261*$G$1*'Order Form'!$Q$18*(Color!$D$6+'Door Style'!$G$6+Species!$C$6+'Custom Finish'!$C$6)","v":{"$error":"#VALUE!"}},null,"SC/PC",{"$f":"'Order Type'!$C$6","v":"01-"},{"$f":"CONCAT!$D$8","v":""},null,1,"01-FHVB12","11-VB12",1,"12-W1227","12-W1227",1,{"$nulls":6},{"$f":"$C261*$G$1*1*(Color!$D$8+'Door Style'!$G$6+Species!$C$6+'Custom Finish'!$C$6)","v":{"$error":"#VALUE!"}},null,"Black","Dark Yellow",null,1,"BSKIN",75,50,"Y","Vanity - Base - Full Height",{"$f":"ROUNDUP(AT261,0)","v":{"v":298,"d":"$298.00"}},"Price change for fall 2019",{"v":227,"d":"$227.00"},null,"G2",{"$nulls":4},298]
["FHVB12T","Full Height Vanity Base 12\" Tall",{"v":350,"d":"$350.00"},2,null,{"$f":"$C262*$F$1*'Order Form'!$Q$18*(Color!$C$6+'Door Style'!$H$6)","v":{"$error":"#VALUE!"}},{"$f":"$C262*$G$1*'Order Form'!$Q$18*(Color!$D$6+'Door Style'!$G$6+Species!$C$6+'Custom Finish'!$C$6)","v":{"$error":"#VALUE!"}},null,{"$f":"'Order Type'!$C$6","v":"01-"},{"$f":"'Order Type'!$C$6","v":"01-"},{"$f":"CONCAT!$D$2","v":""},null,1,"01-FHVB12T","11-VB12T",1,"12-W1230","12-W1230",1,{"$nulls":5},{"$f":"$C262*$F$1*(Color!$C$8+'Door Style'!$H$6)","v":{"v":300.3,"d":"$300.30"}},{"$f":"$C262*$G$1*1*(Color!$D$8+'Door Style'!$G$6+Species!$C$6+'Custom Finish'!$C$6)","v":{"$error":"#VALUE!"}},null,"Light Blue","Dark yellow",null,"1","BSKIN",75,50,"Y","Vanity - Base - Full Height-Tall ",{"v":350,"d":"$350.00"},"Price change for fall 2019",{"v":227,"d":"$227.00"},null,"G2",{"$nulls":4},350]
["FHVB13.5","Full Height Vanity Base 13.5\"",{"v":379,"d":"$379.00"},3,null,null,{"$f":"$C263*$G$1*'Order Form'!$Q$18*(Color!$D$6+'Door Style'!$G$6+Species!$C$6+'Custom Finish'!$C$6)","v":{"$error":"#VALUE!"}},null,"SC/PC",{"$f":"'Order Type'!$C$6","v":"01-"},{"$f":"CONCAT!$D$8","v":""},null,1,"01-FHVB13.5","11-VB13.5",1,"12-W13.527","12-W13.527",1,{"$nulls":6},{"$f":"$C263*$G$1*1*(Color!$D$8+'Door Style'!$G$6+Species!$C$6+'Custom Finish'!$C$6)","v":{"$error":"#VALUE!"}},null,"Black","Dark Yellow",null,1,"BSKIN",75,50,"Y","Vanity - Base - Full Height",{"v":379,"d":"$379.00"},"Price change for fall 2019",{"v":259,"d":"$259.00"},null,"G2",{"$nulls":4},379]
["FHVB13.5T","Full Height Vanity Base 13.5\" Tall",{"v":399,"d":"$399.00"},3,null,null,{"$f":"$C264*$G$1*'Order Form'!$Q$18*(Color!$D$6+'Door Style'!$G$6+Species!$C$6+'Custom Finish'!$C$6)","v":{"$error":"#VALUE!"}},null,"SC/PC",{"$f":"'Order Type'!$C$6","v":"01-"},{"$f":"CONCAT!$D$8","v":""},null,1,"01-FHVB13.5T","11-FHVB13.5T",1,"12-W13.530","12-W13.530",1,{"$nulls":6},{"$f":"$C264*$G$1*1*(Color!$D$8+'Door Style'!$G$6+Species!$C$6+'Custom Finish'!$C$6)","v":{"$error":"#VALUE!"}},null,"Black","Dark Yellow",null,"1","BSKIN",75,50,"Y","Vanity - Base - Full Height-Tall ",{"v":399,"d":"$399.00"},"Price change for fall 2019",{"v":259,"d":"$259.00"},null,"G2",{"$nulls":4},399]
["FHVB15","Full Height Vanity Base 15\"",{"v":358,"d":"$358.00"},3,null,null,{"$f":"$C265*$G$1*'Order Form'!$Q$18*(Color!$D$6+'Door Style'!$G$6+Species!$C$6+'Custom Finish'!$C$6)","v":{"$error":"#VALUE!"}},null,"SC/PC",{"$f":"'Order Type'!$C$6","v":"01-"},{"$f":"CONCAT!$D$8","v":""},null,1,"01-FHVB15","11-VB15",1,"12-W1527","12-W1527",1,{"$nulls":6},{"$f":"$C265*$G$1*1*(Color!$D$8+'Door Style'!$G$6+Species!$C$6+'Custom Finish'!$C$6)","v":{"$error":"#VALUE!"}},null,"Black","Dark Yellow",null,1,"BSKIN",75,50,"Y","Vanity - Base - Full Height",{"v":358,"d":"$358.00"},"Price change for fall 2019",{"v":258,"d":"$258.00"},null,"G2",{"$nulls":4},358]
["FHVB15T","Full Height Vanity Base 15\" Tall",{"v":398,"d":"$398.00"},2,null,{"$f":"$C266*$F$1*'Order Form'!$Q$18*(Color!$C$6+'Door Style'!$H$6)","v":{"$error":"#VALUE!"}},{"$f":"$C266*$G$1*'Order Form'!$Q$18*(Color!$D$6+'Door Style'!$G$6+Species!$C$6+'Custom Finish'!$C$6)","v":{"$error":"#VALUE!"}},null,{"$f":"'Order Type'!$C$6","v":"01-"},{"$f":"'Order Type'!$C$6","v":"01-"},{"$f":"CONCAT!$D$2","v":""},null,1,"01-FHVB15T","11-VB15T",1,"12-W1530","12-W1530",1,{"$nulls":5},{"$f":"$C266*$F$1*(Color!$C$8+'Door Style'!$H$6)","v":{"v":341.48400000000004,"d":"$341.48"}},{"$f":"$C266*$G$1*1*(Color!$D$8+'Door Style'!$G$6+Species!$C$6+'Custom Finish'!$C$6)","v":{"$error":"#VALUE!"}},null,"Light Blue","Dark Yellow",null,"1","BSKIN",75,50,"Y","Vanity - Base - Full Height-Tall ",{"v":398,"d":"$398.00"},"Price change for fall 2019",{"v":258,"d":"$258.00"},null,"G2",{"$nulls":4},398]
["FHVB16.5","Full Height Vanity Base 16.5\"",{"v":450,"d":"$450.00"},3,null,null,{"$f":"$C267*$G$1*'Order Form'!$Q$18*(Color!$D$6+'Door Style'!$G$6+Species!$C$6+'Custom Finish'!$C$6)","v":{"$error":"#VALUE!"}},null,"SC/PC",{"$f":"'Order Type'!$C$6","v":"01-"},{"$f":"CONCAT!$D$8","v":""},null,1,"01-FHVB16.5","11-VB16.5",1,"12-W16.527","12-W16.527",1,{"$nulls":6},{"$f":"$C267*$G$1*1*(Color!$D$8+'Door Style'!$G$6+Species!$C$6+'Custom Finish'!$C$6)","v":{"$error":"#VALUE!"}},null,"Black","Dark Yellow",null,1,"BSKIN",75,50,"Y","Vanity - Base - Full Height",{"v":450,"d":"$450.00"},"Price change for fall 2019",{"v":292,"d":"$292.00"},null,"G2",{"$nulls":4},450]
["FHVB16.5T","Full Height Vanity Base 16.5\" Tall",{"v":450,"d":"$450.00"},3,null,null,{"$f":"$C268*$G$1*'Order Form'!$Q$18*(Color!$D$6+'Door Style'!$G$6+Species!$C$6+'Custom Finish'!$C$6)","v":{"$error":"#VALUE!"}},null,"SC/PC",{"$f":"'Order Type'!$C$6","v":"01-"},{"$f":"CONCAT!$D$8","v":""},null,1,"01-FHVB16.5T","11-FHVB16.5T",1,"12-W16.530","12-W16.530",1,{"$nulls":6},{"$f":"$C268*$G$1*1*(Color!$D$8+'Door Style'!$G$6+Species!$C$6+'Custom Finish'!$C$6)","v":{"$error":"#VALUE!"}},null,"Black","Dark Yellow",null,"1","BSKIN",75,50,"Y","Vanity - Base - Full Height-Tall ",{"v":450,"d":"$450.00"},"Price change for fall 2019",{"v":292,"d":"$292.00"},null,"G2",{"$nulls":4},450]
["FHVB18","Full Height Vanity Base 18\"",{"v":402,"d":"$402.00"},3,null,null,{"$f":"$C269*$G$1*'Order Form'!$Q$18*(Color!$D$6+'Door Style'!$G$6+Species!$C$6+'Custom Finish'!$C$6)","v":{"$error":"#VALUE!"}},null,"SC/PC",{"$f":"'Order Type'!$C$6","v":"01-"},{"$f":"CONCAT!$D$8","v":""},null,1,"01-FHVB18","11-VB18",1,"12-W1627","12-W1627",1,{"$nulls":6},{"$f":"$C269*$G$1*1*(Color!$D$8+'Door Style'!$G$6+Species!$C$6+'Custom Finish'!$C$6)","v":{"$error":"#VALUE!"}},null,"Black","Dark Yellow",null,1,"BSKIN",75,50,"Y","Vanity - Base - Full Height",{"v":402,"d":"$402.00"},"Price change for fall 2019",{"v":290,"d":"$290.00"},null,"G2",{"$nulls":4},402]
["FHVB18T","Full Height Vanity Base 18\" Tall",{"v":447,"d":"$447.00"},2,null,{"$f":"$C270*$F$1*'Order Form'!$Q$18*(Color!$C$6+'Door Style'!$H$6)","v":{"$error":"#VALUE!"}},{"$f":"$C270*$G$1*'Order Form'!$Q$18*(Color!$D$6+'Door Style'!$G$6+Species!$C$6+'Custom Finish'!$C$6)","v":{"$error":"#VALUE!"}},null,{"$f":"'Order Type'!$C$6","v":"01-"},{"$f":"'Order Type'!$C$6","v":"01-"},{"$f":"CONCAT!$D$2","v":""},null,1,"01-FHVB18T","11-VB18T",1,"12-W1830","12-W1830",1,{"$nulls":5},{"$f":"$C270*$F$1*(Color!$C$8+'Door Style'!$H$6)","v":{"v":383.52600000000007,"d":"$383.53"}},{"$f":"$C270*$G$1*1*(Color!$D$8+'Door Style'!$G$6+Species!$C$6+'Custom Finish'!$C$6)","v":{"$error":"#VALUE!"}},null,"Light Blue","Dark Yellow",null,"1","BSKIN",75,50,"Y","Vanity - Base - Full Height-Tall ",{"v":447,"d":"$447.00"},"Price change for fall 2019",{"v":290,"d":"$290.00"},null,"G2",{"$nulls":4},447]
["FHVB19.5","Full Height Vanity Base 19.5\"",{"v":498,"d":"$498.00"},3,null,null,{"$f":"$C271*$G$1*'Order Form'!$Q$18*(Color!$D$6+'Door Style'!$G$6+Species!$C$6+'Custom Finish'!$C$6)","v":{"$error":"#VALUE!"}},null,"SC/PC",{"$f":"'Order Type'!$C$6","v":"01-"},{"$f":"CONCAT!$D$8","v":""},null,1,"01-FHVB19.5","11-VB19.5",1,"12-W19.527","12-W19.527",1,{"$nulls":6},{"$f":"$C271*$G$1*1*(Color!$D$8+'Door Style'!$G$6+Species!$C$6+'Custom Finish'!$C$6)","v":{"$error":"#VALUE!"}},null,"Black","Dark Yellow",null,1,"BSKIN",75,50,"Y","Vanity - Base - Full Height",{"v":498,"d":"$498.00"},"Price change for fall 2019",{"v":323,"d":"$323.00"},null,"G2",{"$nulls":4},498]
["FHVB19.5T","Full Height Vanity Base 19.5\" Tall",{"v":498,"d":"$498.00"},3,null,null,{"$f":"$C272*$G$1*'Order Form'!$Q$18*(Color!$D$6+'Door Style'!$G$6+Species!$C$6+'Custom Finish'!$C$6)","v":{"$error":"#VALUE!"}},null,"SC/PC",{"$f":"'Order Type'!$C$6","v":"01-"},{"$f":"CONCAT!$D$8","v":""},null,1,"01-FHVB19.5T","11-FHVB19.5T",1,"12-W19.530","12-W19.530",1,{"$nulls":6},{"$f":"$C272*$G$1*1*(Color!$D$8+'Door Style'!$G$6+Species!$C$6+'Custom Finish'!$C$6)","v":{"$error":"#VALUE!"}},null,"Black","Dark Yellow",null,"1","BSKIN",75,50,"Y","Vanity - Base - Full Height-Tall ",{"v":498,"d":"$498.00"},"Price change for fall 2019",{"v":323,"d":"$323.00"},null,"G2",{"$nulls":4},498]
["FHVB21","Full Height Vanity Base 21\"",{"v":446,"d":"$446.00"},3,null,null,{"$f":"$C273*$G$1*'Order Form'!$Q$18*(Color!$D$6+'Door Style'!$G$6+Species!$C$6+'Custom Finish'!$C$6)","v":{"$error":"#VALUE!"}},null,"SC/PC",{"$f":"'Order Type'!$C$6","v":"01-"},{"$f":"CONCAT!$D$8","v":""},null,1,"01-FHVB21","11-VB21",1,"12-W2127","12-W2127",1,{"$nulls":6},{"$f":"$C273*$G$1*1*(Color!$D$8+'Door Style'!$G$6+Species!$C$6+'Custom Finish'!$C$6)","v":{"$error":"#VALUE!"}},null,"Black","Dark Yellow",null,1,"BSKIN",75,50,"Y","Vanity - Base - Full Height",{"v":446,"d":"$446.00"},"Price change for fall 2019",{"v":321,"d":"$321.00"},null,"G2",{"$nulls":4},446]
["FHVB21T","Full Height Vanity Base 21\" Tall",{"v":495,"d":"$495.00"},2,null,{"$f":"$C274*$F$1*'Order Form'!$Q$18*(Color!$C$6+'Door Style'!$H$6)","v":{"$error":"#VALUE!"}},{"$f":"$C274*$G$1*'Order Form'!$Q$18*(Color!$D$6+'Door Style'!$G$6+Species!$C$6+'Custom Finish'!$C$6)","v":{"$error":"#VALUE!"}},null,{"$f":"'Order Type'!$C$6","v":"01-"},{"$f":"'Order Type'!$C$6","v":"01-"},{"$f":"CONCAT!$D$2","v":""},null,1,"01-FHVB21T","11-VB21T",1,"12-W2130","12-W2130",1,{"$nulls":5},{"$f":"$C274*$F$1*(Color!$C$8+'Door Style'!$H$6)","v":{"v":424.71000000000004,"d":"$424.71"}},{"$f":"$C274*$G$1*1*(Color!$D$8+'Door Style'!$G$6+Species!$C$6+'Custom Finish'!$C$6)","v":{"$error":"#VALUE!"}},null,"Light Blue","Dark Yellow",null,"1","BSKIN",75,50,"Y","Vanity - Base - Full Height-Tall ",{"v":495,"d":"$495.00"},"Price change for fall 2019",{"v":321,"d":"$321.00"},null,"G2",{"$nulls":4},495]
["FHVB22.5","Full Height Vanity Base 22.5\"",{"v":547,"d":"$547.00"},3,null,null,{"$f":"$C275*$G$1*'Order Form'!$Q$18*(Color!$D$6+'Door Style'!$G$6+Species!$C$6+'Custom Finish'!$C$6)","v":{"$error":"#VALUE!"}},null,"SC/PC",{"$f":"'Order Type'!$C$6","v":"01-"},{"$f":"CONCAT!$D$8","v":""},null,1,"01-FHVB22.5","11-VB22.5",1,"12-W22.527","12-W22.527",1,{"$nulls":6},{"$f":"$C275*$G$1*1*(Color!$D$8+'Door Style'!$G$6+Species!$C$6+'Custom Finish'!$C$6)","v":{"$error":"#VALUE!"}},null,"Black","Dark Yellow",null,1,"BSKIN",75,50,"Y","Vanity - Base - Full Height",{"v":547,"d":"$547.00"},"Price change for fall 2019",{"v":355,"d":"$355.00"},null,"G2",{"$nulls":4},547]
["FHVB22.5T","Full Height Vanity Base 22.5\" Tall",{"v":547,"d":"$547.00"},3,null,null,{"$f":"$C276*$G$1*'Order Form'!$Q$18*(Color!$D$6+'Door Style'!$G$6+Species!$C$6+'Custom Finish'!$C$6)","v":{"$error":"#VALUE!"}},null,"SC/PC",{"$f":"'Order Type'!$C$6","v":"01-"},{"$f":"CONCAT!$D$8","v":""},null,1,"01-FHVB22.5T","11-FHVB22.5T",1,"12-W22.530","12-W22.530",1,{"$nulls":6},{"$f":"$C276*$G$1*1*(Color!$D$8+'Door Style'!$G$6+Species!$C$6+'Custom Finish'!$C$6)","v":{"$error":"#VALUE!"}},null,"Black","Dark Yellow",null,"1","BSKIN",75,50,"Y","Vanity - Base - Full Height-Tall ",{"v":547,"d":"$547.00"},"Price change for fall 2019",{"v":355,"d":"$355.00"},null,"G2",{"$nulls":4},547]
["FHVB24","Full Height Vanity Base 24\"",{"v":544,"d":"$544.00"},3,null,null,{"$f":"$C277*$G$1*'Order Form'!$Q$18*(Color!$D$6+'Door Style'!$G$6+Species!$C$6+'Custom Finish'!$C$6)","v":{"$error":"#VALUE!"}},null,"SC/PC",{"$f":"'Order Type'!$C$6","v":"01-"},{"$f":"CONCAT!$D$8","v":""},null,1,"01-FHVB24","11-VB24",1,"12-W2427","12-W2427",1,{"$nulls":6},{"$f":"$C277*$G$1*1*(Color!$D$8+'Door Style'!$G$6+Species!$C$6+'Custom Finish'!$C$6)","v":{"$error":"#VALUE!"}},null,"Black","Dark Yellow",null,1,"BSKIN",75,50,"N","Vanity - Base - Full Height",{"v":544,"d":"$544.00"},"Price change for fall 2019",{"v":353,"d":"$353.00"},null,"G2",{"$nulls":4},544]
["FHVB24T","Full Height Vanity Base 24\" Tall",{"v":544,"d":"$544.00"},2,null,{"$f":"$C278*$F$1*'Order Form'!$Q$18*(Color!$C$6+'Door Style'!$H$6)","v":{"$error":"#VALUE!"}},{"$f":"$C278*$G$1*'Order Form'!$Q$18*(Color!$D$6+'Door Style'!$G$6+Species!$C$6+'Custom Finish'!$C$6)","v":{"$error":"#VALUE!"}},null,{"$f":"'Order Type'!$C$6","v":"01-"},{"$f":"'Order Type'!$C$6","v":"01-"},{"$f":"CONCAT!$D$2","v":""},null,1,"01-FHVB24T","11-VB24T",1,"12-W2430",{"$f":"Q278&K278","v":"12-W2430"},1,{"$nulls":5},{"$f":"$C278*$F$1*(Color!$C$8+'Door Style'!$H$6)","v":{"v":466.752,"d":"$466.75"}},{"$f":"$C278*$G$1*1*(Color!$D$8+'Door Style'!$G$6+Species!$C$6+'Custom Finish'!$C$6)","v":{"$error":"#VALUE!"}},null,"Light Blue","Dark Yellow",null,"1","BSKIN",75,50,"N","Vanity - Base - Full Height-Tall ",{"v":544,"d":"$544.00"},"Price change for fall 2019",{"v":353,"d":"$353.00"},null,"G2",{"$nulls":4},544]
["FHVB25.5","Full Height Vanity Base 25.5\"",{"v":564,"d":"$564.00"},3,null,null,{"$f":"$C279*$G$1*'Order Form'!$Q$18*(Color!$D$6+'Door Style'!$G$6+Species!$C$6+'Custom Finish'!$C$6)","v":{"$error":"#VALUE!"}},null,"SC/PC",{"$f":"'Order Type'!$C$6","v":"01-"},{"$f":"CONCAT!$D$8","v":""},null,1,"01-FHVB25.5","11-VB25.5",1,"12-W25.527","12-W25.527",1,{"$nulls":6},{"$f":"$C279*$G$1*1*(Color!$D$8+'Door Style'!$G$6+Species!$C$6+'Custom Finish'!$C$6)","v":{"$error":"#VALUE!"}},null,"Black","Dark Yellow",null,1,"BSKIN",75,50,"N","Vanity - Base - Full Height",{"v":564,"d":"$564.00"},"Price change for fall 2019",{"v":305,"d":"$305.00"},null,"G2",{"$nulls":4},564]
["FHVB25.5T","Full Height Vanity Base 25.5\" Tall",{"v":632,"d":"$632.00"},3,null,null,{"$f":"$C280*$G$1*'Order Form'!$Q$18*(Color!$D$6+'Door Style'!$G$6+Species!$C$6+'Custom Finish'!$C$6)","v":{"$error":"#VALUE!"}},null,"SC/PC",{"$f":"'Order Type'!$C$6","v":"01-"},{"$f":"CONCAT!$D$8","v":""},null,1,"01-FHVB25.5T","11-FHVB25.5T",1,"12-W25.530","12-W25.530",1,{"$nulls":6},{"$f":"$C280*$G$1*1*(Color!$D$8+'Door Style'!$G$6+Species!$C$6+'Custom Finish'!$C$6)","v":{"$error":"#VALUE!"}},null,"Black","Dark Yellow",null,"1","BSKIN",75,50,"N","Vanity - Base - Full Height-Tall ",{"v":632,"d":"$632.00"},"Price change for fall 2019",{"v":410,"d":"$410.00"},null,"G2",{"$nulls":4},632]
["FHVB27","Full Height Vanity Base 27\"",{"v":627,"d":"$627.00"},3,null,null,{"$f":"$C281*$G$1*'Order Form'!$Q$18*(Color!$D$6+'Door Style'!$G$6+Species!$C$6+'Custom Finish'!$C$6)","v":{"$error":"#VALUE!"}},null,"SC/PC",{"$f":"'Order Type'!$C$6","v":"01-"},{"$f":"CONCAT!$D$8","v":""},null,1,"01-FHVB27","11-VB27",1,"12-W2727","12-W2727",1,{"$nulls":6},{"$f":"$C281*$G$1*1*(Color!$D$8+'Door Style'!$G$6+Species!$C$6+'Custom Finish'!$C$6)","v":{"$error":"#VALUE!"}},null,"Black","Dark Yellow",null,1,"BSKIN",75,50,"N","Vanity - Base - Full Height",{"v":627,"d":"$627.00"},"Price change for fall 2019",{"v":407,"d":"$407.00"},null,"G2",{"$nulls":4},627]
["FHVB27T","Full Height Vanity Base 27\" Tall",{"v":627,"d":"$627.00"},2,null,{"$f":"$C282*$F$1*'Order Form'!$Q$18*(Color!$C$6+'Door Style'!$H$6)","v":{"$error":"#VALUE!"}},{"$f":"$C282*$G$1*'Order Form'!$Q$18*(Color!$D$6+'Door Style'!$G$6+Species!$C$6+'Custom Finish'!$C$6)","v":{"$error":"#VALUE!"}},null,{"$f":"'Order Type'!$C$6","v":"01-"},{"$f":"'Order Type'!$C$6","v":"01-"},{"$f":"CONCAT!$D$2","v":""},null,1,"01-FHVB27T","11-VB27T",1,"12-W2730","12-W2730",1,{"$nulls":5},{"$f":"$C282*$F$1*(Color!$C$8+'Door Style'!$H$6)","v":{"v":537.966,"d":"$537.97"}},{"$f":"$C282*$G$1*1*(Color!$D$8+'Door Style'!$G$6+Species!$C$6+'Custom Finish'!$C$6)","v":{"$error":"#VALUE!"}},null,"Light Blue","Dark Yellow",null,"1","BSKIN",75,50,"N","Vanity - Base - Full Height-Tall ",{"v":627,"d":"$627.00"},"Price change for fall 2019",{"v":407,"d":"$407.00"},null,"G2",{"$nulls":4},627]
["FHVB30","Full Height Vanity Base 30\"",{"v":697,"d":"$697.00"},3,null,null,{"$f":"$C283*$G$1*'Order Form'!$Q$18*(Color!$D$6+'Door Style'!$G$6+Species!$C$6+'Custom Finish'!$C$6)","v":{"$error":"#VALUE!"}},null,"SC/PC",{"$f":"'Order Type'!$C$6","v":"01-"},{"$f":"CONCAT!$D$8","v":""},null,1,"01-FHVB30","11-VB30",1,"12-W3027","12-W3027",1,{"$nulls":6},{"$f":"$C283*$G$1*1*(Color!$D$8+'Door Style'!$G$6+Species!$C$6+'Custom Finish'!$C$6)","v":{"$error":"#VALUE!"}},null,"Black","Dark Yellow",null,1,"BSKIN",75,50,"N","Vanity - Base - Full Height",{"v":697,"d":"$697.00"},"Price change for fall 2019",{"v":452,"d":"$452.00"},null,"G2",{"$nulls":4},697]
["FHVB30T","Full Height Vanity Base 30\" Tall",{"v":697,"d":"$697.00"},2,null,{"$f":"$C284*$F$1*'Order Form'!$Q$18*(Color!$C$6+'Door Style'!$H$6)","v":{"$error":"#VALUE!"}},{"$f":"$C284*$G$1*'Order Form'!$Q$18*(Color!$D$6+'Door Style'!$G$6+Species!$C$6+'Custom Finish'!$C$6)","v":{"$error":"#VALUE!"}},null,{"$f":"'Order Type'!$C$6","v":"01-"},{"$f":"'Order Type'!$C$6","v":"01-"},{"$f":"CONCAT!$D$2","v":""},null,1,"01-FHVB30T","11-VB30T",1,"12-W3030","12-W3030",1,{"$nulls":5},{"$f":"$C284*$F$1*(Color!$C$8+'Door Style'!$H$6)","v":{"v":598.0260000000001,"d":"$598.03"}},{"$f":"$C284*$G$1*1*(Color!$D$8+'Door Style'!$G$6+Species!$C$6+'Custom Finish'!$C$6)","v":{"$error":"#VALUE!"}},null,"Light Blue","Dark Yellow",null,"1","BSKIN",75,50,"N","Vanity - Base - Full Height-Tall ",{"v":697,"d":"$697.00"},"Price change for fall 2019",{"v":452,"d":"$452.00"},null,"G2",{"$nulls":4},697]
["FHVB33","Full Height Vanity Base 33\"",{"v":846,"d":"$846.00"},3,null,null,{"$f":"$C285*$G$1*'Order Form'!$Q$18*(Color!$D$6+'Door Style'!$G$6+Species!$C$6+'Custom Finish'!$C$6)","v":{"$error":"#VALUE!"}},null,"SC/PC",{"$f":"'Order Type'!$C$6","v":"01-"},{"$f":"CONCAT!$D$8","v":""},null,1,"01-FHVB33","11-VB33",1,"12-W3327","12-W3327",1,{"$nulls":6},{"$f":"$C285*$G$1*1*(Color!$D$8+'Door Style'!$G$6+Species!$C$6+'Custom Finish'!$C$6)","v":{"$error":"#VALUE!"}},null,"Black","Dark Yellow",null,1,"BSKIN",75,50,"N","Vanity - Base - Full Height",{"v":846,"d":"$846.00"},"Price change for fall 2019",{"v":499,"d":"$499.00"},null,"G2",{"$nulls":4},846]
["FHVB33T","Full Height Vanity Base 33\" Tall",{"v":845,"d":"$845.00"},2,null,{"$f":"$C286*$F$1*'Order Form'!$Q$18*(Color!$C$6+'Door Style'!$H$6)","v":{"$error":"#VALUE!"}},{"$f":"$C286*$G$1*'Order Form'!$Q$18*(Color!$D$6+'Door Style'!$G$6+Species!$C$6+'Custom Finish'!$C$6)","v":{"$error":"#VALUE!"}},null,{"$f":"'Order Type'!$C$6","v":"01-"},{"$f":"'Order Type'!$C$6","v":"01-"},{"$f":"CONCAT!$D$2","v":""},null,1,"01-FHVB33T","11-VB33T",1,"12-W3330","12-W3330",1,{"$nulls":5},{"$f":"$C286*$F$1*(Color!$C$8+'Door Style'!$H$6)","v":{"v":725.0100000000001,"d":"$725.01"}},{"$f":"$C286*$G$1*1*(Color!$D$8+'Door Style'!$G$6+Species!$C$6+'Custom Finish'!$C$6)","v":{"$error":"#VALUE!"}},null,"Light Blue","Dark Yellow",null,"1","BSKIN",75,50,"N","Vanity - Base - Full Height-Tall ",{"v":845,"d":"$845.00"},"Price change for fall 2019",{"v":499,"d":"$499.00"},null,"G2",{"$nulls":4},845]
["FHVB36","Full Height Vanity Base 36\"",{"v":777,"d":"$777.00"},3,null,null,{"$f":"$C287*$G$1*'Order Form'!$Q$18*(Color!$D$6+'Door Style'!$G$6+Species!$C$6+'Custom Finish'!$C$6)","v":{"$error":"#VALUE!"}},null,"SC/PC",{"$f":"'Order Type'!$C$6","v":"01-"},{"$f":"CONCAT!$D$8","v":""},null,1,"01-FHVB36","11-VB36",1,"12-W3627","12-W3627",1,{"$nulls":6},{"$f":"$C287*$G$1*1*(Color!$D$8+'Door Style'!$G$6+Species!$C$6+'Custom Finish'!$C$6)","v":{"$error":"#VALUE!"}},null,"Black","Dark Yellow",null,1,"BSKIN",75,50,"N","Vanity - Base - Full Height",{"v":777,"d":"$777.00"},"Price change for fall 2019",{"v":531,"d":"$531.00"},null,"G2",{"$nulls":4},777]
["FHVB36T","Full Height Vanity Base 36\" Tall",{"v":818,"d":"$818.00"},2,null,{"$f":"$C288*$F$1*'Order Form'!$Q$18*(Color!$C$6+'Door Style'!$H$6)","v":{"$error":"#VALUE!"}},{"$f":"$C288*$G$1*'Order Form'!$Q$18*(Color!$D$6+'Door Style'!$G$6+Species!$C$6+'Custom Finish'!$C$6)","v":{"$error":"#VALUE!"}},null,{"$f":"'Order Type'!$C$6","v":"01-"},{"$f":"'Order Type'!$C$6","v":"01-"},{"$f":"CONCAT!$D$2","v":""},null,1,"01-FHVB36T","11-VB36T",1,"12-W3630","12-W3630",1,{"$nulls":5},{"$f":"$C288*$F$1*(Color!$C$8+'Door Style'!$H$6)","v":{"v":701.8440000000002,"d":"$701.84"}},{"$f":"$C288*$G$1*1*(Color!$D$8+'Door Style'!$G$6+Species!$C$6+'Custom Finish'!$C$6)","v":{"$error":"#VALUE!"}},null,"Light Blue","Dark Yellow",null,"1","BSKIN",75,50,"N","Vanity - Base - Full Height-Tall ",{"v":818,"d":"$818.00"},"Price change for fall 2019",{"v":531,"d":"$531.00"},null,"G2",{"$nulls":4},818]
["FHVB39","Full Height Vanity Base 39\"",{"v":868,"d":"$868.00"},3,null,null,{"$f":"$C289*$G$1*'Order Form'!$Q$18*(Color!$D$6+'Door Style'!$G$6+Species!$C$6+'Custom Finish'!$C$6)","v":{"$error":"#VALUE!"}},null,"SC/PC",{"$f":"'Order Type'!$C$6","v":"01-"},{"$f":"CONCAT!$D$8","v":""},null,1,"01-FHVB39","11-VB39",1,"12-W3927","12-W3927",1,{"$nulls":6},{"$f":"$C289*$G$1*1*(Color!$D$8+'Door Style'!$G$6+Species!$C$6+'Custom Finish'!$C$6)","v":{"$error":"#VALUE!"}},null,"Black","Dark Yellow",null,1,"BSKIN",75,50,"N","Vanity - Base - Full Height",{"v":868,"d":"$868.00"},"Price change for fall 2019",{"v":563,"d":"$563.00"},null,"G2",{"$nulls":4},868]
["FHVB39T","Full Height Vanity Base 39\" Tall",{"v":868,"d":"$868.00"},2,null,{"$f":"$C290*$F$1*'Order Form'!$Q$18*(Color!$C$6+'Door Style'!$H$6)","v":{"$error":"#VALUE!"}},{"$f":"$C290*$G$1*'Order Form'!$Q$18*(Color!$D$6+'Door Style'!$G$6+Species!$C$6+'Custom Finish'!$C$6)","v":{"$error":"#VALUE!"}},null,{"$f":"'Order Type'!$C$6","v":"01-"},{"$f":"'Order Type'!$C$6","v":"01-"},{"$f":"CONCAT!$D$2","v":""},null,1,"01-FHVB39T","11-VB39T",1,"12-W3930","12-W3930",1,{"$nulls":5},{"$f":"$C290*$F$1*(Color!$C$8+'Door Style'!$H$6)","v":{"v":744.7440000000001,"d":"$744.74"}},{"$f":"$C290*$G$1*1*(Color!$D$8+'Door Style'!$G$6+Species!$C$6+'Custom Finish'!$C$6)","v":{"$error":"#VALUE!"}},null,"Light Blue","Dark Yellow",null,"1","BSKIN",75,50,"N","Vanity - Base - Full Height-Tall ",{"v":868,"d":"$868.00"},"Price change for fall 2019",{"v":563,"d":"$563.00"},null,"G2",{"$nulls":4},868]
["FHVSB18","Full Height Vanity Sink Base 18\"",{"v":384,"d":"$384.00"},3,null,null,{"$f":"$C291*$G$1*'Order Form'!$Q$18*(Color!$D$6+'Door Style'!$G$6+Species!$C$6+'Custom Finish'!$C$6)","v":{"$error":"#VALUE!"}},null,"SC/PC",{"$f":"'Order Type'!$C$6","v":"01-"},{"$f":"CONCAT!$D$8","v":""},null,1,"01-FHVSB18","11-VSB18",1,"12-W1827","12-W1827",1,{"$nulls":6},{"$f":"$C291*$G$1*1*(Color!$D$8+'Door Style'!$G$6+Species!$C$6+'Custom Finish'!$C$6)","v":{"$error":"#VALUE!"}},null,"Black","Dark Yellow",null,1,"BSKIN",75,50,"Y","Vanity - Sink Base - Full Height",{"v":384,"d":"$384.00"},"Price change for fall 2019",{"v":280,"d":"$280.00"},null,"G2",{"$nulls":4},384]
["FHVSB18T","Full Height Vanity Sink Base 18\" Tall",{"v":447,"d":"$447.00"},2,null,{"$f":"$C292*$F$1*'Order Form'!$Q$18*(Color!$C$6+'Door Style'!$H$6)","v":{"$error":"#VALUE!"}},{"$f":"$C292*$G$1*'Order Form'!$Q$18*(Color!$D$6+'Door Style'!$G$6+Species!$C$6+'Custom Finish'!$C$6)","v":{"$error":"#VALUE!"}},null,{"$f":"'Order Type'!$C$6","v":"01-"},{"$f":"'Order Type'!$C$6","v":"01-"},{"$f":"CONCAT!$D$2","v":""},null,1,"01-FHVSB18T","11-VB18T",1,"12-W1830","12-W1830",1,{"$nulls":5},{"$f":"$C292*$F$1*(Color!$C$8+'Door Style'!$H$6)","v":{"v":383.52600000000007,"d":"$383.53"}},{"$f":"$C292*$G$1*1*(Color!$D$8+'Door Style'!$G$6+Species!$C$6+'Custom Finish'!$C$6)","v":{"$error":"#VALUE!"}},null,"Light Blue","Dark Yellow",null,"1","BSKIN",75,50,"Y","Vanity - Sink Base - Full Height-Tall ",{"v":447,"d":"$447.00"},"Price change for fall 2019",{"v":290,"d":"$290.00"},null,"G2",{"$nulls":4},447]
["FHVSB19.5","Full Height Vanity Sink Base 19.5\"",{"v":459,"d":"$459.00"},3,null,null,{"$f":"$C293*$G$1*'Order Form'!$Q$18*(Color!$D$6+'Door Style'!$G$6+Species!$C$6+'Custom Finish'!$C$6)","v":{"$error":"#VALUE!"}},null,"SC/PC",{"$f":"'Order Type'!$C$6","v":"01-"},{"$f":"CONCAT!$D$8","v":""},null,1,"01-FHVSB19.5","11-VSB19.5",1,"12-W19.527","12-W19.527",1,{"$nulls":6},{"$f":"$C293*$G$1*1*(Color!$D$8+'Door Style'!$G$6+Species!$C$6+'Custom Finish'!$C$6)","v":{"$error":"#VALUE!"}},null,"Black","Dark Yellow",null,1,"BSKIN",75,50,"Y","Vanity - Sink Base - Full Height",{"$f":"ROUNDUP(AT293,0)","v":{"v":459,"d":"$459.00"}},"Price change for fall 2019",{"v":298,"d":"$298.00"},null,"G2",{"$nulls":4},459]
["FHVSB19.5T","Full Height Vanity Sink Base 19.5\" Tall",{"v":503,"d":"$503.00"},3,null,null,{"$f":"$C294*$G$1*'Order Form'!$Q$18*(Color!$D$6+'Door Style'!$G$6+Species!$C$6+'Custom Finish'!$C$6)","v":{"$error":"#VALUE!"}},null,"SC/PC",{"$f":"'Order Type'!$C$6","v":"01-"},{"$f":"CONCAT!$D$8","v":""},null,1,"01-FHVSB19.5T","11-FHVSB19.5T",1,"12-W19.530","12-W19.530",1,{"$nulls":6},{"$f":"$C294*$G$1*1*(Color!$D$8+'Door Style'!$G$6+Species!$C$6+'Custom Finish'!$C$6)","v":{"$error":"#VALUE!"}},null,"Black","Dark Yellow",null,"1","BSKIN",75,50,"Y","Vanity - Sink Base - Full Height-Tall ",{"v":503,"d":"$503.00"},"Price change for fall 2019",{"v":326,"d":"$326.00"},null,"G2",{"$nulls":4},503]
["FHVSB21","Full Height Vanity Sink Base 21\"",{"v":443,"d":"$443.00"},3,null,null,{"$f":"$C295*$G$1*'Order Form'!$Q$18*(Color!$D$6+'Door Style'!$G$6+Species!$C$6+'Custom Finish'!$C$6)","v":{"$error":"#VALUE!"}},null,"SC/PC",{"$f":"'Order Type'!$C$6","v":"01-"},{"$f":"CONCAT!$D$8","v":""},null,1,"01-FHVSB21","11-VSB21",1,"12-W2127","12-W2127",1,{"$nulls":6},{"$f":"$C295*$G$1*1*(Color!$D$8+'Door Style'!$G$6+Species!$C$6+'Custom Finish'!$C$6)","v":{"$error":"#VALUE!"}},null,"Black","Dark Yellow",null,1,"BSKIN",75,50,"Y","Vanity - Sink Base - Full Height",{"v":443,"d":"$443.00"},"Price change for fall 2019",{"v":326,"d":"$326.00"},null,"G2",{"$nulls":4},443]
["FHVSB21T","Full Height Vanity Sink Base 21\" Tall",{"v":499,"d":"$499.00"},2,null,{"$f":"$C296*$F$1*'Order Form'!$Q$18*(Color!$C$6+'Door Style'!$H$6)","v":{"$error":"#VALUE!"}},{"$f":"$C296*$G$1*'Order Form'!$Q$18*(Color!$D$6+'Door Style'!$G$6+Species!$C$6+'Custom Finish'!$C$6)","v":{"$error":"#VALUE!"}},null,{"$f":"'Order Type'!$C$6","v":"01-"},{"$f":"'Order Type'!$C$6","v":"01-"},{"$f":"CONCAT!$D$2","v":""},null,1,"01-FHVSB21T","11-VSB21T",1,"12-W2130","12-W2130",1,{"$nulls":5},{"$f":"$C296*$F$1*(Color!$C$8+'Door Style'!$H$6)","v":{"v":428.14200000000005,"d":"$428.14"}},{"$f":"$C296*$G$1*1*(Color!$D$8+'Door Style'!$G$6+Species!$C$6+'Custom Finish'!$C$6)","v":{"$error":"#VALUE!"}},null,"Light Blue","Dark Yellow",null,"1","BSKIN",75,50,"Y","Vanity - Sink Base - Full Height-Tall ",{"v":499,"d":"$499.00"},"Price change for fall 2019",{"v":324,"d":"$324.00"},null,"G2",{"$nulls":4},499]
["FHVSB22.5","Full Height Vanity Sink Base 22.5\"",{"v":518,"d":"$518.00"},3,null,null,{"$f":"$C297*$G$1*'Order Form'!$Q$18*(Color!$D$6+'Door Style'!$G$6+Species!$C$6+'Custom Finish'!$C$6)","v":{"$error":"#VALUE!"}},null,"SC/PC",{"$f":"'Order Type'!$C$6","v":"01-"},{"$f":"CONCAT!$D$8","v":""},null,1,"01-FHVSB22.5","11-VSB22.5",1,"12-W22.527","12-W22.527",1,{"$nulls":6},{"$f":"$C297*$G$1*1*(Color!$D$8+'Door Style'!$G$6+Species!$C$6+'Custom Finish'!$C$6)","v":{"$error":"#VALUE!"}},null,"Black","Dark Yellow",null,1,"BSKIN",75,50,"Y","Vanity - Sink Base - Full Height",{"v":518,"d":"$518.00"},"Price change for fall 2019",{"v":336,"d":"$336.00"},null,"G2",{"$nulls":4},518]
["FHVSB22.5T","Full Height Vanity Sink Base 22.5\" Tall",{"v":556,"d":"$556.00"},3,null,null,{"$f":"$C298*$G$1*'Order Form'!$Q$18*(Color!$D$6+'Door Style'!$G$6+Species!$C$6+'Custom Finish'!$C$6)","v":{"$error":"#VALUE!"}},null,"SC/PC",{"$f":"'Order Type'!$C$6","v":"01-"},{"$f":"CONCAT!$D$8","v":""},null,1,"01-FHVSB22.5T","11-FHVSB22.5T",1,"12-W22.530","12-W22.530",1,{"$nulls":6},{"$f":"$C298*$G$1*1*(Color!$D$8+'Door Style'!$G$6+Species!$C$6+'Custom Finish'!$C$6)","v":{"$error":"#VALUE!"}},null,"Black","Dark Yellow",null,"1","BSKIN",75,50,"Y","Vanity - Sink Base - Full Height-Tall ",{"v":556,"d":"$556.00"},"Price change for fall 2019",{"v":361,"d":"$361.00"},null,"G2",{"$nulls":4},556]
["FHVSB24","Full Height Vanity Sink Base 24\"",{"v":565,"d":"$565.00"},3,null,null,{"$f":"$C299*$G$1*'Order Form'!$Q$18*(Color!$D$6+'Door Style'!$G$6+Species!$C$6+'Custom Finish'!$C$6)","v":{"$error":"#VALUE!"}},null,"SC/PC",{"$f":"'Order Type'!$C$6","v":"01-"},{"$f":"CONCAT!$D$8","v":""},null,1,"01-FHVSB24","11-VSB24",1,"12-W2427","12-W2427",1,{"$nulls":6},{"$f":"$C299*$G$1*1*(Color!$D$8+'Door Style'!$G$6+Species!$C$6+'Custom Finish'!$C$6)","v":{"$error":"#VALUE!"}},null,"Black","Dark Yellow",null,1,"BSKIN",75,50,"N","Vanity - Sink Base - Full Height",{"v":565,"d":"$565.00"},"Price change for fall 2019",{"v":336,"d":"$336.00"},null,"G2",{"$nulls":4},565]
["FHVSB24T","Full Height Vanity Sink Base 24\" Tall",{"v":575,"d":"$575.00"},2,null,{"$f":"$C300*$F$1*'Order Form'!$Q$18*(Color!$C$6+'Door Style'!$H$6)","v":{"$error":"#VALUE!"}},{"$f":"$C300*$G$1*'Order Form'!$Q$18*(Color!$D$6+'Door Style'!$G$6+Species!$C$6+'Custom Finish'!$C$6)","v":{"$error":"#VALUE!"}},null,{"$f":"'Order Type'!$C$6","v":"01-"},{"$f":"'Order Type'!$C$6","v":"01-"},{"$f":"CONCAT!$D$2","v":""},null,1,"01-FHVSB24T","11-VSB24T",1,"12-W2430","12-W2430",1,{"$nulls":5},{"$f":"$C300*$F$1*(Color!$C$8+'Door Style'!$H$6)","v":{"v":493.35,"d":"$493.35"}},{"$f":"$C300*$G$1*1*(Color!$D$8+'Door Style'!$G$6+Species!$C$6+'Custom Finish'!$C$6)","v":{"$error":"#VALUE!"}},null,"Light Blue","Dark Yellow",null,"1","BSKIN",75,50,"N","Vanity - Sink Base - Full Height-Tall ",{"v":575,"d":"$575.00"},"Price change for fall 2019",{"v":359,"d":"$359.00"},null,"G2",{"$nulls":4},575]
["FHVSB25.5","Full Height Vanity Sink Base 25.5\"",{"v":613,"d":"$613.00"},3,null,null,{"$f":"$C301*$G$1*'Order Form'!$Q$18*(Color!$D$6+'Door Style'!$G$6+Species!$C$6+'Custom Finish'!$C$6)","v":{"$error":"#VALUE!"}},null,"SC/PC",{"$f":"'Order Type'!$C$6","v":"01-"},{"$f":"CONCAT!$D$8","v":""},null,1,"01-FHVSB25.5","11-VSB25.5",1,"12-W25.527","12-W25.527",1,{"$nulls":6},{"$f":"$C301*$G$1*1*(Color!$D$8+'Door Style'!$G$6+Species!$C$6+'Custom Finish'!$C$6)","v":{"$error":"#VALUE!"}},null,"Black","Dark Yellow",null,1,"BSKIN",75,50,"N","Vanity - Sink Base - Full Height",{"v":613,"d":"$613.00"},"Price change for fall 2019",{"v":398,"d":"$398.00"},null,"G2",{"$nulls":4},613]
["FHVSB25.5T","Full Height Vanity Sink Base 25.5\" Tall",{"v":612,"d":"$612.00"},3,null,null,{"$f":"$C302*$G$1*'Order Form'!$Q$18*(Color!$D$6+'Door Style'!$G$6+Species!$C$6+'Custom Finish'!$C$6)","v":{"$error":"#VALUE!"}},null,"SC/PC",{"$f":"'Order Type'!$C$6","v":"01-"},{"$f":"CONCAT!$D$8","v":""},null,1,"01-FHVSB25.5T","11-FHVSB25.5T",1,"12-W25.530","12-W25.530",1,{"$nulls":6},{"$f":"$C302*$G$1*1*(Color!$D$8+'Door Style'!$G$6+Species!$C$6+'Custom Finish'!$C$6)","v":{"$error":"#VALUE!"}},null,"Black","Dark Yellow",null,"1","BSKIN",75,50,"N","Vanity - Sink Base - Full Height-Tall ",{"v":612,"d":"$612.00"},"Price change for fall 2019",{"v":397,"d":"$397.00"},null,"G2",{"$nulls":4},612]
["FHVSB27","Full Height Vanity Sink Base 27\"",{"v":610,"d":"$610.00"},3,null,null,{"$f":"$C303*$G$1*'Order Form'!$Q$18*(Color!$D$6+'Door Style'!$G$6+Species!$C$6+'Custom Finish'!$C$6)","v":{"$error":"#VALUE!"}},null,"SC/PC",{"$f":"'Order Type'!$C$6","v":"01-"},{"$f":"CONCAT!$D$8","v":""},null,1,"01-FHVSB27","11-VSB27",1,"12-W2727","12-W2727",1,{"$nulls":6},{"$f":"$C303*$G$1*1*(Color!$D$8+'Door Style'!$G$6+Species!$C$6+'Custom Finish'!$C$6)","v":{"$error":"#VALUE!"}},null,"Black","Dark Yellow",null,1,"BSKIN",75,50,"N","Vanity - Sink Base - Full Height",{"v":610,"d":"$610.00"},"Price change for fall 2019",{"v":396,"d":"$396.00"},null,"G2",{"$nulls":4},610]
["FHVSB27T","Full Height Vanity Sink Base 27\" Tall",{"v":633,"d":"$633.00"},2,null,{"$f":"$C304*$F$1*'Order Form'!$Q$18*(Color!$C$6+'Door Style'!$H$6)","v":{"$error":"#VALUE!"}},{"$f":"$C304*$G$1*'Order Form'!$Q$18*(Color!$D$6+'Door Style'!$G$6+Species!$C$6+'Custom Finish'!$C$6)","v":{"$error":"#VALUE!"}},null,{"$f":"'Order Type'!$C$6","v":"01-"},{"$f":"'Order Type'!$C$6","v":"01-"},{"$f":"CONCAT!$D$2","v":""},null,1,"01-FHVSB27T","11-VSB27T",1,"12-W2730","12-W2730",1,{"$nulls":5},{"$f":"$C304*$F$1*(Color!$C$8+'Door Style'!$H$6)","v":{"v":543.114,"d":"$543.11"}},{"$f":"$C304*$G$1*1*(Color!$D$8+'Door Style'!$G$6+Species!$C$6+'Custom Finish'!$C$6)","v":{"$error":"#VALUE!"}},null,"Light Blue","Dark Yellow",null,"1","BSKIN",75,50,"N","Vanity - Sink Base - Full Height-Tall ",{"v":633,"d":"$633.00"},"Price change for fall 2019",{"v":395,"d":"$395.00"},null,"G2",{"$nulls":4},633]
["FHVSB30","Full Height Vanity Sink Base 30\"",{"v":653,"d":"$653.00"},3,null,null,{"$f":"$C305*$G$1*'Order Form'!$Q$18*(Color!$D$6+'Door Style'!$G$6+Species!$C$6+'Custom Finish'!$C$6)","v":{"$error":"#VALUE!"}},null,"SC/PC",{"$f":"'Order Type'!$C$6","v":"01-"},{"$f":"CONCAT!$D$8","v":""},null,1,"01-FHVSB30","11-VSB30",1,"12-W3027","12-W3027",1,{"$nulls":6},{"$f":"$C305*$G$1*1*(Color!$D$8+'Door Style'!$G$6+Species!$C$6+'Custom Finish'!$C$6)","v":{"$error":"#VALUE!"}},null,"Black","Dark Yellow",null,1,"BSKIN",75,50,"N","Vanity - Sink Base - Full Height",{"v":653,"d":"$653.00"},"Price change for fall 2019",{"v":424,"d":"$424.00"},null,"G2",{"$nulls":4},653]
["FHVSB30T","Full Height Vanity Sink Base 30\" Tall",{"v":650,"d":"$650.00"},2,null,{"$f":"$C306*$F$1*'Order Form'!$Q$18*(Color!$C$6+'Door Style'!$H$6)","v":{"$error":"#VALUE!"}},{"$f":"$C306*$G$1*'Order Form'!$Q$18*(Color!$D$6+'Door Style'!$G$6+Species!$C$6+'Custom Finish'!$C$6)","v":{"$error":"#VALUE!"}},null,{"$f":"'Order Type'!$C$6","v":"01-"},{"$f":"'Order Type'!$C$6","v":"01-"},{"$f":"CONCAT!$D$2","v":""},null,1,"01-FHVSB30T","11-VSB30T",1,"12-W3030","12-W3030",1,{"$nulls":5},{"$f":"$C306*$F$1*(Color!$C$8+'Door Style'!$H$6)","v":{"v":557.7,"d":"$557.70"}},{"$f":"$C306*$G$1*1*(Color!$D$8+'Door Style'!$G$6+Species!$C$6+'Custom Finish'!$C$6)","v":{"$error":"#VALUE!"}},null,"Light Blue","Dark Yellow",null,"1","BSKIN",75,50,"N","Vanity - Sink Base - Full Height-Tall ",{"v":650,"d":"$650.00"},"Price change for fall 2019",{"v":422,"d":"$422.00"},null,"G2",{"$nulls":4},650]
["FHVSB33","Full Height Vanity Sink Base 33\"",{"v":777,"d":"$777.00"},3,null,null,{"$f":"$C307*$G$1*'Order Form'!$Q$18*(Color!$D$6+'Door Style'!$G$6+Species!$C$6+'Custom Finish'!$C$6)","v":{"$error":"#VALUE!"}},null,"SC/PC",{"$f":"'Order Type'!$C$6","v":"01-"},{"$f":"CONCAT!$D$8","v":""},null,1,"01-FHVSB33","11-VSB33",1,"12-W3327","12-W3327",1,{"$nulls":6},{"$f":"$C307*$G$1*1*(Color!$D$8+'Door Style'!$G$6+Species!$C$6+'Custom Finish'!$C$6)","v":{"$error":"#VALUE!"}},null,"Black","Dark Yellow",null,1,"BSKIN",75,50,"N","Vanity - Sink Base - Full Height",{"v":777,"d":"$777.00"},"Price change for fall 2019",{"v":458,"d":"$458.00"},null,"G2",{"$nulls":4},777]
["FHVSB33T","Full Height Vanity Sink Base 33\" Tall",{"v":738,"d":"$738.00"},2,null,{"$f":"$C308*$F$1*'Order Form'!$Q$18*(Color!$C$6+'Door Style'!$H$6)","v":{"$error":"#VALUE!"}},{"$f":"$C308*$G$1*'Order Form'!$Q$18*(Color!$D$6+'Door Style'!$G$6+Species!$C$6+'Custom Finish'!$C$6)","v":{"$error":"#VALUE!"}},null,{"$f":"'Order Type'!$C$6","v":"01-"},{"$f":"'Order Type'!$C$6","v":"01-"},{"$f":"CONCAT!$D$2","v":""},null,1,"01-FHVSB33T","11-VSB33T",1,"12-W3330","12-W3330",1,{"$nulls":5},{"$f":"$C308*$F$1*(Color!$C$8+'Door Style'!$H$6)","v":{"v":633.2040000000001,"d":"$633.20"}},{"$f":"$C308*$G$1*1*(Color!$D$8+'Door Style'!$G$6+Species!$C$6+'Custom Finish'!$C$6)","v":{"$error":"#VALUE!"}},null,"Light Blue","Dark Yellow",null,"1","BSKIN",75,50,"N","Vanity - Sink Base - Full Height-Tall ",{"v":738,"d":"$738.00"},"Price change for fall 2019",{"v":499,"d":"$499.00"},null,"G2",{"$nulls":4},738]
["FHVSB36","Full Height Vanity Sink Base 36\"",{"v":737,"d":"$737.00"},3,null,null,{"$f":"$C309*$G$1*'Order Form'!$Q$18*(Color!$D$6+'Door Style'!$G$6+Species!$C$6+'Custom Finish'!$C$6)","v":{"$error":"#VALUE!"}},null,"SC/PC",{"$f":"'Order Type'!$C$6","v":"01-"},{"$f":"CONCAT!$D$8","v":""},null,1,"01-FHVSB36","11-VSB36",1,"12-W3627","12-W3627",1,{"$nulls":6},{"$f":"$C309*$G$1*1*(Color!$D$8+'Door Style'!$G$6+Species!$C$6+'Custom Finish'!$C$6)","v":{"$error":"#VALUE!"}},null,"Black","Dark Yellow",null,1,"BSKIN",75,50,"N","Vanity - Sink Base - Full Height",{"v":737,"d":"$737.00"},"Price change for fall 2019",{"v":478,"d":"$478.00"},null,"G2",{"$nulls":4},737]
["FHVSB36T","Full Height Vanity Sink Base 36\" Tall",{"v":754,"d":"$754.00"},2,null,{"$f":"$C310*$F$1*'Order Form'!$Q$18*(Color!$C$6+'Door Style'!$H$6)","v":{"$error":"#VALUE!"}},{"$f":"$C310*$G$1*'Order Form'!$Q$18*(Color!$D$6+'Door Style'!$G$6+Species!$C$6+'Custom Finish'!$C$6)","v":{"$error":"#VALUE!"}},null,{"$f":"'Order Type'!$C$6","v":"01-"},{"$f":"'Order Type'!$C$6","v":"01-"},{"$f":"CONCAT!$D$2","v":""},null,1,"01-FHVSB36T","11-VSB36T",1,"12-W3630",{"$f":"Q310&K310","v":"12-W3630"},1,{"$nulls":5},{"$f":"$C310*$F$1*(Color!$C$8+'Door Style'!$H$6)","v":{"v":646.932,"d":"$646.93"}},{"$f":"$C310*$G$1*1*(Color!$D$8+'Door Style'!$G$6+Species!$C$6+'Custom Finish'!$C$6)","v":{"$error":"#VALUE!"}},null,"Light Blue","Dark Yellow",null,"1","BSKIN",75,50,"N","Vanity - Sink Base - Full Height-Tall ",{"v":754,"d":"$754.00"},"Price change for fall 2019",{"v":475,"d":"$475.00"},null,"G2",{"$nulls":4},754]
["FHVSB39","Full Height Vanity Sink Base 39\"",{"v":812,"d":"$812.00"},3,null,null,{"$f":"$C311*$G$1*'Order Form'!$Q$18*(Color!$D$6+'Door Style'!$G$6+Species!$C$6+'Custom Finish'!$C$6)","v":{"$error":"#VALUE!"}},null,"SC/PC",{"$f":"'Order Type'!$C$6","v":"01-"},{"$f":"CONCAT!$D$8","v":""},null,1,"01-FHVSB39","11-VSB39",1,"12-W3927","12-W3927",1,{"$nulls":6},{"$f":"$C311*$G$1*1*(Color!$D$8+'Door Style'!$G$6+Species!$C$6+'Custom Finish'!$C$6)","v":{"$error":"#VALUE!"}},null,"Black","Dark Yellow",null,1,"BSKIN",75,50,"N","Vanity - Sink Base - Full Height",{"v":812,"d":"$812.00"},"Price change for fall 2019",{"v":527,"d":"$527.00"},null,"G2",{"$nulls":4},812]
["FHVSB39T","Full Height Vanity Sink Base 39\" Tall",{"v":868,"d":"$868.00"},2,null,{"$f":"$C312*$F$1*'Order Form'!$Q$18*(Color!$C$6+'Door Style'!$H$6)","v":{"$error":"#VALUE!"}},{"$f":"$C312*$G$1*'Order Form'!$Q$18*(Color!$D$6+'Door Style'!$G$6+Species!$C$6+'Custom Finish'!$C$6)","v":{"$error":"#VALUE!"}},null,{"$f":"'Order Type'!$C$6","v":"01-"},{"$f":"'Order Type'!$C$6","v":"01-"},{"$f":"CONCAT!$D$2","v":""},null,1,"01-FHVSB39T","11-VSB39T",1,"12-W3930","12-W3930",1,{"$nulls":5},{"$f":"$C312*$F$1*(Color!$C$8+'Door Style'!$H$6)","v":{"v":744.7440000000001,"d":"$744.74"}},{"$f":"$C312*$G$1*1*(Color!$D$8+'Door Style'!$G$6+Species!$C$6+'Custom Finish'!$C$6)","v":{"$error":"#VALUE!"}},null,"Light Blue","Dark Yellow",null,"1","BSKIN",75,50,"N","Vanity - Sink Base - Full Height-Tall ",{"v":868,"d":"$868.00"},"Price change for fall 2019",{"v":563,"d":"$563.00"},null,"G2",{"$nulls":4},868]
["FILLER PULLOUT (3)"," 4.5\" filler pull out",{"v":285,"d":"$285.00"},2,null,{"$f":"$C313","v":{"v":285,"d":"$285.00"}},{"v":285,"d":"$285.00"},null,"/","","",null,0,"FILLER PULLOUT (3)",{"$nulls":3},"",null,{"$f":"N313","v":"FILLER PULLOUT (3)"},1,{"$nulls":3},{"$f":"$C313","v":{"v":285,"d":"$285.00"}},{"v":285,"d":"$285.00"},null,"Tan","Tan",{"$nulls":3},"No","No","N","Accessory - Filler",{"$f":"ROUNDUP(AM313*AN313,0)","v":{"v":285,"d":"$285.00"}},null,{"v":285,"d":"$285.00"},1,"ACC",{"$nulls":4},{"$error":"#N/A"}]
["FILLER PULLOUT (6)"," 7.5\" filler pull out",{"v":330,"d":"$330.00"},2,null,{"v":330,"d":"$330.00"},{"v":330,"d":"$330.00"},null,"/","","",null,0,"FILLER PULLOUT (6)",{"$nulls":3},"",null,"FILLER PULLOUT (6)",1,{"$nulls":3},{"v":330,"d":"$330.00"},{"v":330,"d":"$330.00"},null,"Tan","Tan",{"$nulls":3},"No","No","N","Accessory - Filler",{"$f":"ROUNDUP(AM314*AN314,0)","v":{"v":330,"d":"$330.00"}},null,{"v":330,"d":"$330.00"},1,"ACC",{"$nulls":4},{"$error":"#N/A"}]
["FILLER PULLOUT (9)","10.5\" filler pull out",{"v":410,"d":"$410.00"},3,null,{"v":410,"d":"$410.00"},{"v":410,"d":"$410.00"},null,"/","","",null,0,"FILLER PULLOUT (9)",{"$nulls":5},"FILLER PULLOUT (9)",1,{"$nulls":3},{"v":410,"d":"$410.00"},{"v":410,"d":"$410.00"},null,"Tan","Tan",{"$nulls":3},"No","No","N","Accessory - Filler",{"$f":"ROUNDUP(AM315*AN315,0)","v":{"v":410,"d":"$410.00"}},null,{"v":410,"d":"$410.00"},1,"ACC",{"$nulls":4},{"$error":"#N/A"}]
["FLOATING SHELF 21","Floating Shelf with Brackets 2\" Tall and 10\" Deep",{"v":180,"d":"$180.00"},3,null,{"$f":"($C316*$F$1*Color!$G$6*'Order Form'!$Q$18)","v":{"$error":"#VALUE!"}},{"$f":"$C316*$G$1*'Order Form'!$Q$18*(Color!$D$6+Species!$C$6)","v":{"$error":"#VALUE!"}},null,"13-","13-",{"$f":"CONCAT!$D$3","v":""},null,0,{"$f":"J316&A316&K316","v":"13-FLOATING SHELF 21"},{"$nulls":3},{"$f":"Q316&K316","v":""},null,"13-FLOATING SHELF 21",1,{"$nulls":3},{"$f":"($C316*$F$1*Color!$G$8*1)","v":{"v":154.44000000000003,"d":"$154.44"}},{"$f":"$C316*$G$1*1*(Color!$D$8+Species!$C$6)","v":{"$error":"#VALUE!"}},null,"Orange","Pink",{"$nulls":3},"No","No","N","Trim",{"v":180,"d":"$180.00"},"New Item for fall 2019",null,null,"G1",{"$nulls":4},{"$error":"#N/A"}]
["FLOATING SHELF 24","Floating Shelf with Brackets 2\" Tall and 10\" Deep",{"v":187,"d":"$187.00"},3,null,{"$f":"($C317*$F$1*Color!$G$6*'Order Form'!$Q$18)","v":{"$error":"#VALUE!"}},{"$f":"$C317*$G$1*'Order Form'!$Q$18*(Color!$D$6+Species!$C$6)","v":{"$error":"#VALUE!"}},null,"13-","13-",{"$f":"CONCAT!$D$3","v":""},null,0,"13-FLOATING SHELF 24",{"$nulls":3},"",null,"13-FLOATING SHELF 24",1,{"$nulls":3},{"$f":"($C317*$F$1*Color!$G$8*1)","v":{"v":160.44600000000003,"d":"$160.45"}},{"$f":"$C317*$G$1*1*(Color!$D$8+Species!$C$6)","v":{"$error":"#VALUE!"}},null,"Orange","Pink",{"$nulls":3},"No","No","N","Trim",{"v":187.2,"d":"$187.20"},"New Item for fall 2019","AM317+($AK$317/25)",null,"G1",{"$nulls":4},{"$error":"#N/A"}]
["FLOATING SHELF 27","Floating Shelf with Brackets 2\" Tall and 10\" Deep",{"v":194,"d":"$194.00"},3,null,{"$f":"($C318*$F$1*Color!$G$6*'Order Form'!$Q$18)","v":{"$error":"#VALUE!"}},{"$f":"$C318*$G$1*'Order Form'!$Q$18*(Color!$D$6+Species!$C$6)","v":{"$error":"#VALUE!"}},null,"13-","13-",{"$f":"CONCAT!$D$3","v":""},null,0,"13-FLOATING SHELF 27",{"$nulls":3},"",null,"13-FLOATING SHELF 27",1,{"$nulls":3},{"$f":"($C318*$F$1*Color!$G$8*1)","v":{"v":166.452,"d":"$166.45"}},{"$f":"$C318*$G$1*1*(Color!$D$8+Species!$C$6)","v":{"$error":"#VALUE!"}},null,"Orange","Pink",{"$nulls":3},"No","No","N","Trim",{"v":194.39999999999998,"d":"$194.40"},"New Item for fall 2019",null,null,"G1",{"$nulls":4},{"$error":"#N/A"}]
["FLOATING SHELF 30","Floating Shelf with Brackets 2\" Tall and 10\" Deep",{"v":202,"d":"$202.00"},3,null,{"$f":"($C319*$F$1*Color!$G$6*'Order Form'!$Q$18)","v":{"$error":"#VALUE!"}},{"$f":"$C319*$G$1*'Order Form'!$Q$18*(Color!$D$6+Species!$C$6)","v":{"$error":"#VALUE!"}},null,"13-","13-",{"$f":"CONCAT!$D$3","v":""},null,0,"13-FLOATING SHELF 30",{"$nulls":3},"",null,"13-FLOATING SHELF 30",1,{"$nulls":3},{"$f":"($C319*$F$1*Color!$G$8*1)","v":{"v":173.316,"d":"$173.32"}},{"$f":"$C319*$G$1*1*(Color!$D$8+Species!$C$6)","v":{"$error":"#VALUE!"}},null,"Orange","Pink",{"$nulls":3},"No","No","N","Trim",{"v":201.59999999999997,"d":"$201.60"},"New Item for fall 2019",null,null,"G1",{"$nulls":4},{"$error":"#N/A"}]
["FLOATING SHELF 33","Floating Shelf with Brackets 2\" Tall and 10\" Deep",{"v":209,"d":"$209.00"},3,null,{"$f":"($C320*$F$1*Color!$G$6*'Order Form'!$Q$18)","v":{"$error":"#VALUE!"}},{"$f":"$C320*$G$1*'Order Form'!$Q$18*(Color!$D$6+Species!$C$6)","v":{"$error":"#VALUE!"}},null,"13-","13-",{"$f":"CONCAT!$D$3","v":""},null,0,"13-FLOATING SHELF 33",{"$nulls":3},"",null,"13-FLOATING SHELF 33",1,{"$nulls":3},{"$f":"($C320*$F$1*Color!$G$8*1)","v":{"v":179.32200000000003,"d":"$179.32"}},{"$f":"$C320*$G$1*1*(Color!$D$8+Species!$C$6)","v":{"$error":"#VALUE!"}},null,"Orange","Pink",{"$nulls":3},"No","No","N","Trim",{"v":208.79999999999995,"d":"$208.80"},"New Item for fall 2019",null,null,"G1",{"$nulls":4},{"$error":"#N/A"}]
["FLOATING SHELF 36","Floating Shelf with Brackets 2\" Tall and 10\" Deep",{"v":216,"d":"$216.00"},3,null,{"$f":"($C321*$F$1*Color!$G$6*'Order Form'!$Q$18)","v":{"$error":"#VALUE!"}},{"$f":"$C321*$G$1*'Order Form'!$Q$18*(Color!$D$6+Species!$C$6)","v":{"$error":"#VALUE!"}},null,"13-","13-",{"$f":"CONCAT!$D$3","v":""},null,0,"13-FLOATING SHELF 36",{"$nulls":3},"",null,"13-FLOATING SHELF 36",1,{"$nulls":3},{"$f":"($C321*$F$1*Color!$G$8*1)","v":{"v":185.32800000000003,"d":"$185.33"}},{"$f":"$C321*$G$1*1*(Color!$D$8+Species!$C$6)","v":{"$error":"#VALUE!"}},null,"Orange","Pink",{"$nulls":3},"No","No","N","Trim",{"v":215.99999999999994,"d":"$216.00"},"New Item for fall 2019",null,null,"G1",{"$nulls":4},{"$error":"#N/A"}]
["FLOATING SHELF 39","Floating Shelf with Brackets 2\" Tall and 10\" Deep",{"v":223,"d":"$223.00"},3,null,{"$f":"($C322*$F$1*Color!$G$6*'Order Form'!$Q$18)","v":{"$error":"#VALUE!"}},{"$f":"$C322*$G$1*'Order Form'!$Q$18*(Color!$D$6+Species!$C$6)","v":{"$error":"#VALUE!"}},null,"13-","13-",{"$f":"CONCAT!$D$3","v":""},null,0,"13-FLOATING SHELF 39",{"$nulls":3},"",null,"13-FLOATING SHELF 39",1,{"$nulls":3},{"$f":"($C322*$F$1*Color!$G$8*1)","v":{"v":191.334,"d":"$191.33"}},{"$f":"$C322*$G$1*1*(Color!$D$8+Species!$C$6)","v":{"$error":"#VALUE!"}},null,"Orange","Pink",{"$nulls":3},"No","No","N","Trim",{"v":223.19999999999993,"d":"$223.20"},"New Item for fall 2019",null,null,"G1",{"$nulls":4},{"$error":"#N/A"}]
["FLOATING SHELF 42","Floating Shelf with Brackets 2\" Tall and 10\" Deep",{"v":230,"d":"$230.00"},3,null,{"$f":"($C323*$F$1*Color!$G$6*'Order Form'!$Q$18)","v":{"$error":"#VALUE!"}},{"$f":"$C323*$G$1*'Order Form'!$Q$18*(Color!$D$6+Species!$C$6)","v":{"$error":"#VALUE!"}},null,"13-","13-",{"$f":"CONCAT!$D$3","v":""},null,0,"13-FLOATING SHELF 42",{"$nulls":3},"",null,"13-FLOATING SHELF 42",1,{"$nulls":3},{"$f":"($C323*$F$1*Color!$G$8*1)","v":{"v":197.34000000000003,"d":"$197.34"}},{"$f":"$C323*$G$1*1*(Color!$D$8+Species!$C$6)","v":{"$error":"#VALUE!"}},null,"Orange","Pink",{"$nulls":3},"No","No","N","Trim",{"v":230.39999999999992,"d":"$230.40"},"New Item for fall 2019",null,null,"G1",{"$nulls":4},{"$error":"#N/A"}]
["FLOATING SHELF 45","Floating Shelf with Brackets 2\" Tall and 10\" Deep",{"v":238,"d":"$238.00"},3,null,{"$f":"($C324*$F$1*Color!$G$6*'Order Form'!$Q$18)","v":{"$error":"#VALUE!"}},{"$f":"$C324*$G$1*'Order Form'!$Q$18*(Color!$D$6+Species!$C$6)","v":{"$error":"#VALUE!"}},null,"13-","13-",{"$f":"CONCAT!$D$3","v":""},null,0,"13-FLOATING SHELF 45",{"$nulls":3},"",null,"13-FLOATING SHELF 45",1,{"$nulls":3},{"$f":"($C324*$F$1*Color!$G$8*1)","v":{"v":204.20400000000004,"d":"$204.20"}},{"$f":"$C324*$G$1*1*(Color!$D$8+Species!$C$6)","v":{"$error":"#VALUE!"}},null,"Orange","Pink",{"$nulls":3},"No","No","N","Trim",{"v":237.5999999999999,"d":"$237.60"},"New Item for fall 2019",null,null,"G1",{"$nulls":4},{"$error":"#N/A"}]
["FLOATING SHELF 48","Floating Shelf with Brackets 2\" Tall and 10\" Deep",{"v":245,"d":"$245.00"},3,null,{"$f":"($C325*$F$1*Color!$G$6*'Order Form'!$Q$18)","v":{"$error":"#VALUE!"}},{"$f":"$C325*$G$1*'Order Form'!$Q$18*(Color!$D$6+Species!$C$6)","v":{"$error":"#VALUE!"}},null,"13-","13-",{"$f":"CONCAT!$D$3","v":""},null,0,"13-FLOATING SHELF 48",{"$nulls":3},"",null,"13-FLOATING SHELF 48",1,{"$nulls":3},{"$f":"($C325*$F$1*Color!$G$8*1)","v":{"v":210.21,"d":"$210.21"}},{"$f":"$C325*$G$1*1*(Color!$D$8+Species!$C$6)","v":{"$error":"#VALUE!"}},null,"Orange","Pink",{"$nulls":3},"No","No","N","Trim",{"v":244.7999999999999,"d":"$244.80"},"New Item for fall 2019",null,null,"G1",{"$nulls":4},{"$error":"#N/A"}]
["FLOATING SHELF 51","Floating Shelf with Brackets 2\" Tall and 10\" Deep",{"v":251.9999999999999,"d":"$252.00"},2,null,{"$f":"($C326*$F$1*Color!$G$6*'Order Form'!$Q$18)","v":{"$error":"#VALUE!"}},{"$f":"$C326*$G$1*'Order Form'!$Q$18*(Color!$D$6+Species!$C$6)","v":{"$error":"#VALUE!"}},null,"13-","13-",{"$f":"CONCAT!$D$3","v":""},null,0,"13-FLOATING SHELF 51",{"$nulls":3},"",null,"13-FLOATING SHELF 51",1,{"$nulls":3},{"$f":"($C326*$F$1*Color!$G$8*1)","v":{"v":216.21599999999992,"d":"$216.22"}},{"$f":"$C326*$G$1*1*(Color!$D$8+Species!$C$6)","v":{"$error":"#VALUE!"}},null,"Orange","Pink",{"$nulls":3},"No","No","N","Trim",null,"New Item for fall 2019",null,null,"G1",{"$nulls":4},{"$error":"#N/A"}]
["FP24108","Finished Panel 24\" x 108\"",{"v":411,"d":"$411.00"},3,null,null,{"$f":"$C327*$G$1*'Order Form'!$Q$18*(Color!$D$6+Species!$C$6)","v":{"$error":"#VALUE!"}},null,"13-","13-",{"$f":"CONCAT!$D$8","v":""},null,0,"13-FP24108",{"$nulls":5},"13-FP24108",1,{"$nulls":4},{"$f":"$C327*$G$1*1*(Color!$D$8+Species!$C$6)","v":{"$error":"#VALUE!"}},null,"Black","Pink",{"$nulls":3},"No","No","N","Trim - Panel - Finished",{"$f":"ROUNDUP(AM327*AN327,0)","v":{"v":411,"d":"$411.00"}},"Price change for fall 2019",{"v":291,"d":"$291.00"},1.41,"G1",{"$nulls":4},{"$error":"#N/A"}]
["FP24120","Finished Panel 24\" x 120\"",{"v":456,"d":"$456.00"},3,null,null,{"$f":"$C328*$G$1*'Order Form'!$Q$18*(Color!$D$6+Species!$C$6)","v":{"$error":"#VALUE!"}},null,"13-","13-",{"$f":"CONCAT!$D$8","v":""},null,0,"13-FP24120",{"$nulls":5},"13-FP24120",1,{"$nulls":4},{"$f":"$C328*$G$1*1*(Color!$D$8+Species!$C$6)","v":{"$error":"#VALUE!"}},null,"Black","Pink",{"$nulls":3},"No","No","N","Trim - Panel - Finished",{"v":456,"d":"$456.00"},"Price change for fall 2019",{"v":323,"d":"$323.00"},1.41,"G1",{"$nulls":4},{"$error":"#N/A"}]
["FP2496","Finished Panel 24\" x 96\"",{"v":353,"d":"$353.00"},2,null,{"$f":"($C329*$F$1*Color!$G$6*'Order Form'!$Q$18)","v":{"$error":"#VALUE!"}},{"$f":"$C329*$G$1*'Order Form'!$Q$18*(Color!$D$6+Species!$C$6)","v":{"$error":"#VALUE!"}},null,"13-","13-",{"$f":"CONCAT!$D$3","v":""},null,0,"13-FP2496",{"$nulls":3},{"$f":"Q329&K329","v":""},null,"13-FP2496",1,{"$nulls":3},{"$f":"($C329*$F$1*Color!$G$8*1)","v":{"v":302.8740000000001,"d":"$302.87"}},{"$f":"$C329*$G$1*1*(Color!$D$8+Species!$C$6)","v":{"$error":"#VALUE!"}},null,"Orange","Pink",{"$nulls":3},"No","No","N","Trim - Panel - Finished",{"v":353,"d":"$353.00"},"Price change for fall 2019",{"v":250,"d":"$250.00"},1.41,"G1",{"$nulls":4},{"$error":"#N/A"}]
["FP30108","Finished Panel 30\" x 108\"",{"v":619,"d":"$619.00"},3,null,null,{"$f":"$C330*$G$1*'Order Form'!$Q$18*(Color!$D$6+Species!$C$6)","v":{"$error":"#VALUE!"}},null,"13-","13-",{"$f":"CONCAT!$D$8","v":""},null,0,"13-FP30108",{"$nulls":5},"13-FP30108",1,{"$nulls":4},{"$f":"$C330*$G$1*1*(Color!$D$8+Species!$C$6)","v":{"$error":"#VALUE!"}},null,"Black","Pink",{"$nulls":3},"No","No","N","Trim - Panel - Finished",{"v":619,"d":"$619.00"},"Price change for fall 2019",{"v":439,"d":"$439.00"},1.41,"G1",{"$nulls":4},{"$error":"#N/A"}]
["FP30120","Finished Panel 30\" x 120\"",{"v":690,"d":"$690.00"},3,null,null,{"$f":"$C331*$G$1*'Order Form'!$Q$18*(Color!$D$6+Species!$C$6)","v":{"$error":"#VALUE!"}},null,"13-","13-",{"$f":"CONCAT!$D$8","v":""},null,0,"13-FP30120",{"$nulls":5},"13-FP30120",1,{"$nulls":4},{"$f":"$C331*$G$1*1*(Color!$D$8+Species!$C$6)","v":{"$error":"#VALUE!"}},null,"Black","Pink",{"$nulls":3},"No","No","N","Trim - Panel - Finished",{"v":690,"d":"$690.00"},"Price change for fall 2019",{"v":489,"d":"$489.00"},1.41,"G1",{"$nulls":4},{"$error":"#N/A"}]
["FP3096","Finished Panel 30\" x 96\"",{"v":532,"d":"$532.00"},2,null,{"$f":"($C332*$F$1*Color!$G$6*'Order Form'!$Q$18)","v":{"$error":"#VALUE!"}},{"$f":"$C332*$G$1*'Order Form'!$Q$18*(Color!$D$6+Species!$C$6)","v":{"$error":"#VALUE!"}},null,"13-","13-",{"$f":"CONCAT!$D$3","v":""},null,0,"13-FP3096",{"$nulls":3},{"$f":"Q332&K332","v":""},null,"13-FP3096",1,{"$nulls":3},{"$f":"($C332*$F$1*Color!$G$8*1)","v":{"v":456.4560000000001,"d":"$456.46"}},{"$f":"$C332*$G$1*1*(Color!$D$8+Species!$C$6)","v":{"$error":"#VALUE!"}},null,"Orange","Pink",{"$nulls":3},"No","No","N","Trim - Panel - Finished",{"v":532,"d":"$532.00"},"Price change for fall 2019",{"v":377,"d":"$377.00"},1.41,"G1",{"$nulls":4},{"$error":"#N/A"}]
["FSB30","Farm Sink Base 30\"",{"v":751,"d":"$751.00"},3,null,null,{"$f":"$C333*$G$1*'Order Form'!$Q$18*(Color!$D$6+'Door Style'!$G$6+Species!$C$6+'Custom Finish'!$C$6)","v":{"$error":"#VALUE!"}},null,"SC/PC",{"$f":"'Order Type'!$C$6","v":"01-"},{"$f":"CONCAT!$D$8","v":""},"Yes",1,"01-FSB30","11-FSB30",1,"12-FSB30","12-FSB30",1,{"$nulls":6},{"$f":"$C333*$G$1*1*(Color!$D$8+'Door Style'!$G$6+Species!$C$6+'Custom Finish'!$C$6)","v":{"$error":"#VALUE!"}},null,"Black","Dark Gray",null,"1","BSKIN",75,50,"N","Base Cabinet - Sink - Farm",{"v":751,"d":"$751.00"},"Price change for fall 2019",{"v":532,"d":"$532.00"},1.41,"G1",{"$nulls":4},{"$error":"#N/A"}]
["FSB33","Farm Sink Base 33\"",{"v":799,"d":"$799.00"},3,null,null,{"$f":"$C334*$G$1*'Order Form'!$Q$18*(Color!$D$6+'Door Style'!$G$6+Species!$C$6+'Custom Finish'!$C$6)","v":{"$error":"#VALUE!"}},null,"SC/PC",{"$f":"'Order Type'!$C$6","v":"01-"},{"$f":"CONCAT!$D$8","v":""},"Yes",1,"01-FSB33","11-FSB33",1,"12-FSB33","12-FSB33",1,{"$nulls":6},{"$f":"$C334*$G$1*1*(Color!$D$8+'Door Style'!$G$6+Species!$C$6+'Custom Finish'!$C$6)","v":{"$error":"#VALUE!"}},null,"Black","Dark Gray",null,"1","BSKIN",75,50,"N","Base Cabinet - Sink - Farm",{"v":799,"d":"$799.00"},"Price change for fall 2019",{"v":566,"d":"$566.00"},1.41,"G1",{"$nulls":4},{"$error":"#N/A"}]
["FSB36","Farm Sink Base 36\"",{"v":851,"d":"$851.00"},3,null,null,{"$f":"$C335*$G$1*'Order Form'!$Q$18*(Color!$D$6+'Door Style'!$G$6+Species!$C$6+'Custom Finish'!$C$6)","v":{"$error":"#VALUE!"}},null,"SC/PC",{"$f":"'Order Type'!$C$6","v":"01-"},{"$f":"CONCAT!$D$8","v":""},"Yes",1,"01-FSB36","11-FSB36",1,"12-FSB36","12-FSB36",1,{"$nulls":6},{"$f":"$C335*$G$1*1*(Color!$D$8+'Door Style'!$G$6+Species!$C$6+'Custom Finish'!$C$6)","v":{"$error":"#VALUE!"}},null,"Black","Dark Gray",null,"1","BSKIN",75,50,"N","Base Cabinet - Sink - Farm",{"v":851,"d":"$851.00"},"Price change for fall 2019",{"v":603,"d":"$603.00"},1.41,"G1",{"$nulls":4},{"$error":"#N/A"}]
["FSB39","Farm Sink Base 39\"",{"v":920,"d":"$920.00"},3,null,null,{"$f":"$C336*$G$1*'Order Form'!$Q$18*(Color!$D$6+'Door Style'!$G$6+Species!$C$6+'Custom Finish'!$C$6)","v":{"$error":"#VALUE!"}},null,"SC/PC",{"$f":"'Order Type'!$C$6","v":"01-"},{"$f":"CONCAT!$D$8","v":""},"Yes",1,"01-FSB39","11-FSB39",1,"12-FSB39","12-FSB39",1,{"$nulls":6},{"$f":"$C336*$G$1*1*(Color!$D$8+'Door Style'!$G$6+Species!$C$6+'Custom Finish'!$C$6)","v":{"$error":"#VALUE!"}},null,"Black","Dark Gray",null,"1","BSKIN",75,50,"N","Base Cabinet - Sink - Farm",{"v":920,"d":"$920.00"},"Price change for fall 2019",{"v":652,"d":"$652.00"},1.41,"G1",{"$nulls":4},{"$error":"#N/A"}]
["HINGE MISC","Hinge Miscellaneous",{"v":0,"d":"$0.00"},2,null,{"v":0,"d":"$0.00"},{"v":0,"d":"$0.00"},null,"/","/","",null,0,"/HINGE MISC",{"$nulls":3},"",null,{"$f":"N337","v":"/HINGE MISC"},1,{"$nulls":3},{"v":0,"d":"$0.00"},{"v":0,"d":"$0.00"},null,"Dark Blue","Dark Blue","N",null,null,"No","No","N",{"$nulls":5},"Zero Price",{"$nulls":4},{"$error":"#N/A"}]
["Install","Cabinet Installation",{"v":0,"d":"$0.00"},2,null,{"$f":"$C338","v":{"v":0,"d":"$0.00"}},{"v":0,"d":"$0.00"},null,"/","/","",null,0,"/Install",{"$nulls":3},"",null,"/Install",1,{"$nulls":3},{"$f":"$C338","v":{"v":0,"d":"$0.00"}},{"v":0,"d":"$0.00"},null,"Tan","Tan",{"$nulls":3},"No","No","N",null,{"$f":"ROUNDUP(AM338*AN338,0)","v":0},null,0,1,"ACC",{"$nulls":4},{"$error":"#N/A"}]
["INSTALL-DEALER","Cabinet Installation",{"v":0,"d":"$0.00"},2,null,{"v":0,"d":"$0.00"},{"v":0,"d":"$0.00"},null,"/","/","",null,0,"/INSTALL-DEALER",{"$nulls":3},"",null,"/INSTALL-DEALER",1,{"$nulls":3},{"v":0,"d":"$0.00"},{"v":0,"d":"$0.00"},null,"Tan","Tan","Dealer",null,null,"No","No","N",null,{"$f":"ROUNDUP(AM339*AN339,0)","v":0},null,0,1,"ACC",{"$nulls":4},{"$error":"#N/A"}]
["K-1-143","Square Antique Nickel Knob",{"v":3.95,"d":"$3.95"},2,null,{"v":3.95,"d":"$3.95"},{"v":3.95,"d":"$3.95"},1,"/","","",null,0,"K-1-143",{"$nulls":3},"",null,"K-1-143",1,{"$nulls":3},{"v":3.95,"d":"$3.95"},{"v":3.95,"d":"$3.95"},null,"Tan","Tan",{"$nulls":3},"No","No","N","Accessory - Pull",{"$f":"(AM340*AN340)","v":{"v":3.95,"d":"$3.95"}},null,{"v":3.95,"d":"$3.95"},1,"ACC",{"$nulls":4},{"$error":"#N/A"}]
["K-1-195","Square Brushed Nickel Knob",{"v":3.95,"d":"$3.95"},2,null,{"v":3.95,"d":"$3.95"},{"v":3.95,"d":"$3.95"},1,"/","","",null,0,"K-1-195",{"$nulls":3},"",null,"K-1-195",1,{"$nulls":3},{"v":3.95,"d":"$3.95"},{"v":3.95,"d":"$3.95"},null,"Tan","Tan",{"$nulls":3},"No","No","N","Accessory - Pull",{"v":3.95,"d":"$3.95"},null,{"v":3.95,"d":"$3.95"},1,"ACC",{"$nulls":4},{"$error":"#N/A"}]
["K-1-BORB","Square Brushed Oil Rubbed Bronze Knob",{"v":3.95,"d":"$3.95"},2,null,{"v":3.95,"d":"$3.95"},{"v":3.95,"d":"$3.95"},1,"/","","",null,0,"K-1-BORB",{"$nulls":3},"",null,"K-1-BORB",1,{"$nulls":3},{"v":3.95,"d":"$3.95"},{"v":3.95,"d":"$3.95"},null,"Tan","Tan",{"$nulls":3},"No","No","N","Accessory - Pull",{"v":3.95,"d":"$3.95"},null,{"v":3.95,"d":"$3.95"},1,"ACC",{"$nulls":4},{"$error":"#N/A"}]
["K-2-195","Circular Brushed Nickel Knob",{"v":3.95,"d":"$3.95"},2,null,{"v":3.95,"d":"$3.95"},{"v":3.95,"d":"$3.95"},1,"/","","",null,0,"K-2-195",{"$nulls":3},"",null,"K-2-195",1,{"$nulls":3},{"v":3.95,"d":"$3.95"},{"v":3.95,"d":"$3.95"},null,"Tan","Tan",{"$nulls":3},"No","No","N","Accessory - Pull",{"v":3.95,"d":"$3.95"},null,{"v":3.95,"d":"$3.95"},1,"ACC",{"$nulls":4},{"$error":"#N/A"}]
["K-2-BORB","Circular Brushed Oil Rubbed Bronze Knob",{"v":3.95,"d":"$3.95"},2,null,{"v":3.95,"d":"$3.95"},{"v":3.95,"d":"$3.95"},1,"/","","",null,0,"K-2-BORB",{"$nulls":3},"",null,"K-2-BORB",1,{"$nulls":3},{"v":3.95,"d":"$3.95"},{"v":3.95,"d":"$3.95"},null,"Tan","Tan",{"$nulls":3},"No","No","N","Accessory - Pull",{"v":3.95,"d":"$3.95"},null,{"v":3.95,"d":"$3.95"},1,"ACC",{"$nulls":4},{"$error":"#N/A"}]
["K-3-143","Square Bevel Edge Antique Nickel Knob",{"v":3.95,"d":"$3.95"},2,null,{"v":3.95,"d":"$3.95"},{"v":3.95,"d":"$3.95"},1,"/","","",null,0,"K-3-143",{"$nulls":3},"",null,"K-3-143",1,{"$nulls":3},{"v":3.95,"d":"$3.95"},{"v":3.95,"d":"$3.95"},null,"Tan","Tan",{"$nulls":3},"No","No","N","Accessory - Pull",{"v":3.95,"d":"$3.95"},null,{"v":3.95,"d":"$3.95"},1,"ACC",{"$nulls":4},{"$error":"#N/A"}]
["K-3-195","Square Bevel Edge Brushed Nickel Knob",{"v":3.95,"d":"$3.95"},2,null,{"v":3.95,"d":"$3.95"},{"v":3.95,"d":"$3.95"},1,"/","","",null,0,"K-3-195",{"$nulls":3},"",null,"K-3-195",1,{"$nulls":3},{"v":3.95,"d":"$3.95"},{"v":3.95,"d":"$3.95"},null,"Tan","Tan",{"$nulls":3},"No","No","N","Accessory - Pull",{"v":3.95,"d":"$3.95"},null,{"v":3.95,"d":"$3.95"},1,"ACC",{"$nulls":4},{"$error":"#N/A"}]
["K-3-BORB","Square Bevel Edge Brushed Oil Rubbed Bronze Knob",{"v":3.95,"d":"$3.95"},2,null,{"v":3.95,"d":"$3.95"},{"v":3.95,"d":"$3.95"},1,"/","","",null,0,"K-3-BORB",{"$nulls":3},"",null,"K-3-BORB",1,{"$nulls":3},{"v":3.95,"d":"$3.95"},{"v":3.95,"d":"$3.95"},null,"Tan","Tan",{"$nulls":3},"No","No","N","Accessory - Pull",{"v":3.95,"d":"$3.95"},null,{"v":3.95,"d":"$3.95"},1,"ACC",{"$nulls":4},{"$error":"#N/A"}]
["KITCHEN PLANNING GUIDE","Help Customers Map their Space",{"v":1,"d":"$1.00"},2,null,{"v":1,"d":"$1.00"},{"v":1,"d":"$1.00"},null,"/","/",null,null,0,"/KITCHEN PLANNING GUIDE",{"$nulls":3},"",null,"/KITCHEN PLANNING GUIDE",1,{"$nulls":3},{"v":1,"d":"$1.00"},{"v":1,"d":"$1.00"},null,"Tan","Tan","Dealer",null,null,"No","No","N","Dealer support item",{"v":1,"d":"$1.00"},null,{"v":2.5,"d":"$2.50"},1,"ACC",{"$nulls":4},{"$error":"#N/A"}]
["KKD24","Kitchen Knee Drawer 24\"",{"v":369,"d":"$369.00"},3,null,null,{"$f":"$C349*$G$1*'Order Form'!$Q$18*(Color!$D$6+'Door Style'!$G$6+Species!$C$6+'Drawer Head'!$E$6+'Custom Finish'!$C$6)","v":{"$error":"#VALUE!"}},null,"SC/PC",{"$f":"'Order Type'!$C$6","v":"01-"},{"$f":"CONCAT!$D$8","v":""},null,1,"01-KKD24","11-KKD24",1,"12-KKD24","12-KKD24",1,null,null,"DG 21IN KITCHEN SET-DTC",1,null,null,{"$f":"$C349*$G$1*1*(Color!$D$8+'Door Style'!$G$6+Species!$C$6+'Drawer Head'!$E$6+'Custom Finish'!$C$6)","v":{"$error":"#VALUE!"}},null,"Black","Light Gray",{"$nulls":3},125,100,"N","Knee Drawer - Kitchen",{"$f":"ROUNDUP(AM349*AN349,0)","v":{"v":369,"d":"$369.00"}},"Price change for fall 2019",{"v":261,"d":"$261.00"},1.41,"G1",{"$nulls":4},{"$error":"#N/A"}]
["KKD27","Kitchen Knee Drawer 27\"",{"v":371,"d":"$371.00"},3,null,null,{"$f":"$C350*$G$1*'Order Form'!$Q$18*(Color!$D$6+'Door Style'!$G$6+Species!$C$6+'Drawer Head'!$E$6+'Custom Finish'!$C$6)","v":{"$error":"#VALUE!"}},null,"SC/PC",{"$f":"'Order Type'!$C$6","v":"01-"},{"$f":"CONCAT!$D$8","v":""},null,1,"01-KKD27","11-KKD27",1,"12-KKD27","12-KKD27",1,null,null,"DG 21IN KITCHEN SET-DTC",1,null,null,{"$f":"$C350*$G$1*1*(Color!$D$8+'Door Style'!$G$6+Species!$C$6+'Drawer Head'!$E$6+'Custom Finish'!$C$6)","v":{"$error":"#VALUE!"}},null,"Black","Light Gray",{"$nulls":3},125,100,"N","Knee Drawer - Kitchen",{"v":371,"d":"$371.00"},"Price change for fall 2019",{"v":263,"d":"$263.00"},1.41,"G1",{"$nulls":4},{"$error":"#N/A"}]
["KKD30","Kitchen Knee Drawer 30\"",{"v":376,"d":"$376.00"},3,null,null,{"$f":"$C351*$G$1*'Order Form'!$Q$18*(Color!$D$6+'Door Style'!$G$6+Species!$C$6+'Drawer Head'!$E$6+'Custom Finish'!$C$6)","v":{"$error":"#VALUE!"}},null,"SC/PC",{"$f":"'Order Type'!$C$6","v":"01-"},{"$f":"CONCAT!$D$8","v":""},null,1,"01-KKD30","11-KKD30",1,"12-KKD30","12-KKD30",1,null,null,"DG 21IN KITCHEN SET-DTC",1,null,null,{"$f":"$C351*$G$1*1*(Color!$D$8+'Door Style'!$G$6+Species!$C$6+'Drawer Head'!$E$6+'Custom Finish'!$C$6)","v":{"$error":"#VALUE!"}},null,"Black","Light Gray",{"$nulls":3},125,100,"N","Knee Drawer - Kitchen",{"v":376,"d":"$376.00"},"Price change for fall 2019",{"v":266,"d":"$266.00"},1.41,"G1",{"$nulls":4},{"$error":"#N/A"}]
["KKD33","Kitchen Knee Drawer 33\"",{"v":381,"d":"$381.00"},3,null,null,{"$f":"$C352*$G$1*'Order Form'!$Q$18*(Color!$D$6+'Door Style'!$G$6+Species!$C$6+'Drawer Head'!$E$6+'Custom Finish'!$C$6)","v":{"$error":"#VALUE!"}},null,"PROJECT",{"$f":"'Order Type'!$C$6","v":"01-"},{"$f":"CONCAT!$D$2","v":""},null,0,"01-KKD33","11-KKD33",1,"12-KKD33","12-KKD33",1,null,null,"DG 21IN KITCHEN SET-DTC",1,null,null,{"$f":"$C352*$G$1*1*(Color!$D$8+'Door Style'!$G$6+Species!$C$6+'Drawer Head'!$E$6+'Custom Finish'!$C$6)","v":{"$error":"#VALUE!"}},null,"Black","Light Gray",{"$nulls":3},125,100,"N","Knee Drawer - Kitchen",{"v":381,"d":"$381.00"},"Price change for fall 2019",{"v":270,"d":"$270.00"},1.41,"G1",{"$nulls":4},{"$error":"#N/A"}]
["KKD36","Kitchen Knee Drawer 36\"",{"v":384,"d":"$384.00"},3,null,null,{"$f":"$C353*$G$1*'Order Form'!$Q$18*(Color!$D$6+'Door Style'!$G$6+Species!$C$6+'Drawer Head'!$E$6+'Custom Finish'!$C$6)","v":{"$error":"#VALUE!"}},null,"PROJECT",{"$f":"'Order Type'!$C$6","v":"01-"},{"$f":"CONCAT!$D$2","v":""},null,0,"01-KKD36","11-KKD36",1,"12-KKD36","12-KKD36",1,null,null,"DG 21IN KITCHEN SET-DTC",1,null,null,{"$f":"$C353*$G$1*1*(Color!$D$8+'Door Style'!$G$6+Species!$C$6+'Drawer Head'!$E$6+'Custom Finish'!$C$6)","v":{"$error":"#VALUE!"}},null,"Black","Light Gray",{"$nulls":3},125,100,"N","Knee Drawer - Kitchen",{"v":384,"d":"$384.00"},"Price change for fall 2019",{"v":272,"d":"$272.00"},1.41,"G1",{"$nulls":4},{"$error":"#N/A"}]
["KNOB PULL-V1","Sales Center Pull and Knobs Insert",{"v":50,"d":"$50.00"},2,null,{"$f":"$C354","v":{"v":50,"d":"$50.00"}},{"$f":"$C354","v":{"v":50,"d":"$50.00"}},null,"/","FCC SALES CENTER-","",null,0,"FCC SALES CENTER-KNOB PULL-V1",{"$nulls":3},"",null,{"$f":"N354","v":"FCC SALES CENTER-KNOB PULL-V1"},1,{"$nulls":3},{"$f":"$C354","v":{"v":50,"d":"$50.00"}},{"$f":"$C354","v":{"v":50,"d":"$50.00"}},null,"Tan","Tan","Dealer",null,null,"No","No","N","Dealer support item",{"v":50,"d":"$50.00"},null,{"v":50,"d":"$50.00"},1,"ACC",{"$nulls":4},{"$error":"#N/A"}]
["LC1884","Linen Cabinet Vanity Depth 18\" x 84\"",{"v":1160,"d":"$1,160.00"},2,null,{"$f":"$C355*$F$1*'Order Form'!$Q$18*(Color!$C$6+'Door Style'!$H$6)","v":{"$error":"#VALUE!"}},{"$f":"$C355*$G$1*'Order Form'!$Q$18*(Color!$D$6+'Door Style'!$G$6+Species!$C$6+'Custom Finish'!$C$6)","v":{"$error":"#VALUE!"}},null,{"$f":"'Order Type'!$C$6","v":"01-"},{"$f":"'Order Type'!$C$6","v":"01-"},{"$f":"CONCAT!$D$2","v":""},null,1,"01-LC1884","11-LC1884",1,"12-UC1884","12-UC1884",1,{"$nulls":5},{"$f":"$C355*$F$1*(Color!$C$8+'Door Style'!$H$6)","v":{"v":995.2800000000002,"d":"$995.28"}},{"$f":"$C355*$G$1*1*(Color!$D$8+'Door Style'!$G$6+Species!$C$6+'Custom Finish'!$C$6)","v":{"$error":"#VALUE!"}},null,"Light Blue","Dark Gray",null,"2","TSKIN",100,75,"Y","Tall Cabinet - Linen",{"v":1160,"d":"$1,160.00"},"Price change for fall 2019",{"v":822,"d":"$822.00"},1.41,"G1",{"$nulls":4},{"$error":"#N/A"}]
["LC1890","Linen Cabinet Vanity Depth 18\" x 90\"",{"v":1216,"d":"$1,216.00"},2,null,{"$f":"$C356*$F$1*'Order Form'!$Q$18*(Color!$C$6+'Door Style'!$H$6)","v":{"$error":"#VALUE!"}},{"$f":"$C356*$G$1*'Order Form'!$Q$18*(Color!$D$6+'Door Style'!$G$6+Species!$C$6+'Custom Finish'!$C$6)","v":{"$error":"#VALUE!"}},null,{"$f":"'Order Type'!$C$6","v":"01-"},{"$f":"'Order Type'!$C$6","v":"01-"},{"$f":"CONCAT!$D$2","v":""},null,1,"01-LC1890","11-LC1890",1,"12-UC1890","12-UC1890",1,{"$nulls":5},{"$f":"$C356*$F$1*(Color!$C$8+'Door Style'!$H$6)","v":{"v":1043.3280000000002,"d":"$1,043.33"}},{"$f":"$C356*$G$1*1*(Color!$D$8+'Door Style'!$G$6+Species!$C$6+'Custom Finish'!$C$6)","v":{"$error":"#VALUE!"}},null,"Light Blue","Dark Gray",null,"2","TSKIN",100,75,"Y","Tall Cabinet - Linen",{"v":1216,"d":"$1,216.00"},"Price change for fall 2019",{"v":862,"d":"$862.00"},1.41,"G1",{"$nulls":4},{"$error":"#N/A"}]
["LC1896","Linen Cabinet Vanity Depth 18\" x 96\"",{"v":1278,"d":"$1,278.00"},2,null,{"$f":"$C357*$F$1*'Order Form'!$Q$18*(Color!$C$6+'Door Style'!$H$6)","v":{"$error":"#VALUE!"}},{"$f":"$C357*$G$1*'Order Form'!$Q$18*(Color!$D$6+'Door Style'!$G$6+Species!$C$6+'Custom Finish'!$C$6)","v":{"$error":"#VALUE!"}},null,{"$f":"'Order Type'!$C$6","v":"01-"},{"$f":"'Order Type'!$C$6","v":"01-"},{"$f":"CONCAT!$D$2","v":""},null,1,"01-LC1896","11-LC1896",1,"12-UC1896","12-UC1896",1,{"$nulls":5},{"$f":"$C357*$F$1*(Color!$C$8+'Door Style'!$H$6)","v":{"v":1096.5240000000001,"d":"$1,096.52"}},{"$f":"$C357*$G$1*1*(Color!$D$8+'Door Style'!$G$6+Species!$C$6+'Custom Finish'!$C$6)","v":{"$error":"#VALUE!"}},null,"Light Blue","Dark Gray",null,"2","TSKIN",100,75,"Y","Tall Cabinet - Linen",{"v":1278,"d":"$1,278.00"},"Price change for fall 2019",{"v":906,"d":"$906.00"},1.41,"G1",{"$nulls":4},{"$error":"#N/A"}]
["LC2484","Linen Cabinet Vanity Depth 24\" x 84\"",{"v":1463,"d":"$1,463.00"},2,null,{"$f":"$C358*$F$1*'Order Form'!$Q$18*(Color!$C$6+'Door Style'!$H$6)","v":{"$error":"#VALUE!"}},{"$f":"$C358*$G$1*'Order Form'!$Q$18*(Color!$D$6+'Door Style'!$G$6+Species!$C$6+'Custom Finish'!$C$6)","v":{"$error":"#VALUE!"}},null,{"$f":"'Order Type'!$C$6","v":"01-"},{"$f":"'Order Type'!$C$6","v":"01-"},{"$f":"CONCAT!$D$2","v":""},null,1,"01-LC2484","11-LC2484",1,"12-UC2484","12-UC2484",1,{"$nulls":5},{"$f":"$C358*$F$1*(Color!$C$8+'Door Style'!$H$6)","v":{"v":1255.2540000000001,"d":"$1,255.25"}},{"$f":"$C358*$G$1*1*(Color!$D$8+'Door Style'!$G$6+Species!$C$6+'Custom Finish'!$C$6)","v":{"$error":"#VALUE!"}},null,"Light Blue","Dark Gray",null,"2","TSKIN",100,75,"N","Tall Cabinet - Linen",{"v":1463,"d":"$1,463.00"},"Price change for fall 2019",{"v":1037,"d":"$1,037.00"},1.41,"G1",{"$nulls":4},{"$error":"#N/A"}]
["LC2490","Linen Cabinet Vanity Depth 24\" x 90\"",{"v":1535,"d":"$1,535.00"},2,null,{"$f":"$C359*$F$1*'Order Form'!$Q$18*(Color!$C$6+'Door Style'!$H$6)","v":{"$error":"#VALUE!"}},{"$f":"$C359*$G$1*'Order Form'!$Q$18*(Color!$D$6+'Door Style'!$G$6+Species!$C$6+'Custom Finish'!$C$6)","v":{"$error":"#VALUE!"}},null,{"$f":"'Order Type'!$C$6","v":"01-"},{"$f":"'Order Type'!$C$6","v":"01-"},{"$f":"CONCAT!$D$2","v":""},null,1,"01-LC2490","11-LC2490",1,"12-UC2490","12-UC2490",1,{"$nulls":5},{"$f":"$C359*$F$1*(Color!$C$8+'Door Style'!$H$6)","v":{"v":1317.03,"d":"$1,317.03"}},{"$f":"$C359*$G$1*1*(Color!$D$8+'Door Style'!$G$6+Species!$C$6+'Custom Finish'!$C$6)","v":{"$error":"#VALUE!"}},null,"Light Blue","Dark Gray",null,"2","TSKIN",100,75,"N","Tall Cabinet - Linen",{"v":1535,"d":"$1,535.00"},"Price change for fall 2019",{"v":1088,"d":"$1,088.00"},1.41,"G1",{"$nulls":4},{"$error":"#N/A"}]
["LC2496","Linen Cabinet Vanity Depth 24\" x 96\"",{"v":1609,"d":"$1,609.00"},2,null,{"$f":"$C360*$F$1*'Order Form'!$Q$18*(Color!$C$6+'Door Style'!$H$6)","v":{"$error":"#VALUE!"}},{"$f":"$C360*$G$1*'Order Form'!$Q$18*(Color!$D$6+'Door Style'!$G$6+Species!$C$6+'Custom Finish'!$C$6)","v":{"$error":"#VALUE!"}},null,{"$f":"'Order Type'!$C$6","v":"01-"},{"$f":"'Order Type'!$C$6","v":"01-"},{"$f":"CONCAT!$D$2","v":""},null,1,"01-LC2496","11-LC2496",1,"12-UC2496","12-UC2496",1,{"$nulls":5},{"$f":"$C360*$F$1*(Color!$C$8+'Door Style'!$H$6)","v":{"v":1380.5220000000002,"d":"$1,380.52"}},{"$f":"$C360*$G$1*1*(Color!$D$8+'Door Style'!$G$6+Species!$C$6+'Custom Finish'!$C$6)","v":{"$error":"#VALUE!"}},null,"Light Blue","Dark Gray",null,"2","TSKIN",100,75,"N","Tall Cabinet - Linen",{"v":1609,"d":"$1,609.00"},"Price change for fall 2019",{"v":1141,"d":"$1,141.00"},1.41,"G1",{"$nulls":4},{"$error":"#N/A"}]
["LC3684","Linen Cabinet Vanity Depth 36\" x 84\"",{"v":2376,"d":"$2,376.00"},3,null,null,{"$f":"$C361*$G$1*'Order Form'!$Q$18*(Color!$D$6+'Door Style'!$G$6+Species!$C$6+'Custom Finish'!$C$6)","v":{"$error":"#VALUE!"}},null,"SC/PC",{"$f":"'Order Type'!$C$6","v":"01-"},{"$f":"CONCAT!$D$8","v":""},null,1,"01-LC3684","11-LC3684",1,"12-UC3684","12-UC3684",1,{"$nulls":6},{"$f":"$C361*$G$1*1*(Color!$D$8+'Door Style'!$G$6+Species!$C$6+'Custom Finish'!$C$6)","v":{"$error":"#VALUE!"}},null,"Black","Dark Gray",null,2,"TSKIN",100,75,"N","Tall Cabinet - Linen",{"v":2376,"d":"$2,376.00"},"Price change for fall 2019",{"v":1685,"d":"$1,685.00"},1.41,"G1",{"$nulls":4},{"$error":"#N/A"}]
["LC3690","Linen Cabinet Vanity Depth 36\" x 90\"",{"v":2492,"d":"$2,492.00"},3,null,null,{"$f":"$C362*$G$1*'Order Form'!$Q$18*(Color!$D$6+'Door Style'!$G$6+Species!$C$6+'Custom Finish'!$C$6)","v":{"$error":"#VALUE!"}},null,"SC/PC",{"$f":"'Order Type'!$C$6","v":"01-"},{"$f":"CONCAT!$D$8","v":""},null,1,"01-LC3690","11-LC3690",1,"12-UC3690","12-UC3690",1,{"$nulls":6},{"$f":"$C362*$G$1*1*(Color!$D$8+'Door Style'!$G$6+Species!$C$6+'Custom Finish'!$C$6)","v":{"$error":"#VALUE!"}},null,"Black","Dark Gray",null,2,"TSKIN",100,75,"N","Tall Cabinet - Linen",{"v":2492,"d":"$2,492.00"},"Price change for fall 2019",{"v":1767,"d":"$1,767.00"},1.41,"G1",{"$nulls":4},{"$error":"#N/A"}]
["LC3696","Linen Cabinet Vanity Depth 36\" x 96\"",{"v":2615,"d":"$2,615.00"},3,null,null,{"$f":"$C363*$G$1*'Order Form'!$Q$18*(Color!$D$6+'Door Style'!$G$6+Species!$C$6+'Custom Finish'!$C$6)","v":{"$error":"#VALUE!"}},null,"SC/PC",{"$f":"'Order Type'!$C$6","v":"01-"},{"$f":"CONCAT!$D$8","v":""},null,1,"01-LC3696","11-LC3696",1,"12-UC3696","12-UC3696",1,{"$nulls":6},{"$f":"$C363*$G$1*1*(Color!$D$8+'Door Style'!$G$6+Species!$C$6+'Custom Finish'!$C$6)","v":{"$error":"#VALUE!"}},null,"Black","Dark Gray",null,2,"TSKIN",100,75,"N","Tall Cabinet - Linen",{"v":2615,"d":"$2,615.00"},"Price change for fall 2019",{"v":1854,"d":"$1,854.00"},1.41,"G1",{"$nulls":4},{"$error":"#N/A"}]
["LONG SCREWS-PULLS OR KNOBS","Long Screws for Pulls or Knobs",{"v":0,"d":"$0.00"},2,null,{"v":0,"d":"$0.00"},{"v":0,"d":"$0.00"},null,"/","/","",null,0,"/LONG SCREWS-PULLS OR KNOBS",{"$nulls":3},"",null,{"$f":"N364","v":"/LONG SCREWS-PULLS OR KNOBS"},1,{"$nulls":3},{"v":0,"d":"$0.00"},{"v":0,"d":"$0.00"},null,"Dark Blue","Dark Blue","N",null,null,"No","No","N",{"$nulls":5},"Zero Price",{"$nulls":4},{"$error":"#N/A"}]
["LS33","Lazy Susan 33\"",{"v":1239,"d":"$1,239.00"},3,null,null,{"$f":"$C365*$G$1*'Order Form'!$Q$18*(Color!$D$6+'Door Style'!$G$6+Species!$C$6+'Custom Finish'!$C$6)","v":{"$error":"#VALUE!"}},null,"PROJECT",{"$f":"'Order Type'!$C$6","v":"01-"},{"$f":"CONCAT!$D$2","v":""},null,1,"01-LS33","11-LS36",1,"12-LS33","12-LS33",1,{"$nulls":6},{"$f":"$C365*$G$1*1*(Color!$D$8+'Door Style'!$G$6+Species!$C$6+'Custom Finish'!$C$6)","v":{"$error":"#VALUE!"}},null,"Black","Dark Yellow",null,"1","BSKIN","No","No","Y","Base Cabinet - Corner - Lazy Susan",{"$f":"ROUNDUP(AM365*AN365,0)","v":{"v":1239,"d":"$1,239.00"}},"Price change for fall 2019",{"v":804,"d":"$804.00"},1.54,"G2",{"$nulls":4},{"$error":"#N/A"}]
["LS36","Lazy Susan 36\"",{"v":1109,"d":"$1,109.00"},2,"PB",{"$f":"$C366*$F$1*'Order Form'!$Q$18*(Color!$C$6+'Door Style'!$H$6)","v":{"$error":"#VALUE!"}},{"$f":"$C366*$G$1*'Order Form'!$Q$18*(Color!$D$6+'Door Style'!$G$6+Species!$C$6+'Custom Finish'!$C$6)","v":{"$error":"#VALUE!"}},null,{"$f":"'Order Type'!$C$6","v":"01-"},{"$f":"'Order Type'!$C$6","v":"01-"},{"$f":"CONCAT!$D$2","v":""},null,1,"01-LS36","11-LS36",1,"12-WEZR2430","12-WEZR2430",1,{"$nulls":5},{"$f":"$C366*$F$1*(Color!$C$8+'Door Style'!$H$6)","v":{"v":951.522,"d":"$951.52"}},{"$f":"$C366*$G$1*1*(Color!$D$8+'Door Style'!$G$6+Species!$C$6+'Custom Finish'!$C$6)","v":{"$error":"#VALUE!"}},null,"Light Blue","Dark Yellow",null,"1","BSKIN",300,150,"Y","Base Cabinet - Corner - Lazy Susan",{"v":1109,"d":"$1,109.00"},"Price change for fall 2019",{"v":720,"d":"$720.00"},1.54,"G2",{"$nulls":4},{"$error":"#N/A"}]
["MIR2430","Mirror Face 24\" x 30\"",{"v":301,"d":"$301.00"},3,null,null,{"$f":"$C367*$G$1*'Order Form'!$Q$18*(Color!$D$6+Species!$C$6)","v":{"$error":"#VALUE!"}},null,"SC/PC","13-",{"$f":"CONCAT!$D$8","v":""},null,0,"13-MIR2430",{"$nulls":3},"",null,{"$f":"N367","v":"13-MIR2430"},1,{"$nulls":4},{"$f":"$C367*$G$1*1*(Color!$D$8+Species!$C$6)","v":{"$error":"#VALUE!"}},null,"Black","Pink",{"$nulls":3},75,25,"N","Wall Cabinet - Mirror",{"v":301,"d":"$301.00"},"Price change for fall 2019",{"v":213,"d":"$213.00"},1.41,"G1",{"$nulls":4},{"$error":"#N/A"}]
["MIR3030","Mirror Face 30\" x 30\"",{"v":325,"d":"$325.00"},3,null,null,{"$f":"$C368*$G$1*'Order Form'!$Q$18*(Color!$D$6+Species!$C$6)","v":{"$error":"#VALUE!"}},null,"SC/PC","13-",{"$f":"CONCAT!$D$8","v":""},null,0,"13-MIR3030",{"$nulls":3},"",null,"13-MIR3030",1,{"$nulls":4},{"$f":"$C368*$G$1*1*(Color!$D$8+Species!$C$6)","v":{"$error":"#VALUE!"}},null,"Black","Pink",{"$nulls":3},75,25,"N","Wall Cabinet - Mirror",{"v":325,"d":"$325.00"},"Price change for fall 2019",{"v":230,"d":"$230.00"},1.41,"G1",{"$nulls":4},{"$error":"#N/A"}]
["MIXER LIFT","Mixer Lift Chrome w/ Shelf ",{"v":250,"d":"$250.00"},2,null,{"$f":"$C369","v":{"v":250,"d":"$250.00"}},{"$f":"$C369","v":{"v":250,"d":"$250.00"}},null,"/",{"$f":"'Order Type'!$C$6","v":"01-"},"",null,0,"01-MIXER LIFT",{"$nulls":3},"",null,"01-MIXER LIFT",1,{"$nulls":3},{"$f":"$C369","v":{"v":250,"d":"$250.00"}},{"$f":"$C369","v":{"v":250,"d":"$250.00"}},null,"Tan","Tan",{"$nulls":3},"No","No","N","Accessory - Base - Full Height",{"v":250,"d":"$250.00"},null,{"v":250,"d":"$250.00"},1,"ACC",{"$nulls":4},{"$error":"#N/A"}]
["MOC90","Molding Outside Corner ",{"v":88,"d":"$88.00"},2,null,{"$f":"($C370*$F$1*Color!$G$6*'Order Form'!$Q$18)","v":{"$error":"#VALUE!"}},{"$f":"$C370*$G$1*'Order Form'!$Q$18*(Color!$D$6+Species!$C$6)","v":{"$error":"#VALUE!"}},null,"13-","13-",{"$f":"CONCAT!$D$3","v":""},null,0,"13-MOC90",{"$nulls":3},"",null,"13-MOC90",1,{"$nulls":3},{"$f":"($C370*$F$1*Color!$G$8*1)","v":{"v":75.504,"d":"$75.50"}},{"$f":"$C370*$G$1*1*(Color!$D$8+Species!$C$6)","v":{"$error":"#VALUE!"}},null,"Orange","Pink",{"$nulls":3},"No","No","N","Trim",{"v":88,"d":"$88.00"},"Price change for fall 2019",{"v":62,"d":"$62.00"},1.41,"G1",{"$nulls":4},{"$error":"#N/A"}]
["MOC901.5","Molding Outside Corner - 1.5 inch coverage",{"v":176,"d":"$176.00"},3,null,{"$f":"($C371*$F$1*Color!$G$6*'Order Form'!$Q$18)","v":{"$error":"#VALUE!"}},{"$f":"$C371*$G$1*'Order Form'!$Q$18*(Color!$D$6+Species!$C$6)","v":{"$error":"#VALUE!"}},null,"13-","13-",{"$f":"CONCAT!$D$3","v":""},null,0,"13-MOC901.5",{"$nulls":3},"",null,"13-MOC901.5",1,{"$nulls":3},{"$f":"($C371*$F$1*Color!$G$8*1)","v":{"v":151.008,"d":"$151.01"}},{"$f":"$C371*$G$1*1*(Color!$D$8+Species!$C$6)","v":{"$error":"#VALUE!"}},null,"Orange","Pink",{"$nulls":3},"No","No","N","Trim",{"v":176,"d":"$176.00"},"New Item for fall 2019",{"v":88,"d":"$88.00"},2,"New",{"$nulls":4},{"$error":"#N/A"}]
["MOD-ADA","Cabinet Height Modified to comply with ADA height - 32.5in Tall",{"v":5,"d":"$5.00"},3,null,null,{"$f":"$C372","v":{"v":5,"d":"$5.00"}},null,"/","/","",null,0,"/MOD-ADA",{"$nulls":3},"",null,"/MOD-ADA",1,{"$nulls":4},{"$f":"$C372","v":{"v":5,"d":"$5.00"}},null,"Black","Tan","N",null,null,"No","No","N","Modification",{"v":40,"d":"$40.00"},"New Item for fall 2019",{"v":40,"d":"$40.00"},1,"ACC",{"$nulls":4},{"$error":"#N/A"}]
["MOD-B-COOKTOP","Modify to have cutout for cooktop",{"v":0,"d":"$0.00"},2,null,{"v":0,"d":"$0.00"},{"v":0,"d":"$0.00"},null,"/","/","",null,0,"/MOD-B-COOKTOP",{"$nulls":5},"/MOD-B-COOKTOP",1,{"$nulls":3},{"v":0,"d":"$0.00"},{"v":0,"d":"$0.00"},null,"Dark Blue","Dark Blue",{"$nulls":3},"No","No","N","Modification",{"$nulls":4},"Zero Price",{"$nulls":4},{"$error":"#N/A"}]
["MOD-B-DB-SIZE","Change In Drawer Box Size - Per Drawer",{"v":50,"d":"$50.00"},2,null,{"$f":"$C374","v":{"v":50,"d":"$50.00"}},{"v":50,"d":"$50.00"},null,"/","/","",null,0,"/MOD-B-DB-SIZE",{"$nulls":3},{"$f":"Q374&K374","v":""},null,"/MOD-B-DB-SIZE",1,{"$nulls":3},{"$f":"$C374","v":{"v":50,"d":"$50.00"}},{"v":50,"d":"$50.00"},null,"Tan","Tan","N",null,null,"No","No","N","Modification",{"$f":"ROUNDUP(AM374*AN374,0)","v":{"v":50,"d":"$50.00"}},null,{"v":50,"d":"$50.00"},1,"ACC",{"$nulls":4},{"$error":"#N/A"}]
["MOD-B-DD","Decrease Depth - 6\" Min Depth Base Cabinet",{"v":50,"d":"$50.00"},2,null,{"v":50,"d":"$50.00"},{"v":50,"d":"$50.00"},null,"/","/","",null,0,"/MOD-B-DD",{"$nulls":3},"",null,"/MOD-B-DD",1,{"$nulls":3},{"v":50,"d":"$50.00"},{"v":50,"d":"$50.00"},null,"Tan","Tan","N",null,null,"No","No","N","Modification",{"v":50,"d":"$50.00"},null,{"v":50,"d":"$50.00"},1,"ACC",{"$nulls":4},{"$error":"#N/A"}]
["MOD-B-ID","Increase Depth - 30\" Max Depth Base Cabinet",{"v":75,"d":"$75.00"},2,null,{"v":75,"d":"$75.00"},{"v":75,"d":"$75.00"},null,"/","/","",null,0,"/MOD-B-ID",{"$nulls":3},"",null,"/MOD-B-ID",1,{"$nulls":3},{"v":75,"d":"$75.00"},{"v":75,"d":"$75.00"},null,"Tan","Tan","N",null,null,"No","No","N","Modification",{"v":75,"d":"$75.00"},null,{"v":75,"d":"$75.00"},1,"ACC",{"$nulls":4},{"$error":"#N/A"}]
["MOD-B-STILE","Extended Base Stile",{"v":50,"d":"$50.00"},3,null,null,{"$f":"$C377","v":{"v":50,"d":"$50.00"}},null,"/","/","",null,0,"/MOD-B-STILE",{"$nulls":3},"",null,"/MOD-B-STILE",1,{"$nulls":4},{"$f":"$C377","v":{"v":50,"d":"$50.00"}},null,"Black","Tan",{"$nulls":3},"No","No","N","Modification",{"v":50,"d":"$50.00"},null,{"v":50,"d":"$50.00"},1,"ACC",{"$nulls":4},{"$error":"#N/A"}]
["MOD-FURNITURE BOTTOM","The face of the cabinet is stretched towards the bottom to eliminate the toe kick",{"v":150,"d":"$150.00"},3,null,null,{"$f":"$C378","v":{"v":150,"d":"$150.00"}},null,"/","/","",null,0,"/MOD-FURNITURE BOTTOM",{"$nulls":3},"",null,"/MOD-FURNITURE BOTTOM",1,{"$nulls":4},{"$f":"$C378","v":{"v":150,"d":"$150.00"}},null,"Black","Tan",{"$nulls":3},"No","No","N","Modification",{"v":150,"d":"$150.00"},null,{"v":150,"d":"$150.00"},1,"ACC",{"$nulls":4},{"$error":"#N/A"}]
["MOD-FURNITURE TOEKICK","The face frame of the cabinet is extended to flush with the bottom of the cabinet",{"v":150,"d":"$150.00"},3,null,null,{"$f":"$C379","v":{"v":150,"d":"$150.00"}},null,"/","/","",null,0,"/MOD-FURNITURE TOEKICK",{"$nulls":3},"",null,"/MOD-FURNITURE TOEKICK",1,{"$nulls":4},{"$f":"$C379","v":{"v":150,"d":"$150.00"}},null,"Black","Tan",{"$nulls":3},"No","No","N","Modification",{"v":150,"d":"$150.00"},null,{"v":150,"d":"$150.00"},1,"ACC",{"$nulls":4},{"$error":"#N/A"}]
["MOD-LS TO SHELF","Switch Lazy Susan to a Fixed shelf",{"v":0,"d":"$0.00"},2,null,{"$f":"$C380","v":{"v":0,"d":"$0.00"}},{"$f":"$C380","v":{"v":0,"d":"$0.00"}},null,"/","/","",null,0,{"$f":"J380&A380&K380","v":"/MOD-LS TO SHELF"},{"$nulls":3},"",null,"/MOD-LS TO SHELF",1,{"$nulls":4},{"$f":"$C380","v":{"v":0,"d":"$0.00"}},null,"Tan","Tan",{"$nulls":3},"No","No","N","Modification",0,"Now free fall 2019",{"v":50,"d":"$50.00"},0,"ACC",{"$nulls":4},{"$error":"#N/A"}]
["MOD-MISC","Miscellaneous Modification",{"v":0,"d":"$0.00"},3,null,{"$f":"$C381","v":{"v":0,"d":"$0.00"}},{"$f":"$C381","v":{"v":0,"d":"$0.00"}},null,"/","/","",null,0,"/MOD-MISC",{"$nulls":3},"",null,"/MOD-MISC",1,{"$nulls":3},{"$f":"$C381","v":{"v":0,"d":"$0.00"}},{"$f":"$C381","v":{"v":0,"d":"$0.00"}},null,"Tan","Tan","N",null,null,"No","No","N","Modification",0,null,0,1,"ACC",{"$nulls":4},{"$error":"#N/A"}]
["MOD-NODOOR","20% Discount for No Doors on Craftsman",{"v":0,"d":"$0.00"},3,null,null,{"v":0,"d":"$0.00"},null,"/","/","",null,0,"/MOD-NODOOR",{"$nulls":3},"",null,"/MOD-NODOOR",1,{"$nulls":4},{"v":0,"d":"$0.00"},null,"Black","Dark Blue","N",null,null,"No","No","N","Modification",{"$nulls":4},"Zero Price",{"$nulls":4},{"$error":"#N/A"}]
["MOD-NOTOE","Toe Kick Removal Per Box ",{"v":0,"d":"$0.00"},2,null,{"v":0,"d":"$0.00"},{"v":0,"d":"$0.00"},null,"/","/","",null,0,"/MOD-NOTOE",{"$nulls":3},"",null,"/MOD-NOTOE",1,{"$nulls":3},{"v":0,"d":"$0.00"},{"v":0,"d":"$0.00"},null,"Dark Blue","Dark Blue",{"$nulls":3},"No","No","N","Modification",{"$nulls":4},"Zero Price",{"$nulls":4},{"$error":"#N/A"}]
["MOD-SINGLE DOUBLE DOOR","Change cabinet from a double door to a single door. Applies to 24\" wide cabinets (No warping warranty).",{"v":75,"d":"$75.00"},3,null,null,{"$f":"$C384","v":{"v":75,"d":"$75.00"}},null,"/","/","",null,0,"/MOD-SINGLE DOUBLE DOOR",{"$nulls":3},"",null,"/MOD-SINGLE DOUBLE DOOR",1,{"$nulls":4},{"$f":"$C384","v":{"v":75,"d":"$75.00"}},null,"Black","Tan",{"$nulls":3},"No","No","N","Modification",{"$f":"ROUNDUP(AM384*AN384,0)","v":{"v":75,"d":"$75.00"}},null,{"v":75,"d":"$75.00"},1,"ACC",{"$nulls":4},{"$error":"#N/A"}]
["MOD-SINGLE DOUBLE DRAWER","Change cabinet from double drawer to a single drawer. Applies to cabinet widths 33\", 36\", 39\".",{"v":75,"d":"$75.00"},3,null,null,{"v":75,"d":"$75.00"},null,"/","/","",null,0,"/MOD-SINGLE DOUBLE DRAWER",{"$nulls":3},"",null,"/MOD-SINGLE DOUBLE DRAWER",1,{"$nulls":4},{"v":75,"d":"$75.00"},null,"Black","Tan",{"$nulls":3},"No","No","N","Modification",{"v":75,"d":"$75.00"},null,{"v":75,"d":"$75.00"},1,"ACC",{"$nulls":4},{"$error":"#N/A"}]
["MOD-T-DD","Decrease Depth - 6\" Min Depth Tall Cabinet",{"v":75,"d":"$75.00"},2,null,{"$f":"$C386","v":{"v":75,"d":"$75.00"}},{"v":75,"d":"$75.00"},null,"/","/","",null,0,"/MOD-T-DD",{"$nulls":3},"",null,"/MOD-T-DD",1,{"$nulls":3},{"$f":"$C386","v":{"v":75,"d":"$75.00"}},{"v":75,"d":"$75.00"},null,"Tan","Tan","N",null,null,"No","No","N","Modification",{"v":75,"d":"$75.00"},null,{"v":75,"d":"$75.00"},1,"ACC",{"$nulls":4},{"$error":"#N/A"}]
["MOD-T-ID","Increase Depth - 30\"  Max Depth Tall Cabinet",{"v":100,"d":"$100.00"},2,null,{"$f":"$C387","v":{"v":100,"d":"$100.00"}},{"v":100,"d":"$100.00"},null,"/","/","",null,0,"/MOD-T-ID",{"$nulls":3},"",null,"/MOD-T-ID",1,{"$nulls":3},{"$f":"$C387","v":{"v":100,"d":"$100.00"}},{"v":100,"d":"$100.00"},null,"Tan","Tan","N",null,null,"No","No","N","Modification",{"v":100,"d":"$100.00"},null,{"v":100,"d":"$100.00"},1,"ACC",{"$nulls":4},{"$error":"#N/A"}]
["MOD-TOE","Toe Kick Modification Per Box ",{"v":50,"d":"$50.00"},2,null,{"$f":"$C388","v":{"v":50,"d":"$50.00"}},{"v":50,"d":"$50.00"},null,"/","/","",null,0,"/MOD-TOE",{"$nulls":3},"",null,"/MOD-TOE",1,{"$nulls":3},{"$f":"$C388","v":{"v":50,"d":"$50.00"}},{"v":50,"d":"$50.00"},null,"Tan","Tan",{"$nulls":3},"No","No","N","Modification",{"v":50,"d":"$50.00"},null,{"v":50,"d":"$50.00"},1,"ACC",{"$nulls":4},{"$error":"#N/A"}]
["MOD-T-STILE","Extended Tall Stile",{"v":120,"d":"$120.00"},3,null,null,{"v":120,"d":"$120.00"},null,"/","/","",null,0,"/MOD-T-STILE",{"$nulls":3},"",null,"/MOD-T-STILE",1,{"$nulls":4},{"v":120,"d":"$120.00"},null,"Black","Tan",{"$nulls":3},"No","No","N","Modification",{"v":120,"d":"$120.00"},null,{"v":120,"d":"$120.00"},1,"ACC",{"$nulls":4},{"$error":"#N/A"}]
["MOD-V-DB-SIZE","Change In Drawer Box Size (12in min) - Per Drawer Vanity Cabinet",{"v":50,"d":"$50.00"},2,null,{"$f":"$C390","v":{"v":50,"d":"$50.00"}},{"v":50,"d":"$50.00"},null,"/","/","",null,0,"/MOD-V-DB-SIZE",{"$nulls":3},"",null,"/MOD-V-DB-SIZE",1,{"$nulls":3},{"$f":"$C390","v":{"v":50,"d":"$50.00"}},{"v":50,"d":"$50.00"},null,"Tan","Tan","N",null,null,"No","No","N","Modification",{"v":50,"d":"$50.00"},null,{"v":50,"d":"$50.00"},1,"ACC",{"$nulls":4},{"$error":"#N/A"}]
["MOD-V-DD","Decrease Depth - 6\" Min Depth Vanity Cabinet",{"v":50,"d":"$50.00"},2,null,{"$f":"$C391","v":{"v":50,"d":"$50.00"}},{"v":50,"d":"$50.00"},null,"/","/","",null,0,"/MOD-V-DD",{"$nulls":3},"",null,"/MOD-V-DD",1,{"$nulls":3},{"$f":"$C391","v":{"v":50,"d":"$50.00"}},{"v":50,"d":"$50.00"},null,"Tan","Tan","N",null,null,"No","No","N","Modification",{"v":50,"d":"$50.00"},null,{"v":50,"d":"$50.00"},1,"ACC",{"$nulls":4},{"$error":"#N/A"}]
["MOD-V-ID","Increase Depth - 30\"  Max Depth Vanity Cabinet",{"v":75,"d":"$75.00"},2,null,{"$f":"$C392","v":{"v":75,"d":"$75.00"}},{"v":75,"d":"$75.00"},null,"/","/","",null,0,"/MOD-V-ID",{"$nulls":3},"",null,"/MOD-V-ID",1,{"$nulls":3},{"$f":"$C392","v":{"v":75,"d":"$75.00"}},{"v":75,"d":"$75.00"},null,"Tan","Tan","N",null,null,"No","No","N","Modification",{"v":75,"d":"$75.00"},null,{"v":75,"d":"$75.00"},1,"ACC",{"$nulls":4},{"$error":"#N/A"}]
["MOD-V-INV","Modify a Vanity Base to a Vanity Sink Base Inverted",{"v":50,"d":"$50.00"},2,null,{"$f":"$C393","v":{"v":50,"d":"$50.00"}},{"v":50,"d":"$50.00"},null,"/","/","",null,0,"/MOD-V-INV",{"$nulls":3},"",null,"/MOD-V-INV",1,{"$nulls":3},{"$f":"$C393","v":{"v":50,"d":"$50.00"}},{"v":50,"d":"$50.00"},null,"Tan","Tan",{"$nulls":3},"No","No","N","Modification",{"v":50,"d":"$50.00"},null,{"v":50,"d":"$50.00"},1,"ACC",{"$nulls":4},{"$error":"#N/A"}]
["MOD-V-ROS","Reduce Roll Out Shelf To Vanity Depth",{"v":25,"d":"$25.00"},2,null,{"$f":"$C394","v":{"v":25,"d":"$25.00"}},{"v":25,"d":"$25.00"},null,"/","/","",null,0,"/MOD-V-ROS",{"$nulls":3},"",null,"/MOD-V-ROS",1,{"$nulls":3},{"$f":"$C394","v":{"v":25,"d":"$25.00"}},{"v":25,"d":"$25.00"},null,"Tan","Tan","N",null,null,"No","No","N","Modification",{"v":25,"d":"$25.00"},null,{"v":25,"d":"$25.00"},1,"ACC",{"$nulls":4},{"$error":"#N/A"}]
["MOD-V-STILE","Extended Vanity Stile",{"v":50,"d":"$50.00"},3,null,null,{"v":50,"d":"$50.00"},null,"/","/","",null,0,"/MOD-V-STILE",{"$nulls":3},"",null,"/MOD-V-STILE",1,{"$nulls":4},{"v":50,"d":"$50.00"},null,"Black","Tan",{"$nulls":3},"No","No","N","Modification",{"v":50,"d":"$50.00"},null,{"v":50,"d":"$50.00"},1,"ACC",{"$nulls":4},{"$error":"#N/A"}]
["MOD-W-DD","Decrease Depth - 6\" Min Depth Wall Cabinet",{"v":25,"d":"$25.00"},2,null,{"$f":"$C396","v":{"v":25,"d":"$25.00"}},{"v":25,"d":"$25.00"},null,"/","/","",null,0,"/MOD-W-DD",{"$nulls":3},"",null,"/MOD-W-DD",1,{"$nulls":3},{"$f":"$C396","v":{"v":25,"d":"$25.00"}},{"v":25,"d":"$25.00"},null,"Tan","Tan","N",null,null,"No","No","N","Modification",{"v":25,"d":"$25.00"},null,{"v":25,"d":"$25.00"},1,"ACC",{"$nulls":4},{"$error":"#N/A"}]
["MOD-W-ID","Increase Depth - 24\"  Max Depth Wall Cabinet",{"v":75,"d":"$75.00"},2,null,{"$f":"$C397","v":{"v":75,"d":"$75.00"}},{"v":75,"d":"$75.00"},null,"/","/","",null,0,"/MOD-W-ID",{"$nulls":3},"",null,"/MOD-W-ID",1,{"$nulls":3},{"$f":"$C397","v":{"v":75,"d":"$75.00"}},{"v":75,"d":"$75.00"},null,"Tan","Tan","N",null,null,"No","No","N","Modification",{"v":75,"d":"$75.00"},null,{"v":75,"d":"$75.00"},1,"ACC",{"$nulls":4},{"$error":"#N/A"}]
["MOD-W-STILE","Extended Wall Stile",{"v":50,"d":"$50.00"},3,null,null,{"v":50,"d":"$50.00"},null,"/","/","",null,0,"/MOD-W-STILE",{"$nulls":3},"",null,"/MOD-W-STILE",1,{"$nulls":4},{"v":50,"d":"$50.00"},null,"Black","Tan",{"$nulls":3},"No","No","N","Modification",{"v":50,"d":"$50.00"},null,{"v":50,"d":"$50.00"},1,"ACC",{"$nulls":4},{"$error":"#N/A"}]
["MTT DISCOUNT","PO Match",{"v":0,"d":"$0.00"},2,null,{"v":0,"d":"$0.00"},{"v":0,"d":"$0.00"},null,"/","/","",null,0,"/MTT DISCOUNT",{"$nulls":3},"",null,"/MTT DISCOUNT",1,{"$nulls":3},{"v":0,"d":"$0.00"},{"v":0,"d":"$0.00"},null,"Dark Blue","Dark Blue","N",null,null,"No","No","N",null,null,"New Item For Fall 2019",null,null,"Zero Price",{"$nulls":4},{"$error":"#N/A"}]
["MTT PO MATCH","PO Match",{"v":0,"d":"$0.00"},2,null,{"v":0,"d":"$0.00"},{"v":0,"d":"$0.00"},null,"/","/","",null,0,"/MTT PO MATCH",{"$nulls":3},"",null,"/MTT PO MATCH",1,{"$nulls":3},{"v":0,"d":"$0.00"},{"v":0,"d":"$0.00"},null,"Dark Blue","Dark Blue","N",null,null,"No","No","N",null,null,"New Item For Fall 2019",null,null,"Zero Price",{"$nulls":4},{"$error":"#N/A"}]
["MTT UPGRADES","PO Match",{"v":0,"d":"$0.00"},2,null,{"v":0,"d":"$0.00"},{"v":0,"d":"$0.00"},null,"/","/","",null,0,"/MTT UPGRADES",{"$nulls":3},"",null,"/MTT UPGRADES",1,{"$nulls":3},{"v":0,"d":"$0.00"},{"v":0,"d":"$0.00"},null,"Dark Blue","Dark Blue","N",null,null,"No","No","N",null,null,"New Item For Fall 2019",null,null,"Zero Price",{"$nulls":4},{"$error":"#N/A"}]
["MWB24","Microwave Base Shelf 24",{"v":1120,"d":"$1,120.00"},3,null,null,{"$f":"$C402*$G$1*'Order Form'!$Q$18*(Color!$D$6+'Door Style'!$G$6+Species!$C$6+'Drawer Head'!$E$6+'Custom Finish'!$C$6)","v":{"$error":"#VALUE!"}},null,"SC/PC",{"$f":"'Order Type'!$C$6","v":"01-"},{"$f":"CONCAT!$D$8","v":""},null,1,"01-MWB24","11-MWB24",1,"12-MWB24","12-MWB24",1,null,null,"DG 21IN KITCHEN SET-DTC",1,null,null,{"$f":"$C402*$G$1*1*(Color!$D$8+'Door Style'!$G$6+Species!$C$6+'Drawer Head'!$E$6+'Custom Finish'!$C$6)","v":{"$error":"#VALUE!"}},null,"Black","Light Yellow",null,"1","BSKIN",125,100,"N","Base Cabinet - Microwave Base Shelf ",{"$f":"ROUNDUP(AM402*AN402,0)","v":{"v":1120,"d":"$1,120.00"}},"Price change for fall 2019",{"v":727,"d":"$727.00"},1.54,"G2",{"$nulls":4},{"$error":"#N/A"}]
["MWB27","Microwave Base Shelf 27",{"v":1206,"d":"$1,206.00"},3,null,null,{"$f":"$C403*$G$1*'Order Form'!$Q$18*(Color!$D$6+'Door Style'!$G$6+Species!$C$6+'Drawer Head'!$E$6+'Custom Finish'!$C$6)","v":{"$error":"#VALUE!"}},null,"SC/PC",{"$f":"'Order Type'!$C$6","v":"01-"},{"$f":"CONCAT!$D$8","v":""},null,1,"01-MWB27","11-MWB27",1,"12-MWB27","12-MWB27",1,null,null,"DG 21IN KITCHEN SET-DTC",1,null,null,{"$f":"$C403*$G$1*1*(Color!$D$8+'Door Style'!$G$6+Species!$C$6+'Drawer Head'!$E$6+'Custom Finish'!$C$6)","v":{"$error":"#VALUE!"}},null,"Black","Light Yellow",null,"1","BSKIN",125,100,"N","Base Cabinet - Microwave Base Shelf ",{"v":1206,"d":"$1,206.00"},"Price change for fall 2019",{"v":783,"d":"$783.00"},1.54,"G2",{"$nulls":4},{"$error":"#N/A"}]
["MWB30","Microwave Base Shelf 30",{"v":1285,"d":"$1,285.00"},3,null,null,{"$f":"$C404*$G$1*'Order Form'!$Q$18*(Color!$D$6+'Door Style'!$G$6+Species!$C$6+'Drawer Head'!$E$6+'Custom Finish'!$C$6)","v":{"$error":"#VALUE!"}},null,"SC/PC",{"$f":"'Order Type'!$C$6","v":"01-"},{"$f":"CONCAT!$D$8","v":""},null,1,"01-MWB30","11-MWB30",1,"12-MWB30","12-MWB30",1,null,null,"DG 21IN KITCHEN SET-DTC",1,null,null,{"$f":"$C404*$G$1*1*(Color!$D$8+'Door Style'!$G$6+Species!$C$6+'Drawer Head'!$E$6+'Custom Finish'!$C$6)","v":{"$error":"#VALUE!"}},null,"Black","Light Yellow",null,"1","BSKIN",125,100,"N","Base Cabinet - Microwave Base Shelf ",{"v":1285,"d":"$1,285.00"},"Price change for fall 2019",{"v":834,"d":"$834.00"},1.54,"G2",{"$nulls":4},{"$error":"#N/A"}]
["MWBC24","Microwave Base Custom 24",{"v":1203,"d":"$1,203.00"},3,null,null,{"$f":"$C405*$G$1*'Order Form'!$Q$18*(Color!$D$6+'Door Style'!$G$6+Species!$C$6+'Drawer Head'!$E$6+'Custom Finish'!$C$6)","v":{"$error":"#VALUE!"}},null,"SC/PC",{"$f":"'Order Type'!$C$6","v":"01-"},{"$f":"CONCAT!$D$8","v":""},"Yes",1,"01-MWBC24","11-MWB24",1,"12-MWBC24","12-MWBC24",1,null,null,"DG 21IN KITCHEN SET-DTC",1,null,null,{"$f":"$C405*$G$1*1*(Color!$D$8+'Door Style'!$G$6+Species!$C$6+'Drawer Head'!$E$6+'Custom Finish'!$C$6)","v":{"$error":"#VALUE!"}},null,"Black","Light Yellow",null,"1","BSKIN",125,100,"N","Base Cabinet - Microwave Custom",{"v":1203,"d":"$1,203.00"},"Price change for fall 2019",{"v":781,"d":"$781.00"},1.54,"G2",{"$nulls":4},{"$error":"#N/A"}]
["MWBC27","Microwave Base Custom 27",{"v":1291,"d":"$1,291.00"},3,null,null,{"$f":"$C406*$G$1*'Order Form'!$Q$18*(Color!$D$6+'Door Style'!$G$6+Species!$C$6+'Drawer Head'!$E$6+'Custom Finish'!$C$6)","v":{"$error":"#VALUE!"}},null,"SC/PC",{"$f":"'Order Type'!$C$6","v":"01-"},{"$f":"CONCAT!$D$8","v":""},"Yes",1,"01-MWBC27","11-MWB27",1,"12-MWBC27","12-MWBC27",1,null,null,"DG 21IN KITCHEN SET-DTC",1,null,null,{"$f":"$C406*$G$1*1*(Color!$D$8+'Door Style'!$G$6+Species!$C$6+'Drawer Head'!$E$6+'Custom Finish'!$C$6)","v":{"$error":"#VALUE!"}},null,"Black","Light Yellow",null,"1","BSKIN",125,100,"N","Base Cabinet - Microwave Custom",{"v":1291,"d":"$1,291.00"},"Price change for fall 2019",{"v":838,"d":"$838.00"},1.54,"G2",{"$nulls":4},{"$error":"#N/A"}]
["MWBC30","Microwave Base Custom 30",{"v":1368,"d":"$1,368.00"},3,null,null,{"$f":"$C407*$G$1*'Order Form'!$Q$18*(Color!$D$6+'Door Style'!$G$6+Species!$C$6+'Drawer Head'!$E$6+'Custom Finish'!$C$6)","v":{"$error":"#VALUE!"}},null,"SC/PC",{"$f":"'Order Type'!$C$6","v":"01-"},{"$f":"CONCAT!$D$8","v":""},"Yes",1,"01-MWBC30","11-MWB30",1,"12-MWBC30","12-MWBC30",1,null,null,"DG 21IN KITCHEN SET-DTC",1,null,null,{"$f":"$C407*$G$1*1*(Color!$D$8+'Door Style'!$G$6+Species!$C$6+'Drawer Head'!$E$6+'Custom Finish'!$C$6)","v":{"$error":"#VALUE!"}},null,"Black","Light Yellow",null,"1","BSKIN",125,100,"N","Base Cabinet - Microwave Custom",{"v":1368,"d":"$1,368.00"},"Price change for fall 2019",{"v":888,"d":"$888.00"},1.54,"G2",{"$nulls":4},{"$error":"#N/A"}]
["MWS2418","Microwave Wall Shelf 24\" x 18\"",{"v":423,"d":"$423.00"},3,null,null,{"$f":"$C408*$G$1*'Order Form'!$Q$18*(Color!$D$6+Species!$C$6)","v":{"$error":"#VALUE!"}},null,"13-",{"$f":"'Order Type'!$C$6","v":"01-"},{"$f":"CONCAT!$D$8","v":""},null,1,"01-MWS2418","11-MWS2418",1,"12-MWS2418","12-MWS2418",1,{"$nulls":6},{"$f":"$C408*$G$1*1*(Color!$D$8+Species!$C$6)","v":{"$error":"#VALUE!"}},null,"Black","Pink",null,1,"WSKIN30",75,25,"N","Wall Cabinet - Microwave",{"v":423,"d":"$423.00"},"Price change for fall 2019",{"v":300,"d":"$300.00"},1.41,"G1",{"$nulls":4},{"$error":"#N/A"}]
["MWS2430","Microwave Wall Shelf Cabinet 24\" x 30\"",{"v":597,"d":"$597.00"},3,null,null,{"$f":"$C409*$G$1*'Order Form'!$Q$18*(Color!$D$6+'Door Style'!$G$6+Species!$C$6+'Custom Finish'!$C$6)","v":{"$error":"#VALUE!"}},null,"SC/PC",{"$f":"'Order Type'!$C$6","v":"01-"},{"$f":"CONCAT!$D$8","v":""},null,1,"01-MWS2430","11-MWS2430",1,"12-MWS2430","12-MWS2430",1,{"$nulls":6},{"$f":"$C409*$G$1*1*(Color!$D$8+'Door Style'!$G$6+Species!$C$6+'Custom Finish'!$C$6)","v":{"$error":"#VALUE!"}},null,"Black","Dark Gray",null,1,"WSKIN30",75,25,"N","Wall Cabinet - Microwave",{"v":597,"d":"$597.00"},"Price change for fall 2019",{"v":423,"d":"$423.00"},1.41,"G1",{"$nulls":4},{"$error":"#N/A"}]
["MWS2436","Microwave Wall Shelf Cabinet 24\" x 36\"",{"v":663,"d":"$663.00"},3,null,null,{"$f":"$C410*$G$1*'Order Form'!$Q$18*(Color!$D$6+'Door Style'!$G$6+Species!$C$6+'Custom Finish'!$C$6)","v":{"$error":"#VALUE!"}},null,"SC/PC",{"$f":"'Order Type'!$C$6","v":"01-"},{"$f":"CONCAT!$D$8","v":""},null,1,"01-MWS2436","11-MWS2436",1,"12-MWS2436","12-MWS2436",1,{"$nulls":6},{"$f":"$C410*$G$1*1*(Color!$D$8+'Door Style'!$G$6+Species!$C$6+'Custom Finish'!$C$6)","v":{"$error":"#VALUE!"}},null,"Black","Dark Gray",null,1,"WSKIN36",75,25,"N","Wall Cabinet - Microwave",{"v":663,"d":"$663.00"},"Price change for fall 2019",{"v":470,"d":"$470.00"},1.41,"G1",{"$nulls":4},{"$error":"#N/A"}]
["MWS2442","Microwave Wall Shelf Cabinet 24\" x 42\"",{"v":758,"d":"$758.00"},3,null,null,{"$f":"$C411*$G$1*'Order Form'!$Q$18*(Color!$D$6+'Door Style'!$G$6+Species!$C$6+'Custom Finish'!$C$6)","v":{"$error":"#VALUE!"}},null,"SC/PC",{"$f":"'Order Type'!$C$6","v":"01-"},{"$f":"CONCAT!$D$8","v":""},null,1,"01-MWS2442","11-MWS2442",1,"12-MWS2442","12-MWS2442",1,{"$nulls":6},{"$f":"$C411*$G$1*1*(Color!$D$8+'Door Style'!$G$6+Species!$C$6+'Custom Finish'!$C$6)","v":{"$error":"#VALUE!"}},null,"Black","Dark Gray",null,1,"WSKIN42",75,25,"N","Wall Cabinet - Microwave",{"v":758,"d":"$758.00"},"Price change for fall 2019",{"v":537,"d":"$537.00"},1.41,"G1",{"$nulls":4},{"$error":"#N/A"}]
["MWS2718","Microwave Wall Shelf 27\" x 18\"",{"v":423,"d":"$423.00"},3,null,null,{"$f":"$C412*$G$1*'Order Form'!$Q$18*(Color!$D$6+Species!$C$6)","v":{"$error":"#VALUE!"}},null,"13-",{"$f":"'Order Type'!$C$6","v":"01-"},{"$f":"CONCAT!$D$8","v":""},null,1,"01-MWS2718","11-MWS2718",1,"12-MWS2718","12-MWS2718",1,{"$nulls":6},{"$f":"$C412*$G$1*1*(Color!$D$8+Species!$C$6)","v":{"$error":"#VALUE!"}},null,"Black","Pink",null,1,"WSKIN30",75,25,"N","Wall Cabinet - Microwave",{"v":423,"d":"$423.00"},"Price change for fall 2019",{"v":300,"d":"$300.00"},1.41,"G1",{"$nulls":4},{"$error":"#N/A"}]
["MWS2730","Microwave Wall Shelf Cabinet 27\" x 30\"",{"v":672,"d":"$672.00"},3,null,null,{"$f":"$C413*$G$1*'Order Form'!$Q$18*(Color!$D$6+'Door Style'!$G$6+Species!$C$6+'Custom Finish'!$C$6)","v":{"$error":"#VALUE!"}},null,"SC/PC",{"$f":"'Order Type'!$C$6","v":"01-"},{"$f":"CONCAT!$D$8","v":""},null,1,"01-MWS2730","11-MWS2730",1,"12-MWS2730","12-MWS2730",1,{"$nulls":6},{"$f":"$C413*$G$1*1*(Color!$D$8+'Door Style'!$G$6+Species!$C$6+'Custom Finish'!$C$6)","v":{"$error":"#VALUE!"}},null,"Black","Dark Gray",null,1,"WSKIN30",75,25,"N","Wall Cabinet - Microwave",{"v":672,"d":"$672.00"},"Price change for fall 2019",{"v":476,"d":"$476.00"},1.41,"G1",{"$nulls":4},{"$error":"#N/A"}]
["MWS2736","Microwave Wall Shelf Cabinet 27\" x 36\"",{"v":748,"d":"$748.00"},3,null,null,{"$f":"$C414*$G$1*'Order Form'!$Q$18*(Color!$D$6+'Door Style'!$G$6+Species!$C$6+'Custom Finish'!$C$6)","v":{"$error":"#VALUE!"}},null,"SC/PC",{"$f":"'Order Type'!$C$6","v":"01-"},{"$f":"CONCAT!$D$8","v":""},null,1,"01-MWS2736","11-MWS2736",1,"12-MWS2736","12-MWS2736",1,{"$nulls":6},{"$f":"$C414*$G$1*1*(Color!$D$8+'Door Style'!$G$6+Species!$C$6+'Custom Finish'!$C$6)","v":{"$error":"#VALUE!"}},null,"Black","Dark Gray",null,1,"WSKIN36",75,25,"N","Wall Cabinet - Microwave",{"v":748,"d":"$748.00"},"Price change for fall 2019",{"v":530,"d":"$530.00"},1.41,"G1",{"$nulls":4},{"$error":"#N/A"}]
["MWS2742","Microwave Wall Shelf Cabinet 27\" x 42\"",{"v":852,"d":"$852.00"},3,null,null,{"$f":"$C415*$G$1*'Order Form'!$Q$18*(Color!$D$6+'Door Style'!$G$6+Species!$C$6+'Custom Finish'!$C$6)","v":{"$error":"#VALUE!"}},null,"SC/PC",{"$f":"'Order Type'!$C$6","v":"01-"},{"$f":"CONCAT!$D$8","v":""},null,1,"01-MWS2742","11-MWS2742",1,"12-MWS2742","12-MWS2742",1,{"$nulls":6},{"$f":"$C415*$G$1*1*(Color!$D$8+'Door Style'!$G$6+Species!$C$6+'Custom Finish'!$C$6)","v":{"$error":"#VALUE!"}},null,"Black","Dark Gray",null,1,"WSKIN42",75,25,"N","Wall Cabinet - Microwave",{"v":852,"d":"$852.00"},"Price change for fall 2019",{"v":604,"d":"$604.00"},1.41,"G1",{"$nulls":4},{"$error":"#N/A"}]
["MWS3018","Microwave Wall Shelf 30\" x 18\"",{"v":423,"d":"$423.00"},2,null,{"$f":"($C416*$F$1*Color!$G$6*'Order Form'!$Q$18)","v":{"$error":"#VALUE!"}},{"$f":"$C416*$G$1*'Order Form'!$Q$18*(Color!$D$6+Species!$C$6)","v":{"$error":"#VALUE!"}},null,"13-",{"$f":"'Order Type'!$C$6","v":"01-"},{"$f":"CONCAT!$D$3","v":""},null,1,"01-MWS3018",null,null,"12-MWS3018","12-MWS3018",1,{"$f":"N416","v":"01-MWS3018"},1,{"$nulls":3},{"$f":"($C416*$F$1*Color!$G$8*1)","v":{"v":362.934,"d":"$362.93"}},{"$f":"$C416*$G$1*1*(Color!$D$8+Species!$C$6)","v":{"$error":"#VALUE!"}},null,"Orange","Pink",null,"1","WSKIN30",75,25,"N","Wall Cabinet - Microwave",{"v":423,"d":"$423.00"},"Price change for fall 2019",{"v":300,"d":"$300.00"},1.41,"G1",{"$nulls":4},{"$error":"#N/A"}]
["MWS3030","Microwave Wall Shelf Cabinet 30\" x 30\"",{"v":689,"d":"$689.00"},2,null,{"$f":"$C417*$F$1*'Order Form'!$Q$18*(Color!$C$6+'Door Style'!$H$6)","v":{"$error":"#VALUE!"}},{"$f":"$C417*$G$1*'Order Form'!$Q$18*(Color!$D$6+'Door Style'!$G$6+Species!$C$6+'Custom Finish'!$C$6)","v":{"$error":"#VALUE!"}},null,{"$f":"'Order Type'!$C$6","v":"01-"},{"$f":"'Order Type'!$C$6","v":"01-"},{"$f":"CONCAT!$D$2","v":""},null,1,"01-MWS3030",null,null,"12-MWS3030","12-MWS3030",1,{"$f":"N417","v":"01-MWS3030"},1,{"$nulls":3},{"$f":"$C417*$F$1*(Color!$C$8+'Door Style'!$H$6)","v":{"v":591.1620000000001,"d":"$591.16"}},{"$f":"$C417*$G$1*1*(Color!$D$8+'Door Style'!$G$6+Species!$C$6+'Custom Finish'!$C$6)","v":{"$error":"#VALUE!"}},null,"Light Blue","Dark Gray",null,"1","WSKIN30",75,25,"N","Wall Cabinet - Microwave",{"v":689,"d":"$689.00"},"Price change for fall 2019",{"v":488,"d":"$488.00"},1.41,"G1",{"$nulls":4},{"$error":"#N/A"}]
["MWS3036","Microwave Wall Shelf Cabinet 30\" x 36\"",{"v":768,"d":"$768.00"},2,null,{"$f":"$C418*$F$1*'Order Form'!$Q$18*(Color!$C$6+'Door Style'!$H$6)","v":{"$error":"#VALUE!"}},{"$f":"$C418*$G$1*'Order Form'!$Q$18*(Color!$D$6+'Door Style'!$G$6+Species!$C$6+'Custom Finish'!$C$6)","v":{"$error":"#VALUE!"}},null,{"$f":"'Order Type'!$C$6","v":"01-"},{"$f":"'Order Type'!$C$6","v":"01-"},{"$f":"CONCAT!$D$2","v":""},null,1,"01-MWS3036",null,null,"12-MWS3036","12-MWS3036",1,{"$f":"N418","v":"01-MWS3036"},1,{"$nulls":3},{"$f":"$C418*$F$1*(Color!$C$8+'Door Style'!$H$6)","v":{"v":658.944,"d":"$658.94"}},{"$f":"$C418*$G$1*1*(Color!$D$8+'Door Style'!$G$6+Species!$C$6+'Custom Finish'!$C$6)","v":{"$error":"#VALUE!"}},null,"Light Blue","Dark Gray",null,"1","WSKIN36",75,25,"N","Wall Cabinet - Microwave",{"v":768,"d":"$768.00"},"Price change for fall 2019",{"v":544,"d":"$544.00"},1.41,"G1",{"$nulls":4},{"$error":"#N/A"}]
["MWS3042","Microwave Wall Shelf Cabinet 30\" x 42\"",{"v":875,"d":"$875.00"},2,null,{"$f":"$C419*$F$1*'Order Form'!$Q$18*(Color!$C$6+'Door Style'!$H$6)","v":{"$error":"#VALUE!"}},{"$f":"$C419*$G$1*'Order Form'!$Q$18*(Color!$D$6+'Door Style'!$G$6+Species!$C$6+'Custom Finish'!$C$6)","v":{"$error":"#VALUE!"}},null,{"$f":"'Order Type'!$C$6","v":"01-"},{"$f":"'Order Type'!$C$6","v":"01-"},{"$f":"CONCAT!$D$2","v":""},null,1,"01-MWS3042",null,null,"12-MWS3042","12-MWS3042",1,{"$f":"N419","v":"01-MWS3042"},1,{"$nulls":3},{"$f":"$C419*$F$1*(Color!$C$8+'Door Style'!$H$6)","v":{"v":750.7500000000001,"d":"$750.75"}},{"$f":"$C419*$G$1*1*(Color!$D$8+'Door Style'!$G$6+Species!$C$6+'Custom Finish'!$C$6)","v":{"$error":"#VALUE!"}},null,"Light Blue","Dark Gray",null,"1","WSKIN42",75,25,"N","Wall Cabinet - Microwave",{"v":875,"d":"$875.00"},"Price change for fall 2019",{"v":620,"d":"$620.00"},1.41,"G1",{"$nulls":4},{"$error":"#N/A"}]
["MWSC2418","Microwave Wall Shelf Custom 24\" x 18\" x 24\"",{"v":614,"d":"$614.00"},3,null,null,{"$f":"$C420*$G$1*'Order Form'!$Q$18*(Color!$D$6+Species!$C$6)","v":{"$error":"#VALUE!"}},null,"13-",{"$f":"'Order Type'!$C$6","v":"01-"},{"$f":"CONCAT!$D$8","v":""},"Yes",1,"01-MWSC2418",{"$nulls":11},{"$f":"$C420*$G$1*1*(Color!$D$8+Species!$C$6)","v":{"$error":"#VALUE!"}},null,"Black","Pink",null,1,"WSKIN30",75,25,"N","Wall Cabinet - Microwave",{"v":614,"d":"$614.00"},"New Item for fall 2019",{"v":423,"d":"$423.00"},1.45,"New",{"$f":"ROUNDUP((AM420*0.75)+((75+40)*2),0)","v":{"v":548,"d":"$548.00"}},{"$f":"AP420/(AK420*0.75)","v":{"v":1.1900108577633008,"d":"119%"}},null,null,{"$error":"#N/A"}]
["MWSC2430","Microwave Wall Shelf Custom Cabinet 24\" x 30\"  x 24\"",{"v":866,"d":"$866.00"},3,null,null,{"$f":"$C421*$G$1*'Order Form'!$Q$18*(Color!$D$6+'Door Style'!$G$6+Species!$C$6+'Custom Finish'!$C$6)","v":{"$error":"#VALUE!"}},null,"SC/PC",{"$f":"'Order Type'!$C$6","v":"01-"},{"$f":"CONCAT!$D$8","v":""},"Yes",1,"01-MWSC2430",{"$nulls":11},{"$f":"$C421*$G$1*1*(Color!$D$8+'Door Style'!$G$6+Species!$C$6+'Custom Finish'!$C$6)","v":{"$error":"#VALUE!"}},null,"Black","Dark Gray",null,1,"WSKIN30",75,25,"N","Wall Cabinet - Microwave",{"v":866,"d":"$866.00"},"New Item for fall 2019",{"v":597,"d":"$597.00"},1.45,"New",{"v":678,"d":"$678.00"},{"v":1.043879907621247,"d":"104%"},null,null,{"$error":"#N/A"}]
["MWSC2436","Microwave Wall Shelf Custom Cabinet 24\" x 36\" x 24\"",{"v":962,"d":"$962.00"},3,null,null,{"$f":"$C422*$G$1*'Order Form'!$Q$18*(Color!$D$6+'Door Style'!$G$6+Species!$C$6+'Custom Finish'!$C$6)","v":{"$error":"#VALUE!"}},null,"SC/PC",{"$f":"'Order Type'!$C$6","v":"01-"},{"$f":"CONCAT!$D$8","v":""},"Yes",1,"01-MWSC2436",{"$nulls":11},{"$f":"$C422*$G$1*1*(Color!$D$8+'Door Style'!$G$6+Species!$C$6+'Custom Finish'!$C$6)","v":{"$error":"#VALUE!"}},null,"Black","Dark Gray",null,1,"WSKIN36",75,25,"N","Wall Cabinet - Microwave",{"v":962,"d":"$962.00"},"New Item for fall 2019",{"v":663,"d":"$663.00"},1.45,"New",{"v":728,"d":"$728.00"},{"v":1.009009009009009,"d":"101%"},null,null,{"$error":"#N/A"}]
["MWSC2442","Microwave Wall Shelf Custom Cabinet 24\" x 42\" x 24\"",{"v":1100,"d":"$1,100.00"},3,null,null,{"$f":"$C423*$G$1*'Order Form'!$Q$18*(Color!$D$6+'Door Style'!$G$6+Species!$C$6+'Custom Finish'!$C$6)","v":{"$error":"#VALUE!"}},null,"SC/PC",{"$f":"'Order Type'!$C$6","v":"01-"},{"$f":"CONCAT!$D$8","v":""},"Yes",1,"01-MWSC2442",{"$nulls":11},{"$f":"$C423*$G$1*1*(Color!$D$8+'Door Style'!$G$6+Species!$C$6+'Custom Finish'!$C$6)","v":{"$error":"#VALUE!"}},null,"Black","Dark Gray",null,1,"WSKIN42",75,25,"N","Wall Cabinet - Microwave",{"v":1100,"d":"$1,100.00"},"New Item for fall 2019",{"v":758,"d":"$758.00"},1.45,"New",{"v":799,"d":"$799.00"},{"v":0.9684848484848485,"d":"97%"},null,null,{"$error":"#N/A"}]
["MWSC2718","Microwave Wall Shelf Custom 27\" x 18\" x 24\"",{"v":614,"d":"$614.00"},3,null,null,{"$f":"$C424*$G$1*'Order Form'!$Q$18*(Color!$D$6+Species!$C$6)","v":{"$error":"#VALUE!"}},null,"13-",{"$f":"'Order Type'!$C$6","v":"01-"},{"$f":"CONCAT!$D$8","v":""},"Yes",1,"01-MWSC2718",{"$nulls":11},{"$f":"$C424*$G$1*1*(Color!$D$8+Species!$C$6)","v":{"$error":"#VALUE!"}},null,"Black","Pink",null,1,"WSKIN30",75,25,"N","Wall Cabinet - Microwave",{"v":614,"d":"$614.00"},"New Item for fall 2019",{"v":423,"d":"$423.00"},1.45,"New",{"v":548,"d":"$548.00"},{"v":1.1900108577633008,"d":"119%"},null,null,{"$error":"#N/A"}]
["MWSC2730","Microwave Wall Shelf Custom Cabinet 27\" x 30\" x 24\"",{"v":975,"d":"$975.00"},3,null,null,{"$f":"$C425*$G$1*'Order Form'!$Q$18*(Color!$D$6+'Door Style'!$G$6+Species!$C$6+'Custom Finish'!$C$6)","v":{"$error":"#VALUE!"}},null,"SC/PC",{"$f":"'Order Type'!$C$6","v":"01-"},{"$f":"CONCAT!$D$8","v":""},"Yes",1,"01-MWSC2730",{"$nulls":11},{"$f":"$C425*$G$1*1*(Color!$D$8+'Door Style'!$G$6+Species!$C$6+'Custom Finish'!$C$6)","v":{"$error":"#VALUE!"}},null,"Black","Dark Gray",null,1,"WSKIN30",75,25,"N","Wall Cabinet - Microwave",{"v":975,"d":"$975.00"},"New Item for fall 2019",{"v":672,"d":"$672.00"},1.45,"New",{"v":734,"d":"$734.00"},{"v":1.0037606837606838,"d":"100%"},null,null,{"$error":"#N/A"}]
["MWSC2736","Microwave Wall Shelf Custom Cabinet 27\" x 36\" x 24\"",{"v":1085,"d":"$1,085.00"},3,null,null,{"$f":"$C426*$G$1*'Order Form'!$Q$18*(Color!$D$6+'Door Style'!$G$6+Species!$C$6+'Custom Finish'!$C$6)","v":{"$error":"#VALUE!"}},null,"SC/PC",{"$f":"'Order Type'!$C$6","v":"01-"},{"$f":"CONCAT!$D$8","v":""},"Yes",1,"01-MWSC2736",{"$nulls":11},{"$f":"$C426*$G$1*1*(Color!$D$8+'Door Style'!$G$6+Species!$C$6+'Custom Finish'!$C$6)","v":{"$error":"#VALUE!"}},null,"Black","Dark Gray",null,1,"WSKIN36",75,25,"N","Wall Cabinet - Microwave",{"v":1085,"d":"$1,085.00"},"New Item for fall 2019",{"v":748,"d":"$748.00"},1.45,"New",{"v":791,"d":"$791.00"},{"v":0.9720430107526882,"d":"97%"},null,null,{"$error":"#N/A"}]
["MWSC2742","Microwave Wall Shelf Custom Cabinet 27\" x 42\" x 24\"",{"v":1236,"d":"$1,236.00"},3,null,null,{"$f":"$C427*$G$1*'Order Form'!$Q$18*(Color!$D$6+'Door Style'!$G$6+Species!$C$6+'Custom Finish'!$C$6)","v":{"$error":"#VALUE!"}},null,"SC/PC",{"$f":"'Order Type'!$C$6","v":"01-"},{"$f":"CONCAT!$D$8","v":""},"Yes",1,"01-MWSC2742",{"$nulls":11},{"$f":"$C427*$G$1*1*(Color!$D$8+'Door Style'!$G$6+Species!$C$6+'Custom Finish'!$C$6)","v":{"$error":"#VALUE!"}},null,"Black","Dark Gray",null,1,"WSKIN42",75,25,"N","Wall Cabinet - Microwave",{"v":1236,"d":"$1,236.00"},"New Item for fall 2019",{"v":852,"d":"$852.00"},1.45,"New",{"v":869,"d":"$869.00"},{"v":0.9374325782092773,"d":"94%"},null,null,{"$error":"#N/A"}]
["MWSC3018","Microwave Wall Shelf Custom 30\" x 18\" x 24\"",{"v":614,"d":"$614.00"},3,null,{"$f":"($C428*$F$1*Color!$G$6*'Order Form'!$Q$18)","v":{"$error":"#VALUE!"}},{"$f":"$C428*$G$1*'Order Form'!$Q$18*(Color!$D$6+Species!$C$6)","v":{"$error":"#VALUE!"}},null,"13-",{"$f":"'Order Type'!$C$6","v":"01-"},{"$f":"CONCAT!$D$3","v":""},"Yes",1,"01-MWSC3018",{"$nulls":10},{"$f":"($C428*$F$1*Color!$G$8*1)","v":{"v":526.812,"d":"$526.81"}},{"$f":"$C428*$G$1*1*(Color!$D$8+Species!$C$6)","v":{"$error":"#VALUE!"}},null,"Orange","Pink",null,"1","WSKIN30",75,25,"N","Wall Cabinet - Microwave",{"v":614,"d":"$614.00"},"New Item for fall 2019",{"v":423,"d":"$423.00"},1.45,"New",{"v":548,"d":"$548.00"},{"v":1.1900108577633008,"d":"119%"},null,null,{"$error":"#N/A"}]
["MWSC3030","Microwave Wall Shelf Custom Cabinet 30\" x 30\" x 24\"",{"v":1000,"d":"$1,000.00"},3,null,{"$f":"$C429*$F$1*'Order Form'!$Q$18*(Color!$C$6+'Door Style'!$H$6)","v":{"$error":"#VALUE!"}},{"$f":"$C429*$G$1*'Order Form'!$Q$18*(Color!$D$6+'Door Style'!$G$6+Species!$C$6+'Custom Finish'!$C$6)","v":{"$error":"#VALUE!"}},null,{"$f":"'Order Type'!$C$6","v":"01-"},{"$f":"'Order Type'!$C$6","v":"01-"},{"$f":"CONCAT!$E$2","v":""},"Yes",1,"01-MWSC3030",{"$nulls":10},{"$f":"$C429*$F$1*(Color!$C$8+'Door Style'!$H$6)","v":{"v":858.0000000000001,"d":"$858.00"}},{"$f":"$C429*$G$1*1*(Color!$D$8+'Door Style'!$G$6+Species!$C$6+'Custom Finish'!$C$6)","v":{"$error":"#VALUE!"}},null,"Light Blue","Dark Gray",null,"1","WSKIN30",75,25,"N","Wall Cabinet - Microwave",{"v":1000,"d":"$1,000.00"},"New Item for fall 2019",{"v":689,"d":"$689.00"},1.45,"New",{"v":747,"d":"$747.00"},{"v":0.996,"d":"100%"},null,null,{"$error":"#N/A"}]
["MWSC3036","Microwave Wall Shelf Custom Cabinet 30\" x 36\" x 24\"",{"v":1114,"d":"$1,114.00"},3,null,{"$f":"$C430*$F$1*'Order Form'!$Q$18*(Color!$C$6+'Door Style'!$H$6)","v":{"$error":"#VALUE!"}},{"$f":"$C430*$G$1*'Order Form'!$Q$18*(Color!$D$6+'Door Style'!$G$6+Species!$C$6+'Custom Finish'!$C$6)","v":{"$error":"#VALUE!"}},null,{"$f":"'Order Type'!$C$6","v":"01-"},{"$f":"'Order Type'!$C$6","v":"01-"},{"$f":"CONCAT!$E$2","v":""},"Yes",1,"01-MWSC3036",{"$nulls":10},{"$f":"$C430*$F$1*(Color!$C$8+'Door Style'!$H$6)","v":{"v":955.8120000000001,"d":"$955.81"}},{"$f":"$C430*$G$1*1*(Color!$D$8+'Door Style'!$G$6+Species!$C$6+'Custom Finish'!$C$6)","v":{"$error":"#VALUE!"}},null,"Light Blue","Dark Gray",null,"1","WSKIN36",75,25,"N","Wall Cabinet - Microwave",{"v":1114,"d":"$1,114.00"},"New Item for fall 2019",{"v":768,"d":"$768.00"},1.45,"New",{"v":806,"d":"$806.00"},{"v":0.964691801316577,"d":"96%"},null,null,{"$error":"#N/A"}]
["MWSC3042","Microwave Wall Shelf Custom Cabinet 30\" x 42\" x 24\"",{"v":1269,"d":"$1,269.00"},3,null,{"$f":"$C431*$F$1*'Order Form'!$Q$18*(Color!$C$6+'Door Style'!$H$6)","v":{"$error":"#VALUE!"}},{"$f":"$C431*$G$1*'Order Form'!$Q$18*(Color!$D$6+'Door Style'!$G$6+Species!$C$6+'Custom Finish'!$C$6)","v":{"$error":"#VALUE!"}},null,{"$f":"'Order Type'!$C$6","v":"01-"},{"$f":"'Order Type'!$C$6","v":"01-"},{"$f":"CONCAT!$E$2","v":""},"Yes",1,"01-MWSC3042",{"$nulls":10},{"$f":"$C431*$F$1*(Color!$C$8+'Door Style'!$H$6)","v":{"v":1088.8020000000001,"d":"$1,088.80"}},{"$f":"$C431*$G$1*1*(Color!$D$8+'Door Style'!$G$6+Species!$C$6+'Custom Finish'!$C$6)","v":{"$error":"#VALUE!"}},null,"Light Blue","Dark Gray",null,"1","WSKIN42",75,25,"N","Wall Cabinet - Microwave",{"v":1269,"d":"$1,269.00"},"New Item for fall 2019",{"v":875,"d":"$875.00"},1.45,"New",{"v":887,"d":"$887.00"},{"v":0.9319674284213292,"d":"93%"},null,null,{"$error":"#N/A"}]
["NESTED CUTLERY DRAWER 15","Nested Cutlery Drawer for B15\"",{"v":200,"d":"$200.00"},2,null,{"$f":"$C432","v":{"v":200,"d":"$200.00"}},{"v":200,"d":"$200.00"},null,"/","","",null,0,"NESTED CUTLERY DRAWER 15",{"$nulls":3},{"$f":"Q432&K432","v":""},null,{"$f":"N432","v":"NESTED CUTLERY DRAWER 15"},1,{"$nulls":3},{"$f":"$C432","v":{"v":200,"d":"$200.00"}},{"v":200,"d":"$200.00"},null,"Tan","Tan",{"$nulls":3},"No","No","N","Accessory - Base",{"v":200,"d":"$200.00"},null,{"v":200,"d":"$200.00"},1,"ACC",{"$nulls":4},{"$error":"#N/A"}]
["NESTED CUTLERY DRAWER 18","Nested Cutlery Drawer for B18\"",{"v":215,"d":"$215.00"},2,null,{"v":215,"d":"$215.00"},{"v":215,"d":"$215.00"},null,"/","","",null,0,"NESTED CUTLERY DRAWER 18",{"$nulls":3},"",null,{"$f":"N433","v":"NESTED CUTLERY DRAWER 18"},1,{"$nulls":3},{"v":215,"d":"$215.00"},{"v":215,"d":"$215.00"},null,"Tan","Tan",{"$nulls":3},"No","No","N","Accessory - Base",{"v":215,"d":"$215.00"},null,{"v":215,"d":"$215.00"},1,"ACC",{"$nulls":4},{"$error":"#N/A"}]
["NESTED CUTLERY DRAWER 21","Nested Cutlery Drawer for B21\"",{"v":230,"d":"$230.00"},2,null,{"v":230,"d":"$230.00"},{"v":230,"d":"$230.00"},null,"/","","",null,0,"NESTED CUTLERY DRAWER 21",{"$nulls":3},"",null,{"$f":"N434","v":"NESTED CUTLERY DRAWER 21"},1,{"$nulls":3},{"v":230,"d":"$230.00"},{"v":230,"d":"$230.00"},null,"Tan","Tan",{"$nulls":3},"No","No","N","Accessory - Base",{"v":230,"d":"$230.00"},null,{"v":230,"d":"$230.00"},1,"ACC",{"$nulls":4},{"$error":"#N/A"}]
["NESTED CUTLERY DRAWER 24","Nested Cutlery Drawer for B24\"",{"v":240,"d":"$240.00"},2,null,{"v":240,"d":"$240.00"},{"v":240,"d":"$240.00"},null,"/","","",null,0,"NESTED CUTLERY DRAWER 24",{"$nulls":3},"",null,{"$f":"N435","v":"NESTED CUTLERY DRAWER 24"},1,{"$nulls":3},{"v":240,"d":"$240.00"},{"v":240,"d":"$240.00"},null,"Tan","Tan",{"$nulls":3},"No","No","N","Accessory - Base",{"v":240,"d":"$240.00"},null,{"v":240,"d":"$240.00"},1,"ACC",{"$nulls":4},{"$error":"#N/A"}]
["NEW PROJECT WORKSHEET","New Project Work Sheets (50 Pack)",{"v":5,"d":"$5.00"},2,null,{"v":5,"d":"$5.00"},{"v":5,"d":"$5.00"},null,"/","/",null,null,0,"/NEW PROJECT WORKSHEET",{"$nulls":3},"",null,{"$f":"N436","v":"/NEW PROJECT WORKSHEET"},1,{"$nulls":3},{"v":5,"d":"$5.00"},{"v":5,"d":"$5.00"},null,"Tan","Tan","Dealer",null,null,"No","No","N","Dealer support item",{"v":5,"d":"$5.00"},null,{"v":5,"d":"$5.00"},1,"ACC",{"$nulls":4},{"$error":"#N/A"}]
["OC3084","Custom Oven Cabinet 30\" x 84\"",{"v":2193,"d":"$2,193.00"},3,null,null,{"$f":"$C437*$G$1*'Order Form'!$Q$18*(Color!$D$6+'Door Style'!$G$6+Species!$C$6+'Custom Finish'!$C$6)","v":{"$error":"#VALUE!"}},null,"SC/PC",{"$f":"'Order Type'!$C$6","v":"01-"},{"$f":"CONCAT!$D$8","v":""},"Yes",1,"01-OC3084","11-OC3084",1,"12-OC3084","12-OC3084",1,null,null,"DG 21IN KITCHEN SET-DTC",3,null,null,{"$f":"$C437*$G$1*1*(Color!$D$8+'Door Style'!$G$6+Species!$C$6+'Custom Finish'!$C$6)","v":{"$error":"#VALUE!"}},null,"Black","Dark Gray",null,"2","TSKIN",150,125,"N","Tall Cabinet - Oven",{"v":2193,"d":"$2,193.00"},"Price change for fall 2019",{"v":1555,"d":"$1,555.00"},1.41,"G1",{"$nulls":4},{"$error":"#N/A"}]
["OC3090","Custom Oven Cabinet 30\" x 90\"",{"v":2224,"d":"$2,224.00"},3,null,null,{"$f":"$C438*$G$1*'Order Form'!$Q$18*(Color!$D$6+'Door Style'!$G$6+Species!$C$6+'Custom Finish'!$C$6)","v":{"$error":"#VALUE!"}},null,"SC/PC",{"$f":"'Order Type'!$C$6","v":"01-"},{"$f":"CONCAT!$D$8","v":""},"Yes",1,"01-OC3090","11-OC3090",1,"12-OC3090","12-OC3090",1,null,null,"DG 21IN KITCHEN SET-DTC",3,null,null,{"$f":"$C438*$G$1*1*(Color!$D$8+'Door Style'!$G$6+Species!$C$6+'Custom Finish'!$C$6)","v":{"$error":"#VALUE!"}},null,"Black","Dark Gray",null,"2","TSKIN",150,125,"N","Tall Cabinet - Oven",{"v":2224,"d":"$2,224.00"},"Price change for fall 2019",{"v":1577,"d":"$1,577.00"},1.41,"G1",{"$nulls":4},{"$error":"#N/A"}]
["OC3096","Custom Oven Cabinet 30\" x 96\"",{"v":2255,"d":"$2,255.00"},3,null,null,{"$f":"$C439*$G$1*'Order Form'!$Q$18*(Color!$D$6+'Door Style'!$G$6+Species!$C$6+'Custom Finish'!$C$6)","v":{"$error":"#VALUE!"}},null,"SC/PC",{"$f":"'Order Type'!$C$6","v":"01-"},{"$f":"CONCAT!$D$8","v":""},"Yes",1,"01-OC3096","11-OC3096",1,"12-OC3096","12-OC3096",1,null,null,"DG 21IN KITCHEN SET-DTC",3,null,null,{"$f":"$C439*$G$1*1*(Color!$D$8+'Door Style'!$G$6+Species!$C$6+'Custom Finish'!$C$6)","v":{"$error":"#VALUE!"}},null,"Black","Dark Gray",null,"2","TSKIN",150,125,"N","Tall Cabinet - Oven",{"v":2255,"d":"$2,255.00"},"Price change for fall 2019",{"v":1599,"d":"$1,599.00"},1.41,"G1",{"$nulls":4},{"$error":"#N/A"}]
["OC31.584","Custom Oven Cabinet 30\" x 84\"",{"v":2337,"d":"$2,337.00"},3,null,null,{"$f":"$C440*$G$1*'Order Form'!$Q$18*(Color!$D$6+'Door Style'!$G$6+Species!$C$6+'Custom Finish'!$C$6)","v":{"$error":"#VALUE!"}},null,"SC/PC",{"$f":"'Order Type'!$C$6","v":"01-"},{"$f":"CONCAT!$D$8","v":""},"Yes",1,{"$f":"J440&A440&K440","v":"01-OC31.584"},"11-OC3084",1,"12-OC3084",{"$f":"Q440&K440","v":"12-OC3084"},1,null,null,"DG 21IN KITCHEN SET-DTC",3,null,null,{"$f":"$C440*$G$1*1*(Color!$D$8+'Door Style'!$G$6+Species!$C$6+'Custom Finish'!$C$6)","v":{"$error":"#VALUE!"}},null,"Black","Dark Gray",null,"2","TSKIN",150,125,"N","Tall Cabinet - Oven",{"$f":"ROUNDUP(AM440*AN440,0)","v":{"v":2193,"d":"$2,193.00"}},"New Item For Early Jan 2020",{"v":1555,"d":"$1,555.00"},1.41,"G1",{"$nulls":4},{"$error":"#N/A"}]
["OC31.590","Custom Oven Cabinet 30\" x 90\"",{"v":2398,"d":"$2,398.00"},3,null,null,{"$f":"$C441*$G$1*'Order Form'!$Q$18*(Color!$D$6+'Door Style'!$G$6+Species!$C$6+'Custom Finish'!$C$6)","v":{"$error":"#VALUE!"}},null,"SC/PC",{"$f":"'Order Type'!$C$6","v":"01-"},{"$f":"CONCAT!$D$8","v":""},"Yes",1,"01-OC31.590","11-OC3090",1,"12-OC3090","12-OC3090",1,null,null,"DG 21IN KITCHEN SET-DTC",3,null,null,{"$f":"$C441*$G$1*1*(Color!$D$8+'Door Style'!$G$6+Species!$C$6+'Custom Finish'!$C$6)","v":{"$error":"#VALUE!"}},null,"Black","Dark Gray",null,"2","TSKIN",150,125,"N","Tall Cabinet - Oven",{"v":2224,"d":"$2,224.00"},"New Item For Early Jan 2020",{"v":1577,"d":"$1,577.00"},1.41,"G1",{"$nulls":4},{"$error":"#N/A"}]
["OC31.596","Custom Oven Cabinet 30\" x 96\"",{"v":2456,"d":"$2,456.00"},3,null,null,{"$f":"$C442*$G$1*'Order Form'!$Q$18*(Color!$D$6+'Door Style'!$G$6+Species!$C$6+'Custom Finish'!$C$6)","v":{"$error":"#VALUE!"}},null,"SC/PC",{"$f":"'Order Type'!$C$6","v":"01-"},{"$f":"CONCAT!$D$8","v":""},"Yes",1,"01-OC31.596","11-OC3096",1,"12-OC3096","12-OC3096",1,null,null,"DG 21IN KITCHEN SET-DTC",3,null,null,{"$f":"$C442*$G$1*1*(Color!$D$8+'Door Style'!$G$6+Species!$C$6+'Custom Finish'!$C$6)","v":{"$error":"#VALUE!"}},null,"Black","Dark Gray",null,"2","TSKIN",150,125,"N","Tall Cabinet - Oven",{"v":2255,"d":"$2,255.00"},"New Item For Early Jan 2020",{"v":1599,"d":"$1,599.00"},1.41,"G1",{"$nulls":4},{"$error":"#N/A"}]
["OC3384","Custom Oven Cabinet 33\" x 84\"",{"v":2481,"d":"$2,481.00"},3,null,null,{"$f":"$C443*$G$1*'Order Form'!$Q$18*(Color!$D$6+'Door Style'!$G$6+Species!$C$6+'Custom Finish'!$C$6)","v":{"$error":"#VALUE!"}},null,"SC/PC",{"$f":"'Order Type'!$C$6","v":"01-"},{"$f":"CONCAT!$D$8","v":""},"Yes",1,"01-OC3384","11-OC3384",1,"12-OC3384","12-OC3384",1,null,null,"DG 21IN KITCHEN SET-DTC",3,null,null,{"$f":"$C443*$G$1*1*(Color!$D$8+'Door Style'!$G$6+Species!$C$6+'Custom Finish'!$C$6)","v":{"$error":"#VALUE!"}},null,"Black","Dark Gray",null,"2","TSKIN",150,125,"N","Tall Cabinet - Oven",{"v":2481,"d":"$2,481.00"},"Price change for fall 2019",{"v":1759,"d":"$1,759.00"},1.41,"G1",{"$nulls":4},{"$error":"#N/A"}]
["OC3390","Custom Oven Cabinet 33\" x 90\"",{"v":2572,"d":"$2,572.00"},3,null,null,{"$f":"$C444*$G$1*'Order Form'!$Q$18*(Color!$D$6+'Door Style'!$G$6+Species!$C$6+'Custom Finish'!$C$6)","v":{"$error":"#VALUE!"}},null,"SC/PC",{"$f":"'Order Type'!$C$6","v":"01-"},{"$f":"CONCAT!$D$8","v":""},"Yes",1,"01-OC3390","11-OC3390",1,"12-OC3390","12-OC3390",1,null,null,"DG 21IN KITCHEN SET-DTC",3,null,null,{"$f":"$C444*$G$1*1*(Color!$D$8+'Door Style'!$G$6+Species!$C$6+'Custom Finish'!$C$6)","v":{"$error":"#VALUE!"}},null,"Black","Dark Gray",null,"2","TSKIN",150,125,"N","Tall Cabinet - Oven",{"v":2572,"d":"$2,572.00"},"Price change for fall 2019",{"v":1824,"d":"$1,824.00"},1.41,"G1",{"$nulls":4},{"$error":"#N/A"}]
["OC3396","Custom Oven Cabinet 33\" x 96\"",{"v":2657,"d":"$2,657.00"},3,null,null,{"$f":"$C445*$G$1*'Order Form'!$Q$18*(Color!$D$6+'Door Style'!$G$6+Species!$C$6+'Custom Finish'!$C$6)","v":{"$error":"#VALUE!"}},null,"SC/PC",{"$f":"'Order Type'!$C$6","v":"01-"},{"$f":"CONCAT!$D$8","v":""},"Yes",1,"01-OC3396","11-OC3396",1,"12-OC3396","12-OC3396",1,null,null,"DG 21IN KITCHEN SET-DTC",3,null,null,{"$f":"$C445*$G$1*1*(Color!$D$8+'Door Style'!$G$6+Species!$C$6+'Custom Finish'!$C$6)","v":{"$error":"#VALUE!"}},null,"Black","Dark Gray",null,"2","TSKIN",150,125,"N","Tall Cabinet - Oven",{"v":2657,"d":"$2,657.00"},"Price change for fall 2019",{"v":1884,"d":"$1,884.00"},1.41,"G1",{"$nulls":4},{"$error":"#N/A"}]
["P-1-143","Arched Antique Nickel Pull",{"v":4.95,"d":"$4.95"},2,null,{"$f":"$C446","v":{"v":4.95,"d":"$4.95"}},{"v":4.95,"d":"$4.95"},1,"/","","",null,0,"P-1-143",{"$nulls":3},"",null,{"$f":"N446","v":"P-1-143"},1,{"$nulls":3},{"$f":"$C446","v":{"v":4.95,"d":"$4.95"}},{"v":4.95,"d":"$4.95"},null,"Tan","Tan",{"$nulls":3},"No","No","N","Accessory - Pull",{"$f":"(AM446*AN446)","v":{"v":4.95,"d":"$4.95"}},null,{"v":4.95,"d":"$4.95"},1,"ACC",{"$nulls":4},{"$error":"#N/A"}]
["P-1-195","Arched Brushed Nickel Pull",{"v":4.95,"d":"$4.95"},2,null,{"v":4.95,"d":"$4.95"},{"v":4.95,"d":"$4.95"},1,"/","","",null,0,{"$f":"J447&A447&K447","v":"P-1-195"},{"$nulls":3},"",null,"P-1-195",1,{"$nulls":3},{"v":4.95,"d":"$4.95"},{"v":4.95,"d":"$4.95"},null,"Tan","Tan",{"$nulls":3},"No","No","N","Accessory - Pull",{"v":4.95,"d":"$4.95"},null,{"v":4.95,"d":"$4.95"},1,"ACC",{"$nulls":4},{"$error":"#N/A"}]
["P-1-BORB","Arched Brushed Oil Rubbed Bronze Pull",{"v":4.95,"d":"$4.95"},2,null,{"v":4.95,"d":"$4.95"},{"v":4.95,"d":"$4.95"},1,"/","","",null,0,"P-1-BORB",{"$nulls":3},"",null,"P-1-BORB",1,{"$nulls":3},{"v":4.95,"d":"$4.95"},{"v":4.95,"d":"$4.95"},null,"Tan","Tan",{"$nulls":3},"No","No","N","Accessory - Pull",{"v":4.95,"d":"$4.95"},null,{"v":4.95,"d":"$4.95"},1,"ACC",{"$nulls":4},{"$error":"#N/A"}]
["P-2-195","Tubular Brushed Nickel Pull",{"v":4.95,"d":"$4.95"},2,null,{"v":4.95,"d":"$4.95"},{"v":4.95,"d":"$4.95"},1,"/","","",null,0,"P-2-195",{"$nulls":3},"",null,"P-2-195",1,{"$nulls":3},{"v":4.95,"d":"$4.95"},{"v":4.95,"d":"$4.95"},null,"Tan","Tan",{"$nulls":3},"No","No","N","Accessory - Pull",{"v":4.95,"d":"$4.95"},null,{"v":4.95,"d":"$4.95"},1,"ACC",{"$nulls":4},{"$error":"#N/A"}]
["P-2-BORB","Tubular Brushed Oil Rubbed Bronze Pull",{"v":4.95,"d":"$4.95"},2,null,{"v":4.95,"d":"$4.95"},{"v":4.95,"d":"$4.95"},1,"/","","",null,0,"P-2-BORB",{"$nulls":3},"",null,"P-2-BORB",1,{"$nulls":3},{"v":4.95,"d":"$4.95"},{"v":4.95,"d":"$4.95"},null,"Tan","Tan",{"$nulls":3},"No","No","N","Accessory - Pull",{"v":4.95,"d":"$4.95"},null,{"v":4.95,"d":"$4.95"},1,"ACC",{"$nulls":4},{"$error":"#N/A"}]
["P-3-143","Squared Antique Nickel Pull",{"v":4.95,"d":"$4.95"},2,null,{"v":4.95,"d":"$4.95"},{"v":4.95,"d":"$4.95"},1,"/","","",null,0,"P-3-143",{"$nulls":3},"",null,"P-3-143",1,{"$nulls":3},{"v":4.95,"d":"$4.95"},{"v":4.95,"d":"$4.95"},null,"Tan","Tan",{"$nulls":3},"No","No","N","Accessory - Pull",{"v":4.95,"d":"$4.95"},null,{"v":4.95,"d":"$4.95"},1,"ACC",{"$nulls":4},{"$error":"#N/A"}]
["P-3-195","Squared Brushed Nickel Pull",{"v":4.95,"d":"$4.95"},2,null,{"v":4.95,"d":"$4.95"},{"v":4.95,"d":"$4.95"},1,"/","","",null,0,"P-3-195",{"$nulls":3},"",null,"P-3-195",1,{"$nulls":3},{"v":4.95,"d":"$4.95"},{"v":4.95,"d":"$4.95"},null,"Tan","Tan",{"$nulls":3},"No","No","N","Accessory - Pull",{"v":4.95,"d":"$4.95"},null,{"v":4.95,"d":"$4.95"},1,"ACC",{"$nulls":4},{"$error":"#N/A"}]
["P-3-BORB","Squared Brushed Oil Rubbed Bronze Pull",{"v":4.95,"d":"$4.95"},2,null,{"v":4.95,"d":"$4.95"},{"v":4.95,"d":"$4.95"},1,"/","","",null,0,"P-3-BORB",{"$nulls":3},"",null,"P-3-BORB",1,{"$nulls":3},{"v":4.95,"d":"$4.95"},{"v":4.95,"d":"$4.95"},null,"Tan","Tan",{"$nulls":3},"No","No","N","Accessory - Pull",{"v":4.95,"d":"$4.95"},null,{"v":4.95,"d":"$4.95"},1,"ACC",{"$nulls":4},{"$error":"#N/A"}]
["PAINT","Use this Sku to paint a customer provided accessory - see sales person handbook for pricing",{"v":0,"d":"$0.00"},2,null,{"v":0,"d":"$0.00"},{"v":0,"d":"$0.00"},null,"/","/","",null,0,"/PAINT",{"$nulls":5},"/PAINT",1,{"$nulls":3},{"v":0,"d":"$0.00"},{"v":0,"d":"$0.00"},null,"Dark Blue","Dark Blue",{"$nulls":3},"No","No","N","Accessory - Finish",{"$nulls":4},"Zero Price",{"$nulls":4},{"$error":"#N/A"}]
["PAINT-5 GALLON","Paint to Spray, Not Brush - 5 Gallons- 50% more if Custom Color",{"v":1000,"d":"$1,000.00"},2,null,{"$f":"$C455*Color!$P$6","v":{"v":0,"d":"$0.00"}},{"$f":"$C455*Color!$P$6","v":{"v":0,"d":"$0.00"}},null,"/","/","",null,0,"/PAINT-5 GALLON",{"$nulls":3},{"$f":"Q455&K455","v":""},null,"/PAINT-5 GALLON",1,{"$nulls":3},{"$f":"$C455*Color!$P$8","v":{"v":1000,"d":"$1,000.00"}},{"$f":"$C455*Color!$P$8","v":{"v":1000,"d":"$1,000.00"}},null,"Green","Green","N",null,null,"No","No","N","Accessory - Finish",{"$f":"ROUNDUP(AM455*AN455,0)","v":{"v":400,"d":"$400.00"}},null,{"v":400,"d":"$400.00"},1,"Paint Acc",{"$nulls":4},{"$error":"#N/A"}]
["PAINT-GALLON","Paint to Spray, Not Brush - Gallon - 50% more if Custom Color",{"v":200,"d":"$200.00"},2,null,{"$f":"$C456*Color!$P$6","v":{"v":0,"d":"$0.00"}},{"$f":"$C456*Color!$P$6","v":{"v":0,"d":"$0.00"}},null,"/","/","",null,0,"/PAINT-GALLON",{"$nulls":3},{"$f":"Q456&K456","v":""},null,"/PAINT-GALLON",1,{"$nulls":3},{"$f":"$C456*Color!$P$8","v":{"v":200,"d":"$200.00"}},{"$f":"$C456*Color!$P$8","v":{"v":200,"d":"$200.00"}},null,"Green","Green","N",null,null,"No","No","N","Accessory - Finish",{"v":125,"d":"$125.00"},null,{"v":100,"d":"$100.00"},1,"Paint Acc",{"$nulls":4},{"$error":"#N/A"}]
["PAINT-QUART","Paint to Spray, Not Brush - Quart - 50% more if Custom Color",{"v":50,"d":"$50.00"},2,null,{"$f":"$C457*Color!$P$6","v":{"v":0,"d":"$0.00"}},{"$f":"$C457*Color!$P$6","v":{"v":0,"d":"$0.00"}},null,"/","/","",null,0,"/PAINT-QUART",{"$nulls":3},{"$f":"Q457&K457","v":""},null,"/PAINT-QUART",1,{"$nulls":3},{"$f":"$C457*Color!$P$8","v":{"v":50,"d":"$50.00"}},{"$f":"$C457*Color!$P$8","v":{"v":50,"d":"$50.00"}},null,"Green","Green",{"$nulls":3},"No","No","N","Accessory - Finish",{"v":50,"d":"$50.00"},null,{"v":25,"d":"$25.00"},1,"Paint Acc",{"$nulls":4},{"$error":"#N/A"}]
["PD1212","Plant on Door 12\" x 12\"",{"v":75,"d":"$75.00"},3,null,null,{"$f":"$C458*$G$1*'Order Form'!$Q$18*(Color!$D$6+'Door Style'!$G$6+Species!$C$6+'Custom Finish'!$C$6)","v":{"$error":"#VALUE!"}},null,{"$f":"'Order Type'!$C$6","v":"01-"},"13-",{"$f":"CONCAT!$D$8","v":""},null,0,"13-PD1212",{"$nulls":5},"13-PD1212",1,{"$nulls":4},{"$f":"$C458*$G$1*1*(Color!$D$8+'Door Style'!$G$6+Species!$C$6+'Custom Finish'!$C$6)","v":{"$error":"#VALUE!"}},null,"Black","Dark Gray",{"$nulls":3},"No","No","N","Plant on Doors",{"$f":"ROUNDUP(AM458*AN458,0)","v":0},"Price change for fall 2019",{"v":53,"d":"$53.00"},null,"G1",{"$nulls":4},{"$error":"#N/A"}]
["PD1215","Plant on Door 12\" x 15\"",{"v":75,"d":"$75.00"},3,null,null,{"$f":"$C459*$G$1*'Order Form'!$Q$18*(Color!$D$6+'Door Style'!$G$6+Species!$C$6+'Custom Finish'!$C$6)","v":{"$error":"#VALUE!"}},null,{"$f":"'Order Type'!$C$6","v":"01-"},"13-",{"$f":"CONCAT!$D$8","v":""},null,0,"13-PD1215",{"$nulls":5},"13-PD1215",1,{"$nulls":4},{"$f":"$C459*$G$1*1*(Color!$D$8+'Door Style'!$G$6+Species!$C$6+'Custom Finish'!$C$6)","v":{"$error":"#VALUE!"}},null,"Black","Dark Gray",{"$nulls":3},"No","No","N","Plant on Doors",0,"Price change for fall 2019",{"v":53,"d":"$53.00"},null,"G1",{"$nulls":4},{"$error":"#N/A"}]
["PD1218","Plant on Door 12\" x 18\"",{"v":75,"d":"$75.00"},3,null,null,{"$f":"$C460*$G$1*'Order Form'!$Q$18*(Color!$D$6+'Door Style'!$G$6+Species!$C$6+'Custom Finish'!$C$6)","v":{"$error":"#VALUE!"}},null,{"$f":"'Order Type'!$C$6","v":"01-"},"13-",{"$f":"CONCAT!$D$8","v":""},null,0,"13-PD1218",{"$nulls":5},"13-PD1218",1,{"$nulls":4},{"$f":"$C460*$G$1*1*(Color!$D$8+'Door Style'!$G$6+Species!$C$6+'Custom Finish'!$C$6)","v":{"$error":"#VALUE!"}},null,"Black","Dark Gray",{"$nulls":3},"No","No","N","Plant on Doors",0,"Price change for fall 2019",{"v":53,"d":"$53.00"},null,"G1",{"$nulls":4},{"$error":"#N/A"}]
["PD1221","Plant on Door 12\" x 21\"",{"v":75,"d":"$75.00"},3,null,null,{"$f":"$C461*$G$1*'Order Form'!$Q$18*(Color!$D$6+'Door Style'!$G$6+Species!$C$6+'Custom Finish'!$C$6)","v":{"$error":"#VALUE!"}},null,{"$f":"'Order Type'!$C$6","v":"01-"},"13-",{"$f":"CONCAT!$D$8","v":""},null,0,"13-PD1221",{"$nulls":5},"13-PD1221",1,{"$nulls":4},{"$f":"$C461*$G$1*1*(Color!$D$8+'Door Style'!$G$6+Species!$C$6+'Custom Finish'!$C$6)","v":{"$error":"#VALUE!"}},null,"Black","Dark Gray",{"$nulls":3},"No","No","N","Plant on Doors",0,"Price change for fall 2019",{"v":53,"d":"$53.00"},null,"G1",{"$nulls":4},{"$error":"#N/A"}]
["PD1224","Plant on Door 12\" x 24\"",{"v":82,"d":"$82.00"},3,null,null,{"$f":"$C462*$G$1*'Order Form'!$Q$18*(Color!$D$6+'Door Style'!$G$6+Species!$C$6+'Custom Finish'!$C$6)","v":{"$error":"#VALUE!"}},null,{"$f":"'Order Type'!$C$6","v":"01-"},"13-",{"$f":"CONCAT!$D$8","v":""},null,0,"13-PD1224",{"$nulls":5},"13-PD1224",1,{"$nulls":4},{"$f":"$C462*$G$1*1*(Color!$D$8+'Door Style'!$G$6+Species!$C$6+'Custom Finish'!$C$6)","v":{"$error":"#VALUE!"}},null,"Black","Dark Gray",{"$nulls":3},"No","No","N","Plant on Doors",0,"Price change for fall 2019",{"v":58,"d":"$58.00"},null,"G1",{"$nulls":4},{"$error":"#N/A"}]
["PD1227","Plant on Door 12\" x 27\"",{"v":87,"d":"$87.00"},3,null,null,{"$f":"$C463*$G$1*'Order Form'!$Q$18*(Color!$D$6+'Door Style'!$G$6+Species!$C$6+'Custom Finish'!$C$6)","v":{"$error":"#VALUE!"}},null,{"$f":"'Order Type'!$C$6","v":"01-"},"13-",{"$f":"CONCAT!$D$8","v":""},null,0,"13-PD1227",{"$nulls":5},"13-PD1227",1,{"$nulls":4},{"$f":"$C463*$G$1*1*(Color!$D$8+'Door Style'!$G$6+Species!$C$6+'Custom Finish'!$C$6)","v":{"$error":"#VALUE!"}},null,"Black","Dark Gray",{"$nulls":3},"No","No","N","Plant on Doors",0,"Price change for fall 2019",{"v":61,"d":"$61.00"},null,"G1",{"$nulls":4},{"$error":"#N/A"}]
["PD1230","Plant on Door 12\" x 30\"",{"v":96,"d":"$96.00"},2,null,{"$f":"$C464*$F$1*'Order Form'!$Q$18*(Color!$C$6+'Door Style'!$H$6)","v":{"$error":"#VALUE!"}},{"$f":"$C464*$G$1*'Order Form'!$Q$18*(Color!$D$6+'Door Style'!$G$6+Species!$C$6+'Custom Finish'!$C$6)","v":{"$error":"#VALUE!"}},null,{"$f":"'Order Type'!$C$6","v":"01-"},"13-",{"$f":"CONCAT!$D$2","v":""},null,0,"13-PD1230",{"$nulls":3},{"$f":"Q464&K464","v":""},null,"13-PD1230",1,{"$nulls":3},{"$f":"$C464*$F$1*(Color!$C$8+'Door Style'!$H$6)","v":{"v":82.368,"d":"$82.37"}},{"$f":"$C464*$G$1*1*(Color!$D$8+'Door Style'!$G$6+Species!$C$6+'Custom Finish'!$C$6)","v":{"$error":"#VALUE!"}},null,"Light Blue","Dark Gray",{"$nulls":3},"No","No","N","Plant on Doors",0,"Price change for fall 2019",{"v":71,"d":"$71.00"},null,"G1",{"$nulls":4},{"$error":"#N/A"}]
["PD1236","Plant on Door 12\" x 36\"",{"v":115,"d":"$115.00"},2,null,{"$f":"$C465*$F$1*'Order Form'!$Q$18*(Color!$C$6+'Door Style'!$H$6)","v":{"$error":"#VALUE!"}},{"$f":"$C465*$G$1*'Order Form'!$Q$18*(Color!$D$6+'Door Style'!$G$6+Species!$C$6+'Custom Finish'!$C$6)","v":{"$error":"#VALUE!"}},null,{"$f":"'Order Type'!$C$6","v":"01-"},"13-",{"$f":"CONCAT!$D$2","v":""},null,0,"13-PD1236",{"$nulls":3},{"$f":"Q465&K465","v":""},null,"13-PD1236",1,{"$nulls":3},{"$f":"$C465*$F$1*(Color!$C$8+'Door Style'!$H$6)","v":{"v":98.67000000000002,"d":"$98.67"}},{"$f":"$C465*$G$1*1*(Color!$D$8+'Door Style'!$G$6+Species!$C$6+'Custom Finish'!$C$6)","v":{"$error":"#VALUE!"}},null,"Light Blue","Dark Gray",{"$nulls":3},"No","No","N","Plant on Doors",0,"Price change for fall 2019",{"v":81,"d":"$81.00"},null,"G1",{"$nulls":4},{"$error":"#N/A"}]
["PD1242","Plant on Door 12\" x 42\"",{"v":137,"d":"$137.00"},2,null,{"$f":"$C466*$F$1*'Order Form'!$Q$18*(Color!$C$6+'Door Style'!$H$6)","v":{"$error":"#VALUE!"}},{"$f":"$C466*$G$1*'Order Form'!$Q$18*(Color!$D$6+'Door Style'!$G$6+Species!$C$6+'Custom Finish'!$C$6)","v":{"$error":"#VALUE!"}},null,{"$f":"'Order Type'!$C$6","v":"01-"},"13-",{"$f":"CONCAT!$D$2","v":""},null,0,"13-PD1242",{"$nulls":3},{"$f":"Q466&K466","v":""},null,"13-PD1242",1,{"$nulls":3},{"$f":"$C466*$F$1*(Color!$C$8+'Door Style'!$H$6)","v":{"v":117.546,"d":"$117.55"}},{"$f":"$C466*$G$1*1*(Color!$D$8+'Door Style'!$G$6+Species!$C$6+'Custom Finish'!$C$6)","v":{"$error":"#VALUE!"}},null,"Light Blue","Dark Gray",{"$nulls":3},"No","No","N","Plant on Doors",0,"Price change for fall 2019",{"v":97,"d":"$97.00"},null,"G1",{"$nulls":4},{"$error":"#N/A"}]
["PD1527","Plant on Door 15\" x 27\"",{"v":110,"d":"$110.00"},3,null,null,{"$f":"$C467*$G$1*'Order Form'!$Q$18*(Color!$D$6+'Door Style'!$G$6+Species!$C$6+'Custom Finish'!$C$6)","v":{"$error":"#VALUE!"}},null,{"$f":"'Order Type'!$C$6","v":"01-"},"13-",{"$f":"CONCAT!$D$8","v":""},null,0,"13-PD1527",{"$nulls":5},"13-PD1527",1,{"$nulls":4},{"$f":"$C467*$G$1*1*(Color!$D$8+'Door Style'!$G$6+Species!$C$6+'Custom Finish'!$C$6)","v":{"$error":"#VALUE!"}},null,"Black","Dark Gray",{"$nulls":3},"No","No","N","Plant on Doors",0,"Price change for fall 2019",{"v":119,"d":"$119.00"},null,"G1",{"$nulls":4},{"$error":"#N/A"}]
["PD1530","Plant on Door 15\" x 30\"",{"v":116,"d":"$116.00"},3,null,null,{"$f":"$C468*$G$1*'Order Form'!$Q$18*(Color!$D$6+'Door Style'!$G$6+Species!$C$6+'Custom Finish'!$C$6)","v":{"$error":"#VALUE!"}},null,{"$f":"'Order Type'!$C$6","v":"01-"},"13-",{"$f":"CONCAT!$D$8","v":""},null,0,"13-PD1530",{"$nulls":5},"13-PD1530",1,{"$nulls":4},{"$f":"$C468*$G$1*1*(Color!$D$8+'Door Style'!$G$6+Species!$C$6+'Custom Finish'!$C$6)","v":{"$error":"#VALUE!"}},null,"Black","Dark Gray",{"$nulls":3},"No","No","N","Plant on Doors",0,"Price change for fall 2019",{"v":85,"d":"$85.00"},null,"G1",{"$nulls":4},{"$error":"#N/A"}]
["PD1536","Plant on Door 15\" x 36\"",{"v":143,"d":"$143.00"},3,null,null,{"$f":"$C469*$G$1*'Order Form'!$Q$18*(Color!$D$6+'Door Style'!$G$6+Species!$C$6+'Custom Finish'!$C$6)","v":{"$error":"#VALUE!"}},null,{"$f":"'Order Type'!$C$6","v":"01-"},"13-",{"$f":"CONCAT!$D$8","v":""},null,0,"13-PD1536",{"$nulls":5},"13-PD1536",1,{"$nulls":4},{"$f":"$C469*$G$1*1*(Color!$D$8+'Door Style'!$G$6+Species!$C$6+'Custom Finish'!$C$6)","v":{"$error":"#VALUE!"}},null,"Black","Dark Gray",{"$nulls":3},"No","No","N","Plant on Doors",0,"Price change for fall 2019",{"v":102,"d":"$102.00"},null,"G1",{"$nulls":4},{"$error":"#N/A"}]
["PD1542","Plant on Door 15\" x 42\"",{"v":166,"d":"$166.00"},3,null,null,{"$f":"$C470*$G$1*'Order Form'!$Q$18*(Color!$D$6+'Door Style'!$G$6+Species!$C$6+'Custom Finish'!$C$6)","v":{"$error":"#VALUE!"}},null,{"$f":"'Order Type'!$C$6","v":"01-"},"13-",{"$f":"CONCAT!$D$8","v":""},null,0,"13-PD1542",{"$nulls":5},"13-PD1542",1,{"$nulls":4},{"$f":"$C470*$G$1*1*(Color!$D$8+'Door Style'!$G$6+Species!$C$6+'Custom Finish'!$C$6)","v":{"$error":"#VALUE!"}},null,"Black","Dark Gray",{"$nulls":3},"No","No","N","Plant on Doors",0,"Price change for fall 2019",{"v":119,"d":"$119.00"},null,"G1",{"$nulls":4},{"$error":"#N/A"}]
["PD1827","Plant on Door 18\" x 27\"",{"v":128,"d":"$128.00"},3,null,null,{"$f":"$C471*$G$1*'Order Form'!$Q$18*(Color!$D$6+'Door Style'!$G$6+Species!$C$6+'Custom Finish'!$C$6)","v":{"$error":"#VALUE!"}},null,{"$f":"'Order Type'!$C$6","v":"01-"},"13-",{"$f":"CONCAT!$D$8","v":""},null,0,"13-PD1827",{"$nulls":5},"13-PD1827",1,{"$nulls":4},{"$f":"$C471*$G$1*1*(Color!$D$8+'Door Style'!$G$6+Species!$C$6+'Custom Finish'!$C$6)","v":{"$error":"#VALUE!"}},null,"Black","Dark Gray",{"$nulls":3},"No","No","N","Plant on Doors",0,"Price change for fall 2019",{"v":91,"d":"$91.00"},null,"G1",{"$nulls":4},{"$error":"#N/A"}]
["PD1830","Plant on Door 18\" x 30\"",{"v":143,"d":"$143.00"},3,null,null,{"$f":"$C472*$G$1*'Order Form'!$Q$18*(Color!$D$6+'Door Style'!$G$6+Species!$C$6+'Custom Finish'!$C$6)","v":{"$error":"#VALUE!"}},null,{"$f":"'Order Type'!$C$6","v":"01-"},"13-",{"$f":"CONCAT!$D$8","v":""},null,0,"13-PD1830",{"$nulls":5},"13-PD1830",1,{"$nulls":4},{"$f":"$C472*$G$1*1*(Color!$D$8+'Door Style'!$G$6+Species!$C$6+'Custom Finish'!$C$6)","v":{"$error":"#VALUE!"}},null,"Black","Dark Gray",{"$nulls":3},"No","No","N","Plant on Doors",0,"Price change for fall 2019",{"v":102,"d":"$102.00"},null,"G1",{"$nulls":4},{"$error":"#N/A"}]
["PD2127","Plant on Door 21\" x 27\"",{"v":150,"d":"$150.00"},3,null,null,{"$f":"$C473*$G$1*'Order Form'!$Q$18*(Color!$D$6+'Door Style'!$G$6+Species!$C$6+'Custom Finish'!$C$6)","v":{"$error":"#VALUE!"}},null,{"$f":"'Order Type'!$C$6","v":"01-"},"13-",{"$f":"CONCAT!$D$8","v":""},null,0,"13-PD2127",{"$nulls":5},"13-PD2127",1,{"$nulls":4},{"$f":"$C473*$G$1*1*(Color!$D$8+'Door Style'!$G$6+Species!$C$6+'Custom Finish'!$C$6)","v":{"$error":"#VALUE!"}},null,"Black","Dark Gray",{"$nulls":3},"No","No","N","Plant on Doors",0,"Price change for fall 2019",{"v":105,"d":"$105.00"},null,"G1",{"$nulls":4},{"$error":"#N/A"}]
["PD2130","Plant on Door 21\" x 30\"",{"v":166,"d":"$166.00"},3,null,null,{"$f":"$C474*$G$1*'Order Form'!$Q$18*(Color!$D$6+'Door Style'!$G$6+Species!$C$6+'Custom Finish'!$C$6)","v":{"$error":"#VALUE!"}},null,{"$f":"'Order Type'!$C$6","v":"01-"},"13-",{"$f":"CONCAT!$D$8","v":""},null,0,"13-PD2130",{"$nulls":5},"13-PD2130",1,{"$nulls":4},{"$f":"$C474*$G$1*1*(Color!$D$8+'Door Style'!$G$6+Species!$C$6+'Custom Finish'!$C$6)","v":{"$error":"#VALUE!"}},null,"Black","Dark Gray",{"$nulls":3},"No","No","N","Plant on Doors",0,"Price change for fall 2019",{"v":121,"d":"$121.00"},null,"G1",{"$nulls":4},{"$error":"#N/A"}]
["PD2427","Plant on Door 24\" x 27\"",{"v":171,"d":"$171.00"},3,null,null,{"$f":"$C475*$G$1*'Order Form'!$Q$18*(Color!$D$6+'Door Style'!$G$6+Species!$C$6+'Custom Finish'!$C$6)","v":{"$error":"#VALUE!"}},null,{"$f":"'Order Type'!$C$6","v":"01-"},"13-",{"$f":"CONCAT!$D$8","v":""},null,0,"13-PD2427",{"$nulls":5},"13-PD2427",1,{"$nulls":4},{"$f":"$C475*$G$1*1*(Color!$D$8+'Door Style'!$G$6+Species!$C$6+'Custom Finish'!$C$6)","v":{"$error":"#VALUE!"}},null,"Black","Dark Gray",{"$nulls":3},"No","No","N","Plant on Doors",0,"Price change for fall 2019",{"v":126,"d":"$126.00"},null,"G1",{"$nulls":4},{"$error":"#N/A"}]
["PD2430","Plant on Door 24\" x 30\"",{"v":190,"d":"$190.00"},2,null,{"$f":"$C476*$F$1*'Order Form'!$Q$18*(Color!$C$6+'Door Style'!$H$6)","v":{"$error":"#VALUE!"}},{"$f":"$C476*$G$1*'Order Form'!$Q$18*(Color!$D$6+'Door Style'!$G$6+Species!$C$6+'Custom Finish'!$C$6)","v":{"$error":"#VALUE!"}},null,{"$f":"'Order Type'!$C$6","v":"01-"},"13-",{"$f":"CONCAT!$D$2","v":""},null,0,"13-PD2430",{"$nulls":3},{"$f":"Q476&K476","v":""},null,"13-PD2430",1,{"$nulls":3},{"$f":"$C476*$F$1*(Color!$C$8+'Door Style'!$H$6)","v":{"v":163.02000000000004,"d":"$163.02"}},{"$f":"$C476*$G$1*1*(Color!$D$8+'Door Style'!$G$6+Species!$C$6+'Custom Finish'!$C$6)","v":{"$error":"#VALUE!"}},null,"Light Blue","Dark Gray",{"$nulls":3},"No","No","N","Plant on Doors",0,"Price change for fall 2019",{"v":139,"d":"$139.00"},null,"G1",{"$nulls":4},{"$error":"#N/A"}]
["PD2436","Plant on Door 24\" x 36\"",{"v":228,"d":"$228.00"},3,null,{"$f":"$C477*$F$1*'Order Form'!$Q$18*(Color!$C$6+'Door Style'!$H$6)","v":{"$error":"#VALUE!"}},{"$f":"$C477*$G$1*'Order Form'!$Q$18*(Color!$D$6+'Door Style'!$G$6+Species!$C$6+'Custom Finish'!$C$6)","v":{"$error":"#VALUE!"}},null,{"$f":"'Order Type'!$C$6","v":"01-"},"13-",{"$f":"CONCAT!$E$2","v":""},null,0,"13-PD2436",{"$nulls":3},{"$f":"Q477&K477","v":""},null,"13-PD2436",1,{"$nulls":3},{"$f":"$C477*$F$1*(Color!$C$8+'Door Style'!$H$6)","v":{"v":195.62400000000002,"d":"$195.62"}},{"$f":"$C477*$G$1*1*(Color!$D$8+'Door Style'!$G$6+Species!$C$6+'Custom Finish'!$C$6)","v":{"$error":"#VALUE!"}},null,"Light Blue","Dark Gray",{"$nulls":3},"No","No","N","Plant on Doors",0,"New Item for fall 2019",{"v":139,"d":"$139.00"},null,"G1",{"$nulls":4},{"$error":"#N/A"}]
["PD2442","Plant on Door 24\" x 42\"",{"v":266,"d":"$266.00"},3,null,{"$f":"$C478*$F$1*'Order Form'!$Q$18*(Color!$C$6+'Door Style'!$H$6)","v":{"$error":"#VALUE!"}},{"$f":"$C478*$G$1*'Order Form'!$Q$18*(Color!$D$6+'Door Style'!$G$6+Species!$C$6+'Custom Finish'!$C$6)","v":{"$error":"#VALUE!"}},null,{"$f":"'Order Type'!$C$6","v":"01-"},"13-",{"$f":"CONCAT!$E$2","v":""},null,0,"13-PD2442",{"$nulls":3},{"$f":"Q478&K478","v":""},null,"13-PD2442",1,{"$nulls":3},{"$f":"$C478*$F$1*(Color!$C$8+'Door Style'!$H$6)","v":{"v":228.22800000000004,"d":"$228.23"}},{"$f":"$C478*$G$1*1*(Color!$D$8+'Door Style'!$G$6+Species!$C$6+'Custom Finish'!$C$6)","v":{"$error":"#VALUE!"}},null,"Light Blue","Dark Gray",{"$nulls":3},"No","No","N","Plant on Doors",0,"New Item for fall 2019",{"v":139,"d":"$139.00"},null,"G1",{"$nulls":4},{"$error":"#N/A"}]
["PD2450","Plant on Door 24\" x 50\"",{"v":317,"d":"$317.00"},3,null,{"$f":"$C479*$F$1*'Order Form'!$Q$18*(Color!$C$6+'Door Style'!$H$6)","v":{"$error":"#VALUE!"}},{"$f":"$C479*$G$1*'Order Form'!$Q$18*(Color!$D$6+'Door Style'!$G$6+Species!$C$6+'Custom Finish'!$C$6)","v":{"$error":"#VALUE!"}},null,{"$f":"'Order Type'!$C$6","v":"01-"},"13-",{"$f":"CONCAT!$E$2","v":""},null,0,"13-PD2450",{"$nulls":3},{"$f":"Q479&K479","v":""},null,"13-PD2450",1,{"$nulls":3},{"$f":"$C479*$F$1*(Color!$C$8+'Door Style'!$H$6)","v":{"v":271.98600000000005,"d":"$271.99"}},{"$f":"$C479*$G$1*1*(Color!$D$8+'Door Style'!$G$6+Species!$C$6+'Custom Finish'!$C$6)","v":{"$error":"#VALUE!"}},null,"Light Blue","Dark Gray",{"$nulls":3},"No","No","N","Plant on Doors",0,"New Item for fall 2019",{"v":139,"d":"$139.00"},null,"G1",{"$nulls":4},{"$error":"#N/A"}]
["PGNW DISCOUNT","PO Match",{"v":0,"d":"$0.00"},2,null,{"v":0,"d":"$0.00"},{"v":0,"d":"$0.00"},null,"/","/","",null,0,"/AZURE DISCOUNT",{"$nulls":3},"",null,"/AZURE DISCOUNT",1,{"$nulls":3},{"v":0,"d":"$0.00"},{"v":0,"d":"$0.00"},null,"Dark Blue","Dark Blue","N",null,null,"No","No","N",null,null,"New Item For Fall 2019",null,null,"Zero Price",{"$nulls":4},{"$error":"#N/A"}]
["PGNW PO MATCH","PO Match",{"v":0,"d":"$0.00"},2,null,{"v":0,"d":"$0.00"},{"v":0,"d":"$0.00"},null,"/","/","",null,0,"/AZURE PO MATCH",{"$nulls":3},"",null,"/AZURE PO MATCH",1,{"$nulls":3},{"v":0,"d":"$0.00"},{"v":0,"d":"$0.00"},null,"Dark Blue","Dark Blue","N",null,null,"No","No","N",null,null,"New Item For Fall 2019",null,null,"Zero Price",{"$nulls":4},{"$error":"#N/A"}]
["PGNW UPGRADES","PO Match",{"v":0,"d":"$0.00"},2,null,{"v":0,"d":"$0.00"},{"v":0,"d":"$0.00"},null,"/","/","",null,0,"/AZURE UPGRADES",{"$nulls":3},"",null,"/AZURE UPGRADES",1,{"$nulls":3},{"v":0,"d":"$0.00"},{"v":0,"d":"$0.00"},null,"Dark Blue","Dark Blue","N",null,null,"No","No","N",null,null,"New Item For Fall 2019",null,null,"Zero Price",{"$nulls":4},{"$error":"#N/A"}]
["PLY PREFIN WHITE BIRCH 12MM","Plywood 12mm White Birch Plywood With UV Finish",{"v":125,"d":"$125.00"},2,null,{"$f":"$C483*'Order Form'!$Q$18","v":{"v":125,"d":"$125.00"}},{"$f":"$C483*'Order Form'!$Q$18","v":{"v":125,"d":"$125.00"}},null,"/","","",null,0,{"$f":"J483&A483&K483","v":"PLY PREFIN WHITE BIRCH 12MM"},{"$nulls":5},{"$f":"N483","v":"PLY PREFIN WHITE BIRCH 12MM"},1,{"$nulls":3},{"$f":"$C483*1","v":{"v":125,"d":"$125.00"}},{"v":125,"d":"$125.00"},null,"Purple","Purple",{"$nulls":3},"No","No","N","Accessory - Extra",{"$f":"ROUNDUP(AM483*AN483,0)","v":{"v":125,"d":"$125.00"}},"Price change for fall 2019",{"v":100,"d":"$100.00"},1.25,"Plywood",48,96,{"$f":"(AP483*AQ483)/144","v":32},{"$f":"(AR483*6.25)+20","v":{"v":220,"d":"220.00"}},{"$error":"#N/A"}]
["PLY PREFIN WHITE BIRCH 19MM","Plywood 19mm White Birch Plywood With UV Finish",{"v":167,"d":"$167.00"},2,null,{"$f":"$C484*'Order Form'!$Q$18","v":{"v":167,"d":"$167.00"}},{"$f":"$C484*'Order Form'!$Q$18","v":{"v":167,"d":"$167.00"}},null,"/","","",null,0,"PLY PREFIN WHITE BIRCH 19MM",{"$nulls":5},"PLY PREFIN WHITE BIRCH 19MM",1,{"$nulls":3},{"v":167,"d":"$167.00"},{"v":167,"d":"$167.00"},null,"Purple","Purple",{"$nulls":3},"No","No","N","Accessory - Extra",{"$f":"ROUNDUP(AM484*AN484,0)","v":{"v":167,"d":"$167.00"}},"Price change for fall 2019",{"v":133,"d":"$133.00"},1.25,"Plywood",48,96,{"$f":"(AP484*AQ484)/144","v":32},{"$f":"(AR484*6.25)+20","v":{"v":220,"d":"220.00"}},{"$error":"#N/A"}]
["PLY WHITE BIRCH 12MM-RAW","Plywood 12mm White Birch Plywood Raw",{"v":132,"d":"$132.00"},2,null,{"$f":"$C485*'Order Form'!$Q$18","v":{"v":132,"d":"$132.00"}},{"$f":"$C485*'Order Form'!$Q$18","v":{"v":132,"d":"$132.00"}},null,"/","","",null,0,"PLY WHITE BIRCH 12MM-RAW",{"$nulls":3},{"$f":"Q485&K485","v":""},null,"PLY WHITE BIRCH 12MM-RAW",1,{"$nulls":3},{"v":132,"d":"$132.00"},{"v":132,"d":"$132.00"},null,"Purple","Purple",{"$nulls":3},"No","No","N","Accessory - Extra",{"$f":"ROUNDUP(AM485*AN485,0)","v":{"v":132,"d":"$132.00"}},"Price change for fall 2019",{"v":105,"d":"$105.00"},1.25,"Plywood",48,96,{"$f":"(AP485*AQ485)/144","v":32},{"$f":"(AR485*6.25)+20","v":{"v":220,"d":"220.00"}},{"$error":"#N/A"}]
["PLY WHITE BIRCH 19MM-RAW","Plywood 19mm White Birch Plywood Raw",{"v":164,"d":"$164.00"},2,null,{"$f":"$C486*'Order Form'!$Q$18","v":{"v":164,"d":"$164.00"}},{"$f":"$C486*'Order Form'!$Q$18","v":{"v":164,"d":"$164.00"}},null,"/","","",null,0,"PLY WHITE BIRCH 19MM-RAW",{"$nulls":3},"",null,"PLY WHITE BIRCH 19MM-RAW",1,{"$nulls":3},{"v":164,"d":"$164.00"},{"v":164,"d":"$164.00"},null,"Purple","Purple",{"$nulls":3},"No","No","N","Accessory - Extra",{"$f":"ROUNDUP(AM486*AN486,0)","v":{"v":164,"d":"$164.00"}},"Price change for fall 2019",{"v":131,"d":"$131.00"},1.25,"Plywood",48,96,{"$f":"(AP486*AQ486)/144","v":32},{"$f":"(AR486*6.25)+20","v":{"v":220,"d":"220.00"}},{"$error":"#N/A"}]
["PULL-NONSTOCK","Place Holder For Any Buy to Order Pull or Knob",{"v":0,"d":"$0.00"},2,null,{"v":0,"d":"$0.00"},{"v":0,"d":"$0.00"},1,"/","","",null,0,"PULL-NONSTOCK",{"$nulls":3},"",null,"PULL-NONSTOCK",1,{"$nulls":3},{"v":0,"d":"$0.00"},{"v":0,"d":"$0.00"},null,"Dark Blue","Dark Blue",{"$nulls":3},"No","No","N","Accessory - Pull",{"$nulls":4},"Zero Price",{"$nulls":4},{"$error":"#N/A"}]
["QTRRND",".75\" x .75\" Quarter Round ",{"v":43,"d":"$43.00"},2,null,{"$f":"($C488*$F$1*Color!$G$6*'Order Form'!$Q$18)","v":{"$error":"#VALUE!"}},{"$f":"$C488*$G$1*'Order Form'!$Q$18*(Color!$D$6+Species!$C$6)","v":{"$error":"#VALUE!"}},null,"13-","13-",{"$f":"CONCAT!$D$3","v":""},null,0,"13-QTRRND",{"$nulls":3},"",null,"13-QTRRND",1,{"$nulls":3},{"$f":"($C488*$F$1*Color!$G$8*1)","v":{"v":36.894000000000005,"d":"$36.89"}},{"$f":"$C488*$G$1*1*(Color!$D$8+Species!$C$6)","v":{"$error":"#VALUE!"}},null,"Orange","Pink",{"$nulls":3},"No","No","N","Trim",{"$f":"ROUNDUP(AM488*AN488,0)","v":{"v":43,"d":"$43.00"}},"Price change for fall 2019",{"v":30,"d":"$30.00"},1.41,"G1",{"$nulls":4},{"$error":"#N/A"}]
["RECYCLE CENTER-CHROME SALICE","Two 35QT cans - w/Chrome System for B18",{"v":250,"d":"$250.00"},2,null,{"$f":"$C489","v":{"v":250,"d":"$250.00"}},{"v":250,"d":"$250.00"},null,"/","","",null,0,"RECYCLE CENTER-CHROME SALICE",{"$nulls":3},"",null,"RECYCLE CENTER-CHROME SALICE",1,{"$nulls":3},{"$f":"$C489","v":{"v":250,"d":"$250.00"}},{"v":250,"d":"$250.00"},null,"Tan","Tan",{"$nulls":3},"No","No","N","Accessory - Base - Recycle/Trash",{"v":250,"d":"$250.00"},null,{"v":250,"d":"$250.00"},1,"ACC",{"$nulls":4},{"$error":"#N/A"}]
["RECYCLE CENTER-FHB21","Two 50QT cans for FHB 21",{"v":415,"d":"$415.00"},2,null,{"v":415,"d":"$415.00"},{"v":415,"d":"$415.00"},null,"/","","",null,0,"RECYCLE CENTER-FHB21",{"$nulls":3},"",null,"RECYCLE CENTER-FHB21",1,{"$nulls":3},{"v":415,"d":"$415.00"},{"v":415,"d":"$415.00"},null,"Tan","Tan",{"$nulls":3},"No","No","N","Accessory - Base - Recycle/Trash",{"v":415,"d":"$415.00"},null,{"v":415,"d":"$415.00"},1,"ACC",{"$nulls":4},{"$error":"#N/A"}]
["RECYCLE CENTER-WOOD REV","Two 35QT cans - w/Wood System for B18",{"v":370,"d":"$370.00"},2,null,{"v":370,"d":"$370.00"},{"v":370,"d":"$370.00"},null,"/","","",null,0,"RECYCLE CENTER-WOOD REV",{"$nulls":3},"",null,"RECYCLE CENTER-WOOD REV",1,{"$nulls":3},{"v":370,"d":"$370.00"},{"v":370,"d":"$370.00"},null,"Tan","Tan",{"$nulls":3},"No","No","N","Accessory - Base - Recycle/Trash",{"v":370,"d":"$370.00"},null,{"v":370,"d":"$370.00"},1,"ACC",{"$nulls":4},{"$error":"#N/A"}]
["RECYCLE SINGLE-WOOD REV","Single 35QT can -w/ Wood System for B15",{"v":250,"d":"$250.00"},2,null,{"v":250,"d":"$250.00"},{"v":250,"d":"$250.00"},null,"/","","",null,0,"RECYCLE SINGLE-WOOD REV",{"$nulls":3},"",null,"RECYCLE SINGLE-WOOD REV",1,{"$nulls":3},{"v":250,"d":"$250.00"},{"v":250,"d":"$250.00"},null,"Tan","Tan",{"$nulls":3},"No","No","N","Accessory - Base - Recycle/Trash",{"v":250,"d":"$250.00"},null,{"v":250,"d":"$250.00"},1,"ACC",{"$nulls":4},{"$error":"#N/A"}]
["RECYCLE SINGLE-WOOD REV-TALL","Single 50 QT can -w/ Wood System for FHB15",{"v":275,"d":"$275.00"},2,null,{"v":275,"d":"$275.00"},{"v":275,"d":"$275.00"},null,"/","","",null,0,"RECYCLE SINGLE-WOOD REV-TALL",{"$nulls":5},"RECYCLE SINGLE-WOOD REV-TALL",1,{"$nulls":3},{"v":275,"d":"$275.00"},{"v":275,"d":"$275.00"},null,"Tan","Tan",{"$nulls":3},"No","No","N","Accessory - Base - Recycle/Trash",{"v":275,"d":"$275.00"},null,{"v":275,"d":"$275.00"},1,"ACC",{"$nulls":4},{"$error":"#N/A"}]
["RESTOCKING FEE","25% but only after the return has been approved",{"v":0,"d":"$0.00"},2,null,{"v":0,"d":"$0.00"},{"v":0,"d":"$0.00"},null,"/","/","",null,0,"/RESTOCKING FEE",{"$nulls":3},{"$f":"Q494&K494","v":""},null,"/RESTOCKING FEE",1,{"$nulls":3},{"v":0,"d":"$0.00"},{"v":0,"d":"$0.00"},null,"Dark Blue","Dark Blue","N",null,null,"No","No","N",{"$nulls":5},"Zero Price",{"$nulls":4},{"$error":"#N/A"}]
["ROS15","Roll Out Shelf 15\" ",{"v":74,"d":"$74.00"},2,null,{"$f":"$C495*'Order Form'!$Q$18","v":{"v":74,"d":"$74.00"}},{"$f":"$C495*'Order Form'!$Q$18","v":{"v":74,"d":"$74.00"}},null,"/",{"$f":"'Order Type'!$C$6","v":"01-"},"",null,0,"01-ROS15",{"$nulls":3},"",null,"01-ROS15",1,"DG 21IN KITCHEN SET-DTC",1,null,{"$f":"$C495*1","v":{"v":74,"d":"$74.00"}},{"v":74,"d":"$74.00"},null,"Purple","Purple",{"$nulls":3},"No",25,"N","Shelf - Roll Out",{"$f":"ROUNDUP(AM495*AN495,0)","v":{"v":74,"d":"$74.00"}},null,{"v":67,"d":"$67.00"},1.1,"Plywood",{"$nulls":4},{"$error":"#N/A"}]
["ROS18","Roll Out Shelf 18\"",{"v":82,"d":"$82.00"},2,null,{"$f":"$C496*'Order Form'!$Q$18","v":{"v":82,"d":"$82.00"}},{"$f":"$C496*'Order Form'!$Q$18","v":{"v":82,"d":"$82.00"}},null,"/",{"$f":"'Order Type'!$C$6","v":"01-"},"",null,0,"01-ROS18",{"$nulls":3},"",null,"01-ROS18",1,"DG 21IN KITCHEN SET-DTC",1,null,{"v":82,"d":"$82.00"},{"v":82,"d":"$82.00"},null,"Purple","Purple",{"$nulls":3},"No",25,"N","Shelf - Roll Out",{"v":82,"d":"$82.00"},null,{"v":74,"d":"$74.00"},1.1,"Plywood",{"$nulls":4},{"$error":"#N/A"}]
["ROS21","Roll Out Shelf 21\"",{"v":90,"d":"$90.00"},2,null,{"$f":"$C497*'Order Form'!$Q$18","v":{"v":90,"d":"$90.00"}},{"$f":"$C497*'Order Form'!$Q$18","v":{"v":90,"d":"$90.00"}},null,"/",{"$f":"'Order Type'!$C$6","v":"01-"},"",null,0,"01-ROS21",{"$nulls":3},"",null,"01-ROS21",1,"DG 21IN KITCHEN SET-DTC",1,null,{"v":90,"d":"$90.00"},{"v":90,"d":"$90.00"},null,"Purple","Purple",{"$nulls":3},"No",25,"N","Shelf - Roll Out",{"v":90,"d":"$90.00"},null,{"v":81,"d":"$81.00"},1.1,"Plywood",{"$nulls":4},{"$error":"#N/A"}]
["ROS24","Roll Out Shelf 24\"",{"v":96,"d":"$96.00"},2,null,{"$f":"$C498*'Order Form'!$Q$18","v":{"v":96,"d":"$96.00"}},{"$f":"$C498*'Order Form'!$Q$18","v":{"v":96,"d":"$96.00"}},null,"/",{"$f":"'Order Type'!$C$6","v":"01-"},"",null,0,"01-ROS24",{"$nulls":3},"",null,"01-ROS24",1,"DG 21IN KITCHEN SET-DTC",1,null,{"v":96,"d":"$96.00"},{"v":96,"d":"$96.00"},null,"Purple","Purple",{"$nulls":3},"No",25,"N","Shelf - Roll Out",{"v":96,"d":"$96.00"},null,{"v":87,"d":"$87.00"},1.1,"Plywood",{"$nulls":4},{"$error":"#N/A"}]
["ROS27","Roll Out Shelf 27\"",{"v":102,"d":"$102.00"},2,null,{"$f":"$C499*'Order Form'!$Q$18","v":{"v":102,"d":"$102.00"}},{"$f":"$C499*'Order Form'!$Q$18","v":{"v":102,"d":"$102.00"}},null,"/",{"$f":"'Order Type'!$C$6","v":"01-"},"",null,0,"01-ROS27",{"$nulls":3},"",null,"01-ROS27",1,"DG 21IN KITCHEN SET-DTC",1,null,{"v":102,"d":"$102.00"},{"v":102,"d":"$102.00"},null,"Purple","Purple",{"$nulls":3},"No",25,"N","Shelf - Roll Out",{"v":102,"d":"$102.00"},null,{"v":92,"d":"$92.00"},1.1,"Plywood",{"$nulls":4},{"$error":"#N/A"}]
["ROS30","Roll Out Shelf 30\"",{"v":110,"d":"$110.00"},2,null,{"$f":"$C500*'Order Form'!$Q$18","v":{"v":110,"d":"$110.00"}},{"$f":"$C500*'Order Form'!$Q$18","v":{"v":110,"d":"$110.00"}},null,"/",{"$f":"'Order Type'!$C$6","v":"01-"},"",null,0,"01-ROS30",{"$nulls":3},"",null,"01-ROS30",1,"DG 21IN KITCHEN SET-DTC",1,null,{"v":110,"d":"$110.00"},{"v":110,"d":"$110.00"},null,"Purple","Purple",{"$nulls":3},"No",25,"N","Shelf - Roll Out",{"v":110,"d":"$110.00"},null,{"v":100,"d":"$100.00"},1.1,"Plywood",{"$nulls":4},{"$error":"#N/A"}]
["ROS33","Roll Out Shelf 33\"",{"v":117,"d":"$117.00"},2,null,{"$f":"$C501*'Order Form'!$Q$18","v":{"v":117,"d":"$117.00"}},{"$f":"$C501*'Order Form'!$Q$18","v":{"v":117,"d":"$117.00"}},null,"/",{"$f":"'Order Type'!$C$6","v":"01-"},"",null,0,"01-ROS33",{"$nulls":3},"",null,"01-ROS33",1,"DG 21IN KITCHEN SET-DTC",1,null,{"v":117,"d":"$117.00"},{"v":117,"d":"$117.00"},null,"Purple","Purple",{"$nulls":3},"No",25,"N","Shelf - Roll Out",{"v":117,"d":"$117.00"},null,{"v":106,"d":"$106.00"},1.1,"Plywood",{"$nulls":4},{"$error":"#N/A"}]
["ROS36","Roll Out Shelf 36\"",{"v":125,"d":"$125.00"},2,null,{"$f":"$C502*'Order Form'!$Q$18","v":{"v":125,"d":"$125.00"}},{"$f":"$C502*'Order Form'!$Q$18","v":{"v":125,"d":"$125.00"}},null,"/",{"$f":"'Order Type'!$C$6","v":"01-"},"",null,0,"01-ROS36",{"$nulls":3},"",null,"01-ROS36",1,"DG 21IN KITCHEN SET-DTC",1,null,{"v":125,"d":"$125.00"},{"v":125,"d":"$125.00"},null,"Purple","Purple",{"$nulls":3},"No",25,"N","Shelf - Roll Out",{"v":125,"d":"$125.00"},null,{"v":113,"d":"$113.00"},1.1,"Plywood",{"$nulls":4},{"$error":"#N/A"}]
["ROS39","Roll Out Shelf 39\"",{"v":136,"d":"$136.00"},3,null,null,{"$f":"$C503*'Order Form'!$Q$18","v":{"v":136,"d":"$136.00"}},null,"/",{"$f":"'Order Type'!$C$6","v":"01-"},"",null,0,"01-ROS39",{"$nulls":3},"",null,"01-ROS39",1,"DG 21IN KITCHEN SET-DTC",1,null,null,{"$f":"$C503*1","v":{"v":136,"d":"$136.00"}},null,"Black","Purple",{"$nulls":3},"No",25,"N","Shelf - Roll Out",{"v":136,"d":"$136.00"},null,{"v":123,"d":"$123.00"},1.1,"Plywood",{"$nulls":4},{"$error":"#N/A"}]
["RP24108","Refrigerator panel with 1.5\" Stile 24\" x 108\"",{"v":533,"d":"$533.00"},3,null,null,{"$f":"$C504*$G$1*'Order Form'!$Q$18*(Color!$D$6+Species!$C$6)","v":{"$error":"#VALUE!"}},null,"13-","13-",{"$f":"CONCAT!$D$8","v":""},null,0,"13-RP24108",{"$nulls":5},"13-RP24108",1,{"$nulls":4},{"$f":"$C504*$G$1*1*(Color!$D$8+Species!$C$6)","v":{"$error":"#VALUE!"}},null,"Black","Pink",{"$nulls":3},"No","No","N","Trim - Panel - Refrigerator",{"v":533,"d":"$533.00"},"Price change for fall 2019",{"v":378,"d":"$378.00"},1.41,"G1",{"$nulls":4},{"$error":"#N/A"}]
["RP24120","Refrigerator panel with 1.5\" Stile 24\" x 120\"",{"v":593,"d":"$593.00"},3,null,null,{"$f":"$C505*$G$1*'Order Form'!$Q$18*(Color!$D$6+Species!$C$6)","v":{"$error":"#VALUE!"}},null,"13-","13-",{"$f":"CONCAT!$D$8","v":""},null,0,"13-RP24120",{"$nulls":5},"13-RP24120",1,{"$nulls":4},{"$f":"$C505*$G$1*1*(Color!$D$8+Species!$C$6)","v":{"$error":"#VALUE!"}},null,"Black","Pink",{"$nulls":3},"No","No","N","Trim - Panel - Refrigerator",{"v":593,"d":"$593.00"},"Price change for fall 2019",{"v":420,"d":"$420.00"},1.41,"G1",{"$nulls":4},{"$error":"#N/A"}]
["RP2496","Refrigerator panel with 1.5\" Stile 24\" x 96\"",{"v":412,"d":"$412.00"},2,null,{"$f":"($C506*$F$1*Color!$G$6*'Order Form'!$Q$18)","v":{"$error":"#VALUE!"}},{"$f":"$C506*$G$1*'Order Form'!$Q$18*(Color!$D$6+Species!$C$6)","v":{"$error":"#VALUE!"}},null,"13-","13-",{"$f":"CONCAT!$D$3","v":""},null,0,"13-RP2496",{"$nulls":3},{"$f":"Q506&K506","v":""},null,"13-RP2496",1,{"$nulls":3},{"$f":"($C506*$F$1*Color!$G$8*1)","v":{"v":353.49600000000004,"d":"$353.50"}},{"$f":"$C506*$G$1*1*(Color!$D$8+Species!$C$6)","v":{"$error":"#VALUE!"}},null,"Orange","Pink",{"$nulls":3},"No","No","N","Trim - Panel - Refrigerator",{"v":412,"d":"$412.00"},"Price change for fall 2019",{"v":292,"d":"$292.00"},1.41,"G1",{"$nulls":4},{"$error":"#N/A"}]
["RP30108","Refrigerator panel with 1.5\" Stile 30\" x 108\"",{"v":768,"d":"$768.00"},3,null,null,{"$f":"$C507*$G$1*'Order Form'!$Q$18*(Color!$D$6+Species!$C$6)","v":{"$error":"#VALUE!"}},null,"13-","13-",{"$f":"CONCAT!$D$8","v":""},null,0,"13-RP30108",{"$nulls":5},"13-RP30108",1,{"$nulls":4},{"$f":"$C507*$G$1*1*(Color!$D$8+Species!$C$6)","v":{"$error":"#VALUE!"}},null,"Black","Pink",{"$nulls":3},"No","No","N","Trim - Panel - Refrigerator",{"v":768,"d":"$768.00"},"Price change for fall 2019",{"v":544,"d":"$544.00"},1.41,"G1",{"$nulls":4},{"$error":"#N/A"}]
["RP30120","Refrigerator panel with 1.5\" Stile 30\" x 120\"",{"v":852,"d":"$852.00"},3,null,null,{"$f":"$C508*$G$1*'Order Form'!$Q$18*(Color!$D$6+Species!$C$6)","v":{"$error":"#VALUE!"}},null,"13-","13-",{"$f":"CONCAT!$D$8","v":""},null,0,"13-RP30120",{"$nulls":5},"13-RP30120",1,{"$nulls":4},{"$f":"$C508*$G$1*1*(Color!$D$8+Species!$C$6)","v":{"$error":"#VALUE!"}},null,"Black","Pink",{"$nulls":3},"No","No","N","Trim - Panel - Refrigerator",{"v":852,"d":"$852.00"},"Price change for fall 2019",{"v":604,"d":"$604.00"},1.41,"G1",{"$nulls":4},{"$error":"#N/A"}]
["RP3096","Refrigerator panel with 1.5\" Stile 30\" x 96\"",{"v":593,"d":"$593.00"},2,null,{"$f":"($C509*$F$1*Color!$G$6*'Order Form'!$Q$18)","v":{"$error":"#VALUE!"}},{"$f":"$C509*$G$1*'Order Form'!$Q$18*(Color!$D$6+Species!$C$6)","v":{"$error":"#VALUE!"}},null,"13-","13-",{"$f":"CONCAT!$D$3","v":""},null,0,"13-RP3096",{"$nulls":3},{"$f":"Q509&K509","v":""},null,"13-RP3096",1,{"$nulls":3},{"$f":"($C509*$F$1*Color!$G$8*1)","v":{"v":508.79400000000004,"d":"$508.79"}},{"$f":"$C509*$G$1*1*(Color!$D$8+Species!$C$6)","v":{"$error":"#VALUE!"}},null,"Orange","Pink",{"$nulls":3},"No","No","N","Trim - Panel - Refrigerator",{"v":593,"d":"$593.00"},"Price change for fall 2019",{"v":420,"d":"$420.00"},1.41,"G1",{"$nulls":4},{"$error":"#N/A"}]
["RPES2496","Refrigerator Panel 24\" x 96\"",{"v":776,"d":"$776.00"},3,null,null,{"$f":"$C510*$G$1*'Order Form'!$Q$18*(Color!$D$6+'Door Style'!$G$6+Species!$C$6+'Custom Finish'!$C$6)","v":{"$error":"#VALUE!"}},null,"SC/PC","13-",{"$f":"CONCAT!$D$8","v":""},null,0,"13-RPES2496",{"$nulls":3},"",null,"13-RPES2496",1,{"$nulls":4},{"$f":"$C510*$G$1*1*(Color!$D$8+'Door Style'!$G$6+Species!$C$6+'Custom Finish'!$C$6)","v":{"$error":"#VALUE!"}},null,"Black","Dark Gray",{"$nulls":3},"No","No","N","Trim - Panel - Refrigerator",{"v":776,"d":"$776.00"},"Price change for fall 2019",{"v":550,"d":"$550.00"},1.41,"G1",{"$nulls":4},{"$error":"#N/A"}]
["RPES3096","Refrigerator Panel 30\" x 96\"",{"v":982,"d":"$982.00"},3,null,null,{"$f":"$C511*$G$1*'Order Form'!$Q$18*(Color!$D$6+'Door Style'!$G$6+Species!$C$6+'Custom Finish'!$C$6)","v":{"$error":"#VALUE!"}},null,"SC/PC","13-",{"$f":"CONCAT!$D$8","v":""},null,0,"13-RPES3096",{"$nulls":3},"",null,"13-RPES3096",1,{"$nulls":4},{"$f":"$C511*$G$1*1*(Color!$D$8+'Door Style'!$G$6+Species!$C$6+'Custom Finish'!$C$6)","v":{"$error":"#VALUE!"}},null,"Black","Dark Gray",{"$nulls":3},"No","No","N","Trim - Panel - Refrigerator",{"v":982,"d":"$982.00"},"Price change for fall 2019",{"v":696,"d":"$696.00"},1.41,"G1",{"$nulls":4},{"$error":"#N/A"}]
["RW3012","Refrigerator Wall 30\" x 12\"",{"v":353,"d":"$353.00"},2,null,{"$f":"$C512*$F$1*'Order Form'!$Q$18*(Color!$C$6+'Door Style'!$H$6)","v":{"$error":"#VALUE!"}},{"$f":"$C512*$G$1*'Order Form'!$Q$18*(Color!$D$6+'Door Style'!$G$6+Species!$C$6+'Custom Finish'!$C$6)","v":{"$error":"#VALUE!"}},null,{"$f":"'Order Type'!$C$6","v":"01-"},{"$f":"'Order Type'!$C$6","v":"01-"},{"$f":"CONCAT!$D$2","v":""},null,1,"01-RW3012","11-RW3012",1,"12-W3012","12-W3012",1,{"$nulls":5},{"$f":"$C512*$F$1*(Color!$C$8+'Door Style'!$H$6)","v":{"v":302.8740000000001,"d":"$302.87"}},{"$f":"$C512*$G$1*1*(Color!$D$8+'Door Style'!$G$6+Species!$C$6+'Custom Finish'!$C$6)","v":{"$error":"#VALUE!"}},null,"Light Blue","Dark Gray",null,"1","BSKIN",75,25,"N","Wall Cabinet - Refrigerator",{"v":353,"d":"$353.00"},"Price change for fall 2019",{"v":250,"d":"$250.00"},1.41,"G1",{"$nulls":4},{"$error":"#N/A"}]
["RW3015","Refrigerator Wall 30\" x 15\"",{"v":408,"d":"$408.00"},2,null,{"$f":"$C513*$F$1*'Order Form'!$Q$18*(Color!$C$6+'Door Style'!$H$6)","v":{"$error":"#VALUE!"}},{"$f":"$C513*$G$1*'Order Form'!$Q$18*(Color!$D$6+'Door Style'!$G$6+Species!$C$6+'Custom Finish'!$C$6)","v":{"$error":"#VALUE!"}},null,{"$f":"'Order Type'!$C$6","v":"01-"},{"$f":"'Order Type'!$C$6","v":"01-"},{"$f":"CONCAT!$D$2","v":""},null,1,"01-RW3015","11-RW3015",1,"12-W3015","12-W3015",1,{"$nulls":5},{"$f":"$C513*$F$1*(Color!$C$8+'Door Style'!$H$6)","v":{"v":350.064,"d":"$350.06"}},{"$f":"$C513*$G$1*1*(Color!$D$8+'Door Style'!$G$6+Species!$C$6+'Custom Finish'!$C$6)","v":{"$error":"#VALUE!"}},null,"Light Blue","Dark Gray",null,"1","BSKIN",75,25,"N","Wall Cabinet - Refrigerator",{"v":408,"d":"$408.00"},"Price change for fall 2019",{"v":289,"d":"$289.00"},1.41,"G1",{"$nulls":4},{"$error":"#N/A"}]
["RW3018","Refrigerator Wall 30\" x 18\"",{"v":435,"d":"$435.00"},2,null,{"$f":"$C514*$F$1*'Order Form'!$Q$18*(Color!$C$6+'Door Style'!$H$6)","v":{"$error":"#VALUE!"}},{"$f":"$C514*$G$1*'Order Form'!$Q$18*(Color!$D$6+'Door Style'!$G$6+Species!$C$6+'Custom Finish'!$C$6)","v":{"$error":"#VALUE!"}},null,{"$f":"'Order Type'!$C$6","v":"01-"},{"$f":"'Order Type'!$C$6","v":"01-"},{"$f":"CONCAT!$D$2","v":""},null,1,"01-RW3018","11-RW3018",1,"12-W3018","12-W3018",1,{"$nulls":5},{"$f":"$C514*$F$1*(Color!$C$8+'Door Style'!$H$6)","v":{"v":373.23,"d":"$373.23"}},{"$f":"$C514*$G$1*1*(Color!$D$8+'Door Style'!$G$6+Species!$C$6+'Custom Finish'!$C$6)","v":{"$error":"#VALUE!"}},null,"Light Blue","Dark Gray",null,"1","BSKIN",75,25,"N","Wall Cabinet - Refrigerator",{"v":435,"d":"$435.00"},"Price change for fall 2019",{"v":308,"d":"$308.00"},1.41,"G1",{"$nulls":4},{"$error":"#N/A"}]
["RW3021","Refrigerator Wall 30\" x 21\"",{"v":539,"d":"$539.00"},2,null,{"$f":"$C515*$F$1*'Order Form'!$Q$18*(Color!$C$6+'Door Style'!$H$6)","v":{"$error":"#VALUE!"}},{"$f":"$C515*$G$1*'Order Form'!$Q$18*(Color!$D$6+'Door Style'!$G$6+Species!$C$6+'Custom Finish'!$C$6)","v":{"$error":"#VALUE!"}},null,{"$f":"'Order Type'!$C$6","v":"01-"},{"$f":"'Order Type'!$C$6","v":"01-"},{"$f":"CONCAT!$D$2","v":""},null,1,"01-RW3021","11-RW3021",1,"12-W3021","12-W3021",1,{"$nulls":5},{"$f":"$C515*$F$1*(Color!$C$8+'Door Style'!$H$6)","v":{"v":462.46200000000005,"d":"$462.46"}},{"$f":"$C515*$G$1*1*(Color!$D$8+'Door Style'!$G$6+Species!$C$6+'Custom Finish'!$C$6)","v":{"$error":"#VALUE!"}},null,"Light Blue","Dark Gray",null,"1","BSKIN",75,25,"N","Wall Cabinet - Refrigerator",{"v":539,"d":"$539.00"},"Price change for fall 2019",{"v":382,"d":"$382.00"},1.41,"G1",{"$nulls":4},{"$error":"#N/A"}]
["RW3024","Refrigerator Wall 30\" x 24\"",{"v":581,"d":"$581.00"},2,null,{"$f":"$C516*$F$1*'Order Form'!$Q$18*(Color!$C$6+'Door Style'!$H$6)","v":{"$error":"#VALUE!"}},{"$f":"$C516*$G$1*'Order Form'!$Q$18*(Color!$D$6+'Door Style'!$G$6+Species!$C$6+'Custom Finish'!$C$6)","v":{"$error":"#VALUE!"}},null,{"$f":"'Order Type'!$C$6","v":"01-"},{"$f":"'Order Type'!$C$6","v":"01-"},{"$f":"CONCAT!$D$2","v":""},null,1,"01-RW3024","11-RW3024",1,"12-W3024","12-W3024",1,{"$nulls":5},{"$f":"$C516*$F$1*(Color!$C$8+'Door Style'!$H$6)","v":{"v":498.49800000000005,"d":"$498.50"}},{"$f":"$C516*$G$1*1*(Color!$D$8+'Door Style'!$G$6+Species!$C$6+'Custom Finish'!$C$6)","v":{"$error":"#VALUE!"}},null,"Light Blue","Dark Gray",null,"1","BSKIN",75,25,"N","Wall Cabinet - Refrigerator",{"v":581,"d":"$581.00"},"Price change for fall 2019",{"v":412,"d":"$412.00"},1.41,"G1",{"$nulls":4},{"$error":"#N/A"}]
["RW3312","Refrigerator Wall 33\" x 12\"",{"v":364,"d":"$364.00"},2,null,{"$f":"$C517*$F$1*'Order Form'!$Q$18*(Color!$C$6+'Door Style'!$H$6)","v":{"$error":"#VALUE!"}},{"$f":"$C517*$G$1*'Order Form'!$Q$18*(Color!$D$6+'Door Style'!$G$6+Species!$C$6+'Custom Finish'!$C$6)","v":{"$error":"#VALUE!"}},null,{"$f":"'Order Type'!$C$6","v":"01-"},{"$f":"'Order Type'!$C$6","v":"01-"},{"$f":"CONCAT!$D$2","v":""},null,1,"01-RW3312","11-RW3312",1,"12-W3312","12-W3312",1,{"$nulls":5},{"$f":"$C517*$F$1*(Color!$C$8+'Door Style'!$H$6)","v":{"v":312.31200000000007,"d":"$312.31"}},{"$f":"$C517*$G$1*1*(Color!$D$8+'Door Style'!$G$6+Species!$C$6+'Custom Finish'!$C$6)","v":{"$error":"#VALUE!"}},null,"Light Blue","Dark Gray",null,"1","BSKIN",75,25,"N","Wall Cabinet - Refrigerator",{"v":364,"d":"$364.00"},"Price change for fall 2019",{"v":258,"d":"$258.00"},1.41,"G1",{"$nulls":4},{"$error":"#N/A"}]
["RW3315","Refrigerator Wall 33\" x 15\"",{"v":394,"d":"$394.00"},2,null,{"$f":"$C518*$F$1*'Order Form'!$Q$18*(Color!$C$6+'Door Style'!$H$6)","v":{"$error":"#VALUE!"}},{"$f":"$C518*$G$1*'Order Form'!$Q$18*(Color!$D$6+'Door Style'!$G$6+Species!$C$6+'Custom Finish'!$C$6)","v":{"$error":"#VALUE!"}},null,{"$f":"'Order Type'!$C$6","v":"01-"},{"$f":"'Order Type'!$C$6","v":"01-"},{"$f":"CONCAT!$D$2","v":""},null,1,"01-RW3315","11-RW3315",1,"12-W3315","12-W3315",1,{"$nulls":5},{"$f":"$C518*$F$1*(Color!$C$8+'Door Style'!$H$6)","v":{"v":338.052,"d":"$338.05"}},{"$f":"$C518*$G$1*1*(Color!$D$8+'Door Style'!$G$6+Species!$C$6+'Custom Finish'!$C$6)","v":{"$error":"#VALUE!"}},null,"Light Blue","Dark Gray",null,"1","BSKIN",75,25,"N","Wall Cabinet - Refrigerator",{"v":394,"d":"$394.00"},"Price change for fall 2019",{"v":279,"d":"$279.00"},1.41,"G1",{"$nulls":4},{"$error":"#N/A"}]
["RW3318","Refrigerator Wall 33\" x 18\"",{"v":450,"d":"$450.00"},2,null,{"$f":"$C519*$F$1*'Order Form'!$Q$18*(Color!$C$6+'Door Style'!$H$6)","v":{"$error":"#VALUE!"}},{"$f":"$C519*$G$1*'Order Form'!$Q$18*(Color!$D$6+'Door Style'!$G$6+Species!$C$6+'Custom Finish'!$C$6)","v":{"$error":"#VALUE!"}},null,{"$f":"'Order Type'!$C$6","v":"01-"},{"$f":"'Order Type'!$C$6","v":"01-"},{"$f":"CONCAT!$D$2","v":""},null,1,"01-RW3318","11-RW3318",1,"12-W3318","12-W3318",1,{"$nulls":5},{"$f":"$C519*$F$1*(Color!$C$8+'Door Style'!$H$6)","v":{"v":386.1,"d":"$386.10"}},{"$f":"$C519*$G$1*1*(Color!$D$8+'Door Style'!$G$6+Species!$C$6+'Custom Finish'!$C$6)","v":{"$error":"#VALUE!"}},null,"Light Blue","Dark Gray",null,"1","BSKIN",75,25,"N","Wall Cabinet - Refrigerator",{"v":450,"d":"$450.00"},"Price change for fall 2019",{"v":319,"d":"$319.00"},1.41,"G1",{"$nulls":4},{"$error":"#N/A"}]
["RW3612","Refrigerator Wall 36\" x 12\"",{"v":384,"d":"$384.00"},2,null,{"$f":"$C520*$F$1*'Order Form'!$Q$18*(Color!$C$6+'Door Style'!$H$6)","v":{"$error":"#VALUE!"}},{"$f":"$C520*$G$1*'Order Form'!$Q$18*(Color!$D$6+'Door Style'!$G$6+Species!$C$6+'Custom Finish'!$C$6)","v":{"$error":"#VALUE!"}},null,{"$f":"'Order Type'!$C$6","v":"01-"},{"$f":"'Order Type'!$C$6","v":"01-"},{"$f":"CONCAT!$D$2","v":""},null,1,"01-RW3612","11-RW3612",1,"12-W3612","12-W3612",1,{"$nulls":5},{"$f":"$C520*$F$1*(Color!$C$8+'Door Style'!$H$6)","v":{"v":329.472,"d":"$329.47"}},{"$f":"$C520*$G$1*1*(Color!$D$8+'Door Style'!$G$6+Species!$C$6+'Custom Finish'!$C$6)","v":{"$error":"#VALUE!"}},null,"Light Blue","Dark Gray",null,"1","BSKIN",75,25,"N","Wall Cabinet - Refrigerator",{"v":384,"d":"$384.00"},"Price change for fall 2019",{"v":272,"d":"$272.00"},1.41,"G1",{"$nulls":4},{"$error":"#N/A"}]
["RW3615","Refrigerator Wall 36\" x 15\"",{"v":433,"d":"$433.00"},2,null,{"$f":"$C521*$F$1*'Order Form'!$Q$18*(Color!$C$6+'Door Style'!$H$6)","v":{"$error":"#VALUE!"}},{"$f":"$C521*$G$1*'Order Form'!$Q$18*(Color!$D$6+'Door Style'!$G$6+Species!$C$6+'Custom Finish'!$C$6)","v":{"$error":"#VALUE!"}},null,{"$f":"'Order Type'!$C$6","v":"01-"},{"$f":"'Order Type'!$C$6","v":"01-"},{"$f":"CONCAT!$D$2","v":""},null,1,"01-RW3615","11-RW3615",1,"12-W3615","12-W3615",1,{"$nulls":5},{"$f":"$C521*$F$1*(Color!$C$8+'Door Style'!$H$6)","v":{"v":371.51400000000007,"d":"$371.51"}},{"$f":"$C521*$G$1*1*(Color!$D$8+'Door Style'!$G$6+Species!$C$6+'Custom Finish'!$C$6)","v":{"$error":"#VALUE!"}},null,"Light Blue","Dark Gray",null,"1","BSKIN",75,25,"N","Wall Cabinet - Refrigerator",{"v":433,"d":"$433.00"},"Price change for fall 2019",{"v":307,"d":"$307.00"},1.41,"G1",{"$nulls":4},{"$error":"#N/A"}]
["RW3618","Refrigerator Wall 36\" x 18\"",{"v":477,"d":"$477.00"},2,null,{"$f":"$C522*$F$1*'Order Form'!$Q$18*(Color!$C$6+'Door Style'!$H$6)","v":{"$error":"#VALUE!"}},{"$f":"$C522*$G$1*'Order Form'!$Q$18*(Color!$D$6+'Door Style'!$G$6+Species!$C$6+'Custom Finish'!$C$6)","v":{"$error":"#VALUE!"}},null,{"$f":"'Order Type'!$C$6","v":"01-"},{"$f":"'Order Type'!$C$6","v":"01-"},{"$f":"CONCAT!$D$2","v":""},null,1,"01-RW3618","11-RW3618",1,"12-W3618","12-W3618",1,{"$nulls":5},{"$f":"$C522*$F$1*(Color!$C$8+'Door Style'!$H$6)","v":{"v":409.266,"d":"$409.27"}},{"$f":"$C522*$G$1*1*(Color!$D$8+'Door Style'!$G$6+Species!$C$6+'Custom Finish'!$C$6)","v":{"$error":"#VALUE!"}},null,"Light Blue","Dark Gray",null,"1","BSKIN",75,25,"N","Wall Cabinet - Refrigerator",{"v":477,"d":"$477.00"},"Price change for fall 2019",{"v":338,"d":"$338.00"},1.41,"G1",{"$nulls":4},{"$error":"#N/A"}]
["RW3621","Refrigerator Wall 36\" x 21\"",{"v":576,"d":"$576.00"},2,null,{"$f":"$C523*$F$1*'Order Form'!$Q$18*(Color!$C$6+'Door Style'!$H$6)","v":{"$error":"#VALUE!"}},{"$f":"$C523*$G$1*'Order Form'!$Q$18*(Color!$D$6+'Door Style'!$G$6+Species!$C$6+'Custom Finish'!$C$6)","v":{"$error":"#VALUE!"}},null,{"$f":"'Order Type'!$C$6","v":"01-"},{"$f":"'Order Type'!$C$6","v":"01-"},{"$f":"CONCAT!$D$2","v":""},null,1,"01-RW3621","11-RW3621",1,"12-W3621","12-W3621",1,{"$nulls":5},{"$f":"$C523*$F$1*(Color!$C$8+'Door Style'!$H$6)","v":{"v":494.2080000000001,"d":"$494.21"}},{"$f":"$C523*$G$1*1*(Color!$D$8+'Door Style'!$G$6+Species!$C$6+'Custom Finish'!$C$6)","v":{"$error":"#VALUE!"}},null,"Light Blue","Dark Gray",null,"1","BSKIN",75,25,"N","Wall Cabinet - Refrigerator",{"v":576,"d":"$576.00"},"Price change for fall 2019",{"v":408,"d":"$408.00"},1.41,"G1",{"$nulls":4},{"$error":"#N/A"}]
["RW3624","Refrigerator Wall 36\" x 24\"",{"v":625,"d":"$625.00"},2,null,{"$f":"$C524*$F$1*'Order Form'!$Q$18*(Color!$C$6+'Door Style'!$H$6)","v":{"$error":"#VALUE!"}},{"$f":"$C524*$G$1*'Order Form'!$Q$18*(Color!$D$6+'Door Style'!$G$6+Species!$C$6+'Custom Finish'!$C$6)","v":{"$error":"#VALUE!"}},null,{"$f":"'Order Type'!$C$6","v":"01-"},{"$f":"'Order Type'!$C$6","v":"01-"},{"$f":"CONCAT!$D$2","v":""},null,1,"01-RW3624","11-RW3624",1,"12-W3624","12-W3624",1,{"$nulls":5},{"$f":"$C524*$F$1*(Color!$C$8+'Door Style'!$H$6)","v":{"v":536.25,"d":"$536.25"}},{"$f":"$C524*$G$1*1*(Color!$D$8+'Door Style'!$G$6+Species!$C$6+'Custom Finish'!$C$6)","v":{"$error":"#VALUE!"}},null,"Light Blue","Dark Gray",null,"1","BSKIN",75,25,"N","Wall Cabinet - Refrigerator",{"v":625,"d":"$625.00"},"Price change for fall 2019",{"v":443,"d":"$443.00"},1.41,"G1",{"$nulls":4},{"$error":"#N/A"}]
["RW3912","Refrigerator Wall 39\" x 12\"",{"v":426,"d":"$426.00"},3,null,null,{"$f":"$C525*$G$1*'Order Form'!$Q$18*(Color!$D$6+'Door Style'!$G$6+Species!$C$6+'Custom Finish'!$C$6)","v":{"$error":"#VALUE!"}},null,"SC/PC",{"$f":"'Order Type'!$C$6","v":"01-"},{"$f":"CONCAT!$D$8","v":""},null,1,"01-RW3912","11-RW3912",1,"12-W3912","12-W3912",1,{"$nulls":6},{"$f":"$C525*$G$1*1*(Color!$D$8+'Door Style'!$G$6+Species!$C$6+'Custom Finish'!$C$6)","v":{"$error":"#VALUE!"}},null,"Black","Dark Gray",null,"1","BSKIN",75,25,"N","Wall Cabinet - Refrigerator",{"v":426,"d":"$426.00"},"Price change for fall 2019",{"v":302,"d":"$302.00"},1.41,"G1",{"$nulls":4},{"$error":"#N/A"}]
["RW3915","Refrigerator Wall 39\" x 15\"",{"v":477,"d":"$477.00"},3,null,null,{"$f":"$C526*$G$1*'Order Form'!$Q$18*(Color!$D$6+'Door Style'!$G$6+Species!$C$6+'Custom Finish'!$C$6)","v":{"$error":"#VALUE!"}},null,"SC/PC",{"$f":"'Order Type'!$C$6","v":"01-"},{"$f":"CONCAT!$D$8","v":""},null,1,"01-RW3915","11-RW3915",1,"12-W3915","12-W3915",1,{"$nulls":6},{"$f":"$C526*$G$1*1*(Color!$D$8+'Door Style'!$G$6+Species!$C$6+'Custom Finish'!$C$6)","v":{"$error":"#VALUE!"}},null,"Black","Dark Gray",null,"1","BSKIN",75,25,"N","Wall Cabinet - Refrigerator",{"v":477,"d":"$477.00"},"Price change for fall 2019",{"v":338,"d":"$338.00"},1.41,"G1",{"$nulls":4},{"$error":"#N/A"}]
["RW3918","Refrigerator Wall 39\" x 18\"",{"v":567,"d":"$567.00"},2,null,{"$f":"$C527*$F$1*'Order Form'!$Q$18*(Color!$C$6+'Door Style'!$H$6)","v":{"$error":"#VALUE!"}},{"$f":"$C527*$G$1*'Order Form'!$Q$18*(Color!$D$6+'Door Style'!$G$6+Species!$C$6+'Custom Finish'!$C$6)","v":{"$error":"#VALUE!"}},null,{"$f":"'Order Type'!$C$6","v":"01-"},{"$f":"'Order Type'!$C$6","v":"01-"},{"$f":"CONCAT!$D$2","v":""},null,1,"01-RW3918","11-RW3918",1,"12-W3918","12-W3918",1,{"$nulls":5},{"$f":"$C527*$F$1*(Color!$C$8+'Door Style'!$H$6)","v":{"v":486.48600000000005,"d":"$486.49"}},{"$f":"$C527*$G$1*1*(Color!$D$8+'Door Style'!$G$6+Species!$C$6+'Custom Finish'!$C$6)","v":{"$error":"#VALUE!"}},null,"Light Blue","Dark Gray",null,"1","BSKIN",75,25,"N","Wall Cabinet - Refrigerator",{"v":567,"d":"$567.00"},"Price change for fall 2019",{"v":402,"d":"$402.00"},1.41,"G1",{"$nulls":4},{"$error":"#N/A"}]
["RW3921","Refrigerator Wall 39\" x 21\"",{"v":641,"d":"$641.00"},3,null,null,{"$f":"$C528*$G$1*'Order Form'!$Q$18*(Color!$D$6+'Door Style'!$G$6+Species!$C$6+'Custom Finish'!$C$6)","v":{"$error":"#VALUE!"}},null,"SC/PC",{"$f":"'Order Type'!$C$6","v":"01-"},{"$f":"CONCAT!$D$8","v":""},null,1,"01-RW3921","11-RW3921",1,"12-W3921","12-W3921",1,{"$nulls":6},{"$f":"$C528*$G$1*1*(Color!$D$8+'Door Style'!$G$6+Species!$C$6+'Custom Finish'!$C$6)","v":{"$error":"#VALUE!"}},null,"Black","Dark Gray",null,"1","BSKIN",75,25,"N","Wall Cabinet - Refrigerator",{"v":641,"d":"$641.00"},"Price change for fall 2019",{"v":454,"d":"$454.00"},1.41,"G1",{"$nulls":4},{"$error":"#N/A"}]
["RW3924","Refrigerator Wall 39\" x 24\"",{"v":704,"d":"$704.00"},2,null,{"$f":"$C529*$F$1*'Order Form'!$Q$18*(Color!$C$6+'Door Style'!$H$6)","v":{"$error":"#VALUE!"}},{"$f":"$C529*$G$1*'Order Form'!$Q$18*(Color!$D$6+'Door Style'!$G$6+Species!$C$6+'Custom Finish'!$C$6)","v":{"$error":"#VALUE!"}},null,{"$f":"'Order Type'!$C$6","v":"01-"},{"$f":"'Order Type'!$C$6","v":"01-"},{"$f":"CONCAT!$D$2","v":""},null,1,"01-RW3924","11-RW3924",1,"12-W3924","12-W3924",1,{"$nulls":5},{"$f":"$C529*$F$1*(Color!$C$8+'Door Style'!$H$6)","v":{"v":604.032,"d":"$604.03"}},{"$f":"$C529*$G$1*1*(Color!$D$8+'Door Style'!$G$6+Species!$C$6+'Custom Finish'!$C$6)","v":{"$error":"#VALUE!"}},null,"Light Blue","Dark Gray",null,"1","BSKIN",75,25,"N","Wall Cabinet - Refrigerator",{"v":704,"d":"$704.00"},"Price change for fall 2019",{"v":499,"d":"$499.00"},1.41,"G1",{"$nulls":4},{"$error":"#N/A"}]
["SAMPLE CHIPS 4 X 6","Single Sample Chip",{"v":1,"d":"$1.00"},2,null,{"$f":"$C530","v":{"v":1,"d":"$1.00"}},{"$f":"$C530","v":{"v":1,"d":"$1.00"}},null,"/","/","",null,0,"/SAMPLE CHIPS 4 X 6",{"$nulls":3},"",null,{"$f":"N530","v":"/SAMPLE CHIPS 4 X 6"},1,{"$nulls":3},{"$f":"$C530","v":{"v":1,"d":"$1.00"}},{"$f":"$C530","v":{"v":1,"d":"$1.00"}},null,"Tan","Tan","Dealer",null,null,"No","No","N","Dealer support item",{"v":1,"d":"$1.00"},null,{"v":1,"d":"$1.00"},1,"ACC",{"$nulls":4},{"$error":"#N/A"}]
["SAMPLE CHIPS 4 X 6 Set","Includes 5 of each of the 14 colorways",{"v":50,"d":"$50.00"},2,null,{"$f":"$C531","v":{"v":50,"d":"$50.00"}},{"$f":"$C531","v":{"v":50,"d":"$50.00"}},null,"/","/",null,null,0,"/SAMPLE CHIPS 4 X 6 Set",{"$nulls":3},"",null,{"$f":"N531","v":"/SAMPLE CHIPS 4 X 6 Set"},1,{"$nulls":3},{"$f":"$C531","v":{"v":50,"d":"$50.00"}},{"$f":"$C531","v":{"v":50,"d":"$50.00"}},null,"Tan","Tan","Dealer",null,null,"No","No","N","Dealer support item",{"v":50,"d":"$50.00"},null,{"v":50,"d":"$50.00"},1,"ACC",{"$nulls":4},{"$error":"#N/A"}]
["SAMPLE DOOR","12\" x 16\" Sample To Match Job",{"v":75,"d":"$75.00"},2,null,{"$f":"$C532*Color!$P$6","v":{"v":0,"d":"$0.00"}},{"$f":"$C532*Color!$P$6","v":{"v":0,"d":"$0.00"}},null,{"$f":"'Order Type'!$C$6","v":"01-"},"",{"$f":"CONCAT!$D$2","v":""},null,0,"SAMPLE DOOR",{"$nulls":3},"",null,{"$f":"N532","v":"SAMPLE DOOR"},1,{"$nulls":3},{"$f":"$C532*Color!$P$8","v":{"v":75,"d":"$75.00"}},{"$f":"$C532*Color!$P$8","v":{"v":75,"d":"$75.00"}},null,"Green","Green",{"$nulls":3},"No","No","N","Dealer support item",{"v":75,"d":"$75.00"},"Price change for fall 2019",{"v":50,"d":"$50.00"},1.5,"ACC",{"$nulls":4},{"$error":"#N/A"}]
["SAMPLE DOOR CREDIT","Credit for sample door that was previously paid",{"v":0,"d":"$0.00"},2,null,{"v":0,"d":"$0.00"},{"v":0,"d":"$0.00"},null,"/","/","",null,0,"/SAMPLE DOOR CREDIT",{"$nulls":3},"",null,{"$f":"N533","v":"/SAMPLE DOOR CREDIT"},1,{"$nulls":3},{"v":0,"d":"$0.00"},{"v":0,"d":"$0.00"},null,"Dark Blue","Dark Blue","N",null,null,"No","No","N","Modification - Credit",{"$nulls":4},"Zero Price",{"$nulls":4},{"$error":"#N/A"}]
["SB18","Sink Base 18\"",{"v":419,"d":"$419.00"},2,null,{"$f":"$C534*$F$1*'Order Form'!$Q$18*(Color!$C$6+'Door Style'!$H$6)","v":{"$error":"#VALUE!"}},{"$f":"$C534*$G$1*'Order Form'!$Q$18*(Color!$D$6+'Door Style'!$G$6+Species!$C$6+'Drawer Head'!$E$6+'Custom Finish'!$C$6)","v":{"$error":"#VALUE!"}},null,{"$f":"'Order Type'!$C$6","v":"01-"},{"$f":"'Order Type'!$C$6","v":"01-"},{"$f":"CONCAT!$D$2","v":""},null,1,"01-SB18","11-SB18",1,"12-B18","12-B18",1,{"$nulls":5},{"$f":"$C534*$F$1*(Color!$C$8+'Door Style'!$H$6)","v":{"v":359.502,"d":"$359.50"}},{"$f":"$C534*$G$1*1*(Color!$D$8+'Door Style'!$G$6+Species!$C$6+'Drawer Head'!$E$6+'Custom Finish'!$C$6)","v":{"$error":"#VALUE!"}},null,"Light Blue","Light Gray",null,"1","BSKIN",75,50,"Y","Base Cabinet - Sink",{"$f":"ROUNDUP(AM534*AN534,0)","v":{"v":419,"d":"$419.00"}},"Price change for fall 2019",{"v":297,"d":"$297.00"},1.41,"G1",{"$nulls":4},{"$error":"#N/A"}]
["SB19.5","Sink Base 19.5\"",{"v":477,"d":"$477.00"},3,null,null,{"$f":"$C535*$G$1*'Order Form'!$Q$18*(Color!$D$6+'Door Style'!$G$6+Species!$C$6+'Drawer Head'!$E$6+'Custom Finish'!$C$6)","v":{"$error":"#VALUE!"}},null,"SC/PC",{"$f":"'Order Type'!$C$6","v":"01-"},{"$f":"CONCAT!$D$8","v":""},null,1,"01-SB19.5","11-SB19.5",1,"12-B19.5","12-B19.5",1,{"$nulls":6},{"$f":"$C535*$G$1*1*(Color!$D$8+'Door Style'!$G$6+Species!$C$6+'Drawer Head'!$E$6+'Custom Finish'!$C$6)","v":{"$error":"#VALUE!"}},null,"Black","Light Gray",null,"1","BSKIN",75,50,"Y","Base Cabinet - Sink",{"v":477,"d":"$477.00"},"Price change for fall 2019",{"v":338,"d":"$338.00"},1.41,"G1",{"$nulls":4},{"$error":"#N/A"}]
["SB21","Sink Base 21\"",{"v":474,"d":"$474.00"},2,null,{"$f":"$C536*$F$1*'Order Form'!$Q$18*(Color!$C$6+'Door Style'!$H$6)","v":{"$error":"#VALUE!"}},{"$f":"$C536*$G$1*'Order Form'!$Q$18*(Color!$D$6+'Door Style'!$G$6+Species!$C$6+'Drawer Head'!$E$6+'Custom Finish'!$C$6)","v":{"$error":"#VALUE!"}},null,{"$f":"'Order Type'!$C$6","v":"01-"},{"$f":"'Order Type'!$C$6","v":"01-"},{"$f":"CONCAT!$D$2","v":""},null,1,"01-SB21","11-SB21",1,"12-B21","12-B21",1,{"$nulls":5},{"$f":"$C536*$F$1*(Color!$C$8+'Door Style'!$H$6)","v":{"v":406.69200000000006,"d":"$406.69"}},{"$f":"$C536*$G$1*1*(Color!$D$8+'Door Style'!$G$6+Species!$C$6+'Drawer Head'!$E$6+'Custom Finish'!$C$6)","v":{"$error":"#VALUE!"}},null,"Light Blue","Light Gray",null,"1","BSKIN",75,50,"Y","Base Cabinet - Sink",{"v":474,"d":"$474.00"},"Price change for fall 2019",{"v":336,"d":"$336.00"},1.41,"G1",{"$nulls":4},{"$error":"#N/A"}]
["SB22.5","Sink Base 22.5\"",{"v":528,"d":"$528.00"},3,null,null,{"$f":"$C537*$G$1*'Order Form'!$Q$18*(Color!$D$6+'Door Style'!$G$6+Species!$C$6+'Drawer Head'!$E$6+'Custom Finish'!$C$6)","v":{"$error":"#VALUE!"}},null,"SC/PC",{"$f":"'Order Type'!$C$6","v":"01-"},{"$f":"CONCAT!$D$8","v":""},null,1,"01-SB22.5","11-SB22.5",1,"12-B22.5","12-B22.5",1,{"$nulls":6},{"$f":"$C537*$G$1*1*(Color!$D$8+'Door Style'!$G$6+Species!$C$6+'Drawer Head'!$E$6+'Custom Finish'!$C$6)","v":{"$error":"#VALUE!"}},null,"Black","Light Gray",null,"1","BSKIN",75,50,"Y","Base Cabinet - Sink",{"v":528,"d":"$528.00"},"Price change for fall 2019",{"v":374,"d":"$374.00"},1.41,"G1",{"$nulls":4},{"$error":"#N/A"}]
["SB24","Sink Base 24\"",{"v":526,"d":"$526.00"},2,null,{"$f":"$C538*$F$1*'Order Form'!$Q$18*(Color!$C$6+'Door Style'!$H$6)","v":{"$error":"#VALUE!"}},{"$f":"$C538*$G$1*'Order Form'!$Q$18*(Color!$D$6+'Door Style'!$G$6+Species!$C$6+'Drawer Head'!$E$6+'Custom Finish'!$C$6)","v":{"$error":"#VALUE!"}},null,{"$f":"'Order Type'!$C$6","v":"01-"},{"$f":"'Order Type'!$C$6","v":"01-"},{"$f":"CONCAT!$D$2","v":""},null,1,"01-SB24","11-SB24",1,"12-B24","12-B24",1,{"$nulls":5},{"$f":"$C538*$F$1*(Color!$C$8+'Door Style'!$H$6)","v":{"v":451.30800000000005,"d":"$451.31"}},{"$f":"$C538*$G$1*1*(Color!$D$8+'Door Style'!$G$6+Species!$C$6+'Drawer Head'!$E$6+'Custom Finish'!$C$6)","v":{"$error":"#VALUE!"}},null,"Light Blue","Light Gray",null,"1","BSKIN",75,50,"N","Base Cabinet - Sink",{"v":526,"d":"$526.00"},"Price change for fall 2019",{"v":373,"d":"$373.00"},1.41,"G1",{"$nulls":4},{"$error":"#N/A"}]
["SB25.5","Sink Base 25.5\"",{"v":586,"d":"$586.00"},3,null,null,{"$f":"$C539*$G$1*'Order Form'!$Q$18*(Color!$D$6+'Door Style'!$G$6+Species!$C$6+'Drawer Head'!$E$6+'Custom Finish'!$C$6)","v":{"$error":"#VALUE!"}},null,"SC/PC",{"$f":"'Order Type'!$C$6","v":"01-"},{"$f":"CONCAT!$D$8","v":""},null,1,"01-SB25.5","11-SB25.5",1,"12-B25.5","12-B25.5",1,{"$nulls":6},{"$f":"$C539*$G$1*1*(Color!$D$8+'Door Style'!$G$6+Species!$C$6+'Drawer Head'!$E$6+'Custom Finish'!$C$6)","v":{"$error":"#VALUE!"}},null,"Black","Light Gray",null,"1","BSKIN",75,50,"N","Base Cabinet - Sink",{"v":586,"d":"$586.00"},"Price change for fall 2019",{"v":415,"d":"$415.00"},1.41,"G1",{"$nulls":4},{"$error":"#N/A"}]
["SB27","Sink Base 27\"",{"v":581,"d":"$581.00"},2,null,{"$f":"$C540*$F$1*'Order Form'!$Q$18*(Color!$C$6+'Door Style'!$H$6)","v":{"$error":"#VALUE!"}},{"$f":"$C540*$G$1*'Order Form'!$Q$18*(Color!$D$6+'Door Style'!$G$6+Species!$C$6+'Drawer Head'!$E$6+'Custom Finish'!$C$6)","v":{"$error":"#VALUE!"}},null,{"$f":"'Order Type'!$C$6","v":"01-"},{"$f":"'Order Type'!$C$6","v":"01-"},{"$f":"CONCAT!$D$2","v":""},null,1,"01-SB27","11-SB27",1,"12-B27","12-B27",1,{"$nulls":5},{"$f":"$C540*$F$1*(Color!$C$8+'Door Style'!$H$6)","v":{"v":498.49800000000005,"d":"$498.50"}},{"$f":"$C540*$G$1*1*(Color!$D$8+'Door Style'!$G$6+Species!$C$6+'Drawer Head'!$E$6+'Custom Finish'!$C$6)","v":{"$error":"#VALUE!"}},null,"Light Blue","Light Gray",null,"1","BSKIN",75,50,"N","Base Cabinet - Sink",{"v":581,"d":"$581.00"},"Price change for fall 2019",{"v":412,"d":"$412.00"},1.41,"G1",{"$nulls":4},{"$error":"#N/A"}]
["SB30","Sink Base 30\"",{"v":622,"d":"$622.00"},2,"PB",{"$f":"$C541*$F$1*'Order Form'!$Q$18*(Color!$C$6+'Door Style'!$H$6)","v":{"$error":"#VALUE!"}},{"$f":"$C541*$G$1*'Order Form'!$Q$18*(Color!$D$6+'Door Style'!$G$6+Species!$C$6+'Drawer Head'!$E$6+'Custom Finish'!$C$6)","v":{"$error":"#VALUE!"}},null,{"$f":"'Order Type'!$C$6","v":"01-"},{"$f":"'Order Type'!$C$6","v":"01-"},{"$f":"CONCAT!$D$2","v":""},null,1,"01-SB30","11-SB30",1,"12-B30","12-B30",1,{"$nulls":5},{"$f":"$C541*$F$1*(Color!$C$8+'Door Style'!$H$6)","v":{"v":533.676,"d":"$533.68"}},{"$f":"$C541*$G$1*1*(Color!$D$8+'Door Style'!$G$6+Species!$C$6+'Drawer Head'!$E$6+'Custom Finish'!$C$6)","v":{"$error":"#VALUE!"}},null,"Light Blue","Light Gray",null,"1","BSKIN",75,50,"N","Base Cabinet - Sink",{"v":622,"d":"$622.00"},"Price change for fall 2019",{"v":441,"d":"$441.00"},1.41,"G1",{"$nulls":4},{"$error":"#N/A"}]
["SB30 ADA TF","30\" ADA Sink Base Top Face w/ 5in Tall Valance with Drawer Face",{"v":451,"d":"$451.00"},3,null,{"$f":"$C542*$F$1*'Order Form'!$Q$18*(Color!$C$6+'Door Style'!$H$6)","v":{"$error":"#VALUE!"}},{"$f":"$C542*$G$1*'Order Form'!$Q$18*(Color!$D$6+'Door Style'!$G$6+Species!$C$6+'Drawer Head'!$E$6+'Custom Finish'!$C$6)","v":{"$error":"#VALUE!"}},null,{"$f":"'Order Type'!$C$6","v":"01-"},{"$f":"'Order Type'!$C$6","v":"01-"},{"$f":"CONCAT!$E$2","v":""},null,1,"01-SB30 ADA TF",{"$nulls":10},{"$f":"$C542*$F$1*(Color!$C$8+'Door Style'!$H$6)","v":{"v":386.9580000000001,"d":"$386.96"}},{"$f":"$C542*$G$1*1*(Color!$D$8+'Door Style'!$G$6+Species!$C$6+'Drawer Head'!$E$6+'Custom Finish'!$C$6)","v":{"$error":"#VALUE!"}},null,"Light Blue","Light Gray","Showroom Only",1,"BSKIN",75,5,"N","Base Cabinet - Sink - ADA",{"v":1127,"d":"$1,127.00"},"New Item for fall 2019",{"v":704,"d":"$704.00"},1.6,"New",{"$nulls":4},{"$error":"#N/A"}]
["SB33","Sink Base 33\"",{"v":662,"d":"$662.00"},2,"PB",{"$f":"$C543*$F$1*'Order Form'!$Q$18*(Color!$C$6+'Door Style'!$H$6)","v":{"$error":"#VALUE!"}},{"$f":"$C543*$G$1*'Order Form'!$Q$18*(Color!$D$6+'Door Style'!$G$6+Species!$C$6+'Drawer Head'!$E$6+'Custom Finish'!$C$6)","v":{"$error":"#VALUE!"}},null,{"$f":"'Order Type'!$C$6","v":"01-"},{"$f":"'Order Type'!$C$6","v":"01-"},{"$f":"CONCAT!$D$2","v":""},null,1,"01-SB33","11-SB33",1,"12-B33",{"$f":"Q543&K543","v":"12-B33"},1,{"$nulls":5},{"$f":"$C543*$F$1*(Color!$C$8+'Door Style'!$H$6)","v":{"v":567.9960000000001,"d":"$568.00"}},{"$f":"$C543*$G$1*1*(Color!$D$8+'Door Style'!$G$6+Species!$C$6+'Drawer Head'!$E$6+'Custom Finish'!$C$6)","v":{"$error":"#VALUE!"}},null,"Light Blue","Light Gray",null,"1","BSKIN",75,50,"N","Base Cabinet - Sink",{"v":662,"d":"$662.00"},"Price change for fall 2019",{"v":469,"d":"$469.00"},1.41,"G1",{"$nulls":4},{"$error":"#N/A"}]
["SB33 ADA 2B","33\" ADA Sink Base 2 BOX - TF + lower with doors",{"v":927,"d":"$927.00"},3,null,{"$f":"$C544*$F$1*'Order Form'!$Q$18*(Color!$C$6+'Door Style'!$H$6)","v":{"$error":"#VALUE!"}},{"$f":"$C544*$G$1*'Order Form'!$Q$18*(Color!$D$6+'Door Style'!$G$6+Species!$C$6+'Drawer Head'!$E$6+'Custom Finish'!$C$6)","v":{"$error":"#VALUE!"}},null,{"$f":"'Order Type'!$C$6","v":"01-"},{"$f":"'Order Type'!$C$6","v":"01-"},{"$f":"CONCAT!$E$2","v":""},null,1,"01-SB33 ADA 2B",{"$nulls":10},{"$f":"$C544*$F$1*(Color!$C$8+'Door Style'!$H$6)","v":{"v":795.3660000000001,"d":"$795.37"}},{"$f":"$C544*$G$1*1*(Color!$D$8+'Door Style'!$G$6+Species!$C$6+'Drawer Head'!$E$6+'Custom Finish'!$C$6)","v":{"$error":"#VALUE!"}},null,"Light Blue","Light Gray","Showroom Only",1,"BSKIN",75,5,"N","Base Cabinet - Sink - ADA",{"v":1127,"d":"$1,127.00"},"New Item for fall 2019",{"v":704,"d":"$704.00"},1.6,"New",{"$nulls":4},{"$error":"#N/A"}]
["SB33 ADA AP","33\" ADA Sink Base Angled Panel Removeable",{"v":744.6,"d":"$744.60"},3,null,{"$f":"$C545*$F$1*'Order Form'!$Q$18*(Color!$C$6+'Door Style'!$H$6)","v":{"$error":"#VALUE!"}},{"$f":"$C545*$G$1*'Order Form'!$Q$18*(Color!$D$6+'Door Style'!$G$6+Species!$C$6+'Drawer Head'!$E$6+'Custom Finish'!$C$6)","v":{"$error":"#VALUE!"}},null,{"$f":"'Order Type'!$C$6","v":"01-"},{"$f":"'Order Type'!$C$6","v":"01-"},{"$f":"CONCAT!$E$2","v":""},null,1,"01-SB33 ADA AP",{"$nulls":10},{"$f":"$C545*$F$1*(Color!$C$8+'Door Style'!$H$6)","v":{"v":638.8668,"d":"$638.87"}},{"$f":"$C545*$G$1*1*(Color!$D$8+'Door Style'!$G$6+Species!$C$6+'Drawer Head'!$E$6+'Custom Finish'!$C$6)","v":{"$error":"#VALUE!"}},null,"Light Blue","Light Gray","Showroom Only",1,"BSKIN",100,5,"N","Base Cabinet - Sink - ADA",{"v":1191,"d":"$1,191.00"},"New Item for fall 2019",{"v":744,"d":"$744.00"},1.6,"New",{"$nulls":4},{"$error":"#N/A"}]
["SB33 ADA TF","33\" ADA Sink Base Top Face w/ 5in Tall Valance with Drawer Face",{"v":496,"d":"$496.00"},3,null,{"$f":"$C546*$F$1*'Order Form'!$Q$18*(Color!$C$6+'Door Style'!$H$6)","v":{"$error":"#VALUE!"}},{"$f":"$C546*$G$1*'Order Form'!$Q$18*(Color!$D$6+'Door Style'!$G$6+Species!$C$6+'Drawer Head'!$E$6+'Custom Finish'!$C$6)","v":{"$error":"#VALUE!"}},null,{"$f":"'Order Type'!$C$6","v":"01-"},{"$f":"'Order Type'!$C$6","v":"01-"},{"$f":"CONCAT!$E$2","v":""},null,1,"01-SB33 ADA TF",{"$nulls":10},{"$f":"$C546*$F$1*(Color!$C$8+'Door Style'!$H$6)","v":{"v":425.56800000000004,"d":"$425.57"}},{"$f":"$C546*$G$1*1*(Color!$D$8+'Door Style'!$G$6+Species!$C$6+'Drawer Head'!$E$6+'Custom Finish'!$C$6)","v":{"$error":"#VALUE!"}},null,"Light Blue","Light Gray","Showroom Only",1,"BSKIN",75,5,"N","Base Cabinet - Sink - ADA",{"v":1127,"d":"$1,127.00"},"New Item for fall 2019",{"v":704,"d":"$704.00"},1.6,"New",{"$nulls":4},{"$error":"#N/A"}]
["SB36","Sink Base 36\"",{"v":704,"d":"$704.00"},2,"PB",{"$f":"$C547*$F$1*'Order Form'!$Q$18*(Color!$C$6+'Door Style'!$H$6)","v":{"$error":"#VALUE!"}},{"$f":"$C547*$G$1*'Order Form'!$Q$18*(Color!$D$6+'Door Style'!$G$6+Species!$C$6+'Drawer Head'!$E$6+'Custom Finish'!$C$6)","v":{"$error":"#VALUE!"}},null,{"$f":"'Order Type'!$C$6","v":"01-"},{"$f":"'Order Type'!$C$6","v":"01-"},{"$f":"CONCAT!$D$2","v":""},null,1,{"$f":"J547&A547&K547","v":"01-SB36"},"11-SB36",1,"12-B36",{"$f":"Q547&K547","v":"12-B36"},1,{"$nulls":5},{"$f":"$C547*$F$1*(Color!$C$8+'Door Style'!$H$6)","v":{"v":604.032,"d":"$604.03"}},{"$f":"$C547*$G$1*1*(Color!$D$8+'Door Style'!$G$6+Species!$C$6+'Drawer Head'!$E$6+'Custom Finish'!$C$6)","v":{"$error":"#VALUE!"}},null,"Light Blue","Light Gray",null,"1","BSKIN",75,50,"N","Base Cabinet - Sink",{"v":704,"d":"$704.00"},"Price change for fall 2019",{"v":499,"d":"$499.00"},1.41,"G1",{"$nulls":4},{"$error":"#N/A"}]
["SB36 ADA 2B","36\" ADA Sink Base 2 BOX - TF + lower with doors",{"v":985,"d":"$985.00"},3,null,{"$f":"$C548*$F$1*'Order Form'!$Q$18*(Color!$C$6+'Door Style'!$H$6)","v":{"$error":"#VALUE!"}},{"$f":"$C548*$G$1*'Order Form'!$Q$18*(Color!$D$6+'Door Style'!$G$6+Species!$C$6+'Drawer Head'!$E$6+'Custom Finish'!$C$6)","v":{"$error":"#VALUE!"}},null,{"$f":"'Order Type'!$C$6","v":"01-"},{"$f":"'Order Type'!$C$6","v":"01-"},{"$f":"CONCAT!$E$2","v":""},null,1,"01-SB36 ADA 2B",{"$nulls":10},{"$f":"$C548*$F$1*(Color!$C$8+'Door Style'!$H$6)","v":{"v":845.1300000000001,"d":"$845.13"}},{"$f":"$C548*$G$1*1*(Color!$D$8+'Door Style'!$G$6+Species!$C$6+'Drawer Head'!$E$6+'Custom Finish'!$C$6)","v":{"$error":"#VALUE!"}},null,"Light Blue","Light Gray","Showroom Only",1,"BSKIN",75,5,"N","Base Cabinet - Sink - ADA",{"v":1127,"d":"$1,127.00"},"New Item for fall 2019",{"v":704,"d":"$704.00"},1.6,"New",{"$nulls":4},{"$error":"#N/A"}]
["SB36 ADA AP","36\" ADA Sink Base Angled Panel Removeable",{"v":844.8,"d":"$844.80"},3,null,{"$f":"$C549*$F$1*'Order Form'!$Q$18*(Color!$C$6+'Door Style'!$H$6)","v":{"$error":"#VALUE!"}},{"$f":"$C549*$G$1*'Order Form'!$Q$18*(Color!$D$6+'Door Style'!$G$6+Species!$C$6+'Drawer Head'!$E$6+'Custom Finish'!$C$6)","v":{"$error":"#VALUE!"}},null,{"$f":"'Order Type'!$C$6","v":"01-"},{"$f":"'Order Type'!$C$6","v":"01-"},{"$f":"CONCAT!$E$2","v":""},null,1,"01-SB36 ADA AP",{"$nulls":10},{"$f":"$C549*$F$1*(Color!$C$8+'Door Style'!$H$6)","v":{"v":724.8384,"d":"$724.84"}},{"$f":"$C549*$G$1*1*(Color!$D$8+'Door Style'!$G$6+Species!$C$6+'Drawer Head'!$E$6+'Custom Finish'!$C$6)","v":{"$error":"#VALUE!"}},null,"Light Blue","Light Gray","Showroom Only",1,"BSKIN",100,5,"N","Base Cabinet - Sink - ADA",{"v":1488,"d":"$1,488.00"},"New Item for fall 2019",{"v":744,"d":"$744.00"},2,"New",{"$nulls":4},{"$error":"#N/A"}]
["SB36 ADA RD","36\" ADA Sink Base Retractable Doors",{"v":1421,"d":"$1,421.00"},3,null,{"$f":"$C550*$F$1*'Order Form'!$Q$18*(Color!$C$6+'Door Style'!$H$6)","v":{"$error":"#VALUE!"}},{"$f":"$C550*$G$1*'Order Form'!$Q$18*(Color!$D$6+'Door Style'!$G$6+Species!$C$6+'Drawer Head'!$E$6+'Custom Finish'!$C$6)","v":{"$error":"#VALUE!"}},null,{"$f":"'Order Type'!$C$6","v":"01-"},{"$f":"'Order Type'!$C$6","v":"01-"},{"$f":"CONCAT!$E$2","v":""},null,1,"01-SB36 ADA RD",{"$nulls":10},{"$f":"$C550*$F$1*(Color!$C$8+'Door Style'!$H$6)","v":{"v":1219.2180000000003,"d":"$1,219.22"}},{"$f":"$C550*$G$1*1*(Color!$D$8+'Door Style'!$G$6+Species!$C$6+'Drawer Head'!$E$6+'Custom Finish'!$C$6)","v":{"$error":"#VALUE!"}},null,"Light Blue","Light Gray","Showroom Only",1,"BSKIN",100,"No","N","Base Cabinet - Sink - ADA",{"v":1408,"d":"$1,408.00"},"New Item for fall 2019",{"v":704,"d":"$704.00"},2,"New",{"$nulls":4},{"$error":"#N/A"}]
["SB36 ADA TF","36\" ADA Sink Base Top Face w/ 5in Tall Valance with Drawer Face",{"v":541,"d":"$541.00"},3,null,{"$f":"$C551*$F$1*'Order Form'!$Q$18*(Color!$C$6+'Door Style'!$H$6)","v":{"$error":"#VALUE!"}},{"$f":"$C551*$G$1*'Order Form'!$Q$18*(Color!$D$6+'Door Style'!$G$6+Species!$C$6+'Drawer Head'!$E$6+'Custom Finish'!$C$6)","v":{"$error":"#VALUE!"}},null,{"$f":"'Order Type'!$C$6","v":"01-"},{"$f":"'Order Type'!$C$6","v":"01-"},{"$f":"CONCAT!$E$2","v":""},null,1,"01-SB36 ADA TF",{"$nulls":10},{"$f":"$C551*$F$1*(Color!$C$8+'Door Style'!$H$6)","v":{"v":464.17800000000005,"d":"$464.18"}},{"$f":"$C551*$G$1*1*(Color!$D$8+'Door Style'!$G$6+Species!$C$6+'Drawer Head'!$E$6+'Custom Finish'!$C$6)","v":{"$error":"#VALUE!"}},null,"Light Blue","Light Gray","Showroom Only",1,"BSKIN",75,5,"N","Base Cabinet - Sink - ADA",{"v":1127,"d":"$1,127.00"},"New Item for fall 2019",{"v":704,"d":"$704.00"},1.6,"New",{"$nulls":4},{"$error":"#N/A"}]
["SB39","Sink Base 39\"",{"v":744,"d":"$744.00"},2,null,{"$f":"$C552*$F$1*'Order Form'!$Q$18*(Color!$C$6+'Door Style'!$H$6)","v":{"$error":"#VALUE!"}},{"$f":"$C552*$G$1*'Order Form'!$Q$18*(Color!$D$6+'Door Style'!$G$6+Species!$C$6+'Drawer Head'!$E$6+'Custom Finish'!$C$6)","v":{"$error":"#VALUE!"}},null,{"$f":"'Order Type'!$C$6","v":"01-"},{"$f":"'Order Type'!$C$6","v":"01-"},{"$f":"CONCAT!$D$2","v":""},null,1,"01-SB39","11-SB39",1,"12-B39",{"$f":"Q552&K552","v":"12-B39"},1,{"$nulls":5},{"$f":"$C552*$F$1*(Color!$C$8+'Door Style'!$H$6)","v":{"v":638.3520000000001,"d":"$638.35"}},{"$f":"$C552*$G$1*1*(Color!$D$8+'Door Style'!$G$6+Species!$C$6+'Drawer Head'!$E$6+'Custom Finish'!$C$6)","v":{"$error":"#VALUE!"}},null,"Light Blue","Light Gray",null,"1","BSKIN",75,50,"N","Base Cabinet - Sink",{"v":744,"d":"$744.00"},"Price change for fall 2019",{"v":527,"d":"$527.00"},1.41,"G1",{"$nulls":4},{"$error":"#N/A"}]
["SB39 ADA 2B","39\" ADA Sink Base 2 BOX - TF + lower with doors",{"v":1043,"d":"$1,043.00"},3,null,{"$f":"$C553*$F$1*'Order Form'!$Q$18*(Color!$C$6+'Door Style'!$H$6)","v":{"$error":"#VALUE!"}},{"$f":"$C553*$G$1*'Order Form'!$Q$18*(Color!$D$6+'Door Style'!$G$6+Species!$C$6+'Drawer Head'!$E$6+'Custom Finish'!$C$6)","v":{"$error":"#VALUE!"}},null,{"$f":"'Order Type'!$C$6","v":"01-"},{"$f":"'Order Type'!$C$6","v":"01-"},{"$f":"CONCAT!$E$2","v":""},null,1,"01-SB39 ADA 2B",{"$nulls":10},{"$f":"$C553*$F$1*(Color!$C$8+'Door Style'!$H$6)","v":{"v":894.8940000000001,"d":"$894.89"}},{"$f":"$C553*$G$1*1*(Color!$D$8+'Door Style'!$G$6+Species!$C$6+'Drawer Head'!$E$6+'Custom Finish'!$C$6)","v":{"$error":"#VALUE!"}},null,"Light Blue","Light Gray","Showroom Only",1,"BSKIN",75,5,"N","Base Cabinet - Sink - ADA",{"v":1191,"d":"$1,191.00"},"New Item for fall 2019",{"v":744,"d":"$744.00"},1.6,"New",{"$nulls":4},{"$error":"#N/A"}]
["SB39 ADA AP","39\" ADA Sink Base Angled Panel Removeable",{"v":892.8,"d":"$892.80"},3,null,{"$f":"$C554*$F$1*'Order Form'!$Q$18*(Color!$C$6+'Door Style'!$H$6)","v":{"$error":"#VALUE!"}},{"$f":"$C554*$G$1*'Order Form'!$Q$18*(Color!$D$6+'Door Style'!$G$6+Species!$C$6+'Drawer Head'!$E$6+'Custom Finish'!$C$6)","v":{"$error":"#VALUE!"}},null,{"$f":"'Order Type'!$C$6","v":"01-"},{"$f":"'Order Type'!$C$6","v":"01-"},{"$f":"CONCAT!$E$2","v":""},null,1,"01-SB39 ADA AP",{"$nulls":10},{"$f":"$C554*$F$1*(Color!$C$8+'Door Style'!$H$6)","v":{"v":766.0224000000001,"d":"$766.02"}},{"$f":"$C554*$G$1*1*(Color!$D$8+'Door Style'!$G$6+Species!$C$6+'Drawer Head'!$E$6+'Custom Finish'!$C$6)","v":{"$error":"#VALUE!"}},null,"Light Blue","Light Gray","Showroom Only",1,"BSKIN",100,5,"N","Base Cabinet - Sink - ADA",{"v":1488,"d":"$1,488.00"},"New Item for fall 2019",{"v":744,"d":"$744.00"},2,"New",{"$nulls":4},{"$error":"#N/A"}]
["SB39 ADA RD","39\" ADA Sink Base Retractable Doors",{"v":1488,"d":"$1,488.00"},3,null,{"$f":"$C555*$F$1*'Order Form'!$Q$18*(Color!$C$6+'Door Style'!$H$6)","v":{"$error":"#VALUE!"}},{"$f":"$C555*$G$1*'Order Form'!$Q$18*(Color!$D$6+'Door Style'!$G$6+Species!$C$6+'Drawer Head'!$E$6+'Custom Finish'!$C$6)","v":{"$error":"#VALUE!"}},null,{"$f":"'Order Type'!$C$6","v":"01-"},{"$f":"'Order Type'!$C$6","v":"01-"},{"$f":"CONCAT!$E$2","v":""},null,1,"01-SB39 ADA RD",{"$nulls":10},{"$f":"$C555*$F$1*(Color!$C$8+'Door Style'!$H$6)","v":{"v":1276.7040000000002,"d":"$1,276.70"}},{"$f":"$C555*$G$1*1*(Color!$D$8+'Door Style'!$G$6+Species!$C$6+'Drawer Head'!$E$6+'Custom Finish'!$C$6)","v":{"$error":"#VALUE!"}},null,"Light Blue","Light Gray","Showroom Only",1,"BSKIN",100,"No","N","Base Cabinet - Sink - ADA",{"v":1408,"d":"$1,408.00"},"New Item for fall 2019",{"v":704,"d":"$704.00"},2,"New",{"$nulls":4},{"$error":"#N/A"}]
["SB39 ADA TF","39\" ADA Sink Base Top Face w/ 5in Tall Valance with Drawer Face",{"v":586,"d":"$586.00"},3,null,{"$f":"$C556*$F$1*'Order Form'!$Q$18*(Color!$C$6+'Door Style'!$H$6)","v":{"$error":"#VALUE!"}},{"$f":"$C556*$G$1*'Order Form'!$Q$18*(Color!$D$6+'Door Style'!$G$6+Species!$C$6+'Drawer Head'!$E$6+'Custom Finish'!$C$6)","v":{"$error":"#VALUE!"}},null,{"$f":"'Order Type'!$C$6","v":"01-"},{"$f":"'Order Type'!$C$6","v":"01-"},{"$f":"CONCAT!$E$2","v":""},null,1,"01-SB39 ADA TF",{"$nulls":10},{"$f":"$C556*$F$1*(Color!$C$8+'Door Style'!$H$6)","v":{"v":502.78800000000007,"d":"$502.79"}},{"$f":"$C556*$G$1*1*(Color!$D$8+'Door Style'!$G$6+Species!$C$6+'Drawer Head'!$E$6+'Custom Finish'!$C$6)","v":{"$error":"#VALUE!"}},null,"Light Blue","Light Gray","Showroom Only",1,"BSKIN",75,5,"N","Base Cabinet - Sink - ADA",{"v":1191,"d":"$1,191.00"},"New Item for fall 2019",{"v":744,"d":"$744.00"},1.6,"New",{"$nulls":4},{"$error":"#N/A"}]
["SBC45","Sink Base Corner Face Frame 45\"",{"v":1344,"d":"$1,344.00"},3,null,null,{"$f":"$C557*$G$1*'Order Form'!$Q$18*(Color!$D$6+'Door Style'!$G$6+Species!$C$6+'Drawer Head'!$E$6+'Custom Finish'!$C$6)","v":{"$error":"#VALUE!"}},null,"SC/PC",{"$f":"'Order Type'!$C$6","v":"01-"},{"$f":"CONCAT!$D$8","v":""},null,1,"01-SBC45","11-SBC45",1,"12-SBC45",{"$f":"Q557&K557","v":"12-SBC45"},1,{"$nulls":6},{"$f":"$C557*$G$1*1*(Color!$D$8+'Door Style'!$G$6+Species!$C$6+'Drawer Head'!$E$6+'Custom Finish'!$C$6)","v":{"$error":"#VALUE!"}},null,"Black","Light Gray",null,"1","BSKIN","No","No","N","Base Cabinet - Sink - Corner",{"v":1344,"d":"$1,344.00"},"Price change for fall 2019",{"v":953,"d":"$953.00"},1.41,"G1",{"$nulls":4},{"$error":"#N/A"}]
["SBD45","Sink Base Diagonal Box , Face 45\"",{"v":2254,"d":"$2,254.00"},3,null,null,{"$f":"$C558*$G$1*'Order Form'!$Q$18*(Color!$D$6+'Door Style'!$G$6+Species!$C$6+'Drawer Head'!$E$6+'Custom Finish'!$C$6)","v":{"$error":"#VALUE!"}},null,"SC/PC",{"$f":"'Order Type'!$C$6","v":"01-"},{"$f":"CONCAT!$D$8","v":""},null,1,"01-SBD45","11-SBD45",1,"12-SBD45","12-SBD45",1,{"$nulls":6},{"$f":"$C558*$G$1*1*(Color!$D$8+'Door Style'!$G$6+Species!$C$6+'Drawer Head'!$E$6+'Custom Finish'!$C$6)","v":{"$error":"#VALUE!"}},null,"Black","Light Gray",null,"1","BSKIN","No","No","N","Base Cabinet - Sink - Diagonal",{"v":2254,"d":"$2,254.00"},"Price change for fall 2019",{"v":1598,"d":"$1,598.00"},1.41,"G1",{"$nulls":4},{"$error":"#N/A"}]
["SCRIBE","3/4\" Scribe Molding",{"v":61,"d":"$61.00"},2,"PB",{"$f":"($C559*$F$1*Color!$G$6*'Order Form'!$Q$18)","v":{"$error":"#VALUE!"}},{"$f":"$C559*$G$1*'Order Form'!$Q$18*(Color!$D$6+Species!$C$6)","v":{"$error":"#VALUE!"}},null,"13-","13-",{"$f":"CONCAT!$D$3","v":""},null,0,"13-SCRIBE",{"$nulls":3},"",null,{"$f":"N559","v":"13-SCRIBE"},1,{"$nulls":3},{"$f":"($C559*$F$1*Color!$G$8*1)","v":{"v":52.338,"d":"$52.34"}},{"$f":"$C559*$G$1*1*(Color!$D$8+Species!$C$6)","v":{"$error":"#VALUE!"}},null,"Orange","Pink",{"$nulls":3},"No","No","N","Trim",{"v":61,"d":"$61.00"},"Price change for fall 2019",{"v":43,"d":"$43.00"},1.41,"G1",{"$nulls":4},{"$error":"#N/A"}]
["SCRIBE1.5","1.5\" Scribe Molding",{"v":98,"d":"$98.00"},3,null,{"$f":"($C560*$F$1*Color!$G$6*'Order Form'!$Q$18)","v":{"$error":"#VALUE!"}},{"$f":"$C560*$G$1*'Order Form'!$Q$18*(Color!$D$6+Species!$C$6)","v":{"$error":"#VALUE!"}},null,"13-","13-",{"$f":"CONCAT!$D$3","v":""},null,0,"13-SCRIBE1.5",{"$nulls":3},"",null,"13-SCRIBE1.5",1,{"$nulls":3},{"$f":"($C560*$F$1*Color!$G$8*1)","v":{"v":84.084,"d":"$84.08"}},{"$f":"$C560*$G$1*1*(Color!$D$8+Species!$C$6)","v":{"$error":"#VALUE!"}},null,"Orange","Pink",{"$nulls":3},"No","No","N","Trim",{"v":98,"d":"$98.00"},"New Item for fall 2019",{"v":61,"d":"$61.00"},1.6,"New",{"$nulls":4},{"$error":"#N/A"}]
["SELECT DOOR SET","Dealer Select Door With Bag",{"v":250,"d":"$250.00"},2,null,{"$f":"$C561","v":{"v":250,"d":"$250.00"}},{"$f":"$C561","v":{"v":250,"d":"$250.00"}},null,"/",null,"",null,0,"SELECT DOOR SET",{"$nulls":3},"",null,"SELECT DOOR SET",1,{"$nulls":3},{"$f":"$C561","v":{"v":250,"d":"$250.00"}},{"$f":"$C561","v":{"v":250,"d":"$250.00"}},null,"Tan","Tan","Dealer",null,null,"No","No","N","Dealer support item",{"v":250,"d":"$250.00"},null,{"v":250,"d":"$250.00"},1,"ACC",{"$nulls":4},{"$error":"#N/A"}]
["SKIN4848","Skin Panel 48\" x 48\"",{"v":219,"d":"$219.00"},2,null,{"$f":"($C562*$F$1*Color!$G$6*'Order Form'!$Q$18)","v":{"$error":"#VALUE!"}},{"$f":"$C562*$G$1*'Order Form'!$Q$18*(Color!$D$6+Species!$C$6)","v":{"$error":"#VALUE!"}},null,"13-","13-",{"$f":"CONCAT!$D$3","v":""},null,0,"13-SKIN4848",{"$nulls":3},"",null,"13-SKIN4848",1,{"$nulls":3},{"$f":"($C562*$F$1*Color!$G$8*1)","v":{"v":187.90200000000002,"d":"$187.90"}},{"$f":"$C562*$G$1*1*(Color!$D$8+Species!$C$6)","v":{"$error":"#VALUE!"}},null,"Orange","Pink",{"$nulls":3},"No","No","N","Skin",{"v":219,"d":"$219.00"},"Price change for fall 2019",{"v":155,"d":"$155.00"},1.41,"G1",{"$nulls":4},{"$error":"#N/A"}]
["SKIN4896","Horizontal Grain Skin Panel 48\" x 96\"",{"v":335,"d":"$335.00"},2,"PB",{"$f":"($C563*$F$1*Color!$G$6*'Order Form'!$Q$18)","v":{"$error":"#VALUE!"}},{"$f":"$C563*$G$1*'Order Form'!$Q$18*(Color!$D$6+Species!$C$6)","v":{"$error":"#VALUE!"}},null,"13-","13-",{"$f":"CONCAT!$D$3","v":""},null,0,"13-SKIN4896",{"$nulls":3},"",null,"13-SKIN4896",1,{"$nulls":3},{"$f":"($C563*$F$1*Color!$G$8*1)","v":{"v":287.43000000000006,"d":"$287.43"}},{"$f":"$C563*$G$1*1*(Color!$D$8+Species!$C$6)","v":{"$error":"#VALUE!"}},null,"Orange","Pink",{"$nulls":3},"No","No","N","Skin",{"v":335,"d":"$335.00"},"Price change for fall 2019",{"v":237,"d":"$237.00"},1.41,"G1",{"$nulls":4},{"$error":"#N/A"}]
["SKIN4896VGP","Vertical Grain Skin Panel 48\" x  96\"",{"v":945,"d":"$945.00"},3,null,null,{"$f":"$C564*$G$1*'Order Form'!$Q$18*(Color!$D$6+Species!$C$6)","v":{"$error":"#VALUE!"}},null,"13-","13-",{"$f":"CONCAT!$D$8","v":""},null,0,"13-SKIN4896VGP",{"$nulls":5},"13-SKIN4896VGP",1,{"$nulls":4},{"$f":"$C564*$G$1*1*(Color!$D$8+Species!$C$6)","v":{"$error":"#VALUE!"}},null,"Black","Pink",{"$nulls":3},"No","No","N","Skin",{"v":945,"d":"$945.00"},"Price change for fall 2019",{"v":670,"d":"$670.00"},1.41,"G1",{"$nulls":4},{"$error":"#N/A"}]
["SPLASH","Back Splash 8FT",{"v":309,"d":"$309.00"},2,null,{"$f":"($C565*$F$1*Color!$G$6*'Order Form'!$Q$18)","v":{"$error":"#VALUE!"}},{"$f":"$C565*$G$1*'Order Form'!$Q$18*(Color!$D$6+Species!$C$6)","v":{"$error":"#VALUE!"}},null,"13-","13-",{"$f":"CONCAT!$D$3","v":""},null,0,"13-SPLASH",{"$nulls":3},{"$f":"Q565&K565","v":""},null,"13-SPLASH",1,{"$nulls":3},{"$f":"($C565*$F$1*Color!$G$8*1)","v":{"v":265.122,"d":"$265.12"}},{"$f":"$C565*$G$1*1*(Color!$D$8+Species!$C$6)","v":{"$error":"#VALUE!"}},null,"Orange","Pink",{"$nulls":3},"No","No","N","Trim - Splash",{"v":309,"d":"$309.00"},"Price change for fall 2019",{"v":219,"d":"$219.00"},1.41,"G1",{"$nulls":4},{"$error":"#N/A"}]
["SPLASH12","Back Splash 12FT",{"v":464,"d":"$464.00"},2,null,{"$f":"($C566*$F$1*Color!$G$6*'Order Form'!$Q$18)","v":{"$error":"#VALUE!"}},{"$f":"$C566*$G$1*'Order Form'!$Q$18*(Color!$D$6+Species!$C$6)","v":{"$error":"#VALUE!"}},null,"13-","13-",{"$f":"CONCAT!$D$3","v":""},null,0,"13-SPLASH12",{"$nulls":3},{"$f":"Q566&K566","v":""},null,"13-SPLASH12",1,{"$nulls":3},{"$f":"($C566*$F$1*Color!$G$8*1)","v":{"v":398.112,"d":"$398.11"}},{"$f":"$C566*$G$1*1*(Color!$D$8+Species!$C$6)","v":{"$error":"#VALUE!"}},null,"Orange","Pink",{"$nulls":3},"No","No","N","Trim - Splash",{"v":464,"d":"$464.00"},"Price change for fall 2019",{"v":329,"d":"$329.00"},1.41,"G1",{"$nulls":4},{"$error":"#N/A"}]
["SPLASH4","Back Splash 4FT",{"v":156,"d":"$156.00"},2,null,{"$f":"($C567*$F$1*Color!$G$6*'Order Form'!$Q$18)","v":{"$error":"#VALUE!"}},{"$f":"$C567*$G$1*'Order Form'!$Q$18*(Color!$D$6+Species!$C$6)","v":{"$error":"#VALUE!"}},null,"13-","13-",{"$f":"CONCAT!$D$3","v":""},null,0,"13-SPLASH4",{"$nulls":3},{"$f":"Q567&K567","v":""},null,"13-SPLASH4",1,{"$nulls":3},{"$f":"($C567*$F$1*Color!$G$8*1)","v":{"v":133.848,"d":"$133.85"}},{"$f":"$C567*$G$1*1*(Color!$D$8+Species!$C$6)","v":{"$error":"#VALUE!"}},null,"Orange","Pink",{"$nulls":3},"No","No","N","Trim - Splash",{"v":156,"d":"$156.00"},"Price change for fall 2019",{"v":110,"d":"$110.00"},1.41,"G1",{"$nulls":4},{"$error":"#N/A"}]
["STAIN","Use this Sku to stain a customer provided accessory - see sales person handbook for pricing",{"v":0,"d":"$0.00"},2,null,{"v":0,"d":"$0.00"},{"v":0,"d":"$0.00"},null,"/","/","",null,0,"/STAIN",{"$nulls":5},"/STAIN",1,{"$nulls":3},{"v":0,"d":"$0.00"},{"v":0,"d":"$0.00"},null,"Dark Blue","Dark Blue",{"$nulls":3},"No","No","N","Accessory - Finish",{"$nulls":4},"Zero Price",{"$nulls":4},{"$error":"#N/A"}]
["STAIN-5 GALLON","Stain to Spray, Not Brush - 5 Gallons- 50% more if Custom Color",{"v":1000,"d":"$1,000.00"},2,null,{"$f":"$C569*Color!$P$6","v":{"v":0,"d":"$0.00"}},{"$f":"$C569*Color!$P$6","v":{"v":0,"d":"$0.00"}},null,"/","/","",null,0,"/STAIN-5 GALLON",{"$nulls":3},{"$f":"Q569&K569","v":""},null,"/STAIN-5 GALLON",1,{"$nulls":3},{"$f":"$C569*Color!$P$8","v":{"v":1000,"d":"$1,000.00"}},{"$f":"$C569*Color!$P$8","v":{"v":1000,"d":"$1,000.00"}},null,"Green","Green","N",null,null,"No","No","N","Accessory - Finish",{"v":350,"d":"$350.00"},null,{"v":320,"d":"$320.00"},1,"Paint Acc",{"$nulls":4},{"$error":"#N/A"}]
["STAIN-GALLON","Stain to Spray, Not Brush - Gallon - 50% more if Custom Color",{"v":200,"d":"$200.00"},2,null,{"$f":"$C570*Color!$P$6","v":{"v":0,"d":"$0.00"}},{"$f":"$C570*Color!$P$6","v":{"v":0,"d":"$0.00"}},null,"/","/","",null,0,"/STAIN-GALLON",{"$nulls":3},"",null,"/STAIN-GALLON",1,{"$nulls":3},{"$f":"$C570*Color!$P$8","v":{"v":200,"d":"$200.00"}},{"$f":"$C570*Color!$P$8","v":{"v":200,"d":"$200.00"}},null,"Green","Green","N",null,null,"No","No","N","Accessory - Finish",{"v":125,"d":"$125.00"},null,{"v":80,"d":"$80.00"},1,"Paint Acc",{"$nulls":4},{"$error":"#N/A"}]
["STAIN-QUART","Stain to Spray, Not Brush - Quart - 50% more if Custom Color",{"v":50,"d":"$50.00"},2,null,{"$f":"$C571*Color!$P$6","v":{"v":0,"d":"$0.00"}},{"$f":"$C571*Color!$P$6","v":{"v":0,"d":"$0.00"}},null,"/","/","",null,0,"/STAIN-QUART",{"$nulls":3},"",null,"/STAIN-QUART",1,{"$nulls":3},{"$f":"$C571*Color!$P$8","v":{"v":50,"d":"$50.00"}},{"$f":"$C571*Color!$P$8","v":{"v":50,"d":"$50.00"}},null,"Green","Green",{"$nulls":3},"No","No","N","Accessory - Finish",{"v":50,"d":"$50.00"},null,{"v":20,"d":"$20.00"},1,"Paint Acc",{"$nulls":4},{"$error":"#N/A"}]
["STEMWARE-BRASS","Stemware Organizer-Brass",{"v":38,"d":"$38.00"},2,null,{"$f":"$C572","v":{"v":38,"d":"$38.00"}},{"v":38,"d":"$38.00"},null,"/","","",null,0,"STEMWARE-BRASS",{"$nulls":3},"",null,"STEMWARE-BRASS",1,{"$nulls":3},{"$f":"$C572","v":{"v":38,"d":"$38.00"}},{"v":38,"d":"$38.00"},null,"Tan","Tan",{"$nulls":3},"No","No","N","Accessory - Beverages",{"$f":"ROUNDUP(AM572*AN572,0)","v":{"v":38,"d":"$38.00"}},null,{"v":38,"d":"$38.00"},1,"ACC",{"$nulls":4},{"$error":"#N/A"}]
["STEMWARE-BRONZE","Stemware Organizer-Bronze",{"v":42,"d":"$42.00"},2,null,{"v":42,"d":"$42.00"},{"v":42,"d":"$42.00"},null,"/","","",null,0,"STEMWARE-BRONZE",{"$nulls":3},"",null,"STEMWARE-BRONZE",1,{"$nulls":3},{"v":42,"d":"$42.00"},{"v":42,"d":"$42.00"},null,"Tan","Tan",{"$nulls":3},"No","No","N","Accessory - Beverages",{"v":42,"d":"$42.00"},null,{"v":42,"d":"$42.00"},1,"ACC",{"$nulls":4},{"$error":"#N/A"}]
["STEMWARE-CHROME","Stemware Organizer-Chrome",{"v":32,"d":"$32.00"},2,null,{"v":32,"d":"$32.00"},{"v":32,"d":"$32.00"},null,"/","","",null,0,"STEMWARE-CHROME",{"$nulls":3},"",null,"STEMWARE-CHROME",1,{"$nulls":3},{"v":32,"d":"$32.00"},{"v":32,"d":"$32.00"},null,"Tan","Tan",{"$nulls":3},"No","No","N","Accessory - Beverages",{"v":32,"d":"$32.00"},null,{"v":32,"d":"$32.00"},1,"ACC",{"$nulls":4},{"$error":"#N/A"}]
["STEMWARE-NICKLE","Stemware Organizer-Nickle",{"v":37,"d":"$37.00"},2,null,{"v":37,"d":"$37.00"},{"v":37,"d":"$37.00"},null,"/","","",null,0,"STEMWARE-NICKLE",{"$nulls":3},"",null,"STEMWARE-NICKLE",1,{"$nulls":3},{"v":37,"d":"$37.00"},{"v":37,"d":"$37.00"},null,"Tan","Tan",{"$nulls":3},"No","No","N","Accessory - Beverages",{"v":37,"d":"$37.00"},null,{"v":37,"d":"$37.00"},1,"ACC",{"$nulls":4},{"$error":"#N/A"}]
["SUBTOP-PARTICLE BOARD 25x97","Subtop-Particle Board 25\" x 97\"",{"v":25,"d":"$25.00"},2,null,{"v":25,"d":"$25.00"},{"v":25,"d":"$25.00"},null,"/","","",null,0,"SUBTOP-PARTICLE BOARD 25x97",{"$nulls":3},"",null,"SUBTOP-PARTICLE BOARD 25x97",1,{"$nulls":3},{"v":25,"d":"$25.00"},{"v":25,"d":"$25.00"},null,"Tan","Tan","N",null,null,"No","No","N",null,{"v":25,"d":"$25.00"},"Price change for fall 2019",{"v":20,"d":"$20.00"},1.25,"ACC",{"$nulls":4},{"$error":"#N/A"}]
["SUBTOP-PARTICLE BOARD 49X97","Subtop-Particle Board 49\" x 97\"",{"v":60,"d":"$60.00"},2,null,{"v":60,"d":"$60.00"},{"v":60,"d":"$60.00"},null,"/","","",null,0,"SUBTOP-PARTICLE BOARD 49X97",{"$nulls":3},"",null,"SUBTOP-PARTICLE BOARD 49X97",1,{"$nulls":3},{"v":60,"d":"$60.00"},{"v":60,"d":"$60.00"},null,"Tan","Tan","N",null,null,"No","No","N",null,{"v":60,"d":"$60.00"},"Price change for fall 2019",{"v":40,"d":"$40.00"},1.5,"ACC",{"$nulls":4},{"$error":"#N/A"}]
["SUBTOP-PLYWOOD 25X96","Subtop-Plywood 25\" x 96\"",{"v":42,"d":"$42.00"},2,null,{"v":42,"d":"$42.00"},{"v":42,"d":"$42.00"},null,"/","","",null,0,"SUBTOP-PLYWOOD 25X96",{"$nulls":3},"",null,"SUBTOP-PLYWOOD 25X96",1,{"$nulls":3},{"v":42,"d":"$42.00"},{"v":42,"d":"$42.00"},null,"Tan","Tan","N",null,null,"No","No","N",null,{"v":42,"d":"$42.00"},null,{"v":38.18,"d":"$38.18"},1.1,"ACC",{"$nulls":4},{"$error":"#N/A"}]
["SUBTOP-PLYWOOD 49X97","Subtop-Plywood 49\" x 97\"",{"v":56,"d":"$56.00"},2,null,{"v":56,"d":"$56.00"},{"v":56,"d":"$56.00"},null,"/","","",null,0,"SUBTOP-PLYWOOD 49X97",{"$nulls":3},"",null,"SUBTOP-PLYWOOD 49X97",1,{"$nulls":3},{"v":56,"d":"$56.00"},{"v":56,"d":"$56.00"},null,"Tan","Tan","N",null,null,"No","No","N",null,{"v":56,"d":"$56.00"},null,{"v":50.14,"d":"$50.14"},1.1,"ACC",{"$nulls":4},{"$error":"#N/A"}]
["TALL PULLOUT (14)","Tall Base Pull Out 14\"",{"v":760,"d":"$760.00"},2,null,{"v":760,"d":"$760.00"},{"v":760,"d":"$760.00"},null,"/","","",null,0,"TALL PULLOUT (14)",{"$nulls":5},"TALL PULLOUT (14)",1,{"$nulls":3},{"v":760,"d":"$760.00"},{"v":760,"d":"$760.00"},null,"Tan","Tan",{"$nulls":3},"No","No","N","Accessory - Tall Cabinet",{"v":760,"d":"$760.00"},null,{"v":760,"d":"$760.00"},1,"ACC",{"$nulls":4},{"$error":"#N/A"}]
["TALL PULLOUT (20)","Tall Base Pull Out 22\"",{"v":795,"d":"$795.00"},2,null,{"v":795,"d":"$795.00"},{"v":795,"d":"$795.00"},null,"/","","",null,0,"TALL PULLOUT (20)",{"$nulls":5},"TALL PULLOUT (20)",1,{"$nulls":3},{"v":795,"d":"$795.00"},{"v":795,"d":"$795.00"},null,"Tan","Tan",{"$nulls":3},"No","No","N","Accessory - Tall Cabinet",{"v":795,"d":"$795.00"},null,{"v":795,"d":"$795.00"},1,"ACC",{"$nulls":4},{"$error":"#N/A"}]
["TALL PULLOUT (22)","Tall Base Pull Out 22\"",{"v":835,"d":"$835.00"},2,null,{"v":835,"d":"$835.00"},{"v":835,"d":"$835.00"},null,"/","","",null,0,"TALL PULLOUT (22)",{"$nulls":5},"TALL PULLOUT (22)",1,{"$nulls":3},{"v":835,"d":"$835.00"},{"v":835,"d":"$835.00"},null,"Tan","Tan",{"$nulls":3},"No","No","N","Accessory - Tall Cabinet",{"v":835,"d":"$835.00"},null,{"v":835,"d":"$835.00"},1,"ACC",{"$nulls":4},{"$error":"#N/A"}]
["TALL PULLOUT (8)","Tall Base Pull Out 8\"",{"v":720,"d":"$720.00"},2,null,{"v":720,"d":"$720.00"},{"v":720,"d":"$720.00"},null,"/","","",null,0,"TALL PULLOUT (8)",{"$nulls":5},"TALL PULLOUT (8)",1,{"$nulls":3},{"v":720,"d":"$720.00"},{"v":720,"d":"$720.00"},null,"Tan","Tan",{"$nulls":3},"No","No","N","Accessory - Tall Cabinet",{"v":720,"d":"$720.00"},null,{"v":720,"d":"$720.00"},1,"ACC",{"$nulls":4},{"$error":"#N/A"}]
["TIP OUT TRAY SB24","Tip out Tray for SB24\"",{"v":20,"d":"$20.00"},2,null,{"v":20,"d":"$20.00"},{"v":20,"d":"$20.00"},null,"/",{"$f":"'Order Type'!$C$6","v":"01-"},"",null,0,"01-TIP OUT TRAY SB24",{"$nulls":3},{"$f":"Q584&K584","v":""},null,"01-TIP OUT TRAY SB24",1,{"$nulls":3},{"v":20,"d":"$20.00"},{"v":20,"d":"$20.00"},null,"Tan","Tan",{"$nulls":3},"No","No","N","Accessory - Base - Sink",{"v":20,"d":"$20.00"},null,{"v":20,"d":"$20.00"},1,"ACC",{"$nulls":4},{"$error":"#N/A"}]
["TIP OUT TRAY SB30","Tip out Tray for SB30\"",{"v":24,"d":"$24.00"},2,null,{"v":24,"d":"$24.00"},{"v":24,"d":"$24.00"},null,"/",{"$f":"'Order Type'!$C$6","v":"01-"},"",null,0,"01-TIP OUT TRAY SB30",{"$nulls":3},"",null,"01-TIP OUT TRAY SB30",1,{"$nulls":3},{"v":24,"d":"$24.00"},{"v":24,"d":"$24.00"},null,"Tan","Tan",{"$nulls":3},"No","No","N","Accessory - Base - Sink",{"v":24,"d":"$24.00"},null,{"v":24,"d":"$24.00"},1,"ACC",{"$nulls":4},{"$error":"#N/A"}]
["TIP OUT TRAY SB33","Tip out Tray for SB33\"",{"v":39,"d":"$39.00"},2,null,{"v":39,"d":"$39.00"},{"v":39,"d":"$39.00"},null,"/",{"$f":"'Order Type'!$C$6","v":"01-"},"",null,0,"01-TIP OUT TRAY SB33",{"$nulls":3},"",null,"01-TIP OUT TRAY SB33",1,{"$nulls":3},{"v":39,"d":"$39.00"},{"v":39,"d":"$39.00"},null,"Tan","Tan",{"$nulls":3},"No","No","N","Accessory - Base - Sink",{"v":39,"d":"$39.00"},null,{"v":39,"d":"$39.00"},1,"ACC",{"$nulls":4},{"$error":"#N/A"}]
["TIP OUT TRAY SB36","Tip out Tray for SB36\"",{"v":45,"d":"$45.00"},2,null,{"v":45,"d":"$45.00"},{"v":45,"d":"$45.00"},null,"/",{"$f":"'Order Type'!$C$6","v":"01-"},"",null,0,"01-TIP OUT TRAY SB36",{"$nulls":3},"",null,"01-TIP OUT TRAY SB36",1,{"$nulls":3},{"v":45,"d":"$45.00"},{"v":45,"d":"$45.00"},null,"Tan","Tan",{"$nulls":3},"No","No","N","Accessory - Base - Sink",{"v":45,"d":"$45.00"},null,{"v":45,"d":"$45.00"},1,"ACC",{"$nulls":4},{"$error":"#N/A"}]
["TIP OUT TRAY SB39","Tip out Tray for SB39\"",{"v":45,"d":"$45.00"},2,null,{"v":45,"d":"$45.00"},{"v":45,"d":"$45.00"},null,"/",{"$f":"'Order Type'!$C$6","v":"01-"},"",null,0,"01-TIP OUT TRAY SB39",{"$nulls":3},"",null,"01-TIP OUT TRAY SB39",1,{"$nulls":3},{"v":45,"d":"$45.00"},{"v":45,"d":"$45.00"},null,"Tan","Tan",{"$nulls":3},"No","No","N","Accessory - Base - Sink",{"v":45,"d":"$45.00"},null,{"v":45,"d":"$45.00"},1,"ACC",{"$nulls":4},{"$error":"#N/A"}]
["TOESKIN","Toe Kick Skin",{"v":46,"d":"$46.00"},2,"PB",{"$f":"($C589*$F$1*Color!$G$6*'Order Form'!$Q$18)","v":{"$error":"#VALUE!"}},{"$f":"$C589*$G$1*'Order Form'!$Q$18*(Color!$D$6+Species!$C$6)","v":{"$error":"#VALUE!"}},null,"13-","13-",{"$f":"CONCAT!$D$3","v":""},null,0,"13-TOESKIN",{"$nulls":3},"",null,"13-TOESKIN",1,{"$nulls":3},{"$f":"($C589*$F$1*Color!$G$8*1)","v":{"v":39.468,"d":"$39.47"}},{"$f":"$C589*$G$1*1*(Color!$D$8+Species!$C$6)","v":{"$error":"#VALUE!"}},null,"Orange","Pink",{"$nulls":3},"No","No","N","Skin - Toe",{"v":46,"d":"$46.00"},"Price change for fall 2019",{"v":32,"d":"$32.00"},1.41,"G1",{"$nulls":4},{"$error":"#N/A"}]
["TOUCH UP","Touch Up Kit",null,2,"PB",{"$f":"Color!$I$6","v":{"v":0,"d":"$0.00"}},{"$f":"Color!$I$6","v":{"v":0,"d":"$0.00"}},null,"13-","13-",{"$f":"Color!H8","v":"-AB"},null,0,"13-TOUCH UP-AB",{"$nulls":3},"-AB",null,"13-TOUCH UP-AB",1,{"$nulls":3},{"$f":"Color!$I$8","v":{"v":14.4,"d":"$14.40"}},{"$f":"Color!$I$8","v":{"v":14.4,"d":"$14.40"}},null,"Light Red","Light Red",{"$nulls":3},"No","No","N","Touch Up Kit",0,null,{"v":12,"d":"$12.00"},null,"Touch up Kit",{"$nulls":4},{"$error":"#N/A"}]
["TRAY DIVIDER-REV","Chrome Tray Divider",{"v":35,"d":"$35.00"},2,null,{"$f":"$C591","v":{"v":35,"d":"$35.00"}},{"$f":"$C591","v":{"v":35,"d":"$35.00"}},null,"/","","",null,0,"TRAY DIVIDER-REV",{"$nulls":3},"",null,"TRAY DIVIDER-REV",1,{"$nulls":3},{"$f":"$C591","v":{"v":35,"d":"$35.00"}},{"$f":"$C591","v":{"v":35,"d":"$35.00"}},null,"Tan","Tan",{"$nulls":3},"No","No","N","Accessory - Base - Full Height",{"v":35,"d":"$35.00"},null,{"v":35,"d":"$35.00"},1,"ACC",{"$nulls":4},{"$error":"#N/A"}]
["TSKIN","Tall Skin",{"v":202,"d":"$202.00"},2,"PB",{"$f":"($C592*$F$1*Color!$G$6*'Order Form'!$Q$18)","v":{"$error":"#VALUE!"}},{"$f":"$C592*$G$1*'Order Form'!$Q$18*(Color!$D$6+Species!$C$6)","v":{"$error":"#VALUE!"}},null,"13-","13-",{"$f":"CONCAT!$D$3","v":""},null,0,"13-TSKIN",{"$nulls":3},"",null,"13-TSKIN",1,{"$nulls":3},{"$f":"($C592*$F$1*Color!$G$8*1)","v":{"v":173.316,"d":"$173.32"}},{"$f":"$C592*$G$1*1*(Color!$D$8+Species!$C$6)","v":{"$error":"#VALUE!"}},null,"Orange","Pink",{"$nulls":3},"No","No","N","Skin - Tall",{"v":202,"d":"$202.00"},"Price change for fall 2019",{"v":143,"d":"$143.00"},1.41,"G1",{"$nulls":4},{"$error":"#N/A"}]
["UC1584","Utility Cabinet 15\" x 84\"",{"v":978,"d":"$978.00"},3,null,null,{"$f":"$C593*$G$1*'Order Form'!$Q$18*(Color!$D$6+'Door Style'!$G$6+Species!$C$6+'Custom Finish'!$C$6)","v":{"$error":"#VALUE!"}},null,"SC/PC",{"$f":"'Order Type'!$C$6","v":"01-"},{"$f":"CONCAT!$D$8","v":""},null,1,"01-UC1584","11-UC1584",1,"12-UC1584","12-UC1584",1,{"$nulls":6},{"$f":"$C593*$G$1*1*(Color!$D$8+'Door Style'!$G$6+Species!$C$6+'Custom Finish'!$C$6)","v":{"$error":"#VALUE!"}},null,"Black","Dark Gray",null,"2","TSKIN",100,75,"Y","Tall Cabinet - Utility",{"v":978,"d":"$978.00"},"Price change for fall 2019",{"v":693,"d":"$693.00"},1.41,"G1",{"$nulls":4},{"$error":"#N/A"}]
["UC1590","Utility Cabinet 15\" x 90\"",{"v":1035,"d":"$1,035.00"},3,null,null,{"$f":"$C594*$G$1*'Order Form'!$Q$18*(Color!$D$6+'Door Style'!$G$6+Species!$C$6+'Custom Finish'!$C$6)","v":{"$error":"#VALUE!"}},null,"SC/PC",{"$f":"'Order Type'!$C$6","v":"01-"},{"$f":"CONCAT!$D$8","v":""},null,1,"01-UC1590","11-UC1590",1,"12-UC1590","12-UC1590",1,{"$nulls":6},{"$f":"$C594*$G$1*1*(Color!$D$8+'Door Style'!$G$6+Species!$C$6+'Custom Finish'!$C$6)","v":{"$error":"#VALUE!"}},null,"Black","Dark Gray",null,"2","TSKIN",100,75,"Y","Tall Cabinet - Utility",{"v":1035,"d":"$1,035.00"},"Price change for fall 2019",{"v":734,"d":"$734.00"},1.41,"G1",{"$nulls":4},{"$error":"#N/A"}]
["UC1596","Utility Cabinet 15\" x 96\"",{"v":1085,"d":"$1,085.00"},3,null,null,{"$f":"$C595*$G$1*'Order Form'!$Q$18*(Color!$D$6+'Door Style'!$G$6+Species!$C$6+'Custom Finish'!$C$6)","v":{"$error":"#VALUE!"}},null,"SC/PC",{"$f":"'Order Type'!$C$6","v":"01-"},{"$f":"CONCAT!$D$8","v":""},null,1,"01-UC1596","11-UC1596",1,"12-UC1596","12-UC1596",1,{"$nulls":6},{"$f":"$C595*$G$1*1*(Color!$D$8+'Door Style'!$G$6+Species!$C$6+'Custom Finish'!$C$6)","v":{"$error":"#VALUE!"}},null,"Black","Dark Gray",null,"2","TSKIN",100,75,"Y","Tall Cabinet - Utility",{"v":1085,"d":"$1,085.00"},"Price change for fall 2019",{"v":769,"d":"$769.00"},1.41,"G1",{"$nulls":4},{"$error":"#N/A"}]
["UC1884","Utility Cabinet 18\" x 84\"",{"v":1160,"d":"$1,160.00"},2,null,{"$f":"$C596*$F$1*'Order Form'!$Q$18*(Color!$C$6+'Door Style'!$H$6)","v":{"$error":"#VALUE!"}},{"$f":"$C596*$G$1*'Order Form'!$Q$18*(Color!$D$6+'Door Style'!$G$6+Species!$C$6+'Custom Finish'!$C$6)","v":{"$error":"#VALUE!"}},null,{"$f":"'Order Type'!$C$6","v":"01-"},{"$f":"'Order Type'!$C$6","v":"01-"},{"$f":"CONCAT!$D$2","v":""},null,1,"01-UC1884","11-UC1884",1,"12-UC1884","12-UC1884",1,{"$nulls":5},{"$f":"$C596*$F$1*(Color!$C$8+'Door Style'!$H$6)","v":{"v":995.2800000000002,"d":"$995.28"}},{"$f":"$C596*$G$1*1*(Color!$D$8+'Door Style'!$G$6+Species!$C$6+'Custom Finish'!$C$6)","v":{"$error":"#VALUE!"}},null,"Light Blue","Dark Gray",null,"2","TSKIN",100,75,"Y","Tall Cabinet - Utility",{"v":1160,"d":"$1,160.00"},"Price change for fall 2019",{"v":822,"d":"$822.00"},1.41,"G1",{"$nulls":4},{"$error":"#N/A"}]
["UC1890","Utility Cabinet 18\" x 90\"",{"v":1216,"d":"$1,216.00"},2,null,{"$f":"$C597*$F$1*'Order Form'!$Q$18*(Color!$C$6+'Door Style'!$H$6)","v":{"$error":"#VALUE!"}},{"$f":"$C597*$G$1*'Order Form'!$Q$18*(Color!$D$6+'Door Style'!$G$6+Species!$C$6+'Custom Finish'!$C$6)","v":{"$error":"#VALUE!"}},null,{"$f":"'Order Type'!$C$6","v":"01-"},{"$f":"'Order Type'!$C$6","v":"01-"},{"$f":"CONCAT!$D$2","v":""},null,1,"01-UC1890","11-UC1890",1,"12-UC1890","12-UC1890",1,{"$nulls":5},{"$f":"$C597*$F$1*(Color!$C$8+'Door Style'!$H$6)","v":{"v":1043.3280000000002,"d":"$1,043.33"}},{"$f":"$C597*$G$1*1*(Color!$D$8+'Door Style'!$G$6+Species!$C$6+'Custom Finish'!$C$6)","v":{"$error":"#VALUE!"}},null,"Light Blue","Dark Gray",null,"2","TSKIN",100,75,"Y","Tall Cabinet - Utility",{"v":1216,"d":"$1,216.00"},"Price change for fall 2019",{"v":862,"d":"$862.00"},1.41,"G1",{"$nulls":4},{"$error":"#N/A"}]
["UC1896","Utility Cabinet 18\" x 96\"",{"v":1278,"d":"$1,278.00"},2,null,{"$f":"$C598*$F$1*'Order Form'!$Q$18*(Color!$C$6+'Door Style'!$H$6)","v":{"$error":"#VALUE!"}},{"$f":"$C598*$G$1*'Order Form'!$Q$18*(Color!$D$6+'Door Style'!$G$6+Species!$C$6+'Custom Finish'!$C$6)","v":{"$error":"#VALUE!"}},null,{"$f":"'Order Type'!$C$6","v":"01-"},{"$f":"'Order Type'!$C$6","v":"01-"},{"$f":"CONCAT!$D$2","v":""},null,1,"01-UC1896","11-UC1896",1,"12-UC1896","12-UC1896",1,{"$nulls":5},{"$f":"$C598*$F$1*(Color!$C$8+'Door Style'!$H$6)","v":{"v":1096.5240000000001,"d":"$1,096.52"}},{"$f":"$C598*$G$1*1*(Color!$D$8+'Door Style'!$G$6+Species!$C$6+'Custom Finish'!$C$6)","v":{"$error":"#VALUE!"}},null,"Light Blue","Dark Gray",null,"2","TSKIN",100,75,"Y","Tall Cabinet - Utility",{"v":1278,"d":"$1,278.00"},"Price change for fall 2019",{"v":906,"d":"$906.00"},1.41,"G1",{"$nulls":4},{"$error":"#N/A"}]
["UC2484","Utility Cabinet 24\" x 84\"",{"v":1463,"d":"$1,463.00"},2,null,{"$f":"$C599*$F$1*'Order Form'!$Q$18*(Color!$C$6+'Door Style'!$H$6)","v":{"$error":"#VALUE!"}},{"$f":"$C599*$G$1*'Order Form'!$Q$18*(Color!$D$6+'Door Style'!$G$6+Species!$C$6+'Custom Finish'!$C$6)","v":{"$error":"#VALUE!"}},null,{"$f":"'Order Type'!$C$6","v":"01-"},{"$f":"'Order Type'!$C$6","v":"01-"},{"$f":"CONCAT!$D$2","v":""},null,1,"01-UC2484","11-UC2484",1,"12-UC2484","12-UC2484",1,{"$nulls":5},{"$f":"$C599*$F$1*(Color!$C$8+'Door Style'!$H$6)","v":{"v":1255.2540000000001,"d":"$1,255.25"}},{"$f":"$C599*$G$1*1*(Color!$D$8+'Door Style'!$G$6+Species!$C$6+'Custom Finish'!$C$6)","v":{"$error":"#VALUE!"}},null,"Light Blue","Dark Gray",null,"2","TSKIN",100,75,"N","Tall Cabinet - Utility",{"v":1463,"d":"$1,463.00"},"Price change for fall 2019",{"v":1037,"d":"$1,037.00"},1.41,"G1",{"$nulls":4},{"$error":"#N/A"}]
["UC2490","Utility Cabinet 24\" x 90\"",{"v":1535,"d":"$1,535.00"},2,null,{"$f":"$C600*$F$1*'Order Form'!$Q$18*(Color!$C$6+'Door Style'!$H$6)","v":{"$error":"#VALUE!"}},{"$f":"$C600*$G$1*'Order Form'!$Q$18*(Color!$D$6+'Door Style'!$G$6+Species!$C$6+'Custom Finish'!$C$6)","v":{"$error":"#VALUE!"}},null,{"$f":"'Order Type'!$C$6","v":"01-"},{"$f":"'Order Type'!$C$6","v":"01-"},{"$f":"CONCAT!$D$2","v":""},null,1,"01-UC2490","11-UC2490",1,"12-UC2490","12-UC2490",1,{"$nulls":5},{"$f":"$C600*$F$1*(Color!$C$8+'Door Style'!$H$6)","v":{"v":1317.03,"d":"$1,317.03"}},{"$f":"$C600*$G$1*1*(Color!$D$8+'Door Style'!$G$6+Species!$C$6+'Custom Finish'!$C$6)","v":{"$error":"#VALUE!"}},null,"Light Blue","Dark Gray",null,"2","TSKIN",100,75,"N","Tall Cabinet - Utility",{"v":1535,"d":"$1,535.00"},"Price change for fall 2019",{"v":1088,"d":"$1,088.00"},1.41,"G1",{"$nulls":4},{"$error":"#N/A"}]
["UC2496","Utility Cabinet 24\" x 96\"",{"v":1609,"d":"$1,609.00"},2,null,{"$f":"$C601*$F$1*'Order Form'!$Q$18*(Color!$C$6+'Door Style'!$H$6)","v":{"$error":"#VALUE!"}},{"$f":"$C601*$G$1*'Order Form'!$Q$18*(Color!$D$6+'Door Style'!$G$6+Species!$C$6+'Custom Finish'!$C$6)","v":{"$error":"#VALUE!"}},null,{"$f":"'Order Type'!$C$6","v":"01-"},{"$f":"'Order Type'!$C$6","v":"01-"},{"$f":"CONCAT!$D$2","v":""},null,1,"01-UC2496","11-UC2496",1,"12-UC2496","12-UC2496",1,{"$nulls":5},{"$f":"$C601*$F$1*(Color!$C$8+'Door Style'!$H$6)","v":{"v":1380.5220000000002,"d":"$1,380.52"}},{"$f":"$C601*$G$1*1*(Color!$D$8+'Door Style'!$G$6+Species!$C$6+'Custom Finish'!$C$6)","v":{"$error":"#VALUE!"}},null,"Light Blue","Dark Gray",null,"2","TSKIN",100,75,"N","Tall Cabinet - Utility",{"v":1609,"d":"$1,609.00"},"Price change for fall 2019",{"v":1141,"d":"$1,141.00"},1.41,"G1",{"$nulls":4},{"$error":"#N/A"}]
["UC3084","Utility Cabinet 30\" x 84\"",{"v":1953,"d":"$1,953.00"},3,null,null,{"$f":"$C602*$G$1*'Order Form'!$Q$18*(Color!$D$6+'Door Style'!$G$6+Species!$C$6+'Custom Finish'!$C$6)","v":{"$error":"#VALUE!"}},null,"SC/PC",{"$f":"'Order Type'!$C$6","v":"01-"},{"$f":"CONCAT!$D$8","v":""},null,1,"01-UC3084","11-UC3084",1,"12-UC3084","12-UC3084",1,{"$nulls":6},{"$f":"$C602*$G$1*1*(Color!$D$8+'Door Style'!$G$6+Species!$C$6+'Custom Finish'!$C$6)","v":{"$error":"#VALUE!"}},null,"Black","Dark Gray",null,"2","TSKIN",100,75,"N","Tall Cabinet - Utility",{"v":1953,"d":"$1,953.00"},"Price change for fall 2019",{"v":1385,"d":"$1,385.00"},1.41,"G1",{"$nulls":4},{"$error":"#N/A"}]
["UC3090","Utility Cabinet 30\" x 90\"",{"v":2070,"d":"$2,070.00"},3,null,null,{"$f":"$C603*$G$1*'Order Form'!$Q$18*(Color!$D$6+'Door Style'!$G$6+Species!$C$6+'Custom Finish'!$C$6)","v":{"$error":"#VALUE!"}},null,"SC/PC",{"$f":"'Order Type'!$C$6","v":"01-"},{"$f":"CONCAT!$D$8","v":""},null,1,"01-UC3090","11-UC3090",1,"12-UC3090","12-UC3090",1,{"$nulls":6},{"$f":"$C603*$G$1*1*(Color!$D$8+'Door Style'!$G$6+Species!$C$6+'Custom Finish'!$C$6)","v":{"$error":"#VALUE!"}},null,"Black","Dark Gray",null,"2","TSKIN",100,75,"N","Tall Cabinet - Utility",{"v":2070,"d":"$2,070.00"},"Price change for fall 2019",{"v":1468,"d":"$1,468.00"},1.41,"G1",{"$nulls":4},{"$error":"#N/A"}]
["UC3096","Utility Cabinet 30\" x 96\"",{"v":2166,"d":"$2,166.00"},3,null,null,{"$f":"$C604*$G$1*'Order Form'!$Q$18*(Color!$D$6+'Door Style'!$G$6+Species!$C$6+'Custom Finish'!$C$6)","v":{"$error":"#VALUE!"}},null,"SC/PC",{"$f":"'Order Type'!$C$6","v":"01-"},{"$f":"CONCAT!$D$8","v":""},null,1,"01-UC3096","11-UC3096",1,"12-UC3096","12-UC3096",1,{"$nulls":6},{"$f":"$C604*$G$1*1*(Color!$D$8+'Door Style'!$G$6+Species!$C$6+'Custom Finish'!$C$6)","v":{"$error":"#VALUE!"}},null,"Black","Dark Gray",null,"2","TSKIN",100,75,"N","Tall Cabinet - Utility",{"v":2166,"d":"$2,166.00"},"Price change for fall 2019",{"v":1536,"d":"$1,536.00"},1.41,"G1",{"$nulls":4},{"$error":"#N/A"}]
["UC3684","Utility Cabinet 36\" x 84\"",{"v":2578,"d":"$2,578.00"},3,null,null,{"$f":"$C605*$G$1*'Order Form'!$Q$18*(Color!$D$6+'Door Style'!$G$6+Species!$C$6+'Custom Finish'!$C$6)","v":{"$error":"#VALUE!"}},null,"SC/PC",{"$f":"'Order Type'!$C$6","v":"01-"},{"$f":"CONCAT!$D$8","v":""},null,1,"01-UC3684","11-UC3684",1,"12-UC3684","12-UC3684",1,{"$nulls":6},{"$f":"$C605*$G$1*1*(Color!$D$8+'Door Style'!$G$6+Species!$C$6+'Custom Finish'!$C$6)","v":{"$error":"#VALUE!"}},null,"Black","Dark Gray",null,2,"TSKIN",100,75,"N","Tall Cabinet - Utility",{"v":2578,"d":"$2,578.00"},"Price change for fall 2019",{"v":1828,"d":"$1,828.00"},1.41,"G1",{"$nulls":4},{"$error":"#N/A"}]
["UC3690","Utility Cabinet 36\" x 90\"",{"v":2732,"d":"$2,732.00"},3,null,null,{"$f":"$C606*$G$1*'Order Form'!$Q$18*(Color!$D$6+'Door Style'!$G$6+Species!$C$6+'Custom Finish'!$C$6)","v":{"$error":"#VALUE!"}},null,"SC/PC",{"$f":"'Order Type'!$C$6","v":"01-"},{"$f":"CONCAT!$D$8","v":""},null,1,"01-UC3690","11-UC3690",1,"12-UC3690","12-UC3690",1,{"$nulls":6},{"$f":"$C606*$G$1*1*(Color!$D$8+'Door Style'!$G$6+Species!$C$6+'Custom Finish'!$C$6)","v":{"$error":"#VALUE!"}},null,"Black","Dark Gray",null,2,"TSKIN",100,75,"N","Tall Cabinet - Utility",{"v":2732,"d":"$2,732.00"},"Price change for fall 2019",{"v":1937,"d":"$1,937.00"},1.41,"G1",{"$nulls":4},{"$error":"#N/A"}]
["UC3696","Utility Cabinet 36\" x 96\"",{"v":2860,"d":"$2,860.00"},3,null,null,{"$f":"$C607*$G$1*'Order Form'!$Q$18*(Color!$D$6+'Door Style'!$G$6+Species!$C$6+'Custom Finish'!$C$6)","v":{"$error":"#VALUE!"}},null,"SC/PC",{"$f":"'Order Type'!$C$6","v":"01-"},{"$f":"CONCAT!$D$8","v":""},null,1,"01-UC3696","11-UC3696",1,"12-UC3696","12-UC3696",1,{"$nulls":6},{"$f":"$C607*$G$1*1*(Color!$D$8+'Door Style'!$G$6+Species!$C$6+'Custom Finish'!$C$6)","v":{"$error":"#VALUE!"}},null,"Black","Dark Gray",null,2,"TSKIN",100,75,"N","Tall Cabinet - Utility",{"v":2860,"d":"$2,860.00"},"Price change for fall 2019",{"v":2028,"d":"$2,028.00"},1.41,"G1",{"$nulls":4},{"$error":"#N/A"}]
["VA30-DL","Vanity Assembly 2 Drawers (Door Left) 30\"",{"v":1088,"d":"$1,088.00"},2,null,{"$f":"$C608*$F$1*'Order Form'!$Q$18*(Color!$C$6+'Door Style'!$H$6)","v":{"$error":"#VALUE!"}},{"$f":"$C608*$G$1*'Order Form'!$Q$18*(Color!$D$6+'Door Style'!$G$6+Species!$C$6+'Drawer Head'!$E$6+'Custom Finish'!$C$6)","v":{"$error":"#VALUE!"}},null,{"$f":"'Order Type'!$C$6","v":"01-"},{"$f":"'Order Type'!$C$6","v":"01-"},{"$f":"CONCAT!$D$2","v":""},null,1,"01-VA30-DL","11-VA30-DL",1,"12-VA30-DL","12-VA30-DL",1,null,null,"DG 18IN VANITY SET-DTC",2,null,{"$f":"$C608*$F$1*(Color!$C$8+'Door Style'!$H$6)","v":{"v":933.504,"d":"$933.50"}},{"$f":"$C608*$G$1*1*(Color!$D$8+'Door Style'!$G$6+Species!$C$6+'Drawer Head'!$E$6+'Custom Finish'!$C$6)","v":{"$error":"#VALUE!"}},null,"Light Blue","Light Yellow",null,"1","BSKIN",175,150,"N","Vanity Assembly",{"$f":"ROUNDUP(AT608,0)","v":{"v":1088,"d":"$1,088.00"}},"Price change for fall 2019",{"v":706,"d":"$706.00"},null,"G2",{"$nulls":4},1088]
["VA30-DR","Vanity Assembly 2 Drawers (Door Right) 30\"",{"v":1088,"d":"$1,088.00"},2,null,{"$f":"$C609*$F$1*'Order Form'!$Q$18*(Color!$C$6+'Door Style'!$H$6)","v":{"$error":"#VALUE!"}},{"$f":"$C609*$G$1*'Order Form'!$Q$18*(Color!$D$6+'Door Style'!$G$6+Species!$C$6+'Drawer Head'!$E$6+'Custom Finish'!$C$6)","v":{"$error":"#VALUE!"}},null,{"$f":"'Order Type'!$C$6","v":"01-"},{"$f":"'Order Type'!$C$6","v":"01-"},{"$f":"CONCAT!$D$2","v":""},null,1,"01-VA30-DR","11-VA30-DR",1,"12-VA30-DR","12-VA30-DR",1,null,null,"DG 18IN VANITY SET-DTC",2,null,{"$f":"$C609*$F$1*(Color!$C$8+'Door Style'!$H$6)","v":{"v":933.504,"d":"$933.50"}},{"$f":"$C609*$G$1*1*(Color!$D$8+'Door Style'!$G$6+Species!$C$6+'Drawer Head'!$E$6+'Custom Finish'!$C$6)","v":{"$error":"#VALUE!"}},null,"Light Blue","Light Yellow",null,"1","BSKIN",175,150,"N","Vanity Assembly",{"v":1088,"d":"$1,088.00"},"Price change for fall 2019",{"v":706,"d":"$706.00"},null,"G2",{"$nulls":4},1088]
["VA30T-DL","Vanity Assembly 2 Drawers (Door Left) 30\" Tall",{"v":1158,"d":"$1,158.00"},3,null,null,{"$f":"$C610*$G$1*'Order Form'!$Q$18*(Color!$D$6+'Door Style'!$G$6+Species!$C$6+'Drawer Head'!$E$6+'Custom Finish'!$C$6)","v":{"$error":"#VALUE!"}},null,"SC/PC",{"$f":"'Order Type'!$C$6","v":"01-"},{"$f":"CONCAT!$D$8","v":""},null,1,"01-VA30T-DL","11-VA30T-DL",1,"12-VA30T-DL","12-VA30T-DL",1,null,null,"DG 18IN VANITY SET-DTC",2,null,null,{"$f":"$C610*$G$1*1*(Color!$D$8+'Door Style'!$G$6+Species!$C$6+'Drawer Head'!$E$6+'Custom Finish'!$C$6)","v":{"$error":"#VALUE!"}},null,"Black","Light Yellow",null,1,"BSKIN",175,150,"N","Vanity Assembly",{"v":1158,"d":"$1,158.00"},"Price change for fall 2019",{"v":798,"d":"$798.00"},null,"G2",{"$nulls":4},1158]
["VA30T-DR","Vanity Assembly 2 Drawers (Door Right) 30\" Tall",{"v":1158,"d":"$1,158.00"},3,null,null,{"$f":"$C611*$G$1*'Order Form'!$Q$18*(Color!$D$6+'Door Style'!$G$6+Species!$C$6+'Drawer Head'!$E$6+'Custom Finish'!$C$6)","v":{"$error":"#VALUE!"}},null,"SC/PC",{"$f":"'Order Type'!$C$6","v":"01-"},{"$f":"CONCAT!$D$8","v":""},null,1,{"$f":"J611&A611&K611","v":"01-VA30T-DR"},"11-VA30T-DR",1,"12-VA30T-DR","12-VA30T-DR",1,null,null,"DG 18IN VANITY SET-DTC",2,null,null,{"$f":"$C611*$G$1*1*(Color!$D$8+'Door Style'!$G$6+Species!$C$6+'Drawer Head'!$E$6+'Custom Finish'!$C$6)","v":{"$error":"#VALUE!"}},null,"Black","Light Yellow",null,1,"BSKIN",175,150,"N","Vanity Assembly",{"v":1158,"d":"$1,158.00"},"Price change for fall 2019",{"v":798,"d":"$798.00"},null,"G2",{"$nulls":4},1158]
["VA36-DL","Vanity Assembly 2 Drawers (Door Left) 36\"",{"v":1246,"d":"$1,246.00"},2,null,{"$f":"$C612*$F$1*'Order Form'!$Q$18*(Color!$C$6+'Door Style'!$H$6)","v":{"$error":"#VALUE!"}},{"$f":"$C612*$G$1*'Order Form'!$Q$18*(Color!$D$6+'Door Style'!$G$6+Species!$C$6+'Drawer Head'!$E$6+'Custom Finish'!$C$6)","v":{"$error":"#VALUE!"}},null,{"$f":"'Order Type'!$C$6","v":"01-"},{"$f":"'Order Type'!$C$6","v":"01-"},{"$f":"CONCAT!$D$2","v":""},null,1,"01-VA36-DL","11-VA36-DL",1,"12-VA36-DL","12-VA36-DL",1,null,null,"DG 18IN VANITY SET-DTC",2,null,{"$f":"$C612*$F$1*(Color!$C$8+'Door Style'!$H$6)","v":{"v":1069.068,"d":"$1,069.07"}},{"$f":"$C612*$G$1*1*(Color!$D$8+'Door Style'!$G$6+Species!$C$6+'Drawer Head'!$E$6+'Custom Finish'!$C$6)","v":{"$error":"#VALUE!"}},null,"Light Blue","Light Yellow",null,"1","BSKIN",175,150,"N","Vanity Assembly",{"v":1246,"d":"$1,246.00"},"Price change for fall 2019",{"v":809,"d":"$809.00"},null,"G2",{"$nulls":4},1246]
["VA36-DR","Vanity Assembly 2 Drawers (Door Right) 36\"",{"v":1246,"d":"$1,246.00"},2,null,{"$f":"$C613*$F$1*'Order Form'!$Q$18*(Color!$C$6+'Door Style'!$H$6)","v":{"$error":"#VALUE!"}},{"$f":"$C613*$G$1*'Order Form'!$Q$18*(Color!$D$6+'Door Style'!$G$6+Species!$C$6+'Drawer Head'!$E$6+'Custom Finish'!$C$6)","v":{"$error":"#VALUE!"}},null,{"$f":"'Order Type'!$C$6","v":"01-"},{"$f":"'Order Type'!$C$6","v":"01-"},{"$f":"CONCAT!$D$2","v":""},null,1,"01-VA36-DR","11-VA36-DR",1,"12-VA36-DR","12-VA36-DR",1,null,null,"DG 18IN VANITY SET-DTC",2,null,{"$f":"$C613*$F$1*(Color!$C$8+'Door Style'!$H$6)","v":{"v":1069.068,"d":"$1,069.07"}},{"$f":"$C613*$G$1*1*(Color!$D$8+'Door Style'!$G$6+Species!$C$6+'Drawer Head'!$E$6+'Custom Finish'!$C$6)","v":{"$error":"#VALUE!"}},null,"Light Blue","Light Yellow",null,"1","BSKIN",175,150,"N","Vanity Assembly",{"v":1246,"d":"$1,246.00"},"Price change for fall 2019",{"v":809,"d":"$809.00"},null,"G2",{"$nulls":4},1246]
["VA36T-DL","Vanity Assembly 2 Drawers (Door Left) 36\" Tall",{"v":1326,"d":"$1,326.00"},3,null,null,{"$f":"$C614*$G$1*'Order Form'!$Q$18*(Color!$D$6+'Door Style'!$G$6+Species!$C$6+'Drawer Head'!$E$6+'Custom Finish'!$C$6)","v":{"$error":"#VALUE!"}},null,"SC/PC",{"$f":"'Order Type'!$C$6","v":"01-"},{"$f":"CONCAT!$D$8","v":""},null,1,"01-VA36T-DL","11-VA36T-DL",1,"12-VA36T-DL","12-VA36T-DL",1,null,null,"DG 18IN VANITY SET-DTC",2,null,null,{"$f":"$C614*$G$1*1*(Color!$D$8+'Door Style'!$G$6+Species!$C$6+'Drawer Head'!$E$6+'Custom Finish'!$C$6)","v":{"$error":"#VALUE!"}},null,"Black","Light Yellow",null,1,"BSKIN",175,150,"N","Vanity Assembly",{"v":1326,"d":"$1,326.00"},"Price change for fall 2019",{"v":914,"d":"$914.00"},null,"G2",{"$nulls":4},1326]
["VA36T-DR","Vanity Assembly 2 Drawers (Door Right) 36\" Tall",{"v":1326,"d":"$1,326.00"},3,null,null,{"$f":"$C615*$G$1*'Order Form'!$Q$18*(Color!$D$6+'Door Style'!$G$6+Species!$C$6+'Drawer Head'!$E$6+'Custom Finish'!$C$6)","v":{"$error":"#VALUE!"}},null,"SC/PC",{"$f":"'Order Type'!$C$6","v":"01-"},{"$f":"CONCAT!$D$8","v":""},null,1,"01-VA36T-DR","11-VA36T-DR",1,"12-VA36T-DR","12-VA36T-DR",1,null,null,"DG 18IN VANITY SET-DTC",2,null,null,{"$f":"$C615*$G$1*1*(Color!$D$8+'Door Style'!$G$6+Species!$C$6+'Drawer Head'!$E$6+'Custom Finish'!$C$6)","v":{"$error":"#VALUE!"}},null,"Black","Light Yellow",null,1,"BSKIN",175,150,"N","Vanity Assembly",{"v":1326,"d":"$1,326.00"},"Price change for fall 2019",{"v":914,"d":"$914.00"},null,"G2",{"$nulls":4},1326]
["VA48","Vanity Assembly 6 Drawers 48\"",{"v":1650,"d":"$1,650.00"},2,null,{"$f":"$C616*$F$1*'Order Form'!$Q$18*(Color!$C$6+'Door Style'!$H$6)","v":{"$error":"#VALUE!"}},{"$f":"$C616*$G$1*'Order Form'!$Q$18*(Color!$D$6+'Door Style'!$G$6+Species!$C$6+'Drawer Head'!$E$6+'Custom Finish'!$C$6)","v":{"$error":"#VALUE!"}},null,{"$f":"'Order Type'!$C$6","v":"01-"},{"$f":"'Order Type'!$C$6","v":"01-"},{"$f":"CONCAT!$D$2","v":""},null,1,"01-VA48","11-VA48",1,"12-VA48","12-VA48",1,null,null,"DG 18IN VANITY SET-DTC",6,null,{"$f":"$C616*$F$1*(Color!$C$8+'Door Style'!$H$6)","v":{"v":1415.7,"d":"$1,415.70"}},{"$f":"$C616*$G$1*1*(Color!$D$8+'Door Style'!$G$6+Species!$C$6+'Drawer Head'!$E$6+'Custom Finish'!$C$6)","v":{"$error":"#VALUE!"}},null,"Light Blue","Light Yellow",null,"1","BSKIN",375,350,"N","Vanity Assembly",{"v":1650,"d":"$1,650.00"},"Price change for fall 2019",{"v":1139,"d":"$1,139.00"},null,"G2",{"$nulls":4},1650]
["VA48T","Vanity Assembly 6 Drawers 48\" Tall",{"v":1718,"d":"$1,718.00"},3,null,null,{"$f":"$C617*$G$1*'Order Form'!$Q$18*(Color!$D$6+'Door Style'!$G$6+Species!$C$6+'Drawer Head'!$E$6+'Custom Finish'!$C$6)","v":{"$error":"#VALUE!"}},null,"SC/PC",{"$f":"'Order Type'!$C$6","v":"01-"},{"$f":"CONCAT!$D$8","v":""},null,1,"01-VA48T","11-VA48T",1,"12-VA48T","12-VA48T",1,null,null,"DG 18IN VANITY SET-DTC",6,null,null,{"$f":"$C617*$G$1*1*(Color!$D$8+'Door Style'!$G$6+Species!$C$6+'Drawer Head'!$E$6+'Custom Finish'!$C$6)","v":{"$error":"#VALUE!"}},null,"Black","Light Yellow",null,1,"BSKIN",375,350,"N","Vanity Assembly",{"v":1718,"d":"$1,718.00"},"Price change for fall 2019",{"v":1287,"d":"$1,287.00"},null,"G2",{"$nulls":4},1718]
["VA60","Vanity Assembly 6 Drawers 60\"",{"v":1757,"d":"$1,757.00"},2,null,{"$f":"$C618*$F$1*'Order Form'!$Q$18*(Color!$C$6+'Door Style'!$H$6)","v":{"$error":"#VALUE!"}},{"$f":"$C618*$G$1*'Order Form'!$Q$18*(Color!$D$6+'Door Style'!$G$6+Species!$C$6+'Drawer Head'!$E$6+'Custom Finish'!$C$6)","v":{"$error":"#VALUE!"}},null,{"$f":"'Order Type'!$C$6","v":"01-"},{"$f":"'Order Type'!$C$6","v":"01-"},{"$f":"CONCAT!$D$2","v":""},null,1,"01-VA60","11-VA60",1,"12-VA60","12-VA60",1,null,null,"DG 18IN VANITY SET-DTC",6,null,{"$f":"$C618*$F$1*(Color!$C$8+'Door Style'!$H$6)","v":{"v":1507.506,"d":"$1,507.51"}},{"$f":"$C618*$G$1*1*(Color!$D$8+'Door Style'!$G$6+Species!$C$6+'Drawer Head'!$E$6+'Custom Finish'!$C$6)","v":{"$error":"#VALUE!"}},null,"Light Blue","Light Yellow",null,"1","BSKIN",225,200,"N","Vanity Assembly",{"v":1757,"d":"$1,757.00"},"Price change for fall 2019",{"v":1246,"d":"$1,246.00"},null,"G2",{"$nulls":4},1757]
["VA60DD","Vanity Assembly 3 Drawers 60\"",{"v":1500,"d":"$1,500.00"},2,null,{"$f":"$C619*$F$1*'Order Form'!$Q$18*(Color!$C$6+'Door Style'!$H$6)","v":{"$error":"#VALUE!"}},{"$f":"$C619*$G$1*'Order Form'!$Q$18*(Color!$D$6+'Door Style'!$G$6+Species!$C$6+'Drawer Head'!$E$6+'Custom Finish'!$C$6)","v":{"$error":"#VALUE!"}},null,{"$f":"'Order Type'!$C$6","v":"01-"},{"$f":"'Order Type'!$C$6","v":"01-"},{"$f":"CONCAT!$D$2","v":""},null,1,"01-VA60DD","11-VA60DD",1,"12-VA60DD","12-VA60DD",1,null,null,"DG 18IN VANITY SET-DTC",3,null,{"$f":"$C619*$F$1*(Color!$C$8+'Door Style'!$H$6)","v":{"v":1287,"d":"$1,287.00"}},{"$f":"$C619*$G$1*1*(Color!$D$8+'Door Style'!$G$6+Species!$C$6+'Drawer Head'!$E$6+'Custom Finish'!$C$6)","v":{"$error":"#VALUE!"}},null,"Light Blue","Light Yellow",null,"1","BSKIN",225,200,"N","Vanity Assembly",{"v":1500,"d":"$1,500.00"},"Price change for fall 2019",{"v":1041,"d":"$1,041.00"},null,"G2",{"$nulls":4},1500]
["VA60DDT","Vanity Assembly 6 Drawers 60\" Tall",{"v":1648,"d":"$1,648.00"},3,null,null,{"$f":"$C620*$G$1*'Order Form'!$Q$18*(Color!$D$6+'Door Style'!$G$6+Species!$C$6+'Drawer Head'!$E$6+'Custom Finish'!$C$6)","v":{"$error":"#VALUE!"}},null,"SC/PC",{"$f":"'Order Type'!$C$6","v":"01-"},{"$f":"CONCAT!$D$8","v":""},null,1,"01-VA60DDT","11-VA60DDT",1,"12-VA60DDT","12-VA60DDT",1,null,null,"DG 18IN VANITY SET-DTC",6,null,null,{"$f":"$C620*$G$1*1*(Color!$D$8+'Door Style'!$G$6+Species!$C$6+'Drawer Head'!$E$6+'Custom Finish'!$C$6)","v":{"$error":"#VALUE!"}},null,"Black","Light Yellow",null,1,"BSKIN",375,350,"N","Vanity Assembly",{"v":1648,"d":"$1,648.00"},"Price change for fall 2019",{"v":1408,"d":"$1,408.00"},null,"G2",{"$nulls":4},1648]
["VA60T","Vanity Assembly 3 Drawers 60\" Tall",{"v":1941,"d":"$1,941.00"},3,null,null,{"$f":"$C621*$G$1*'Order Form'!$Q$18*(Color!$D$6+'Door Style'!$G$6+Species!$C$6+'Drawer Head'!$E$6+'Custom Finish'!$C$6)","v":{"$error":"#VALUE!"}},null,"SC/PC",{"$f":"'Order Type'!$C$6","v":"01-"},{"$f":"CONCAT!$D$8","v":""},null,1,"01-VA60T","11-VA60T",1,"12-VA60T","12-VA60T",1,null,null,"DG 18IN VANITY SET-DTC",3,null,null,{"$f":"$C621*$G$1*1*(Color!$D$8+'Door Style'!$G$6+Species!$C$6+'Drawer Head'!$E$6+'Custom Finish'!$C$6)","v":{"$error":"#VALUE!"}},null,"Black","Light Yellow",null,1,"BSKIN",375,350,"N","Vanity Assembly",{"v":1941,"d":"$1,941.00"},"Price change for fall 2019",{"v":1176,"d":"$1,176.00"},null,"G2",{"$nulls":4},1941]
["VANITY POSTER BOARD","Vanity Poster Board for Vanity Combinations",{"v":25,"d":"$25.00"},2,null,{"$f":"$C622","v":{"v":25,"d":"$25.00"}},{"$f":"$C622","v":{"v":25,"d":"$25.00"}},null,"/","/","",null,0,"/VANITY POSTER BOARD",{"$nulls":3},"",null,{"$f":"N622","v":"/VANITY POSTER BOARD"},1,{"$nulls":3},{"$f":"$C622","v":{"v":25,"d":"$25.00"}},{"$f":"$C622","v":{"v":25,"d":"$25.00"}},null,"Tan","Tan","Dealer",null,null,"No","No","N","Dealer support item",{"$f":"ROUNDUP(AM622*AN622,0)","v":{"v":25,"d":"$25.00"}},null,{"v":25,"d":"$25.00"},1,"ACC",{"$nulls":4},{"$error":"#N/A"}]
["VB10.5-SHELF","Vanity Base Shelf For 10.5\"",{"v":38.15,"d":"$38.15"},2,null,{"$f":"$C623*'Order Form'!$Q$18","v":{"v":38.15,"d":"$38.15"}},{"$f":"$C623*'Order Form'!$Q$18","v":{"v":38.15,"d":"$38.15"}},null,"14-","14-","",null,0,"14-VB10.5-SHELF",{"$nulls":3},"",null,{"$f":"N623","v":"14-VB10.5-SHELF"},1,{"$nulls":3},{"$f":"$C623*1","v":{"v":38.15,"d":"$38.15"}},{"$f":"$C623*1","v":{"v":38.15,"d":"$38.15"}},null,"Purple","Purple",{"$nulls":3},"No","No","N","Shelf - Vanity - Base",{"$f":"AL623","v":{"v":38.15,"d":"$38.15"}},{"$f":"ROUNDUP(AS623,2)","v":38.15},{"v":24,"d":"$24.00"},1.1,"Plywood",11,19,{"$f":"(AP623*AQ623)/144","v":1.4513888888888888},{"$f":"(AR623*12.5)+20","v":{"v":38.142361111111114,"d":"38.14"}},{"$error":"#N/A"}]
["VB12","Vanity Base 12\"",{"v":406,"d":"$406.00"},2,"PB",{"$f":"$C624*$F$1*'Order Form'!$Q$18*(Color!$C$6+'Door Style'!$H$6)","v":{"$error":"#VALUE!"}},{"$f":"$C624*$G$1*'Order Form'!$Q$18*(Color!$D$6+'Door Style'!$G$6+Species!$C$6+'Drawer Head'!$E$6+'Custom Finish'!$C$6)","v":{"$error":"#VALUE!"}},null,{"$f":"'Order Type'!$C$6","v":"01-"},{"$f":"'Order Type'!$C$6","v":"01-"},{"$f":"CONCAT!$D$2","v":""},null,1,"01-VB12","11-VB12",1,"12-VB12","12-VB12",1,null,null,"DG 18IN VANITY SET-DTC",1,null,{"$f":"$C624*$F$1*(Color!$C$8+'Door Style'!$H$6)","v":{"v":348.348,"d":"$348.35"}},{"$f":"$C624*$G$1*1*(Color!$D$8+'Door Style'!$G$6+Species!$C$6+'Drawer Head'!$E$6+'Custom Finish'!$C$6)","v":{"$error":"#VALUE!"}},null,"Light Blue","Light Yellow",null,"1","BSKIN",125,100,"Y","Vanity - Base",{"$f":"ROUNDUP(AT624,0)","v":{"v":406,"d":"$406.00"}},"Price change for fall 2019",{"v":263,"d":"$263.00"},null,"G2",{"$nulls":4},406]
["VB12-SHELF","Vanity Base Shelf For 12\"",{"v":39.8,"d":"$39.80"},2,null,{"$f":"$C625*'Order Form'!$Q$18","v":{"v":39.8,"d":"$39.80"}},{"$f":"$C625*'Order Form'!$Q$18","v":{"v":39.8,"d":"$39.80"}},null,"14-","14-","",null,0,"14-VB12-SHELF",{"$nulls":3},"",null,{"$f":"N625","v":"14-VB12-SHELF"},1,{"$nulls":3},{"$f":"$C625*1","v":{"v":39.8,"d":"$39.80"}},{"$f":"$C625*1","v":{"v":39.8,"d":"$39.80"}},null,"Purple","Purple",{"$nulls":3},"No","No","N","Shelf - Vanity - Base",{"$f":"AL625","v":{"v":39.8,"d":"$39.80"}},{"$f":"ROUNDUP(AS625,2)","v":{"v":39.8,"d":"39.80"}},{"v":27,"d":"$27.00"},1.1,"Plywood",12,19,{"$f":"(AP625*AQ625)/144","v":1.5833333333333333},{"$f":"(AR625*12.5)+20","v":{"v":39.791666666666664,"d":"39.79"}},{"$error":"#N/A"}]
["VB12T","Vanity Base Tall 12\"",{"v":447,"d":"$447.00"},2,null,{"$f":"$C626*$F$1*'Order Form'!$Q$18*(Color!$C$6+'Door Style'!$H$6)","v":{"$error":"#VALUE!"}},{"$f":"$C626*$G$1*'Order Form'!$Q$18*(Color!$D$6+'Door Style'!$G$6+Species!$C$6+'Drawer Head'!$E$6+'Custom Finish'!$C$6)","v":{"$error":"#VALUE!"}},null,{"$f":"'Order Type'!$C$6","v":"01-"},{"$f":"'Order Type'!$C$6","v":"01-"},{"$f":"CONCAT!$D$2","v":""},null,1,"01-VB12T","11-VB12T",1,"12-B12","12-B12",1,null,null,"DG 18IN VANITY SET-DTC",1,null,{"$f":"$C626*$F$1*(Color!$C$8+'Door Style'!$H$6)","v":{"v":383.52600000000007,"d":"$383.53"}},{"$f":"$C626*$G$1*1*(Color!$D$8+'Door Style'!$G$6+Species!$C$6+'Drawer Head'!$E$6+'Custom Finish'!$C$6)","v":{"$error":"#VALUE!"}},null,"Light Blue","Light Yellow",null,"1","BSKIN",125,100,"Y","Vanity - Base  - Tall",{"$f":"ROUNDUP(AT626,0)","v":{"v":447,"d":"$447.00"}},"Price change for fall 2019",{"v":263,"d":"$263.00"},null,"G2",{"$nulls":4},447]
["VB13.5","Vanity Base 13.5\"",{"v":496,"d":"$496.00"},3,null,null,{"$f":"$C627*$G$1*'Order Form'!$Q$18*(Color!$D$6+'Door Style'!$G$6+Species!$C$6+'Drawer Head'!$E$6+'Custom Finish'!$C$6)","v":{"$error":"#VALUE!"}},null,"SC/PC",{"$f":"'Order Type'!$C$6","v":"01-"},{"$f":"CONCAT!$D$8","v":""},null,1,"01-VB13.5","11-VB13.5",1,"12-VB13.5","12-VB13.5",1,null,null,"DG 18IN VANITY SET-DTC",1,null,null,{"$f":"$C627*$G$1*1*(Color!$D$8+'Door Style'!$G$6+Species!$C$6+'Drawer Head'!$E$6+'Custom Finish'!$C$6)","v":{"$error":"#VALUE!"}},null,"Black","Light Yellow",null,"1","BSKIN",125,100,"Y","Vanity - Base",{"$f":"ROUNDUP(AT627,0)","v":{"v":496,"d":"$496.00"}},"Price change for fall 2019",{"v":378,"d":"$378.00"},null,"G2",{"$nulls":4},496]
["VB13.5-SHELF","Vanity Base Shelf For 13.5\"",{"v":43.1,"d":"$43.10"},2,null,{"$f":"$C628*'Order Form'!$Q$18","v":{"v":43.1,"d":"$43.10"}},{"$f":"$C628*'Order Form'!$Q$18","v":{"v":43.1,"d":"$43.10"}},null,"14-","14-","",null,0,"14-VB13.5-SHELF",{"$nulls":3},"",null,{"$f":"N628","v":"14-VB13.5-SHELF"},1,{"$nulls":3},{"$f":"$C628*1","v":{"v":43.1,"d":"$43.10"}},{"$f":"$C628*1","v":{"v":43.1,"d":"$43.10"}},null,"Purple","Purple",{"$nulls":3},"No","No","N","Shelf - Vanity - Base",{"$f":"AL628","v":{"v":43.1,"d":"$43.10"}},{"$f":"ROUNDUP(AS628,2)","v":{"v":43.1,"d":"43.10"}},{"v":32,"d":"$32.00"},1.1,"Plywood",14,19,{"$f":"(AP628*AQ628)/144","v":1.8472222222222223},{"$f":"(AR628*12.5)+20","v":{"v":43.09027777777778,"d":"43.09"}},{"$error":"#N/A"}]
["VB13.5T","Vanity Base 13.5\" Tall",{"v":509,"d":"$509.00"},3,null,null,{"$f":"$C629*$G$1*'Order Form'!$Q$18*(Color!$D$6+'Door Style'!$G$6+Species!$C$6+'Drawer Head'!$E$6+'Custom Finish'!$C$6)","v":{"$error":"#VALUE!"}},null,"SC/PC",{"$f":"'Order Type'!$C$6","v":"01-"},{"$f":"CONCAT!$D$8","v":""},null,1,"01-VB13.5T","11-VB13.5T",1,"12-B13.5","12-B13.5",1,null,null,"DG 18IN VANITY SET-DTC",1,null,null,{"$f":"$C629*$G$1*1*(Color!$D$8+'Door Style'!$G$6+Species!$C$6+'Drawer Head'!$E$6+'Custom Finish'!$C$6)","v":{"$error":"#VALUE!"}},null,"Black","Light Yellow",null,"1","BSKIN",125,100,"Y","Vanity - Base  - Tall",{"$f":"ROUNDUP(AT629,0)","v":{"v":509,"d":"$509.00"}},"Price change for fall 2019",{"v":398,"d":"$398.00"},null,"G2",{"$nulls":4},509]
["VB15","Vanity Base 15\"",{"v":497,"d":"$497.00"},2,null,{"$f":"$C630*$F$1*'Order Form'!$Q$18*(Color!$C$6+'Door Style'!$H$6)","v":{"$error":"#VALUE!"}},{"$f":"$C630*$G$1*'Order Form'!$Q$18*(Color!$D$6+'Door Style'!$G$6+Species!$C$6+'Drawer Head'!$E$6+'Custom Finish'!$C$6)","v":{"$error":"#VALUE!"}},null,{"$f":"'Order Type'!$C$6","v":"01-"},{"$f":"'Order Type'!$C$6","v":"01-"},{"$f":"CONCAT!$D$2","v":""},null,1,"01-VB15","11-VB15",1,"12-VB15","12-VB15",1,null,null,"DG 18IN VANITY SET-DTC",1,null,{"$f":"$C630*$F$1*(Color!$C$8+'Door Style'!$H$6)","v":{"v":426.42600000000004,"d":"$426.43"}},{"$f":"$C630*$G$1*1*(Color!$D$8+'Door Style'!$G$6+Species!$C$6+'Drawer Head'!$E$6+'Custom Finish'!$C$6)","v":{"$error":"#VALUE!"}},null,"Light Blue","Light Yellow",null,"1","BSKIN",125,100,"Y","Vanity - Base",{"$f":"ROUNDUP(AT630,0)","v":{"v":497,"d":"$497.00"}},"Price change for fall 2019",{"v":293,"d":"$293.00"},null,"G2",{"$nulls":4},497]
["VB15-SHELF","Vanity Base Shelf For 15\"",{"v":44.739999999999995,"d":"$44.74"},2,null,{"$f":"$C631*'Order Form'!$Q$18","v":{"v":44.739999999999995,"d":"$44.74"}},{"$f":"$C631*'Order Form'!$Q$18","v":{"v":44.739999999999995,"d":"$44.74"}},null,"14-","14-","",null,0,"14-VB15-SHELF",{"$nulls":3},"",null,{"$f":"N631","v":"14-VB15-SHELF"},1,{"$nulls":3},{"$f":"$C631*1","v":{"v":44.739999999999995,"d":"$44.74"}},{"$f":"$C631*1","v":{"v":44.739999999999995,"d":"$44.74"}},null,"Purple","Purple",{"$nulls":3},"No","No","N","Shelf - Vanity - Base",{"$f":"AL631","v":{"v":44.739999999999995,"d":"$44.74"}},{"$f":"ROUNDUP(AS631,2)","v":{"v":44.739999999999995,"d":"44.74"}},{"v":35,"d":"$35.00"},1.1,"Plywood",15,19,{"$f":"(AP631*AQ631)/144","v":1.9791666666666667},{"$f":"(AR631*12.5)+20","v":{"v":44.739583333333336,"d":"44.74"}},{"$error":"#N/A"}]
["VB15T","Vanity Base 15\" Tall",{"v":527,"d":"$527.00"},2,null,{"$f":"$C632*$F$1*'Order Form'!$Q$18*(Color!$C$6+'Door Style'!$H$6)","v":{"$error":"#VALUE!"}},{"$f":"$C632*$G$1*'Order Form'!$Q$18*(Color!$D$6+'Door Style'!$G$6+Species!$C$6+'Drawer Head'!$E$6+'Custom Finish'!$C$6)","v":{"$error":"#VALUE!"}},null,{"$f":"'Order Type'!$C$6","v":"01-"},{"$f":"'Order Type'!$C$6","v":"01-"},{"$f":"CONCAT!$D$2","v":""},null,1,"01-VB15T","11-VB15T",1,"12-B15","12-B15",1,null,null,"DG 18IN VANITY SET-DTC",1,null,{"$f":"$C632*$F$1*(Color!$C$8+'Door Style'!$H$6)","v":{"v":452.16600000000005,"d":"$452.17"}},{"$f":"$C632*$G$1*1*(Color!$D$8+'Door Style'!$G$6+Species!$C$6+'Drawer Head'!$E$6+'Custom Finish'!$C$6)","v":{"$error":"#VALUE!"}},null,"Light Blue","Light Yellow",null,"1","BSKIN",125,100,"Y","Vanity - Base  - Tall",{"$f":"ROUNDUP(AT632,0)","v":{"v":527,"d":"$527.00"}},"Price change for fall 2019",{"v":311,"d":"$311.00"},null,"G2",{"$nulls":4},527]
["VB16.5","Vanity Base 16.5\"",{"v":598,"d":"$598.00"},3,null,null,{"$f":"$C633*$G$1*'Order Form'!$Q$18*(Color!$D$6+'Door Style'!$G$6+Species!$C$6+'Drawer Head'!$E$6+'Custom Finish'!$C$6)","v":{"$error":"#VALUE!"}},null,"SC/PC",{"$f":"'Order Type'!$C$6","v":"01-"},{"$f":"CONCAT!$D$8","v":""},null,1,"01-VB16.5","11-VB16.5",1,"12-VB16.5","12-VB16.5",1,null,null,"DG 18IN VANITY SET-DTC",1,null,null,{"$f":"$C633*$G$1*1*(Color!$D$8+'Door Style'!$G$6+Species!$C$6+'Drawer Head'!$E$6+'Custom Finish'!$C$6)","v":{"$error":"#VALUE!"}},null,"Black","Light Yellow",null,"1","BSKIN",125,100,"Y","Vanity - Base",{"$f":"ROUNDUP(AT633,0)","v":{"v":598,"d":"$598.00"}},"Price change for fall 2019",{"v":408,"d":"$408.00"},null,"G2",{"$nulls":4},598]
["VB16.5-SHELF","Vanity Base Shelf For 16.5\"",{"v":48.04,"d":"$48.04"},2,null,{"$f":"$C634*'Order Form'!$Q$18","v":{"v":48.04,"d":"$48.04"}},{"$f":"$C634*'Order Form'!$Q$18","v":{"v":48.04,"d":"$48.04"}},null,"14-","14-","",null,0,"14-VB16.5-SHELF",{"$nulls":3},"",null,{"$f":"N634","v":"14-VB16.5-SHELF"},1,{"$nulls":3},{"$f":"$C634*1","v":{"v":48.04,"d":"$48.04"}},{"$f":"$C634*1","v":{"v":48.04,"d":"$48.04"}},null,"Purple","Purple",{"$nulls":3},"No","No","N","Shelf - Vanity - Base",{"$f":"AL634","v":{"v":48.04,"d":"$48.04"}},{"$f":"ROUNDUP(AS634,2)","v":48.04},{"v":38,"d":"$38.00"},1.1,"Plywood",17,19,{"$f":"(AP634*AQ634)/144","v":2.2430555555555554},{"$f":"(AR634*12.5)+20","v":{"v":48.03819444444444,"d":"48.04"}},{"$error":"#N/A"}]
["VB16.5T","Vanity Base 16.5\" Tall",{"v":619,"d":"$619.00"},3,null,null,{"$f":"$C635*$G$1*'Order Form'!$Q$18*(Color!$D$6+'Door Style'!$G$6+Species!$C$6+'Drawer Head'!$E$6+'Custom Finish'!$C$6)","v":{"$error":"#VALUE!"}},null,"SC/PC",{"$f":"'Order Type'!$C$6","v":"01-"},{"$f":"CONCAT!$D$8","v":""},null,1,"01-VB16.5T","11-VB16.5T",1,"12-B16.5","12-B16.5",1,null,null,"DG 18IN VANITY SET-DTC",1,null,null,{"$f":"$C635*$G$1*1*(Color!$D$8+'Door Style'!$G$6+Species!$C$6+'Drawer Head'!$E$6+'Custom Finish'!$C$6)","v":{"$error":"#VALUE!"}},null,"Black","Light Yellow",null,"1","BSKIN",125,100,"Y","Vanity - Base  - Tall",{"$f":"ROUNDUP(AT635,0)","v":{"v":619,"d":"$619.00"}},"Price change for fall 2019",{"v":427,"d":"$427.00"},null,"G2",{"$nulls":4},619]
["VB18","Vanity Base 18\"",{"v":594,"d":"$594.00"},2,null,{"$f":"$C636*$F$1*'Order Form'!$Q$18*(Color!$C$6+'Door Style'!$H$6)","v":{"$error":"#VALUE!"}},{"$f":"$C636*$G$1*'Order Form'!$Q$18*(Color!$D$6+'Door Style'!$G$6+Species!$C$6+'Drawer Head'!$E$6+'Custom Finish'!$C$6)","v":{"$error":"#VALUE!"}},null,{"$f":"'Order Type'!$C$6","v":"01-"},{"$f":"'Order Type'!$C$6","v":"01-"},{"$f":"CONCAT!$D$2","v":""},null,1,"01-VB18","11-VB18",1,"12-VB18","12-VB18",1,null,null,"DG 18IN VANITY SET-DTC",1,null,{"$f":"$C636*$F$1*(Color!$C$8+'Door Style'!$H$6)","v":{"v":509.65200000000004,"d":"$509.65"}},{"$f":"$C636*$G$1*1*(Color!$D$8+'Door Style'!$G$6+Species!$C$6+'Drawer Head'!$E$6+'Custom Finish'!$C$6)","v":{"$error":"#VALUE!"}},null,"Light Blue","Light Yellow",null,"1","BSKIN",125,100,"Y","Vanity - Base",{"$f":"ROUNDUP(AT636,0)","v":{"v":594,"d":"$594.00"}},"Price change for fall 2019",{"v":326,"d":"$326.00"},null,"G2",{"$nulls":4},594]
["VB18-SHELF","Vanity Base Shelf For 18\"",{"v":49.69,"d":"$49.69"},2,null,{"$f":"$C637*'Order Form'!$Q$18","v":{"v":49.69,"d":"$49.69"}},{"$f":"$C637*'Order Form'!$Q$18","v":{"v":49.69,"d":"$49.69"}},null,"14-","14-","",null,0,"14-VB18-SHELF",{"$nulls":3},"",null,{"$f":"N637","v":"14-VB18-SHELF"},1,{"$nulls":3},{"$f":"$C637*1","v":{"v":49.69,"d":"$49.69"}},{"$f":"$C637*1","v":{"v":49.69,"d":"$49.69"}},null,"Purple","Purple",{"$nulls":3},"No","No","N","Shelf - Vanity - Base",{"$f":"AL637","v":{"v":49.69,"d":"$49.69"}},{"$f":"ROUNDUP(AS637,2)","v":49.69},{"v":41,"d":"$41.00"},1.1,"Plywood",18,19,{"$f":"(AP637*AQ637)/144","v":2.375},{"$f":"(AR637*12.5)+20","v":{"v":49.6875,"d":"49.69"}},{"$error":"#N/A"}]
["VB18T","Vanity Base 18\" Tall ",{"v":631,"d":"$631.00"},2,null,{"$f":"$C638*$F$1*'Order Form'!$Q$18*(Color!$C$6+'Door Style'!$H$6)","v":{"$error":"#VALUE!"}},{"$f":"$C638*$G$1*'Order Form'!$Q$18*(Color!$D$6+'Door Style'!$G$6+Species!$C$6+'Drawer Head'!$E$6+'Custom Finish'!$C$6)","v":{"$error":"#VALUE!"}},null,{"$f":"'Order Type'!$C$6","v":"01-"},{"$f":"'Order Type'!$C$6","v":"01-"},{"$f":"CONCAT!$D$2","v":""},null,1,"01-VB18T","11-VB18T",1,"12-B18","12-B18",1,null,null,"DG 18IN VANITY SET-DTC",1,null,{"$f":"$C638*$F$1*(Color!$C$8+'Door Style'!$H$6)","v":{"v":541.398,"d":"$541.40"}},{"$f":"$C638*$G$1*1*(Color!$D$8+'Door Style'!$G$6+Species!$C$6+'Drawer Head'!$E$6+'Custom Finish'!$C$6)","v":{"$error":"#VALUE!"}},null,"Light Blue","Light Yellow",null,"1","BSKIN",125,100,"Y","Vanity - Base  - Tall",{"$f":"ROUNDUP(AT638,0)","v":{"v":631,"d":"$631.00"}},"Price change for fall 2019",{"v":347,"d":"$347.00"},null,"G2",{"$nulls":4},631]
["VB19.5","Vanity Base 19.5\"",{"v":655,"d":"$655.00"},3,null,null,{"$f":"$C639*$G$1*'Order Form'!$Q$18*(Color!$D$6+'Door Style'!$G$6+Species!$C$6+'Drawer Head'!$E$6+'Custom Finish'!$C$6)","v":{"$error":"#VALUE!"}},null,"SC/PC",{"$f":"'Order Type'!$C$6","v":"01-"},{"$f":"CONCAT!$D$8","v":""},null,1,"01-VB19.5","11-VB19.5",1,"12-VB19.5","12-VB19.5",1,null,null,"DG 18IN VANITY SET-DTC",1,null,null,{"$f":"$C639*$G$1*1*(Color!$D$8+'Door Style'!$G$6+Species!$C$6+'Drawer Head'!$E$6+'Custom Finish'!$C$6)","v":{"$error":"#VALUE!"}},null,"Black","Light Yellow",null,"1","BSKIN",125,100,"Y","Vanity - Base",{"$f":"ROUNDUP(AT639,0)","v":{"v":655,"d":"$655.00"}},"Price change for fall 2019",{"v":447,"d":"$447.00"},null,"G2",{"$nulls":4},655]
["VB19.5-SHELF","Vanity Base Shelf For 19.5\"",{"v":52.989999999999995,"d":"$52.99"},2,null,{"$f":"$C640*'Order Form'!$Q$18","v":{"v":52.989999999999995,"d":"$52.99"}},{"$f":"$C640*'Order Form'!$Q$18","v":{"v":52.989999999999995,"d":"$52.99"}},null,"14-","14-","",null,0,"14-VB19.5-SHELF",{"$nulls":3},"",null,{"$f":"N640","v":"14-VB19.5-SHELF"},1,{"$nulls":3},{"$f":"$C640*1","v":{"v":52.989999999999995,"d":"$52.99"}},{"$f":"$C640*1","v":{"v":52.989999999999995,"d":"$52.99"}},null,"Purple","Purple",{"$nulls":3},"No","No","N","Shelf - Vanity - Base",{"$f":"AL640","v":{"v":52.989999999999995,"d":"$52.99"}},{"$f":"ROUNDUP(AS640,2)","v":{"v":52.989999999999995,"d":"52.99"}},{"v":44,"d":"$44.00"},1.1,"Plywood",20,19,{"$f":"(AP640*AQ640)/144","v":2.638888888888889},{"$f":"(AR640*12.5)+20","v":{"v":52.98611111111111,"d":"52.99"}},{"$error":"#N/A"}]
["VB19.5T","Vanity Base 19.5\" Tall",{"v":675,"d":"$675.00"},3,null,null,{"$f":"$C641*$G$1*'Order Form'!$Q$18*(Color!$D$6+'Door Style'!$G$6+Species!$C$6+'Drawer Head'!$E$6+'Custom Finish'!$C$6)","v":{"$error":"#VALUE!"}},null,"SC/PC",{"$f":"'Order Type'!$C$6","v":"01-"},{"$f":"CONCAT!$D$8","v":""},null,1,"01-VB19.5T","11-VB19.5T",1,"12-B19.5","12-B19.5",1,null,null,"DG 18IN VANITY SET-DTC",1,null,null,{"$f":"$C641*$G$1*1*(Color!$D$8+'Door Style'!$G$6+Species!$C$6+'Drawer Head'!$E$6+'Custom Finish'!$C$6)","v":{"$error":"#VALUE!"}},null,"Black","Light Yellow",null,"1","BSKIN",125,100,"Y","Vanity - Base  - Tall",{"$f":"ROUNDUP(AT641,0)","v":{"v":675,"d":"$675.00"}},"Price change for fall 2019",{"v":476,"d":"$476.00"},null,"G2",{"$nulls":4},675]
["VB21","Vanity Base 21\"",{"v":662,"d":"$662.00"},2,null,{"$f":"$C642*$F$1*'Order Form'!$Q$18*(Color!$C$6+'Door Style'!$H$6)","v":{"$error":"#VALUE!"}},{"$f":"$C642*$G$1*'Order Form'!$Q$18*(Color!$D$6+'Door Style'!$G$6+Species!$C$6+'Drawer Head'!$E$6+'Custom Finish'!$C$6)","v":{"$error":"#VALUE!"}},null,{"$f":"'Order Type'!$C$6","v":"01-"},{"$f":"'Order Type'!$C$6","v":"01-"},{"$f":"CONCAT!$D$2","v":""},null,1,"01-VB21","11-VB21",1,"12-VB21","12-VB21",1,null,null,"DG 18IN VANITY SET-DTC",1,null,{"$f":"$C642*$F$1*(Color!$C$8+'Door Style'!$H$6)","v":{"v":567.9960000000001,"d":"$568.00"}},{"$f":"$C642*$G$1*1*(Color!$D$8+'Door Style'!$G$6+Species!$C$6+'Drawer Head'!$E$6+'Custom Finish'!$C$6)","v":{"$error":"#VALUE!"}},null,"Light Blue","Light Yellow",null,"1","BSKIN",125,100,"Y","Vanity - Base",{"$f":"ROUNDUP(AT642,0)","v":{"v":662,"d":"$662.00"}},"Price change for fall 2019",{"v":358,"d":"$358.00"},null,"G2",{"$nulls":4},662]
["VB21-SHELF","Vanity Base Shelf For 21\"",{"v":54.64,"d":"$54.64"},2,null,{"$f":"$C643*'Order Form'!$Q$18","v":{"v":54.64,"d":"$54.64"}},{"$f":"$C643*'Order Form'!$Q$18","v":{"v":54.64,"d":"$54.64"}},null,"14-","14-","",null,0,"14-VB21-SHELF",{"$nulls":3},"",null,{"$f":"N643","v":"14-VB21-SHELF"},1,{"$nulls":3},{"$f":"$C643*1","v":{"v":54.64,"d":"$54.64"}},{"$f":"$C643*1","v":{"v":54.64,"d":"$54.64"}},null,"Purple","Purple",{"$nulls":3},"No","No","N","Shelf - Vanity - Base",{"$f":"AL643","v":{"v":54.64,"d":"$54.64"}},{"$f":"ROUNDUP(AS643,2)","v":54.64},{"v":47,"d":"$47.00"},1.1,"Plywood",21,19,{"$f":"(AP643*AQ643)/144","v":2.7708333333333335},{"$f":"(AR643*12.5)+20","v":{"v":54.63541666666667,"d":"54.64"}},{"$error":"#N/A"}]
["VB21T","Vanity Base 21\" Tall",{"v":701,"d":"$701.00"},2,null,{"$f":"$C644*$F$1*'Order Form'!$Q$18*(Color!$C$6+'Door Style'!$H$6)","v":{"$error":"#VALUE!"}},{"$f":"$C644*$G$1*'Order Form'!$Q$18*(Color!$D$6+'Door Style'!$G$6+Species!$C$6+'Drawer Head'!$E$6+'Custom Finish'!$C$6)","v":{"$error":"#VALUE!"}},null,{"$f":"'Order Type'!$C$6","v":"01-"},{"$f":"'Order Type'!$C$6","v":"01-"},{"$f":"CONCAT!$D$2","v":""},null,1,"01-VB21T","11-VB21T",1,"12-B21","12-B21",1,null,null,"DG 18IN VANITY SET-DTC",1,null,{"$f":"$C644*$F$1*(Color!$C$8+'Door Style'!$H$6)","v":{"v":601.458,"d":"$601.46"}},{"$f":"$C644*$G$1*1*(Color!$D$8+'Door Style'!$G$6+Species!$C$6+'Drawer Head'!$E$6+'Custom Finish'!$C$6)","v":{"$error":"#VALUE!"}},null,"Light Blue","Light Yellow",null,"1","BSKIN",125,100,"Y","Vanity - Base  - Tall",{"$f":"ROUNDUP(AT644,0)","v":{"v":701,"d":"$701.00"}},"Price change for fall 2019",{"v":379,"d":"$379.00"},null,"G2",{"$nulls":4},701]
["VB22.5","Vanity Base 22.5\"",{"v":726,"d":"$726.00"},3,null,null,{"$f":"$C645*$G$1*'Order Form'!$Q$18*(Color!$D$6+'Door Style'!$G$6+Species!$C$6+'Drawer Head'!$E$6+'Custom Finish'!$C$6)","v":{"$error":"#VALUE!"}},null,"SC/PC",{"$f":"'Order Type'!$C$6","v":"01-"},{"$f":"CONCAT!$D$8","v":""},null,1,"01-VB22.5","11-VB22.5",1,"12-VB22.5","12-VB22.5",1,null,null,"DG 18IN VANITY SET-DTC",1,null,null,{"$f":"$C645*$G$1*1*(Color!$D$8+'Door Style'!$G$6+Species!$C$6+'Drawer Head'!$E$6+'Custom Finish'!$C$6)","v":{"$error":"#VALUE!"}},null,"Black","Light Yellow",null,"1","BSKIN",125,100,"Y","Vanity - Base",{"$f":"ROUNDUP(AT645,0)","v":{"v":726,"d":"$726.00"}},"Price change for fall 2019",{"v":496,"d":"$496.00"},null,"G2",{"$nulls":4},726]
["VB22.5-SHELF","Vanity Base Shelf For 22.5\"",{"v":57.94,"d":"$57.94"},2,null,{"$f":"$C646*'Order Form'!$Q$18","v":{"v":57.94,"d":"$57.94"}},{"$f":"$C646*'Order Form'!$Q$18","v":{"v":57.94,"d":"$57.94"}},null,"14-","14-","",null,0,"14-VB22.5-SHELF",{"$nulls":3},"",null,{"$f":"N646","v":"14-VB22.5-SHELF"},1,{"$nulls":3},{"$f":"$C646*1","v":{"v":57.94,"d":"$57.94"}},{"$f":"$C646*1","v":{"v":57.94,"d":"$57.94"}},null,"Purple","Purple",{"$nulls":3},"No","No","N","Shelf - Vanity - Base",{"$f":"AL646","v":{"v":57.94,"d":"$57.94"}},{"$f":"ROUNDUP(AS646,2)","v":57.94},{"v":50,"d":"$50.00"},1.1,"Plywood",23,19,{"$f":"(AP646*AQ646)/144","v":3.0347222222222223},{"$f":"(AR646*12.5)+20","v":{"v":57.93402777777778,"d":"57.93"}},{"$error":"#N/A"}]
["VB22.5T","Vanity Base 22.5\" Tall",{"v":772,"d":"$772.00"},3,null,null,{"$f":"$C647*$G$1*'Order Form'!$Q$18*(Color!$D$6+'Door Style'!$G$6+Species!$C$6+'Drawer Head'!$E$6+'Custom Finish'!$C$6)","v":{"$error":"#VALUE!"}},null,"SC/PC",{"$f":"'Order Type'!$C$6","v":"01-"},{"$f":"CONCAT!$D$8","v":""},null,1,"01-VB22.5T","11-VB22.5T",1,"12-B22.5","12-B22.5",1,null,null,"DG 18IN VANITY SET-DTC",1,null,null,{"$f":"$C647*$G$1*1*(Color!$D$8+'Door Style'!$G$6+Species!$C$6+'Drawer Head'!$E$6+'Custom Finish'!$C$6)","v":{"$error":"#VALUE!"}},null,"Black","Light Yellow",null,"1","BSKIN",125,100,"Y","Vanity - Base  - Tall",{"$f":"ROUNDUP(AT647,0)","v":{"v":772,"d":"$772.00"}},"Price change for fall 2019",{"v":557,"d":"$557.00"},null,"G2",{"$nulls":4},772]
["VB24","Vanity Base 24\"",{"v":783,"d":"$783.00"},2,null,{"$f":"$C648*$F$1*'Order Form'!$Q$18*(Color!$C$6+'Door Style'!$H$6)","v":{"$error":"#VALUE!"}},{"$f":"$C648*$G$1*'Order Form'!$Q$18*(Color!$D$6+'Door Style'!$G$6+Species!$C$6+'Drawer Head'!$E$6+'Custom Finish'!$C$6)","v":{"$error":"#VALUE!"}},null,{"$f":"'Order Type'!$C$6","v":"01-"},{"$f":"'Order Type'!$C$6","v":"01-"},{"$f":"CONCAT!$D$2","v":""},null,1,"01-VB24","11-VB24",1,"12-VB24",{"$f":"Q648&K648","v":"12-VB24"},1,null,null,"DG 18IN VANITY SET-DTC",1,null,{"$f":"$C648*$F$1*(Color!$C$8+'Door Style'!$H$6)","v":{"v":671.8140000000001,"d":"$671.81"}},{"$f":"$C648*$G$1*1*(Color!$D$8+'Door Style'!$G$6+Species!$C$6+'Drawer Head'!$E$6+'Custom Finish'!$C$6)","v":{"$error":"#VALUE!"}},null,"Light Blue","Light Yellow",null,"1","BSKIN",125,100,"N","Vanity - Base",{"$f":"ROUNDUP(AT648,0)","v":{"v":783,"d":"$783.00"}},"Price change for fall 2019",{"v":462,"d":"$462.00"},null,"G2",{"$nulls":4},783]
["VB24-SHELF","Vanity Base Shelf For 24\"",{"v":59.589999999999996,"d":"$59.59"},2,null,{"$f":"$C649*'Order Form'!$Q$18","v":{"v":59.589999999999996,"d":"$59.59"}},{"$f":"$C649*'Order Form'!$Q$18","v":{"v":59.589999999999996,"d":"$59.59"}},null,"14-","14-","",null,0,"14-VB24-SHELF",{"$nulls":3},"",null,{"$f":"N649","v":"14-VB24-SHELF"},1,{"$nulls":3},{"$f":"$C649*1","v":{"v":59.589999999999996,"d":"$59.59"}},{"$f":"$C649*1","v":{"v":59.589999999999996,"d":"$59.59"}},null,"Purple","Purple",{"$nulls":3},"No","No","N","Shelf - Vanity - Base",{"$f":"AL649","v":{"v":59.589999999999996,"d":"$59.59"}},{"$f":"ROUNDUP(AS649,2)","v":{"v":59.589999999999996,"d":"59.59"}},{"v":54,"d":"$54.00"},1.1,"Plywood",24,19,{"$f":"(AP649*AQ649)/144","v":3.1666666666666665},{"$f":"(AR649*12.5)+20","v":{"v":59.58333333333333,"d":"59.58"}},{"$error":"#N/A"}]
["VB24T","Vanity Base 24\" Tall",{"v":766,"d":"$766.00"},2,null,{"$f":"$C650*$F$1*'Order Form'!$Q$18*(Color!$C$6+'Door Style'!$H$6)","v":{"$error":"#VALUE!"}},{"$f":"$C650*$G$1*'Order Form'!$Q$18*(Color!$D$6+'Door Style'!$G$6+Species!$C$6+'Drawer Head'!$E$6+'Custom Finish'!$C$6)","v":{"$error":"#VALUE!"}},null,{"$f":"'Order Type'!$C$6","v":"01-"},{"$f":"'Order Type'!$C$6","v":"01-"},{"$f":"CONCAT!$D$2","v":""},null,1,"01-VB24T","11-VB24T",1,"12-B24","12-B24",1,null,null,"DG 18IN VANITY SET-DTC",1,null,{"$f":"$C650*$F$1*(Color!$C$8+'Door Style'!$H$6)","v":{"v":657.2280000000001,"d":"$657.23"}},{"$f":"$C650*$G$1*1*(Color!$D$8+'Door Style'!$G$6+Species!$C$6+'Drawer Head'!$E$6+'Custom Finish'!$C$6)","v":{"$error":"#VALUE!"}},null,"Light Blue","Light Yellow",null,"1","BSKIN",125,100,"N","Vanity - Base  - Tall",{"$f":"ROUNDUP(AT650,0)","v":{"v":766,"d":"$766.00"}},"Price change for fall 2019",{"v":414,"d":"$414.00"},null,"G2",{"$nulls":4},766]
["VB25.5","Vanity Base 25.5\"",{"v":781,"d":"$781.00"},3,null,null,{"$f":"$C651*$G$1*'Order Form'!$Q$18*(Color!$D$6+'Door Style'!$G$6+Species!$C$6+'Drawer Head'!$E$6+'Custom Finish'!$C$6)","v":{"$error":"#VALUE!"}},null,"SC/PC",{"$f":"'Order Type'!$C$6","v":"01-"},{"$f":"CONCAT!$D$8","v":""},null,1,"01-VB25.5","11-VB25.5",1,"12-VB25.5","12-VB25.5",1,null,null,"DG 18IN VANITY SET-DTC",1,null,null,{"$f":"$C651*$G$1*1*(Color!$D$8+'Door Style'!$G$6+Species!$C$6+'Drawer Head'!$E$6+'Custom Finish'!$C$6)","v":{"$error":"#VALUE!"}},null,"Black","Light Yellow",null,"1","BSKIN",125,100,"N","Vanity - Base",{"$f":"ROUNDUP(AT651,0)","v":{"v":781,"d":"$781.00"}},"Price change for fall 2019",{"v":583,"d":"$583.00"},null,"G2",{"$nulls":4},781]
["VB25.5-SHELF","Vanity Base Shelf For 25.5\"",{"v":62.89,"d":"$62.89"},2,null,{"$f":"$C652*'Order Form'!$Q$18","v":{"v":62.89,"d":"$62.89"}},{"$f":"$C652*'Order Form'!$Q$18","v":{"v":62.89,"d":"$62.89"}},null,"14-","14-","",null,0,"14-VB25.5-SHELF",{"$nulls":3},"",null,{"$f":"N652","v":"14-VB25.5-SHELF"},1,{"$nulls":3},{"$f":"$C652*1","v":{"v":62.89,"d":"$62.89"}},{"$f":"$C652*1","v":{"v":62.89,"d":"$62.89"}},null,"Purple","Purple",{"$nulls":3},"No","No","N","Shelf - Vanity - Base",{"$f":"AL652","v":{"v":62.89,"d":"$62.89"}},{"$f":"ROUNDUP(AS652,2)","v":62.89},{"v":58,"d":"$58.00"},1.1,"Plywood",26,19,{"$f":"(AP652*AQ652)/144","v":3.4305555555555554},{"$f":"(AR652*12.5)+20","v":{"v":62.88194444444444,"d":"62.88"}},{"$error":"#N/A"}]
["VB25.5T","Vanity Base 25.5\" Tall",{"v":831,"d":"$831.00"},3,null,null,{"$f":"$C653*$G$1*'Order Form'!$Q$18*(Color!$D$6+'Door Style'!$G$6+Species!$C$6+'Drawer Head'!$E$6+'Custom Finish'!$C$6)","v":{"$error":"#VALUE!"}},null,"SC/PC",{"$f":"'Order Type'!$C$6","v":"01-"},{"$f":"CONCAT!$D$8","v":""},null,1,"01-VB25.5T","11-VB25.5T",1,"12-B25.5","12-B25.5",1,null,null,"DG 18IN VANITY SET-DTC",1,null,null,{"$f":"$C653*$G$1*1*(Color!$D$8+'Door Style'!$G$6+Species!$C$6+'Drawer Head'!$E$6+'Custom Finish'!$C$6)","v":{"$error":"#VALUE!"}},null,"Black","Light Yellow",null,"1","BSKIN",125,100,"N","Vanity - Base  - Tall",{"$f":"ROUNDUP(AT653,0)","v":{"v":831,"d":"$831.00"}},"Price change for fall 2019",{"v":620,"d":"$620.00"},null,"G2",{"$nulls":4},831]
["VB27","Vanity Base 27\"",{"v":831,"d":"$831.00"},2,null,{"$f":"$C654*$F$1*'Order Form'!$Q$18*(Color!$C$6+'Door Style'!$H$6)","v":{"$error":"#VALUE!"}},{"$f":"$C654*$G$1*'Order Form'!$Q$18*(Color!$D$6+'Door Style'!$G$6+Species!$C$6+'Drawer Head'!$E$6+'Custom Finish'!$C$6)","v":{"$error":"#VALUE!"}},null,{"$f":"'Order Type'!$C$6","v":"01-"},{"$f":"'Order Type'!$C$6","v":"01-"},{"$f":"CONCAT!$D$2","v":""},null,1,"01-VB27","11-VB27",1,"12-VB27","12-VB27",1,null,null,"DG 18IN VANITY SET-DTC",1,null,{"$f":"$C654*$F$1*(Color!$C$8+'Door Style'!$H$6)","v":{"v":712.9980000000002,"d":"$713.00"}},{"$f":"$C654*$G$1*1*(Color!$D$8+'Door Style'!$G$6+Species!$C$6+'Drawer Head'!$E$6+'Custom Finish'!$C$6)","v":{"$error":"#VALUE!"}},null,"Light Blue","Light Yellow",null,"1","BSKIN",125,100,"N","Vanity - Base",{"$f":"ROUNDUP(AT654,0)","v":{"v":831,"d":"$831.00"}},"Price change for fall 2019",{"v":490,"d":"$490.00"},null,"G2",{"$nulls":4},831]
["VB27-SHELF","Vanity Base Shelf For 27\"",{"v":64.54,"d":"$64.54"},2,null,{"$f":"$C655*'Order Form'!$Q$18","v":{"v":64.54,"d":"$64.54"}},{"$f":"$C655*'Order Form'!$Q$18","v":{"v":64.54,"d":"$64.54"}},null,"14-","14-","",null,0,"14-VB27-SHELF",{"$nulls":3},"",null,{"$f":"N655","v":"14-VB27-SHELF"},1,{"$nulls":3},{"$f":"$C655*1","v":{"v":64.54,"d":"$64.54"}},{"$f":"$C655*1","v":{"v":64.54,"d":"$64.54"}},null,"Purple","Purple",{"$nulls":3},"No","No","N","Shelf - Vanity - Base",{"$f":"AL655","v":{"v":64.54,"d":"$64.54"}},{"$f":"ROUNDUP(AS655,2)","v":64.54},{"v":61,"d":"$61.00"},1.1,"Plywood",27,19,{"$f":"(AP655*AQ655)/144","v":3.5625},{"$f":"(AR655*12.5)+20","v":{"v":64.53125,"d":"64.53"}},{"$error":"#N/A"}]
["VB27T","Vanity Base 27\" Tall",{"v":833,"d":"$833.00"},2,null,{"$f":"$C656*$F$1*'Order Form'!$Q$18*(Color!$C$6+'Door Style'!$H$6)","v":{"$error":"#VALUE!"}},{"$f":"$C656*$G$1*'Order Form'!$Q$18*(Color!$D$6+'Door Style'!$G$6+Species!$C$6+'Drawer Head'!$E$6+'Custom Finish'!$C$6)","v":{"$error":"#VALUE!"}},null,{"$f":"'Order Type'!$C$6","v":"01-"},{"$f":"'Order Type'!$C$6","v":"01-"},{"$f":"CONCAT!$D$2","v":""},null,1,"01-VB27T","11-VB27T",1,"12-B27","12-B27",1,null,null,"DG 18IN VANITY SET-DTC",1,null,{"$f":"$C656*$F$1*(Color!$C$8+'Door Style'!$H$6)","v":{"v":714.714,"d":"$714.71"}},{"$f":"$C656*$G$1*1*(Color!$D$8+'Door Style'!$G$6+Species!$C$6+'Drawer Head'!$E$6+'Custom Finish'!$C$6)","v":{"$error":"#VALUE!"}},null,"Light Blue","Light Yellow",null,"1","BSKIN",125,100,"N","Vanity - Base  - Tall",{"$f":"ROUNDUP(AT656,0)","v":{"v":833,"d":"$833.00"}},"Price change for fall 2019",{"v":470,"d":"$470.00"},null,"G2",{"$nulls":4},833]
["VB30","Vanity Base 30\"",{"v":865,"d":"$865.00"},2,null,{"$f":"$C657*$F$1*'Order Form'!$Q$18*(Color!$C$6+'Door Style'!$H$6)","v":{"$error":"#VALUE!"}},{"$f":"$C657*$G$1*'Order Form'!$Q$18*(Color!$D$6+'Door Style'!$G$6+Species!$C$6+'Drawer Head'!$E$6+'Custom Finish'!$C$6)","v":{"$error":"#VALUE!"}},null,{"$f":"'Order Type'!$C$6","v":"01-"},{"$f":"'Order Type'!$C$6","v":"01-"},{"$f":"CONCAT!$D$2","v":""},null,1,"01-VB30","11-VB30",1,"12-VB30","12-VB30",1,null,null,"DG 18IN VANITY SET-DTC",1,null,{"$f":"$C657*$F$1*(Color!$C$8+'Door Style'!$H$6)","v":{"v":742.1700000000001,"d":"$742.17"}},{"$f":"$C657*$G$1*1*(Color!$D$8+'Door Style'!$G$6+Species!$C$6+'Drawer Head'!$E$6+'Custom Finish'!$C$6)","v":{"$error":"#VALUE!"}},null,"Light Blue","Light Yellow",null,"1","BSKIN",125,100,"N","Vanity - Base",{"$f":"ROUNDUP(AT657,0)","v":{"v":865,"d":"$865.00"}},"Price change for fall 2019",{"v":515,"d":"$515.00"},null,"G2",{"$nulls":4},865]
["VB30-SHELF","Vanity Base Shelf For 30\"",{"v":69.48,"d":"$69.48"},2,null,{"$f":"$C658*'Order Form'!$Q$18","v":{"v":69.48,"d":"$69.48"}},{"$f":"$C658*'Order Form'!$Q$18","v":{"v":69.48,"d":"$69.48"}},null,"14-","14-","",null,0,"14-VB30-SHELF",{"$nulls":3},"",null,{"$f":"N658","v":"14-VB30-SHELF"},1,{"$nulls":3},{"$f":"$C658*1","v":{"v":69.48,"d":"$69.48"}},{"$f":"$C658*1","v":{"v":69.48,"d":"$69.48"}},null,"Purple","Purple",{"$nulls":3},"No","No","N","Shelf - Vanity - Base",{"$f":"AL658","v":{"v":69.48,"d":"$69.48"}},{"$f":"ROUNDUP(AS658,2)","v":69.48},{"v":68,"d":"$68.00"},1.1,"Plywood",30,19,{"$f":"(AP658*AQ658)/144","v":3.9583333333333335},{"$f":"(AR658*12.5)+20","v":{"v":69.47916666666667,"d":"69.48"}},{"$error":"#N/A"}]
["VB30T","Vanity Base 30\" Tall",{"v":867,"d":"$867.00"},2,null,{"$f":"$C659*$F$1*'Order Form'!$Q$18*(Color!$C$6+'Door Style'!$H$6)","v":{"$error":"#VALUE!"}},{"$f":"$C659*$G$1*'Order Form'!$Q$18*(Color!$D$6+'Door Style'!$G$6+Species!$C$6+'Drawer Head'!$E$6+'Custom Finish'!$C$6)","v":{"$error":"#VALUE!"}},null,{"$f":"'Order Type'!$C$6","v":"01-"},{"$f":"'Order Type'!$C$6","v":"01-"},{"$f":"CONCAT!$D$2","v":""},null,1,"01-VB30T","11-VB30T",1,"12-B30","12-B30",1,null,null,"DG 18IN VANITY SET-DTC",1,null,{"$f":"$C659*$F$1*(Color!$C$8+'Door Style'!$H$6)","v":{"v":743.8860000000001,"d":"$743.89"}},{"$f":"$C659*$G$1*1*(Color!$D$8+'Door Style'!$G$6+Species!$C$6+'Drawer Head'!$E$6+'Custom Finish'!$C$6)","v":{"$error":"#VALUE!"}},null,"Light Blue","Light Yellow",null,"1","BSKIN",125,100,"N","Vanity - Base  - Tall",{"$f":"ROUNDUP(AT659,0)","v":{"v":867,"d":"$867.00"}},"Price change for fall 2019",{"v":516,"d":"$516.00"},null,"G2",{"$nulls":4},867]
["VB33","Vanity Base 33\"",{"v":958,"d":"$958.00"},3,null,null,{"$f":"$C660*$G$1*'Order Form'!$Q$18*(Color!$D$6+'Door Style'!$G$6+Species!$C$6+'Drawer Head'!$E$6+'Custom Finish'!$C$6)","v":{"$error":"#VALUE!"}},null,"PROJECT",{"$f":"'Order Type'!$C$6","v":"01-"},{"$f":"CONCAT!$D$2","v":""},null,1,"01-VB33","11-VB33",1,"12-VB33","12-VB33",1,null,null,"DG 18IN VANITY SET-DTC",2,null,null,{"$f":"$C660*$G$1*1*(Color!$D$8+'Door Style'!$G$6+Species!$C$6+'Drawer Head'!$E$6+'Custom Finish'!$C$6)","v":{"$error":"#VALUE!"}},null,"Black","Light Yellow",null,"1","BSKIN",175,150,"N","Vanity - Base",{"$f":"ROUNDUP(AT660,0)","v":{"v":958,"d":"$958.00"}},"Price change for fall 2019",{"v":777,"d":"$777.00"},null,"G2",{"$nulls":4},958]
["VB33-SHELF","Vanity Base Shelf For 33\"",{"v":74.43,"d":"$74.43"},2,null,{"$f":"$C661*'Order Form'!$Q$18","v":{"v":74.43,"d":"$74.43"}},{"$f":"$C661*'Order Form'!$Q$18","v":{"v":74.43,"d":"$74.43"}},null,"14-","14-","",null,0,"14-VB33-SHELF",{"$nulls":3},"",null,{"$f":"N661","v":"14-VB33-SHELF"},1,{"$nulls":3},{"$f":"$C661*1","v":{"v":74.43,"d":"$74.43"}},{"$f":"$C661*1","v":{"v":74.43,"d":"$74.43"}},null,"Purple","Purple",{"$nulls":3},"No","No","N","Shelf - Vanity - Base",{"$f":"AL661","v":{"v":74.43,"d":"$74.43"}},{"$f":"ROUNDUP(AS661,2)","v":74.43},{"v":75,"d":"$75.00"},1.1,"Plywood",33,19,{"$f":"(AP661*AQ661)/144","v":4.354166666666667},{"$f":"(AR661*12.5)+20","v":{"v":74.42708333333334,"d":"74.43"}},{"$error":"#N/A"}]
["VB33T","Vanity Base 33\" Tall",{"v":940,"d":"$940.00"},3,null,null,{"$f":"$C662*$G$1*'Order Form'!$Q$18*(Color!$D$6+'Door Style'!$G$6+Species!$C$6+'Drawer Head'!$E$6+'Custom Finish'!$C$6)","v":{"$error":"#VALUE!"}},null,"PROJECT",{"$f":"'Order Type'!$C$6","v":"01-"},{"$f":"CONCAT!$D$2","v":""},null,1,"01-VB33T","11-VB33T",1,"12-B33","12-B33",1,null,null,"DG 18IN VANITY SET-DTC",2,null,null,{"$f":"$C662*$G$1*1*(Color!$D$8+'Door Style'!$G$6+Species!$C$6+'Drawer Head'!$E$6+'Custom Finish'!$C$6)","v":{"$error":"#VALUE!"}},null,"Black","Light Yellow",null,"1","BSKIN",175,150,"N","Vanity - Base  - Tall",{"$f":"ROUNDUP(AT662,0)","v":{"v":940,"d":"$940.00"}},"Price change for fall 2019",{"v":610,"d":"$610.00"},null,"G2",{"$nulls":4},940]
["VB36","Vanity Base 36\"",{"v":1029,"d":"$1,029.00"},2,null,{"$f":"$C663*$F$1*'Order Form'!$Q$18*(Color!$C$6+'Door Style'!$H$6)","v":{"$error":"#VALUE!"}},{"$f":"$C663*$G$1*'Order Form'!$Q$18*(Color!$D$6+'Door Style'!$G$6+Species!$C$6+'Drawer Head'!$E$6+'Custom Finish'!$C$6)","v":{"$error":"#VALUE!"}},null,{"$f":"'Order Type'!$C$6","v":"01-"},{"$f":"'Order Type'!$C$6","v":"01-"},{"$f":"CONCAT!$D$2","v":""},null,1,"01-VB36","11-VB36",1,"12-VB36","12-VB36",1,null,null,"DG 18IN VANITY SET-DTC",2,null,{"$f":"$C663*$F$1*(Color!$C$8+'Door Style'!$H$6)","v":{"v":882.8820000000001,"d":"$882.88"}},{"$f":"$C663*$G$1*1*(Color!$D$8+'Door Style'!$G$6+Species!$C$6+'Drawer Head'!$E$6+'Custom Finish'!$C$6)","v":{"$error":"#VALUE!"}},null,"Light Blue","Light Yellow",null,"1","BSKIN",175,150,"N","Vanity - Base",{"$f":"ROUNDUP(AT663,0)","v":{"v":1029,"d":"$1,029.00"}},"Price change for fall 2019",{"v":630,"d":"$630.00"},null,"G2",{"$nulls":4},1029]
["VB36-SHELF","Vanity Base Shelf For 36\"",{"v":79.38000000000001,"d":"$79.38"},2,null,{"$f":"$C664*'Order Form'!$Q$18","v":{"v":79.38000000000001,"d":"$79.38"}},{"$f":"$C664*'Order Form'!$Q$18","v":{"v":79.38000000000001,"d":"$79.38"}},null,"14-","14-","",null,0,"14-VB36-SHELF",{"$nulls":3},"",null,{"$f":"N664","v":"14-VB36-SHELF"},1,{"$nulls":3},{"$f":"$C664*1","v":{"v":79.38000000000001,"d":"$79.38"}},{"$f":"$C664*1","v":{"v":79.38000000000001,"d":"$79.38"}},null,"Purple","Purple",{"$nulls":3},"No","No","N","Shelf - Vanity - Base",{"$f":"AL664","v":{"v":79.38000000000001,"d":"$79.38"}},{"$f":"ROUNDUP(AS664,2)","v":{"v":79.38000000000001,"d":"79.38"}},{"v":81,"d":"$81.00"},1.1,"Plywood",36,19,{"$f":"(AP664*AQ664)/144","v":4.75},{"$f":"(AR664*12.5)+20","v":{"v":79.375,"d":"79.38"}},{"$error":"#N/A"}]
["VB36T","Vanity Base 36\" Tall",{"v":1045,"d":"$1,045.00"},2,null,{"$f":"$C665*$F$1*'Order Form'!$Q$18*(Color!$C$6+'Door Style'!$H$6)","v":{"$error":"#VALUE!"}},{"$f":"$C665*$G$1*'Order Form'!$Q$18*(Color!$D$6+'Door Style'!$G$6+Species!$C$6+'Drawer Head'!$E$6+'Custom Finish'!$C$6)","v":{"$error":"#VALUE!"}},null,{"$f":"'Order Type'!$C$6","v":"01-"},{"$f":"'Order Type'!$C$6","v":"01-"},{"$f":"CONCAT!$D$2","v":""},null,1,"01-VB36T","11-VB36T",1,"12-B36","12-B36",1,null,null,"DG 18IN VANITY SET-DTC",2,null,{"$f":"$C665*$F$1*(Color!$C$8+'Door Style'!$H$6)","v":{"v":896.6100000000001,"d":"$896.61"}},{"$f":"$C665*$G$1*1*(Color!$D$8+'Door Style'!$G$6+Species!$C$6+'Drawer Head'!$E$6+'Custom Finish'!$C$6)","v":{"$error":"#VALUE!"}},null,"Light Blue","Light Yellow",null,"1","BSKIN",175,150,"N","Vanity - Base  - Tall",{"$f":"ROUNDUP(AT665,0)","v":{"v":1045,"d":"$1,045.00"}},"Price change for fall 2019",{"v":646,"d":"$646.00"},null,"G2",{"$nulls":4},1045]
["VB39","Vanity Base 39\"",{"v":1054,"d":"$1,054.00"},3,null,null,{"$f":"$C666*$G$1*'Order Form'!$Q$18*(Color!$D$6+'Door Style'!$G$6+Species!$C$6+'Drawer Head'!$E$6+'Custom Finish'!$C$6)","v":{"$error":"#VALUE!"}},null,"SC/PC",{"$f":"'Order Type'!$C$6","v":"01-"},{"$f":"CONCAT!$D$8","v":""},null,1,"01-VB39","11-VB39",1,"12-VB39","12-VB39",1,null,null,"DG 18IN VANITY SET-DTC",2,null,null,{"$f":"$C666*$G$1*1*(Color!$D$8+'Door Style'!$G$6+Species!$C$6+'Drawer Head'!$E$6+'Custom Finish'!$C$6)","v":{"$error":"#VALUE!"}},null,"Black","Light Yellow",null,1,"BSKIN",175,150,"N","Vanity - Base ",{"$f":"ROUNDUP(AT666,0)","v":{"v":1054,"d":"$1,054.00"}},"Price change for fall 2019",{"v":611,"d":"$611.00"},null,"G2",{"$nulls":4},1054]
["VB39T","Vanity Base 39\" Tall",{"v":1098,"d":"$1,098.00"},3,null,null,{"$f":"$C667*$G$1*'Order Form'!$Q$18*(Color!$D$6+'Door Style'!$G$6+Species!$C$6+'Drawer Head'!$E$6+'Custom Finish'!$C$6)","v":{"$error":"#VALUE!"}},null,"SC/PC",{"$f":"'Order Type'!$C$6","v":"01-"},{"$f":"CONCAT!$D$8","v":""},null,1,"01-VB39T","11-VB39T",1,"12-B39","12-B39",1,null,null,"DG 18IN VANITY SET-DTC",2,null,null,{"$f":"$C667*$G$1*1*(Color!$D$8+'Door Style'!$G$6+Species!$C$6+'Drawer Head'!$E$6+'Custom Finish'!$C$6)","v":{"$error":"#VALUE!"}},null,"Black","Light Yellow",null,"1","BSKIN",175,150,"N","Vanity - Base  - Tall",{"$f":"ROUNDUP(AT667,0)","v":{"v":1098,"d":"$1,098.00"}},"Price change for fall 2019",{"v":679,"d":"$679.00"},null,"G2",{"$nulls":4},1098]
["VBSHELF","Vanity Base Shelf 8FT Length",{"v":178.34,"d":"$178.34"},2,null,{"$f":"$C668*'Order Form'!$Q$18","v":{"v":178.34,"d":"$178.34"}},{"$f":"$C668*'Order Form'!$Q$18","v":{"v":178.34,"d":"$178.34"}},null,"14-","13-","",null,0,"13-VBSHELF",{"$nulls":3},"",null,{"$f":"N668","v":"13-VBSHELF"},1,{"$nulls":3},{"$f":"$C668*1","v":{"v":178.34,"d":"$178.34"}},{"$f":"$C668*1","v":{"v":178.34,"d":"$178.34"}},null,"Purple","Purple",{"$nulls":3},"No","No","N","Shelf - Vanity - Base",{"$f":"AL668","v":{"v":178.34,"d":"$178.34"}},{"$f":"ROUNDUP(AS668,2)","v":178.34},{"v":175,"d":"$175.00"},1.1,"Plywood",96,19,{"$f":"(AP668*AQ668)/144","v":12.666666666666666},{"$f":"(AR668*12.5)+20","v":{"v":178.33333333333331,"d":"178.33"}},{"$error":"#N/A"}]
["VKD24","Vanity Knee Drawer 24\"",{"v":330,"d":"$330.00"},3,null,null,{"$f":"$C669*$G$1*'Order Form'!$Q$18*(Color!$D$6+'Door Style'!$G$6+Species!$C$6+'Drawer Head'!$E$6+'Custom Finish'!$C$6)","v":{"$error":"#VALUE!"}},null,"SC/PC",{"$f":"'Order Type'!$C$6","v":"01-"},{"$f":"CONCAT!$D$8","v":""},null,1,"01-VKD24","11-VKD24",1,"12-KKD24","12-KKD24",1,null,null,"DG 18IN VANITY SET-DTC",1,null,null,{"$f":"$C669*$G$1*1*(Color!$D$8+'Door Style'!$G$6+Species!$C$6+'Drawer Head'!$E$6+'Custom Finish'!$C$6)","v":{"$error":"#VALUE!"}},null,"Black","Light Yellow",{"$nulls":3},125,100,"N","Knee Drawer - Vanity",{"$f":"ROUNDUP(AT669,0)","v":{"v":487,"d":"$487.00"}},"Price change for fall 2019",{"v":234,"d":"$234.00"},null,"G2",{"$nulls":4},487]
["VKD27","Vanity Knee Drawer 27\"",{"v":334,"d":"$334.00"},3,null,null,{"$f":"$C670*$G$1*'Order Form'!$Q$18*(Color!$D$6+'Door Style'!$G$6+Species!$C$6+'Drawer Head'!$E$6+'Custom Finish'!$C$6)","v":{"$error":"#VALUE!"}},null,"SC/PC",{"$f":"'Order Type'!$C$6","v":"01-"},{"$f":"CONCAT!$D$8","v":""},null,1,"01-VKD27","11-VKD27",1,"12-KKD27","12-KKD27",1,null,null,"DG 18IN VANITY SET-DTC",1,null,null,{"$f":"$C670*$G$1*1*(Color!$D$8+'Door Style'!$G$6+Species!$C$6+'Drawer Head'!$E$6+'Custom Finish'!$C$6)","v":{"$error":"#VALUE!"}},null,"Black","Light Yellow",{"$nulls":3},125,100,"N","Knee Drawer - Vanity",{"v":493,"d":"$493.00"},"Price change for fall 2019",{"v":237,"d":"$237.00"},null,"G2",{"$nulls":4},493]
["VKD30","Vanity Knee Drawer 30\"",{"v":344,"d":"$344.00"},3,null,null,{"$f":"$C671*$G$1*'Order Form'!$Q$18*(Color!$D$6+'Door Style'!$G$6+Species!$C$6+'Drawer Head'!$E$6+'Custom Finish'!$C$6)","v":{"$error":"#VALUE!"}},null,"SC/PC",{"$f":"'Order Type'!$C$6","v":"01-"},{"$f":"CONCAT!$D$8","v":""},null,1,"01-VKD30","11-VKD30",1,"12-KKD30","12-KKD30",1,null,null,"DG 18IN VANITY SET-DTC",1,null,null,{"$f":"$C671*$G$1*1*(Color!$D$8+'Door Style'!$G$6+Species!$C$6+'Drawer Head'!$E$6+'Custom Finish'!$C$6)","v":{"$error":"#VALUE!"}},null,"Black","Light Yellow",{"$nulls":3},125,100,"N","Knee Drawer - Vanity",{"v":508,"d":"$508.00"},"Price change for fall 2019",{"v":244,"d":"$244.00"},null,"G2",{"$nulls":4},508]
["VKD33","Vanity Knee Drawer 33\"",{"v":353,"d":"$353.00"},3,null,null,{"$f":"$C672*$G$1*'Order Form'!$Q$18*(Color!$D$6+'Door Style'!$G$6+Species!$C$6+'Drawer Head'!$E$6+'Custom Finish'!$C$6)","v":{"$error":"#VALUE!"}},null,"PROJECT",{"$f":"'Order Type'!$C$6","v":"01-"},{"$f":"CONCAT!$D$2","v":""},null,1,"01-VKD33","11-VKD33",1,"12-KKD33","12-KKD33",1,null,null,"DG 18IN VANITY SET-DTC",1,null,null,{"$f":"$C672*$G$1*1*(Color!$D$8+'Door Style'!$G$6+Species!$C$6+'Drawer Head'!$E$6+'Custom Finish'!$C$6)","v":{"$error":"#VALUE!"}},null,"Black","Light Yellow",{"$nulls":3},125,100,"N","Knee Drawer - Vanity",{"v":539,"d":"$539.00"},"Price change for fall 2019",{"v":250,"d":"$250.00"},null,"G2",{"$nulls":4},539]
["VKD36","Vanity Knee Drawer 36\"",{"v":364,"d":"$364.00"},3,null,null,{"$f":"$C673*$G$1*'Order Form'!$Q$18*(Color!$D$6+'Door Style'!$G$6+Species!$C$6+'Drawer Head'!$E$6+'Custom Finish'!$C$6)","v":{"$error":"#VALUE!"}},null,"PROJECT",{"$f":"'Order Type'!$C$6","v":"01-"},{"$f":"CONCAT!$D$2","v":""},null,1,"01-VKD36","11-VKD36",1,"12-KKD36","12-KKD36",1,null,null,"DG 18IN VANITY SET-DTC",1,null,null,{"$f":"$C673*$G$1*1*(Color!$D$8+'Door Style'!$G$6+Species!$C$6+'Drawer Head'!$E$6+'Custom Finish'!$C$6)","v":{"$error":"#VALUE!"}},null,"Black","Light Yellow",{"$nulls":3},125,100,"N","Knee Drawer - Vanity",{"v":557,"d":"$557.00"},"Price change for fall 2019",{"v":258,"d":"$258.00"},null,"G2",{"$nulls":4},557]
["VSB18","Vanity Sink Base 18\"",{"v":432,"d":"$432.00"},2,null,{"$f":"$C674*$F$1*'Order Form'!$Q$18*(Color!$C$6+'Door Style'!$H$6)","v":{"$error":"#VALUE!"}},{"$f":"$C674*$G$1*'Order Form'!$Q$18*(Color!$D$6+'Door Style'!$G$6+Species!$C$6+'Drawer Head'!$E$6+'Custom Finish'!$C$6)","v":{"$error":"#VALUE!"}},null,{"$f":"'Order Type'!$C$6","v":"01-"},{"$f":"'Order Type'!$C$6","v":"01-"},{"$f":"CONCAT!$D$2","v":""},null,1,"01-VSB18","11-VSB18",1,"12-VB18","12-VB18",1,{"$nulls":5},{"$f":"$C674*$F$1*(Color!$C$8+'Door Style'!$H$6)","v":{"v":370.65600000000006,"d":"$370.66"}},{"$f":"$C674*$G$1*1*(Color!$D$8+'Door Style'!$G$6+Species!$C$6+'Drawer Head'!$E$6+'Custom Finish'!$C$6)","v":{"$error":"#VALUE!"}},null,"Light Blue","Light Yellow",null,"1","BSKIN",75,50,"Y","Vanity - Sink Base",{"v":432,"d":"$432.00"},"Price change for fall 2019",{"v":280,"d":"$280.00"},null,"G2",{"$nulls":4},432]
["VSB18T","Vanity Sink Base 18\" Tall",{"v":459,"d":"$459.00"},2,null,{"$f":"$C675*$F$1*'Order Form'!$Q$18*(Color!$C$6+'Door Style'!$H$6)","v":{"$error":"#VALUE!"}},{"$f":"$C675*$G$1*'Order Form'!$Q$18*(Color!$D$6+'Door Style'!$G$6+Species!$C$6+'Drawer Head'!$E$6+'Custom Finish'!$C$6)","v":{"$error":"#VALUE!"}},null,{"$f":"'Order Type'!$C$6","v":"01-"},{"$f":"'Order Type'!$C$6","v":"01-"},{"$f":"CONCAT!$D$2","v":""},null,1,{"$f":"J675&A675&K675","v":"01-VSB18T"},"11-VSB18T",1,"12-B18","12-B18",1,{"$nulls":5},{"$f":"$C675*$F$1*(Color!$C$8+'Door Style'!$H$6)","v":{"v":393.82200000000006,"d":"$393.82"}},{"$f":"$C675*$G$1*1*(Color!$D$8+'Door Style'!$G$6+Species!$C$6+'Drawer Head'!$E$6+'Custom Finish'!$C$6)","v":{"$error":"#VALUE!"}},null,"Light Blue","Light Yellow",null,"1","BSKIN",75,50,"Y","Vanity - Sink Base  - Tall ",{"v":459,"d":"$459.00"},"Price change for fall 2019",{"v":298,"d":"$298.00"},null,"G2",{"$nulls":4},459]
["VSB19.5","Vanity Sink Base 19.5\"",{"v":504,"d":"$504.00"},3,null,null,{"$f":"$C676*$G$1*'Order Form'!$Q$18*(Color!$D$6+'Door Style'!$G$6+Species!$C$6+'Drawer Head'!$E$6+'Custom Finish'!$C$6)","v":{"$error":"#VALUE!"}},null,"SC/PC",{"$f":"'Order Type'!$C$6","v":"01-"},{"$f":"CONCAT!$D$8","v":""},null,1,"01-VSB19.5","11-VSB19.5",1,"12-VB19.5","12-VB19.5",1,{"$nulls":6},{"$f":"$C676*$G$1*1*(Color!$D$8+'Door Style'!$G$6+Species!$C$6+'Drawer Head'!$E$6+'Custom Finish'!$C$6)","v":{"$error":"#VALUE!"}},null,"Black","Light Yellow",null,"1","BSKIN",75,50,"Y","Vanity - Sink Base",{"v":504,"d":"$504.00"},"Price change for fall 2019",{"v":327,"d":"$327.00"},null,"G2",{"$nulls":4},504]
["VSB19.5T","Vanity Sink Base 19.5\" Tall",{"v":532,"d":"$532.00"},3,null,null,{"$f":"$C677*$G$1*'Order Form'!$Q$18*(Color!$D$6+'Door Style'!$G$6+Species!$C$6+'Drawer Head'!$E$6+'Custom Finish'!$C$6)","v":{"$error":"#VALUE!"}},null,"SC/PC",{"$f":"'Order Type'!$C$6","v":"01-"},{"$f":"CONCAT!$D$8","v":""},null,1,"01-VSB19.5T","11-VSB19.5T",1,"12-B19.5","12-B19.5",1,{"$nulls":6},{"$f":"$C677*$G$1*1*(Color!$D$8+'Door Style'!$G$6+Species!$C$6+'Drawer Head'!$E$6+'Custom Finish'!$C$6)","v":{"$error":"#VALUE!"}},null,"Black","Light Yellow",null,"1","BSKIN",75,50,"Y","Vanity - Sink Base  - Tall ",{"v":532,"d":"$532.00"},"Price change for fall 2019",{"v":345,"d":"$345.00"},null,"G2",{"$nulls":4},532]
["VSB21","Vanity Sink Base 21\"",{"v":503,"d":"$503.00"},2,null,{"$f":"$C678*$F$1*'Order Form'!$Q$18*(Color!$C$6+'Door Style'!$H$6)","v":{"$error":"#VALUE!"}},{"$f":"$C678*$G$1*'Order Form'!$Q$18*(Color!$D$6+'Door Style'!$G$6+Species!$C$6+'Drawer Head'!$E$6+'Custom Finish'!$C$6)","v":{"$error":"#VALUE!"}},null,{"$f":"'Order Type'!$C$6","v":"01-"},{"$f":"'Order Type'!$C$6","v":"01-"},{"$f":"CONCAT!$D$2","v":""},null,1,"01-VSB21","11-VSB21",1,"12-VB21","12-VB21",1,{"$nulls":5},{"$f":"$C678*$F$1*(Color!$C$8+'Door Style'!$H$6)","v":{"v":431.57400000000007,"d":"$431.57"}},{"$f":"$C678*$G$1*1*(Color!$D$8+'Door Style'!$G$6+Species!$C$6+'Drawer Head'!$E$6+'Custom Finish'!$C$6)","v":{"$error":"#VALUE!"}},null,"Light Blue","Light Yellow",null,"1","BSKIN",75,50,"Y","Vanity - Sink Base",{"v":503,"d":"$503.00"},"Price change for fall 2019",{"v":326,"d":"$326.00"},null,"G2",{"$nulls":4},503]
["VSB21T","Vanity Sink Base 21\" Tall",{"v":518,"d":"$518.00"},2,null,{"$f":"$C679*$F$1*'Order Form'!$Q$18*(Color!$C$6+'Door Style'!$H$6)","v":{"$error":"#VALUE!"}},{"$f":"$C679*$G$1*'Order Form'!$Q$18*(Color!$D$6+'Door Style'!$G$6+Species!$C$6+'Drawer Head'!$E$6+'Custom Finish'!$C$6)","v":{"$error":"#VALUE!"}},null,{"$f":"'Order Type'!$C$6","v":"01-"},{"$f":"'Order Type'!$C$6","v":"01-"},{"$f":"CONCAT!$D$2","v":""},null,1,"01-VSB21T","11-VSB21T",1,"12-B21","12-B21",1,{"$nulls":5},{"$f":"$C679*$F$1*(Color!$C$8+'Door Style'!$H$6)","v":{"v":444.4440000000001,"d":"$444.44"}},{"$f":"$C679*$G$1*1*(Color!$D$8+'Door Style'!$G$6+Species!$C$6+'Drawer Head'!$E$6+'Custom Finish'!$C$6)","v":{"$error":"#VALUE!"}},null,"Light Blue","Light Yellow",null,"1","BSKIN",75,50,"Y","Vanity - Sink Base  - Tall ",{"v":518,"d":"$518.00"},"Price change for fall 2019",{"v":336,"d":"$336.00"},null,"G2",{"$nulls":4},518]
["VSB22.5","Vanity Sink Base 22.5\"",{"v":570,"d":"$570.00"},3,null,null,{"$f":"$C680*$G$1*'Order Form'!$Q$18*(Color!$D$6+'Door Style'!$G$6+Species!$C$6+'Drawer Head'!$E$6+'Custom Finish'!$C$6)","v":{"$error":"#VALUE!"}},null,"SC/PC",{"$f":"'Order Type'!$C$6","v":"01-"},{"$f":"CONCAT!$D$8","v":""},null,1,"01-VSB22.5","11-VSB22.5",1,"12-VB22.5","12-VB22.5",1,{"$nulls":6},{"$f":"$C680*$G$1*1*(Color!$D$8+'Door Style'!$G$6+Species!$C$6+'Drawer Head'!$E$6+'Custom Finish'!$C$6)","v":{"$error":"#VALUE!"}},null,"Black","Light Yellow",null,"1","BSKIN",75,50,"Y","Vanity - Sink Base",{"v":570,"d":"$570.00"},"Price change for fall 2019",{"v":336,"d":"$336.00"},null,"G2",{"$nulls":4},570]
["VSB22.5T","Vanity Sink Base 22.5\" Tall",{"v":598,"d":"$598.00"},3,null,null,{"$f":"$C681*$G$1*'Order Form'!$Q$18*(Color!$D$6+'Door Style'!$G$6+Species!$C$6+'Drawer Head'!$E$6+'Custom Finish'!$C$6)","v":{"$error":"#VALUE!"}},null,"SC/PC",{"$f":"'Order Type'!$C$6","v":"01-"},{"$f":"CONCAT!$D$8","v":""},null,1,"01-VSB22.5T","11-VSB22.5T",1,"12-B22.5","12-B22.5",1,{"$nulls":6},{"$f":"$C681*$G$1*1*(Color!$D$8+'Door Style'!$G$6+Species!$C$6+'Drawer Head'!$E$6+'Custom Finish'!$C$6)","v":{"$error":"#VALUE!"}},null,"Black","Light Yellow",null,"1","BSKIN",75,50,"Y","Vanity - Sink Base  - Tall ",{"v":598,"d":"$598.00"},"Price change for fall 2019",{"v":353,"d":"$353.00"},null,"G2",{"$nulls":4},598]
["VSB24","Vanity Sink Base 24\"",{"v":515,"d":"$515.00"},2,"PB",{"$f":"$C682*$F$1*'Order Form'!$Q$18*(Color!$C$6+'Door Style'!$H$6)","v":{"$error":"#VALUE!"}},{"$f":"$C682*$G$1*'Order Form'!$Q$18*(Color!$D$6+'Door Style'!$G$6+Species!$C$6+'Drawer Head'!$E$6+'Custom Finish'!$C$6)","v":{"$error":"#VALUE!"}},null,{"$f":"'Order Type'!$C$6","v":"01-"},{"$f":"'Order Type'!$C$6","v":"01-"},{"$f":"CONCAT!$D$2","v":""},null,1,"01-VSB24","11-VSB24",1,"12-VB24","12-VB24",1,{"$nulls":5},{"$f":"$C682*$F$1*(Color!$C$8+'Door Style'!$H$6)","v":{"v":441.87,"d":"$441.87"}},{"$f":"$C682*$G$1*1*(Color!$D$8+'Door Style'!$G$6+Species!$C$6+'Drawer Head'!$E$6+'Custom Finish'!$C$6)","v":{"$error":"#VALUE!"}},null,"Light Blue","Light Yellow",null,"1","BSKIN",75,50,"N","Vanity - Sink Base",{"v":515,"d":"$515.00"},"Price change for fall 2019",{"v":334,"d":"$334.00"},null,"G2",{"$nulls":4},515]
["VSB24T","Vanity Sink Base 24\" Tall",{"v":575,"d":"$575.00"},2,null,{"$f":"$C683*$F$1*'Order Form'!$Q$18*(Color!$C$6+'Door Style'!$H$6)","v":{"$error":"#VALUE!"}},{"$f":"$C683*$G$1*'Order Form'!$Q$18*(Color!$D$6+'Door Style'!$G$6+Species!$C$6+'Drawer Head'!$E$6+'Custom Finish'!$C$6)","v":{"$error":"#VALUE!"}},null,{"$f":"'Order Type'!$C$6","v":"01-"},{"$f":"'Order Type'!$C$6","v":"01-"},{"$f":"CONCAT!$D$2","v":""},null,1,"01-VSB24T","11-VSB24T",1,"12-B24","12-B24",1,{"$nulls":5},{"$f":"$C683*$F$1*(Color!$C$8+'Door Style'!$H$6)","v":{"v":493.35,"d":"$493.35"}},{"$f":"$C683*$G$1*1*(Color!$D$8+'Door Style'!$G$6+Species!$C$6+'Drawer Head'!$E$6+'Custom Finish'!$C$6)","v":{"$error":"#VALUE!"}},null,"Light Blue","Light Yellow",null,"1","BSKIN",75,50,"N","Vanity - Sink Base  - Tall ",{"v":575,"d":"$575.00"},"Price change for fall 2019",{"v":373,"d":"$373.00"},null,"G2",{"$nulls":4},575]
["VSB25.5","Vanity Sink Base 25.5\"",{"v":613,"d":"$613.00"},3,null,null,{"$f":"$C684*$G$1*'Order Form'!$Q$18*(Color!$D$6+'Door Style'!$G$6+Species!$C$6+'Drawer Head'!$E$6+'Custom Finish'!$C$6)","v":{"$error":"#VALUE!"}},null,"SC/PC",{"$f":"'Order Type'!$C$6","v":"01-"},{"$f":"CONCAT!$D$8","v":""},null,1,"01-VSB25.5","11-VSB25.5",1,"12-VB25.5","12-VB25.5",1,{"$nulls":6},{"$f":"$C684*$G$1*1*(Color!$D$8+'Door Style'!$G$6+Species!$C$6+'Drawer Head'!$E$6+'Custom Finish'!$C$6)","v":{"$error":"#VALUE!"}},null,"Black","Light Yellow",null,"1","BSKIN",75,50,"N","Vanity - Sink Base",{"v":613,"d":"$613.00"},"Price change for fall 2019",{"v":398,"d":"$398.00"},null,"G2",{"$nulls":4},613]
["VSB25.5T","Vanity Sink Base 25.5\" Tall",{"v":647,"d":"$647.00"},3,null,null,{"$f":"$C685*$G$1*'Order Form'!$Q$18*(Color!$D$6+'Door Style'!$G$6+Species!$C$6+'Drawer Head'!$E$6+'Custom Finish'!$C$6)","v":{"$error":"#VALUE!"}},null,"SC/PC",{"$f":"'Order Type'!$C$6","v":"01-"},{"$f":"CONCAT!$D$8","v":""},null,1,"01-VSB25.5T","11-VSB25.5T",1,"12-B25.5","12-B25.5",1,{"$nulls":6},{"$f":"$C685*$G$1*1*(Color!$D$8+'Door Style'!$G$6+Species!$C$6+'Drawer Head'!$E$6+'Custom Finish'!$C$6)","v":{"$error":"#VALUE!"}},null,"Black","Light Yellow",null,"1","BSKIN",75,50,"N","Vanity - Sink Base  - Tall ",{"v":647,"d":"$647.00"},"Price change for fall 2019",{"v":420,"d":"$420.00"},null,"G2",{"$nulls":4},647]
["VSB27","Vanity Sink Base 27\"",{"v":610,"d":"$610.00"},2,"PB",{"$f":"$C686*$F$1*'Order Form'!$Q$18*(Color!$C$6+'Door Style'!$H$6)","v":{"$error":"#VALUE!"}},{"$f":"$C686*$G$1*'Order Form'!$Q$18*(Color!$D$6+'Door Style'!$G$6+Species!$C$6+'Drawer Head'!$E$6+'Custom Finish'!$C$6)","v":{"$error":"#VALUE!"}},null,{"$f":"'Order Type'!$C$6","v":"01-"},{"$f":"'Order Type'!$C$6","v":"01-"},{"$f":"CONCAT!$D$2","v":""},null,1,"01-VSB27","11-VSB27",1,"12-VB27","12-VB27",1,{"$nulls":5},{"$f":"$C686*$F$1*(Color!$C$8+'Door Style'!$H$6)","v":{"v":523.3800000000001,"d":"$523.38"}},{"$f":"$C686*$G$1*1*(Color!$D$8+'Door Style'!$G$6+Species!$C$6+'Drawer Head'!$E$6+'Custom Finish'!$C$6)","v":{"$error":"#VALUE!"}},null,"Light Blue","Light Yellow",null,"1","BSKIN",75,50,"N","Vanity - Sink Base",{"v":610,"d":"$610.00"},"Price change for fall 2019",{"v":396,"d":"$396.00"},null,"G2",{"$nulls":4},610]
["VSB27T","Vanity Sink Base 27\" Tall",{"v":635,"d":"$635.00"},2,null,{"$f":"$C687*$F$1*'Order Form'!$Q$18*(Color!$C$6+'Door Style'!$H$6)","v":{"$error":"#VALUE!"}},{"$f":"$C687*$G$1*'Order Form'!$Q$18*(Color!$D$6+'Door Style'!$G$6+Species!$C$6+'Drawer Head'!$E$6+'Custom Finish'!$C$6)","v":{"$error":"#VALUE!"}},null,{"$f":"'Order Type'!$C$6","v":"01-"},{"$f":"'Order Type'!$C$6","v":"01-"},{"$f":"CONCAT!$D$2","v":""},null,1,"01-VSB27T","11-VSB27T",1,"12-B27","12-B27",1,{"$nulls":5},{"$f":"$C687*$F$1*(Color!$C$8+'Door Style'!$H$6)","v":{"v":544.83,"d":"$544.83"}},{"$f":"$C687*$G$1*1*(Color!$D$8+'Door Style'!$G$6+Species!$C$6+'Drawer Head'!$E$6+'Custom Finish'!$C$6)","v":{"$error":"#VALUE!"}},null,"Light Blue","Light Yellow",null,"1","BSKIN",75,50,"N","Vanity - Sink Base  - Tall ",{"v":635,"d":"$635.00"},"Price change for fall 2019",{"v":412,"d":"$412.00"},null,"G2",{"$nulls":4},635]
["VSB30","Vanity Sink Base 30\"",{"v":653,"d":"$653.00"},2,"PB",{"$f":"$C688*$F$1*'Order Form'!$Q$18*(Color!$C$6+'Door Style'!$H$6)","v":{"$error":"#VALUE!"}},{"$f":"$C688*$G$1*'Order Form'!$Q$18*(Color!$D$6+'Door Style'!$G$6+Species!$C$6+'Drawer Head'!$E$6+'Custom Finish'!$C$6)","v":{"$error":"#VALUE!"}},null,{"$f":"'Order Type'!$C$6","v":"01-"},{"$f":"'Order Type'!$C$6","v":"01-"},{"$f":"CONCAT!$D$2","v":""},null,1,"01-VSB30","11-VSB30",1,"12-VB30","12-VB30",1,{"$nulls":5},{"$f":"$C688*$F$1*(Color!$C$8+'Door Style'!$H$6)","v":{"v":560.2740000000001,"d":"$560.27"}},{"$f":"$C688*$G$1*1*(Color!$D$8+'Door Style'!$G$6+Species!$C$6+'Drawer Head'!$E$6+'Custom Finish'!$C$6)","v":{"$error":"#VALUE!"}},null,"Light Blue","Light Yellow",null,"1","BSKIN",75,50,"N","Vanity - Sink Base",{"v":653,"d":"$653.00"},"Price change for fall 2019",{"v":424,"d":"$424.00"},null,"G2",{"$nulls":4},653]
["VSB30T","Vanity Sink Base 30\" Tall",{"v":680,"d":"$680.00"},2,null,{"$f":"$C689*$F$1*'Order Form'!$Q$18*(Color!$C$6+'Door Style'!$H$6)","v":{"$error":"#VALUE!"}},{"$f":"$C689*$G$1*'Order Form'!$Q$18*(Color!$D$6+'Door Style'!$G$6+Species!$C$6+'Drawer Head'!$E$6+'Custom Finish'!$C$6)","v":{"$error":"#VALUE!"}},null,{"$f":"'Order Type'!$C$6","v":"01-"},{"$f":"'Order Type'!$C$6","v":"01-"},{"$f":"CONCAT!$D$2","v":""},null,1,"01-VSB30T","11-VSB30T",1,"12-B30","12-B30",1,{"$nulls":5},{"$f":"$C689*$F$1*(Color!$C$8+'Door Style'!$H$6)","v":{"v":583.44,"d":"$583.44"}},{"$f":"$C689*$G$1*1*(Color!$D$8+'Door Style'!$G$6+Species!$C$6+'Drawer Head'!$E$6+'Custom Finish'!$C$6)","v":{"$error":"#VALUE!"}},null,"Light Blue","Light Yellow",null,"1","BSKIN",75,50,"N","Vanity - Sink Base  - Tall ",{"v":680,"d":"$680.00"},"Price change for fall 2019",{"v":441,"d":"$441.00"},null,"G2",{"$nulls":4},680]
["VSB33","Vanity Sink Base 33\"",{"v":777,"d":"$777.00"},3,null,null,{"$f":"$C690*$G$1*'Order Form'!$Q$18*(Color!$D$6+'Door Style'!$G$6+Species!$C$6+'Drawer Head'!$E$6+'Custom Finish'!$C$6)","v":{"$error":"#VALUE!"}},null,"PROJECT",{"$f":"'Order Type'!$C$6","v":"01-"},{"$f":"CONCAT!$D$2","v":""},null,1,"01-VSB33","11-VSB33",1,"12-VB33","12-VB33",1,{"$nulls":6},{"$f":"$C690*$G$1*1*(Color!$D$8+'Door Style'!$G$6+Species!$C$6+'Drawer Head'!$E$6+'Custom Finish'!$C$6)","v":{"$error":"#VALUE!"}},null,"Black","Light Yellow",null,"1","BSKIN",75,50,"N","Vanity - Sink Base",{"v":777,"d":"$777.00"},"Price change for fall 2019",{"v":458,"d":"$458.00"},null,"G2",{"$nulls":4},777]
["VSB33T","Vanity Sink Base 33\" Tall",{"v":814,"d":"$814.00"},2,null,{"$f":"$C691*$F$1*'Order Form'!$Q$18*(Color!$C$6+'Door Style'!$H$6)","v":{"$error":"#VALUE!"}},{"$f":"$C691*$G$1*'Order Form'!$Q$18*(Color!$D$6+'Door Style'!$G$6+Species!$C$6+'Drawer Head'!$E$6+'Custom Finish'!$C$6)","v":{"$error":"#VALUE!"}},null,{"$f":"'Order Type'!$C$6","v":"01-"},{"$f":"'Order Type'!$C$6","v":"01-"},{"$f":"CONCAT!$D$2","v":""},null,1,"01-VSB33T","11-VSB33T",1,"12-B33","12-B33",1,{"$nulls":5},{"$f":"$C691*$F$1*(Color!$C$8+'Door Style'!$H$6)","v":{"v":698.4120000000001,"d":"$698.41"}},{"$f":"$C691*$G$1*1*(Color!$D$8+'Door Style'!$G$6+Species!$C$6+'Drawer Head'!$E$6+'Custom Finish'!$C$6)","v":{"$error":"#VALUE!"}},null,"Light Blue","Light Yellow",null,"1","BSKIN",75,50,"N","Vanity - Sink Base  - Tall ",{"v":814,"d":"$814.00"},"Price change for fall 2019",{"v":480,"d":"$480.00"},null,"G2",{"$nulls":4},814]
["VSB36","Vanity Sink Base 36\"",{"v":774,"d":"$774.00"},2,null,{"$f":"$C692*$F$1*'Order Form'!$Q$18*(Color!$C$6+'Door Style'!$H$6)","v":{"$error":"#VALUE!"}},{"$f":"$C692*$G$1*'Order Form'!$Q$18*(Color!$D$6+'Door Style'!$G$6+Species!$C$6+'Drawer Head'!$E$6+'Custom Finish'!$C$6)","v":{"$error":"#VALUE!"}},null,{"$f":"'Order Type'!$C$6","v":"01-"},{"$f":"'Order Type'!$C$6","v":"01-"},{"$f":"CONCAT!$D$2","v":""},null,1,"01-VSB36","11-VSB36",1,"12-VB36","12-VB36",1,{"$nulls":5},{"$f":"$C692*$F$1*(Color!$C$8+'Door Style'!$H$6)","v":{"v":664.0920000000001,"d":"$664.09"}},{"$f":"$C692*$G$1*1*(Color!$D$8+'Door Style'!$G$6+Species!$C$6+'Drawer Head'!$E$6+'Custom Finish'!$C$6)","v":{"$error":"#VALUE!"}},null,"Light Blue","Light Yellow",null,"1","BSKIN",75,50,"N","Vanity - Sink Base",{"v":774,"d":"$774.00"},"Price change for fall 2019",{"v":478,"d":"$478.00"},null,"G2",{"$nulls":4},774]
["VSB36T","Vanity Sink Base 36\" Tall",{"v":815,"d":"$815.00"},2,null,{"$f":"$C693*$F$1*'Order Form'!$Q$18*(Color!$C$6+'Door Style'!$H$6)","v":{"$error":"#VALUE!"}},{"$f":"$C693*$G$1*'Order Form'!$Q$18*(Color!$D$6+'Door Style'!$G$6+Species!$C$6+'Drawer Head'!$E$6+'Custom Finish'!$C$6)","v":{"$error":"#VALUE!"}},null,{"$f":"'Order Type'!$C$6","v":"01-"},{"$f":"'Order Type'!$C$6","v":"01-"},{"$f":"CONCAT!$D$2","v":""},null,1,"01-VSB36T","11-VSB36T",1,"12-B36","12-B36",1,{"$nulls":5},{"$f":"$C693*$F$1*(Color!$C$8+'Door Style'!$H$6)","v":{"v":699.2700000000001,"d":"$699.27"}},{"$f":"$C693*$G$1*1*(Color!$D$8+'Door Style'!$G$6+Species!$C$6+'Drawer Head'!$E$6+'Custom Finish'!$C$6)","v":{"$error":"#VALUE!"}},null,"Light Blue","Light Yellow",null,"1","BSKIN",75,50,"N","Vanity - Sink Base  - Tall ",{"v":815,"d":"$815.00"},"Price change for fall 2019",{"v":499,"d":"$499.00"},null,"G2",{"$nulls":4},815]
["VSB39","Vanity Sink Base 39\"",{"v":732,"d":"$732.00"},3,null,null,{"$f":"$C694*$G$1*'Order Form'!$Q$18*(Color!$D$6+'Door Style'!$G$6+Species!$C$6+'Drawer Head'!$E$6+'Custom Finish'!$C$6)","v":{"$error":"#VALUE!"}},null,"SC/PC",{"$f":"'Order Type'!$C$6","v":"01-"},{"$f":"CONCAT!$D$8","v":""},null,1,"01-VSB39","11-VSB39T",1,"12-VB39","12-VB39",1,{"$nulls":6},{"$f":"$C694*$G$1*1*(Color!$D$8+'Door Style'!$G$6+Species!$C$6+'Drawer Head'!$E$6+'Custom Finish'!$C$6)","v":{"$error":"#VALUE!"}},null,"Black","Light Yellow",null,1,"BSKIN",75,50,"N","Vanity - Sink Base ",{"v":732,"d":"$732.00"},"Price change for fall 2019",{"v":475,"d":"$475.00"},null,"G2",{"$nulls":4},732]
["VSB39T","Vanity Sink Base 39\" Tall",{"v":812,"d":"$812.00"},3,null,null,{"$f":"$C695*$G$1*'Order Form'!$Q$18*(Color!$D$6+'Door Style'!$G$6+Species!$C$6+'Drawer Head'!$E$6+'Custom Finish'!$C$6)","v":{"$error":"#VALUE!"}},null,"PROJECT",{"$f":"'Order Type'!$C$6","v":"01-"},{"$f":"CONCAT!$D$2","v":""},null,1,"01-VSB39T","11-VSB39T",1,"12-B39","12-B39",1,{"$nulls":6},{"$f":"$C695*$G$1*1*(Color!$D$8+'Door Style'!$G$6+Species!$C$6+'Drawer Head'!$E$6+'Custom Finish'!$C$6)","v":{"$error":"#VALUE!"}},null,"Black","Light Yellow",null,"1","BSKIN",75,50,"N","Vanity - Sink Base  - Tall ",{"v":812,"d":"$812.00"},"Price change for fall 2019",{"v":527,"d":"$527.00"},null,"G2",{"$nulls":4},812]
["VW1830","Van Wall 18\" x 30\" x 6\"",{"v":476,"d":"$476.00"},3,null,null,{"$f":"$C696*$G$1*'Order Form'!$Q$18*(Color!$D$6+'Door Style'!$G$6+Species!$C$6+'Custom Finish'!$C$6)","v":{"$error":"#VALUE!"}},null,"PROJECT",{"$f":"'Order Type'!$C$6","v":"01-"},{"$f":"CONCAT!$E$2","v":""},null,1,"01-VW1830","11-VW1830",1,"12-VW1830","12-VW1830",1,{"$nulls":6},{"$f":"$C696*$G$1*1*(Color!$D$8+'Door Style'!$G$6+Species!$C$6+'Custom Finish'!$C$6)","v":{"$error":"#VALUE!"}},null,"Black","Dark Gray",null,"1","WSKIN30",75,25,"Y","Vanity - Wall",{"v":476,"d":"$476.00"},"Price change for fall 2019",{"v":259,"d":"$259.00"},null,"G1",{"$nulls":4},476]
["VW1836","Van Wall 18\" x 36\" x 6\"",{"v":560,"d":"$560.00"},3,null,null,{"$f":"$C697*$G$1*'Order Form'!$Q$18*(Color!$D$6+'Door Style'!$G$6+Species!$C$6+'Custom Finish'!$C$6)","v":{"$error":"#VALUE!"}},null,"SC/PC",{"$f":"'Order Type'!$C$6","v":"01-"},{"$f":"CONCAT!$D$8","v":""},null,1,"01-VW1836","11-VW1836",1,"12-VW1836","12-VW1836",1,{"$nulls":6},{"$f":"$C697*$G$1*1*(Color!$D$8+'Door Style'!$G$6+Species!$C$6+'Custom Finish'!$C$6)","v":{"$error":"#VALUE!"}},null,"Black","Dark Gray",null,"1","WSKIN36",75,25,"Y","Vanity - Wall",{"v":560,"d":"$560.00"},"Price change for fall 2019",{"v":305,"d":"$305.00"},null,"G1",{"$nulls":4},560]
["VW2130","Van Wall 21\" x 30\" x 6\"",{"v":532,"d":"$532.00"},3,null,null,{"$f":"$C698*$G$1*'Order Form'!$Q$18*(Color!$D$6+'Door Style'!$G$6+Species!$C$6+'Custom Finish'!$C$6)","v":{"$error":"#VALUE!"}},null,"SC/PC",{"$f":"'Order Type'!$C$6","v":"01-"},{"$f":"CONCAT!$D$8","v":""},null,1,"01-VW2130","11-VW2130",1,"12-VW2130","12-VW2130",1,{"$nulls":6},{"$f":"$C698*$G$1*1*(Color!$D$8+'Door Style'!$G$6+Species!$C$6+'Custom Finish'!$C$6)","v":{"$error":"#VALUE!"}},null,"Black","Dark Gray",null,"1","WSKIN30",75,25,"Y","Vanity - Wall",{"v":532,"d":"$532.00"},"Price change for fall 2019",{"v":290,"d":"$290.00"},null,"G1",{"$nulls":4},532]
["VW2136","Van Wall 21\" x 36\" x 6\"",{"v":549,"d":"$549.00"},3,null,null,{"$f":"$C699*$G$1*'Order Form'!$Q$18*(Color!$D$6+'Door Style'!$G$6+Species!$C$6+'Custom Finish'!$C$6)","v":{"$error":"#VALUE!"}},null,"SC/PC",{"$f":"'Order Type'!$C$6","v":"01-"},{"$f":"CONCAT!$D$8","v":""},null,1,"01-VW2136","11-VW2136",1,"12-VW2136","12-VW2136",1,{"$nulls":6},{"$f":"$C699*$G$1*1*(Color!$D$8+'Door Style'!$G$6+Species!$C$6+'Custom Finish'!$C$6)","v":{"$error":"#VALUE!"}},null,"Black","Dark Gray",null,"1","WSKIN36",75,25,"Y","Vanity - Wall",{"v":549,"d":"$549.00"},"Price change for fall 2019",{"v":338,"d":"$338.00"},null,"G1",{"$nulls":4},549]
["W09-SHELF","Wall Shelf For 9\"",{"v":27.35,"d":"$27.35"},2,null,{"$f":"$C700*'Order Form'!$Q$18","v":{"v":27.35,"d":"$27.35"}},{"$f":"$C700*'Order Form'!$Q$18","v":{"v":27.35,"d":"$27.35"}},null,"14-","14-",null,null,0,"14-W09-SHELF",{"$nulls":5},{"$f":"N700","v":"14-W09-SHELF"},1,{"$nulls":3},{"$f":"$C700*1","v":{"v":27.35,"d":"$27.35"}},{"$f":"$C700*1","v":{"v":27.35,"d":"$27.35"}},null,"Purple","Purple",{"$nulls":3},"No","No","N","Shelf - Wall",{"$f":"AL700","v":0}]
["W0930","Wall 9\" x 30\"",{"v":243,"d":"$243.00"},2,"PB",{"$f":"$C701*$F$1*'Order Form'!$Q$18*(Color!$C$6+'Door Style'!$H$6)","v":{"$error":"#VALUE!"}},{"$f":"$C701*$G$1*'Order Form'!$Q$18*(Color!$D$6+'Door Style'!$G$6+Species!$C$6+'Custom Finish'!$C$6)","v":{"$error":"#VALUE!"}},null,{"$f":"'Order Type'!$C$6","v":"01-"},{"$f":"'Order Type'!$C$6","v":"01-"},{"$f":"CONCAT!$D$2","v":""},null,1,"01-W0930","11-W0930",1,"12-W0930","12-W0930",1,{"$nulls":5},{"$f":"$C701*$F$1*(Color!$C$8+'Door Style'!$H$6)","v":{"v":208.49400000000003,"d":"$208.49"}},{"$f":"$C701*$G$1*1*(Color!$D$8+'Door Style'!$G$6+Species!$C$6+'Custom Finish'!$C$6)","v":{"$error":"#VALUE!"}},null,"Light Blue","Dark Gray",null,"1","WSKIN30",75,25,"Y","Wall Cabinet - 30\" Wall",{"$f":"ROUNDUP(AM701*AN701,0)","v":{"v":243,"d":"$243.00"}},"Price change for fall 2019",{"v":172,"d":"$172.00"},1.41,"G1",{"$nulls":4},{"$error":"#N/A"}]
["W0936","Wall 9\" x 36\"",{"v":270,"d":"$270.00"},2,null,{"$f":"$C702*$F$1*'Order Form'!$Q$18*(Color!$C$6+'Door Style'!$H$6)","v":{"$error":"#VALUE!"}},{"$f":"$C702*$G$1*'Order Form'!$Q$18*(Color!$D$6+'Door Style'!$G$6+Species!$C$6+'Custom Finish'!$C$6)","v":{"$error":"#VALUE!"}},null,{"$f":"'Order Type'!$C$6","v":"01-"},{"$f":"'Order Type'!$C$6","v":"01-"},{"$f":"CONCAT!$D$2","v":""},null,1,"01-W0936","11-W0936",1,"12-W0936","12-W0936",1,{"$nulls":5},{"$f":"$C702*$F$1*(Color!$C$8+'Door Style'!$H$6)","v":{"v":231.66000000000003,"d":"$231.66"}},{"$f":"$C702*$G$1*1*(Color!$D$8+'Door Style'!$G$6+Species!$C$6+'Custom Finish'!$C$6)","v":{"$error":"#VALUE!"}},null,"Light Blue","Dark Gray",null,"1","WSKIN36",75,25,"Y","Wall Cabinet - 36\" Wall",{"$f":"ROUNDUP(AM702*AN702,0)","v":{"v":270,"d":"$270.00"}},"Price change for fall 2019",{"v":191,"d":"$191.00"},1.41,"G1",{"$nulls":4},{"$error":"#N/A"}]
["W0942","Wall 9\" x 42\"",{"v":322,"d":"$322.00"},2,null,{"$f":"$C703*$F$1*'Order Form'!$Q$18*(Color!$C$6+'Door Style'!$H$6)","v":{"$error":"#VALUE!"}},{"$f":"$C703*$G$1*'Order Form'!$Q$18*(Color!$D$6+'Door Style'!$G$6+Species!$C$6+'Custom Finish'!$C$6)","v":{"$error":"#VALUE!"}},null,{"$f":"'Order Type'!$C$6","v":"01-"},{"$f":"'Order Type'!$C$6","v":"01-"},{"$f":"CONCAT!$D$2","v":""},null,1,"01-W0942","11-W0942",1,"12-W0942","12-W0942",1,{"$nulls":5},{"$f":"$C703*$F$1*(Color!$C$8+'Door Style'!$H$6)","v":{"v":276.276,"d":"$276.28"}},{"$f":"$C703*$G$1*1*(Color!$D$8+'Door Style'!$G$6+Species!$C$6+'Custom Finish'!$C$6)","v":{"$error":"#VALUE!"}},null,"Light Blue","Dark Gray",null,"1","WSKIN42",75,25,"Y","Wall Cabinet - 42\" Wall",{"$f":"ROUNDUP(AM703*AN703,0)","v":{"v":322,"d":"$322.00"}},"Price change for fall 2019",{"v":228,"d":"$228.00"},1.41,"G1",{"$nulls":4},{"$error":"#N/A"}]
["W10.5-SHELF","Wall Shelf For 10.5\"",{"v":29.55,"d":"$29.55"},2,null,{"$f":"$C704*'Order Form'!$Q$18","v":{"v":29.55,"d":"$29.55"}},{"$f":"$C704*'Order Form'!$Q$18","v":{"v":29.55,"d":"$29.55"}},null,"14-","14-","",null,0,"14-W10.5-SHELF",{"$nulls":3},"",null,{"$f":"N704","v":"14-W10.5-SHELF"},1,{"$nulls":3},{"$f":"$C704*1","v":{"v":29.55,"d":"$29.55"}},{"$f":"$C704*1","v":{"v":29.55,"d":"$29.55"}},null,"Purple","Purple",{"$nulls":3},"No","No","N","Shelf - Wall",{"$f":"AL704","v":{"v":29.55,"d":"$29.55"}},{"$f":"ROUNDUP(AS704,2)","v":29.55},{"v":12,"d":"$12.00"},1.1,"Plywood",11,10,{"$f":"(AP704*AQ704)/144","v":0.7638888888888888},{"$f":"(AR704*12.5)+20","v":{"v":29.54861111111111,"d":"29.55"}},{"$error":"#N/A"}]
["W1212","Wall 12\" x 12\"",{"v":223,"d":"$223.00"},3,null,null,{"$f":"$C705*$G$1*'Order Form'!$Q$18*(Color!$D$6+'Door Style'!$G$6+Species!$C$6+'Custom Finish'!$C$6)","v":{"$error":"#VALUE!"}},null,"SC/PC",{"$f":"'Order Type'!$C$6","v":"01-"},{"$f":"CONCAT!$D$8","v":""},null,1,"01-W1212","11-W1212",1,"12-W1212","12-W1212",1,{"$nulls":6},{"$f":"$C705*$G$1*1*(Color!$D$8+'Door Style'!$G$6+Species!$C$6+'Custom Finish'!$C$6)","v":{"$error":"#VALUE!"}},null,"Black","Dark Gray",null,"1","WSKIN30",75,25,"Y","Wall Cabinet - 12\" Wall",{"$f":"ROUNDUP(AM705*AN705,0)","v":{"v":223,"d":"$223.00"}},"Price change for fall 2019",{"v":158,"d":"$158.00"},1.41,"G1",{"$nulls":4},{"$error":"#N/A"}]
["W1215","Wall 12\" x 15\"",{"v":235,"d":"$235.00"},3,null,null,{"$f":"$C706*$G$1*'Order Form'!$Q$18*(Color!$D$6+'Door Style'!$G$6+Species!$C$6+'Custom Finish'!$C$6)","v":{"$error":"#VALUE!"}},null,"SC/PC",{"$f":"'Order Type'!$C$6","v":"01-"},{"$f":"CONCAT!$D$8","v":""},null,1,"01-W1215","11-W1215",1,"12-W1215","12-W1215",1,{"$nulls":6},{"$f":"$C706*$G$1*1*(Color!$D$8+'Door Style'!$G$6+Species!$C$6+'Custom Finish'!$C$6)","v":{"$error":"#VALUE!"}},null,"Black","Dark Gray",null,"1","WSKIN30",75,25,"Y","Wall Cabinet - 15\" Wall",{"v":235,"d":"$235.00"},"Price change for fall 2019",{"v":166,"d":"$166.00"},1.41,"G1",{"$nulls":4},{"$error":"#N/A"}]
["W1218","Wall 12\" x 18\"",{"v":246,"d":"$246.00"},3,null,null,{"$f":"$C707*$G$1*'Order Form'!$Q$18*(Color!$D$6+'Door Style'!$G$6+Species!$C$6+'Custom Finish'!$C$6)","v":{"$error":"#VALUE!"}},null,"SC/PC",{"$f":"'Order Type'!$C$6","v":"01-"},{"$f":"CONCAT!$D$8","v":""},null,1,"01-W1218","11-W1218",1,"12-W1218","12-W1218",1,{"$nulls":6},{"$f":"$C707*$G$1*1*(Color!$D$8+'Door Style'!$G$6+Species!$C$6+'Custom Finish'!$C$6)","v":{"$error":"#VALUE!"}},null,"Black","Dark Gray",null,"1","WSKIN30",75,25,"Y","Wall Cabinet - 18\" Wall",{"v":246,"d":"$246.00"},"Price change for fall 2019",{"v":174,"d":"$174.00"},1.41,"G1",{"$nulls":4},{"$error":"#N/A"}]
["W1221","Wall 12\" x 21\"",{"v":259,"d":"$259.00"},3,null,null,{"$f":"$C708*$G$1*'Order Form'!$Q$18*(Color!$D$6+'Door Style'!$G$6+Species!$C$6+'Custom Finish'!$C$6)","v":{"$error":"#VALUE!"}},null,"SC/PC",{"$f":"'Order Type'!$C$6","v":"01-"},{"$f":"CONCAT!$D$8","v":""},null,1,"01-W1221","11-W1221",1,"12-W1221","12-W1221",1,{"$nulls":6},{"$f":"$C708*$G$1*1*(Color!$D$8+'Door Style'!$G$6+Species!$C$6+'Custom Finish'!$C$6)","v":{"$error":"#VALUE!"}},null,"Black","Dark Gray",null,"1","WSKIN30",75,25,"Y","Wall Cabinet - 21\" Wall",{"v":259,"d":"$259.00"},"Price change for fall 2019",{"v":183,"d":"$183.00"},1.41,"G1",{"$nulls":4},{"$error":"#N/A"}]
["W1224","Wall 12\" x 24\"",{"v":267,"d":"$267.00"},3,null,null,{"$f":"$C709*$G$1*'Order Form'!$Q$18*(Color!$D$6+'Door Style'!$G$6+Species!$C$6+'Custom Finish'!$C$6)","v":{"$error":"#VALUE!"}},null,"SC/PC",{"$f":"'Order Type'!$C$6","v":"01-"},{"$f":"CONCAT!$D$8","v":""},null,1,"01-W1224","11-W1224",1,"12-W1224","12-W1224",1,{"$nulls":6},{"$f":"$C709*$G$1*1*(Color!$D$8+'Door Style'!$G$6+Species!$C$6+'Custom Finish'!$C$6)","v":{"$error":"#VALUE!"}},null,"Black","Dark Gray",null,"1","WSKIN30",75,25,"Y","Wall Cabinet - 24\" Wall",{"v":267,"d":"$267.00"},"Price change for fall 2019",{"v":189,"d":"$189.00"},1.41,"G1",{"$nulls":4},{"$error":"#N/A"}]
["W1227","Wall 12\" x 27\"",{"v":280,"d":"$280.00"},3,null,null,{"$f":"$C710*$G$1*'Order Form'!$Q$18*(Color!$D$6+'Door Style'!$G$6+Species!$C$6+'Custom Finish'!$C$6)","v":{"$error":"#VALUE!"}},null,"SC/PC",{"$f":"'Order Type'!$C$6","v":"01-"},{"$f":"CONCAT!$D$8","v":""},null,1,"01-W1227","11-W1227",1,"12-W1227","12-W1227",1,{"$nulls":6},{"$f":"$C710*$G$1*1*(Color!$D$8+'Door Style'!$G$6+Species!$C$6+'Custom Finish'!$C$6)","v":{"$error":"#VALUE!"}},null,"Black","Dark Gray",null,"1","WSKIN30",75,25,"Y","Wall Cabinet - 27\" Wall",{"v":280,"d":"$280.00"},"Price change for fall 2019",{"v":198,"d":"$198.00"},1.41,"G1",{"$nulls":4},{"$error":"#N/A"}]
["W1230","Wall 12\" x 30\"",{"v":288,"d":"$288.00"},2,"PB",{"$f":"$C711*$F$1*'Order Form'!$Q$18*(Color!$C$6+'Door Style'!$H$6)","v":{"$error":"#VALUE!"}},{"$f":"$C711*$G$1*'Order Form'!$Q$18*(Color!$D$6+'Door Style'!$G$6+Species!$C$6+'Custom Finish'!$C$6)","v":{"$error":"#VALUE!"}},null,{"$f":"'Order Type'!$C$6","v":"01-"},{"$f":"'Order Type'!$C$6","v":"01-"},{"$f":"CONCAT!$D$2","v":""},null,1,"01-W1230","11-W1230",1,"12-W1230","12-W1230",1,{"$nulls":5},{"$f":"$C711*$F$1*(Color!$C$8+'Door Style'!$H$6)","v":{"v":247.10400000000004,"d":"$247.10"}},{"$f":"$C711*$G$1*1*(Color!$D$8+'Door Style'!$G$6+Species!$C$6+'Custom Finish'!$C$6)","v":{"$error":"#VALUE!"}},null,"Light Blue","Dark Gray",null,"1","WSKIN30",75,25,"Y","Wall Cabinet - 30\" Wall",{"v":288,"d":"$288.00"},"Price change for fall 2019",{"v":204,"d":"$204.00"},1.41,"G1",{"$nulls":4},{"$error":"#N/A"}]
["W1236","Wall 12\" x 36\"",{"v":323,"d":"$323.00"},2,null,{"$f":"$C712*$F$1*'Order Form'!$Q$18*(Color!$C$6+'Door Style'!$H$6)","v":{"$error":"#VALUE!"}},{"$f":"$C712*$G$1*'Order Form'!$Q$18*(Color!$D$6+'Door Style'!$G$6+Species!$C$6+'Custom Finish'!$C$6)","v":{"$error":"#VALUE!"}},null,{"$f":"'Order Type'!$C$6","v":"01-"},{"$f":"'Order Type'!$C$6","v":"01-"},{"$f":"CONCAT!$D$2","v":""},null,1,"01-W1236","11-W1236",1,"12-W1236","12-W1236",1,{"$nulls":5},{"$f":"$C712*$F$1*(Color!$C$8+'Door Style'!$H$6)","v":{"v":277.134,"d":"$277.13"}},{"$f":"$C712*$G$1*1*(Color!$D$8+'Door Style'!$G$6+Species!$C$6+'Custom Finish'!$C$6)","v":{"$error":"#VALUE!"}},null,"Light Blue","Dark Gray",null,"1","WSKIN36",75,25,"Y","Wall Cabinet - 36\" Wall",{"v":323,"d":"$323.00"},"Price change for fall 2019",{"v":229,"d":"$229.00"},1.41,"G1",{"$nulls":4},{"$error":"#N/A"}]
["W1242","Wall 12\" x 42\"",{"v":378,"d":"$378.00"},2,null,{"$f":"$C713*$F$1*'Order Form'!$Q$18*(Color!$C$6+'Door Style'!$H$6)","v":{"$error":"#VALUE!"}},{"$f":"$C713*$G$1*'Order Form'!$Q$18*(Color!$D$6+'Door Style'!$G$6+Species!$C$6+'Custom Finish'!$C$6)","v":{"$error":"#VALUE!"}},null,{"$f":"'Order Type'!$C$6","v":"01-"},{"$f":"'Order Type'!$C$6","v":"01-"},{"$f":"CONCAT!$D$2","v":""},null,1,"01-W1242","11-W1242",1,"12-W1242",{"$f":"Q713&K713","v":"12-W1242"},1,{"$nulls":5},{"$f":"$C713*$F$1*(Color!$C$8+'Door Style'!$H$6)","v":{"v":324.32400000000007,"d":"$324.32"}},{"$f":"$C713*$G$1*1*(Color!$D$8+'Door Style'!$G$6+Species!$C$6+'Custom Finish'!$C$6)","v":{"$error":"#VALUE!"}},null,"Light Blue","Dark Gray",null,"1","WSKIN42",75,25,"Y","Wall Cabinet - 42\" Wall",{"v":378,"d":"$378.00"},"Price change for fall 2019",{"v":268,"d":"$268.00"},1.41,"G1",{"$nulls":4},{"$error":"#N/A"}]
["W12-SHELF","Wall Shelf For 12\"",{"v":30.42,"d":"$30.42"},2,null,{"$f":"$C714*'Order Form'!$Q$18","v":{"v":30.42,"d":"$30.42"}},{"$f":"$C714*'Order Form'!$Q$18","v":{"v":30.42,"d":"$30.42"}},null,"14-","14-","",null,0,"14-W12-SHELF",{"$nulls":3},"",null,{"$f":"N714","v":"14-W12-SHELF"},1,{"$nulls":3},{"$f":"$C714*1","v":{"v":30.42,"d":"$30.42"}},{"$f":"$C714*1","v":{"v":30.42,"d":"$30.42"}},null,"Purple","Purple",{"$nulls":3},"No","No","N","Shelf - Wall",{"$f":"AL714","v":{"v":30.42,"d":"$30.42"}},{"$f":"ROUNDUP(AS714,2)","v":30.42},{"v":14,"d":"$14.00"},1.1,"Plywood",12,10,{"$f":"(AP714*AQ714)/144","v":0.8333333333333334},{"$f":"(AR714*12.5)+20","v":{"v":30.416666666666668,"d":"30.42"}},{"$error":"#N/A"}]
["W13.512","Wall 13.5\" x 12\"",{"v":235,"d":"$235.00"},3,null,null,{"$f":"$C715*$G$1*'Order Form'!$Q$18*(Color!$D$6+'Door Style'!$G$6+Species!$C$6+'Custom Finish'!$C$6)","v":{"$error":"#VALUE!"}},null,"SC/PC",{"$f":"'Order Type'!$C$6","v":"01-"},{"$f":"CONCAT!$D$8","v":""},null,1,"01-W13.512","11-W13.512",1,"12-W13.512","12-W13.512",1,{"$nulls":6},{"$f":"$C715*$G$1*1*(Color!$D$8+'Door Style'!$G$6+Species!$C$6+'Custom Finish'!$C$6)","v":{"$error":"#VALUE!"}},null,"Black","Dark Gray",null,"1","WSKIN30",75,25,"Y","Wall Cabinet - 12\" Wall",{"$f":"ROUNDUP(AM715*AN715,0)","v":{"v":235,"d":"$235.00"}},"Price change for fall 2019",{"v":166,"d":"$166.00"},1.41,"G1",{"$nulls":4},{"$error":"#N/A"}]
["W13.515","Wall 13.5\" x 15\"",{"v":253,"d":"$253.00"},3,null,null,{"$f":"$C716*$G$1*'Order Form'!$Q$18*(Color!$D$6+'Door Style'!$G$6+Species!$C$6+'Custom Finish'!$C$6)","v":{"$error":"#VALUE!"}},null,"SC/PC",{"$f":"'Order Type'!$C$6","v":"01-"},{"$f":"CONCAT!$D$8","v":""},null,1,"01-W13.515","11-W13.515",1,"12-W13.515","12-W13.515",1,{"$nulls":6},{"$f":"$C716*$G$1*1*(Color!$D$8+'Door Style'!$G$6+Species!$C$6+'Custom Finish'!$C$6)","v":{"$error":"#VALUE!"}},null,"Black","Dark Gray",null,"1","WSKIN30",75,25,"Y","Wall Cabinet - 15\" Wall",{"v":253,"d":"$253.00"},"Price change for fall 2019",{"v":179,"d":"$179.00"},1.41,"G1",{"$nulls":4},{"$error":"#N/A"}]
["W13.518","Wall 13.5\" x 18\"",{"v":267,"d":"$267.00"},3,null,null,{"$f":"$C717*$G$1*'Order Form'!$Q$18*(Color!$D$6+'Door Style'!$G$6+Species!$C$6+'Custom Finish'!$C$6)","v":{"$error":"#VALUE!"}},null,"SC/PC",{"$f":"'Order Type'!$C$6","v":"01-"},{"$f":"CONCAT!$D$8","v":""},null,1,"01-W13.518","11-W13.518",1,"12-W13.518","12-W13.518",1,{"$nulls":6},{"$f":"$C717*$G$1*1*(Color!$D$8+'Door Style'!$G$6+Species!$C$6+'Custom Finish'!$C$6)","v":{"$error":"#VALUE!"}},null,"Black","Dark Gray",null,"1","WSKIN30",75,25,"Y","Wall Cabinet - 18\" Wall",{"v":267,"d":"$267.00"},"Price change for fall 2019",{"v":189,"d":"$189.00"},1.41,"G1",{"$nulls":4},{"$error":"#N/A"}]
["W13.521","Wall 13.5\" x 21\"",{"v":285,"d":"$285.00"},3,null,null,{"$f":"$C718*$G$1*'Order Form'!$Q$18*(Color!$D$6+'Door Style'!$G$6+Species!$C$6+'Custom Finish'!$C$6)","v":{"$error":"#VALUE!"}},null,"SC/PC",{"$f":"'Order Type'!$C$6","v":"01-"},{"$f":"CONCAT!$D$8","v":""},null,1,"01-W13.521","11-W13.521",1,"12-W13.521","12-W13.521",1,{"$nulls":6},{"$f":"$C718*$G$1*1*(Color!$D$8+'Door Style'!$G$6+Species!$C$6+'Custom Finish'!$C$6)","v":{"$error":"#VALUE!"}},null,"Black","Dark Gray",null,"1","WSKIN30",75,25,"Y","Wall Cabinet - 21\" Wall",{"v":285,"d":"$285.00"},"Price change for fall 2019",{"v":202,"d":"$202.00"},1.41,"G1",{"$nulls":4},{"$error":"#N/A"}]
["W13.524","Wall 13.5\" x 24\"",{"v":301,"d":"$301.00"},3,null,null,{"$f":"$C719*$G$1*'Order Form'!$Q$18*(Color!$D$6+'Door Style'!$G$6+Species!$C$6+'Custom Finish'!$C$6)","v":{"$error":"#VALUE!"}},null,"SC/PC",{"$f":"'Order Type'!$C$6","v":"01-"},{"$f":"CONCAT!$D$8","v":""},null,1,"01-W13.524","11-W13.524",1,"12-W13.524","12-W13.524",1,{"$nulls":6},{"$f":"$C719*$G$1*1*(Color!$D$8+'Door Style'!$G$6+Species!$C$6+'Custom Finish'!$C$6)","v":{"$error":"#VALUE!"}},null,"Black","Dark Gray",null,"1","WSKIN30",75,25,"Y","Wall Cabinet - 24\" Wall",{"v":301,"d":"$301.00"},"Price change for fall 2019",{"v":213,"d":"$213.00"},1.41,"G1",{"$nulls":4},{"$error":"#N/A"}]
["W13.527","Wall 13.5\" x 27\"",{"v":319,"d":"$319.00"},3,null,null,{"$f":"$C720*$G$1*'Order Form'!$Q$18*(Color!$D$6+'Door Style'!$G$6+Species!$C$6+'Custom Finish'!$C$6)","v":{"$error":"#VALUE!"}},null,"SC/PC",{"$f":"'Order Type'!$C$6","v":"01-"},{"$f":"CONCAT!$D$8","v":""},null,1,"01-W13.527","11-W13.527",1,"12-W13.527","12-W13.527",1,{"$nulls":6},{"$f":"$C720*$G$1*1*(Color!$D$8+'Door Style'!$G$6+Species!$C$6+'Custom Finish'!$C$6)","v":{"$error":"#VALUE!"}},null,"Black","Dark Gray",null,"1","WSKIN30",75,25,"Y","Wall Cabinet - 27\" Wall",{"v":319,"d":"$319.00"},"Price change for fall 2019",{"v":226,"d":"$226.00"},1.41,"G1",{"$nulls":4},{"$error":"#N/A"}]
["W13.530","Wall 13.5\" x 30\"",{"v":335,"d":"$335.00"},3,null,null,{"$f":"$C721*$G$1*'Order Form'!$Q$18*(Color!$D$6+'Door Style'!$G$6+Species!$C$6+'Custom Finish'!$C$6)","v":{"$error":"#VALUE!"}},null,"SC/PC",{"$f":"'Order Type'!$C$6","v":"01-"},{"$f":"CONCAT!$D$8","v":""},null,1,"01-W13.530","11-W13.530",1,"12-W13.530","12-W13.530",1,{"$nulls":6},{"$f":"$C721*$G$1*1*(Color!$D$8+'Door Style'!$G$6+Species!$C$6+'Custom Finish'!$C$6)","v":{"$error":"#VALUE!"}},null,"Black","Dark Gray",null,"1","WSKIN30",75,25,"Y","Wall Cabinet - 30\" Wall",{"v":335,"d":"$335.00"},"Price change for fall 2019",{"v":237,"d":"$237.00"},1.41,"G1",{"$nulls":4},{"$error":"#N/A"}]
["W13.536","Wall 13.5\" x 36\"",{"v":390,"d":"$390.00"},3,null,null,{"$f":"$C722*$G$1*'Order Form'!$Q$18*(Color!$D$6+'Door Style'!$G$6+Species!$C$6+'Custom Finish'!$C$6)","v":{"$error":"#VALUE!"}},null,"SC/PC",{"$f":"'Order Type'!$C$6","v":"01-"},{"$f":"CONCAT!$D$8","v":""},null,1,"01-W13.536","11-W13.536",1,"12-W13.536","12-W13.536",1,{"$nulls":6},{"$f":"$C722*$G$1*1*(Color!$D$8+'Door Style'!$G$6+Species!$C$6+'Custom Finish'!$C$6)","v":{"$error":"#VALUE!"}},null,"Black","Dark Gray",null,"1","WSKIN36",75,25,"Y","Wall Cabinet - 36\" Wall",{"v":390,"d":"$390.00"},"Price change for fall 2019",{"v":276,"d":"$276.00"},1.41,"G1",{"$nulls":4},{"$error":"#N/A"}]
["W13.542","Wall 13.5\" x 42\"",{"v":450,"d":"$450.00"},3,null,null,{"$f":"$C723*$G$1*'Order Form'!$Q$18*(Color!$D$6+'Door Style'!$G$6+Species!$C$6+'Custom Finish'!$C$6)","v":{"$error":"#VALUE!"}},null,"SC/PC",{"$f":"'Order Type'!$C$6","v":"01-"},{"$f":"CONCAT!$D$8","v":""},null,1,"01-W13.542","11-W13.542",1,"12-W13.542","12-W13.542",1,{"$nulls":6},{"$f":"$C723*$G$1*1*(Color!$D$8+'Door Style'!$G$6+Species!$C$6+'Custom Finish'!$C$6)","v":{"$error":"#VALUE!"}},null,"Black","Dark Gray",null,"1","WSKIN42",75,25,"Y","Wall Cabinet - 42\" Wall",{"v":450,"d":"$450.00"},"Price change for fall 2019",{"v":319,"d":"$319.00"},1.41,"G1",{"$nulls":4},{"$error":"#N/A"}]
["W13.5-SHELF","Wall Shelf For 13.5\"",{"v":32.16,"d":"$32.16"},2,null,{"$f":"$C724*'Order Form'!$Q$18","v":{"v":32.16,"d":"$32.16"}},{"$f":"$C724*'Order Form'!$Q$18","v":{"v":32.16,"d":"$32.16"}},null,"14-","14-","",null,0,"14-W13.5-SHELF",{"$nulls":3},"",null,{"$f":"N724","v":"14-W13.5-SHELF"},1,{"$nulls":3},{"$f":"$C724*1","v":{"v":32.16,"d":"$32.16"}},{"$f":"$C724*1","v":{"v":32.16,"d":"$32.16"}},null,"Purple","Purple",{"$nulls":3},"No","No","N","Shelf - Wall",{"$f":"AL724","v":{"v":32.16,"d":"$32.16"}},{"$f":"ROUNDUP(AS724,2)","v":32.16},{"v":16,"d":"$16.00"},1.1,"Plywood",14,10,{"$f":"(AP724*AQ724)/144","v":0.9722222222222222},{"$f":"(AR724*12.5)+20","v":{"v":32.15277777777778,"d":"32.15"}},{"$error":"#N/A"}]
["W1512","Wall 15\" x 12\"",{"v":235,"d":"$235.00"},3,null,null,{"$f":"$C725*$G$1*'Order Form'!$Q$18*(Color!$D$6+'Door Style'!$G$6+Species!$C$6+'Custom Finish'!$C$6)","v":{"$error":"#VALUE!"}},null,"SC/PC",{"$f":"'Order Type'!$C$6","v":"01-"},{"$f":"CONCAT!$D$8","v":""},null,1,"01-W1512","11-W1512",1,"12-W1512","12-W1512",1,{"$nulls":6},{"$f":"$C725*$G$1*1*(Color!$D$8+'Door Style'!$G$6+Species!$C$6+'Custom Finish'!$C$6)","v":{"$error":"#VALUE!"}},null,"Black","Dark Gray",null,"1","WSKIN30",75,25,"Y","Wall Cabinet - 12\" Wall",{"$f":"ROUNDUP(AM725*AN725,0)","v":{"v":235,"d":"$235.00"}},"Price change for fall 2019",{"v":166,"d":"$166.00"},1.41,"G1",{"$nulls":4},{"$error":"#N/A"}]
["W1515","Wall 15\" x 15\"",{"v":253,"d":"$253.00"},3,null,null,{"$f":"$C726*$G$1*'Order Form'!$Q$18*(Color!$D$6+'Door Style'!$G$6+Species!$C$6+'Custom Finish'!$C$6)","v":{"$error":"#VALUE!"}},null,"SC/PC",{"$f":"'Order Type'!$C$6","v":"01-"},{"$f":"CONCAT!$D$8","v":""},null,1,"01-W1515","11-W1515",1,"12-W1515","12-W1515",1,{"$nulls":6},{"$f":"$C726*$G$1*1*(Color!$D$8+'Door Style'!$G$6+Species!$C$6+'Custom Finish'!$C$6)","v":{"$error":"#VALUE!"}},null,"Black","Dark Gray",null,"1","WSKIN30",75,25,"Y","Wall Cabinet - 15\" Wall",{"v":253,"d":"$253.00"},"Price change for fall 2019",{"v":179,"d":"$179.00"},1.41,"G1",{"$nulls":4},{"$error":"#N/A"}]
["W1518","Wall 15\" x 18\"",{"v":267,"d":"$267.00"},3,null,null,{"$f":"$C727*$G$1*'Order Form'!$Q$18*(Color!$D$6+'Door Style'!$G$6+Species!$C$6+'Custom Finish'!$C$6)","v":{"$error":"#VALUE!"}},null,"SC/PC",{"$f":"'Order Type'!$C$6","v":"01-"},{"$f":"CONCAT!$D$8","v":""},null,1,"01-W1518","11-W1518",1,"12-W1518","12-W1518",1,{"$nulls":6},{"$f":"$C727*$G$1*1*(Color!$D$8+'Door Style'!$G$6+Species!$C$6+'Custom Finish'!$C$6)","v":{"$error":"#VALUE!"}},null,"Black","Dark Gray",null,"1","WSKIN30",75,25,"Y","Wall Cabinet - 18\" Wall",{"v":267,"d":"$267.00"},"Price change for fall 2019",{"v":189,"d":"$189.00"},1.41,"G1",{"$nulls":4},{"$error":"#N/A"}]
["W1521","Wall 15\" x 21\"",{"v":285,"d":"$285.00"},3,null,null,{"$f":"$C728*$G$1*'Order Form'!$Q$18*(Color!$D$6+'Door Style'!$G$6+Species!$C$6+'Custom Finish'!$C$6)","v":{"$error":"#VALUE!"}},null,"SC/PC",{"$f":"'Order Type'!$C$6","v":"01-"},{"$f":"CONCAT!$D$8","v":""},null,1,"01-W1521","11-W1521",1,"12-W1521","12-W1521",1,{"$nulls":6},{"$f":"$C728*$G$1*1*(Color!$D$8+'Door Style'!$G$6+Species!$C$6+'Custom Finish'!$C$6)","v":{"$error":"#VALUE!"}},null,"Black","Dark Gray",null,"1","WSKIN30",75,25,"Y","Wall Cabinet - 21\" Wall",{"v":285,"d":"$285.00"},"Price change for fall 2019",{"v":202,"d":"$202.00"},1.41,"G1",{"$nulls":4},{"$error":"#N/A"}]
["W1524","Wall 15\" x 24\"",{"v":301,"d":"$301.00"},3,null,null,{"$f":"$C729*$G$1*'Order Form'!$Q$18*(Color!$D$6+'Door Style'!$G$6+Species!$C$6+'Custom Finish'!$C$6)","v":{"$error":"#VALUE!"}},null,"PROJECT",{"$f":"'Order Type'!$C$6","v":"01-"},{"$f":"CONCAT!$E$2","v":""},null,1,"01-W1524","11-W1524",1,"12-W1524","12-W1524",1,{"$nulls":6},{"$f":"$C729*$G$1*1*(Color!$D$8+'Door Style'!$G$6+Species!$C$6+'Custom Finish'!$C$6)","v":{"$error":"#VALUE!"}},null,"Black","Dark Gray",null,"1","WSKIN30",75,25,"Y","Wall Cabinet - 24\" Wall",{"v":301,"d":"$301.00"},"Price change for fall 2019",{"v":213,"d":"$213.00"},1.41,"G1",{"$nulls":4},{"$error":"#N/A"}]
["W1527","Wall 15\" x 27\"",{"v":319,"d":"$319.00"},3,null,null,{"$f":"$C730*$G$1*'Order Form'!$Q$18*(Color!$D$6+'Door Style'!$G$6+Species!$C$6+'Custom Finish'!$C$6)","v":{"$error":"#VALUE!"}},null,"SC/PC",{"$f":"'Order Type'!$C$6","v":"01-"},{"$f":"CONCAT!$D$8","v":""},null,1,"01-W1527","11-W1527",1,"12-W1527","12-W1527",1,{"$nulls":6},{"$f":"$C730*$G$1*1*(Color!$D$8+'Door Style'!$G$6+Species!$C$6+'Custom Finish'!$C$6)","v":{"$error":"#VALUE!"}},null,"Black","Dark Gray",null,"1","WSKIN30",75,25,"Y","Wall Cabinet - 27\" Wall",{"v":319,"d":"$319.00"},"Price change for fall 2019",{"v":226,"d":"$226.00"},1.41,"G1",{"$nulls":4},{"$error":"#N/A"}]
["W1530","Wall 15\" x 30\"",{"v":332,"d":"$332.00"},2,"PB",{"$f":"$C731*$F$1*'Order Form'!$Q$18*(Color!$C$6+'Door Style'!$H$6)","v":{"$error":"#VALUE!"}},{"$f":"$C731*$G$1*'Order Form'!$Q$18*(Color!$D$6+'Door Style'!$G$6+Species!$C$6+'Custom Finish'!$C$6)","v":{"$error":"#VALUE!"}},null,{"$f":"'Order Type'!$C$6","v":"01-"},{"$f":"'Order Type'!$C$6","v":"01-"},{"$f":"CONCAT!$D$2","v":""},null,1,"01-W1530","11-W1530",1,"12-W1530","12-W1530",1,{"$nulls":5},{"$f":"$C731*$F$1*(Color!$C$8+'Door Style'!$H$6)","v":{"v":284.85600000000005,"d":"$284.86"}},{"$f":"$C731*$G$1*1*(Color!$D$8+'Door Style'!$G$6+Species!$C$6+'Custom Finish'!$C$6)","v":{"$error":"#VALUE!"}},null,"Light Blue","Dark Gray",null,"1","WSKIN30",75,25,"Y","Wall Cabinet - 30\" Wall",{"v":332,"d":"$332.00"},"Price change for fall 2019",{"v":235,"d":"$235.00"},1.41,"G1",{"$nulls":4},{"$error":"#N/A"}]
["W1536","Wall 15\" x 36\"",{"v":385,"d":"$385.00"},2,null,{"$f":"$C732*$F$1*'Order Form'!$Q$18*(Color!$C$6+'Door Style'!$H$6)","v":{"$error":"#VALUE!"}},{"$f":"$C732*$G$1*'Order Form'!$Q$18*(Color!$D$6+'Door Style'!$G$6+Species!$C$6+'Custom Finish'!$C$6)","v":{"$error":"#VALUE!"}},null,{"$f":"'Order Type'!$C$6","v":"01-"},{"$f":"'Order Type'!$C$6","v":"01-"},{"$f":"CONCAT!$D$2","v":""},null,1,"01-W1536","11-W1536",1,"12-W1536","12-W1536",1,{"$nulls":5},{"$f":"$C732*$F$1*(Color!$C$8+'Door Style'!$H$6)","v":{"v":330.33000000000004,"d":"$330.33"}},{"$f":"$C732*$G$1*1*(Color!$D$8+'Door Style'!$G$6+Species!$C$6+'Custom Finish'!$C$6)","v":{"$error":"#VALUE!"}},null,"Light Blue","Dark Gray",null,"1","WSKIN36",75,25,"Y","Wall Cabinet - 36\" Wall",{"v":385,"d":"$385.00"},"Price change for fall 2019",{"v":273,"d":"$273.00"},1.41,"G1",{"$nulls":4},{"$error":"#N/A"}]
["W1542","Wall 15\" x 42\"",{"v":447,"d":"$447.00"},2,null,{"$f":"$C733*$F$1*'Order Form'!$Q$18*(Color!$C$6+'Door Style'!$H$6)","v":{"$error":"#VALUE!"}},{"$f":"$C733*$G$1*'Order Form'!$Q$18*(Color!$D$6+'Door Style'!$G$6+Species!$C$6+'Custom Finish'!$C$6)","v":{"$error":"#VALUE!"}},null,{"$f":"'Order Type'!$C$6","v":"01-"},{"$f":"'Order Type'!$C$6","v":"01-"},{"$f":"CONCAT!$D$2","v":""},null,1,"01-W1542","11-W1542",1,"12-W1542","12-W1542",1,{"$nulls":5},{"$f":"$C733*$F$1*(Color!$C$8+'Door Style'!$H$6)","v":{"v":383.52600000000007,"d":"$383.53"}},{"$f":"$C733*$G$1*1*(Color!$D$8+'Door Style'!$G$6+Species!$C$6+'Custom Finish'!$C$6)","v":{"$error":"#VALUE!"}},null,"Light Blue","Dark Gray",null,"1","WSKIN42",75,25,"Y","Wall Cabinet - 42\" Wall",{"v":447,"d":"$447.00"},"Price change for fall 2019",{"v":317,"d":"$317.00"},1.41,"G1",{"$nulls":4},{"$error":"#N/A"}]
["W15-SHELF","Wall Shelf For 15\"",{"v":33.03,"d":"$33.03"},2,null,{"$f":"$C734*'Order Form'!$Q$18","v":{"v":33.03,"d":"$33.03"}},{"$f":"$C734*'Order Form'!$Q$18","v":{"v":33.03,"d":"$33.03"}},null,"14-","14-","",null,0,"14-W15-SHELF",{"$nulls":3},"",null,{"$f":"N734","v":"14-W15-SHELF"},1,{"$nulls":3},{"$f":"$C734*1","v":{"v":33.03,"d":"$33.03"}},{"$f":"$C734*1","v":{"v":33.03,"d":"$33.03"}},null,"Purple","Purple",{"$nulls":3},"No","No","N","Shelf - Wall",{"$f":"AL734","v":{"v":33.03,"d":"$33.03"}},{"$f":"ROUNDUP(AS734,2)","v":33.03},{"v":17,"d":"$17.00"},1.1,"Plywood",15,10,{"$f":"(AP734*AQ734)/144","v":1.0416666666666667},{"$f":"(AR734*12.5)+20","v":{"v":33.020833333333336,"d":"33.02"}},{"$error":"#N/A"}]
["W16.512","Wall 16.5\" x 12\"",{"v":235,"d":"$235.00"},3,null,null,{"$f":"$C735*$G$1*'Order Form'!$Q$18*(Color!$D$6+'Door Style'!$G$6+Species!$C$6+'Custom Finish'!$C$6)","v":{"$error":"#VALUE!"}},null,"SC/PC",{"$f":"'Order Type'!$C$6","v":"01-"},{"$f":"CONCAT!$D$8","v":""},null,1,"01-W16.512","11-W16.512",1,"12-W16.512","12-W16.512",1,{"$nulls":6},{"$f":"$C735*$G$1*1*(Color!$D$8+'Door Style'!$G$6+Species!$C$6+'Custom Finish'!$C$6)","v":{"$error":"#VALUE!"}},null,"Black","Dark Gray",null,"1","WSKIN30",75,25,"Y","Wall Cabinet - 12\" Wall",{"$f":"ROUNDUP(AM735*AN735,0)","v":{"v":235,"d":"$235.00"}},"Price change for fall 2019",{"v":166,"d":"$166.00"},1.41,"G1",{"$nulls":4},{"$error":"#N/A"}]
["W16.515","Wall 16.5\" x 15\"",{"v":257,"d":"$257.00"},3,null,null,{"$f":"$C736*$G$1*'Order Form'!$Q$18*(Color!$D$6+'Door Style'!$G$6+Species!$C$6+'Custom Finish'!$C$6)","v":{"$error":"#VALUE!"}},null,"SC/PC",{"$f":"'Order Type'!$C$6","v":"01-"},{"$f":"CONCAT!$D$8","v":""},null,1,"01-W16.515","11-W16.515",1,"12-W16.515","12-W16.515",1,{"$nulls":6},{"$f":"$C736*$G$1*1*(Color!$D$8+'Door Style'!$G$6+Species!$C$6+'Custom Finish'!$C$6)","v":{"$error":"#VALUE!"}},null,"Black","Dark Gray",null,"1","WSKIN30",75,25,"Y","Wall Cabinet - 15\" Wall",{"v":257,"d":"$257.00"},"Price change for fall 2019",{"v":182,"d":"$182.00"},1.41,"G1",{"$nulls":4},{"$error":"#N/A"}]
["W16.518","Wall 16.5\" x 18\"",{"v":278,"d":"$278.00"},3,null,null,{"$f":"$C737*$G$1*'Order Form'!$Q$18*(Color!$D$6+'Door Style'!$G$6+Species!$C$6+'Custom Finish'!$C$6)","v":{"$error":"#VALUE!"}},null,"SC/PC",{"$f":"'Order Type'!$C$6","v":"01-"},{"$f":"CONCAT!$D$8","v":""},null,1,"01-W16.518","11-W16.518",1,"12-W16.518","12-W16.518",1,{"$nulls":6},{"$f":"$C737*$G$1*1*(Color!$D$8+'Door Style'!$G$6+Species!$C$6+'Custom Finish'!$C$6)","v":{"$error":"#VALUE!"}},null,"Black","Dark Gray",null,"1","WSKIN30",75,25,"Y","Wall Cabinet - 18\" Wall",{"v":278,"d":"$278.00"},"Price change for fall 2019",{"v":197,"d":"$197.00"},1.41,"G1",{"$nulls":4},{"$error":"#N/A"}]
["W16.521","Wall 16.5\" x 21\"",{"v":301,"d":"$301.00"},3,null,null,{"$f":"$C738*$G$1*'Order Form'!$Q$18*(Color!$D$6+'Door Style'!$G$6+Species!$C$6+'Custom Finish'!$C$6)","v":{"$error":"#VALUE!"}},null,"SC/PC",{"$f":"'Order Type'!$C$6","v":"01-"},{"$f":"CONCAT!$D$8","v":""},null,1,"01-W16.521","11-W16.521",1,"12-W16.521","12-W16.521",1,{"$nulls":6},{"$f":"$C738*$G$1*1*(Color!$D$8+'Door Style'!$G$6+Species!$C$6+'Custom Finish'!$C$6)","v":{"$error":"#VALUE!"}},null,"Black","Dark Gray",null,"1","WSKIN30",75,25,"Y","Wall Cabinet - 21\" Wall",{"v":301,"d":"$301.00"},"Price change for fall 2019",{"v":213,"d":"$213.00"},1.41,"G1",{"$nulls":4},{"$error":"#N/A"}]
["W16.524","Wall 16.5\" x 24\"",{"v":323,"d":"$323.00"},3,null,null,{"$f":"$C739*$G$1*'Order Form'!$Q$18*(Color!$D$6+'Door Style'!$G$6+Species!$C$6+'Custom Finish'!$C$6)","v":{"$error":"#VALUE!"}},null,"SC/PC",{"$f":"'Order Type'!$C$6","v":"01-"},{"$f":"CONCAT!$D$8","v":""},null,1,"01-W16.524","11-W16.524",1,"12-W16.524","12-W16.524",1,{"$nulls":6},{"$f":"$C739*$G$1*1*(Color!$D$8+'Door Style'!$G$6+Species!$C$6+'Custom Finish'!$C$6)","v":{"$error":"#VALUE!"}},null,"Black","Dark Gray",null,"1","WSKIN30",75,25,"Y","Wall Cabinet - 24\" Wall",{"v":323,"d":"$323.00"},"Price change for fall 2019",{"v":229,"d":"$229.00"},1.41,"G1",{"$nulls":4},{"$error":"#N/A"}]
["W16.527","Wall 16.5\" x 27\"",{"v":346,"d":"$346.00"},3,null,null,{"$f":"$C740*$G$1*'Order Form'!$Q$18*(Color!$D$6+'Door Style'!$G$6+Species!$C$6+'Custom Finish'!$C$6)","v":{"$error":"#VALUE!"}},null,"SC/PC",{"$f":"'Order Type'!$C$6","v":"01-"},{"$f":"CONCAT!$D$8","v":""},null,1,{"$f":"J740&A740&K740","v":"01-W16.527"},"11-W16.527",1,"12-W16.527","12-W16.527",1,{"$nulls":6},{"$f":"$C740*$G$1*1*(Color!$D$8+'Door Style'!$G$6+Species!$C$6+'Custom Finish'!$C$6)","v":{"$error":"#VALUE!"}},null,"Black","Dark Gray",null,"1","WSKIN30",75,25,"Y","Wall Cabinet - 27\" Wall",{"v":346,"d":"$346.00"},"Price change for fall 2019",{"v":245,"d":"$245.00"},1.41,"G1",{"$nulls":4},{"$error":"#N/A"}]
["W16.530","Wall 16.5\" x 30\"",{"v":367,"d":"$367.00"},3,null,null,{"$f":"$C741*$G$1*'Order Form'!$Q$18*(Color!$D$6+'Door Style'!$G$6+Species!$C$6+'Custom Finish'!$C$6)","v":{"$error":"#VALUE!"}},null,"SC/PC",{"$f":"'Order Type'!$C$6","v":"01-"},{"$f":"CONCAT!$D$8","v":""},null,1,"01-W16.530","11-W16.530",1,"12-W16.530","12-W16.530",1,{"$nulls":6},{"$f":"$C741*$G$1*1*(Color!$D$8+'Door Style'!$G$6+Species!$C$6+'Custom Finish'!$C$6)","v":{"$error":"#VALUE!"}},null,"Black","Dark Gray",null,"1","WSKIN30",75,25,"Y","Wall Cabinet - 30\" Wall",{"v":367,"d":"$367.00"},"Price change for fall 2019",{"v":260,"d":"$260.00"},1.41,"G1",{"$nulls":4},{"$error":"#N/A"}]
["W16.536","Wall 16.5\" x 36\"",{"v":432,"d":"$432.00"},3,null,null,{"$f":"$C742*$G$1*'Order Form'!$Q$18*(Color!$D$6+'Door Style'!$G$6+Species!$C$6+'Custom Finish'!$C$6)","v":{"$error":"#VALUE!"}},null,"SC/PC",{"$f":"'Order Type'!$C$6","v":"01-"},{"$f":"CONCAT!$D$8","v":""},null,1,"01-W16.536","11-W16.536",1,"12-W16.536","12-W16.536",1,{"$nulls":6},{"$f":"$C742*$G$1*1*(Color!$D$8+'Door Style'!$G$6+Species!$C$6+'Custom Finish'!$C$6)","v":{"$error":"#VALUE!"}},null,"Black","Dark Gray",null,"1","WSKIN36",75,25,"Y","Wall Cabinet - 36\" Wall",{"v":432,"d":"$432.00"},"Price change for fall 2019",{"v":306,"d":"$306.00"},1.41,"G1",{"$nulls":4},{"$error":"#N/A"}]
["W16.542","Wall 16.5\" x 42\"",{"v":497,"d":"$497.00"},3,null,null,{"$f":"$C743*$G$1*'Order Form'!$Q$18*(Color!$D$6+'Door Style'!$G$6+Species!$C$6+'Custom Finish'!$C$6)","v":{"$error":"#VALUE!"}},null,"SC/PC",{"$f":"'Order Type'!$C$6","v":"01-"},{"$f":"CONCAT!$D$8","v":""},null,1,"01-W16.542","11-W16.542",1,"12-W16.542","12-W16.542",1,{"$nulls":6},{"$f":"$C743*$G$1*1*(Color!$D$8+'Door Style'!$G$6+Species!$C$6+'Custom Finish'!$C$6)","v":{"$error":"#VALUE!"}},null,"Black","Dark Gray",null,"1","WSKIN42",75,25,"Y","Wall Cabinet - 42\" Wall",{"v":497,"d":"$497.00"},"Price change for fall 2019",{"v":352,"d":"$352.00"},1.41,"G1",{"$nulls":4},{"$error":"#N/A"}]
["W16.5-SHELF","Wall Shelf For 16.5\"",{"v":34.76,"d":"$34.76"},2,null,{"$f":"$C744*'Order Form'!$Q$18","v":{"v":34.76,"d":"$34.76"}},{"$f":"$C744*'Order Form'!$Q$18","v":{"v":34.76,"d":"$34.76"}},null,"14-","14-","",null,0,"14-W16.5-SHELF",{"$nulls":3},"",null,{"$f":"N744","v":"14-W16.5-SHELF"},1,{"$nulls":3},{"$f":"$C744*1","v":{"v":34.76,"d":"$34.76"}},{"$f":"$C744*1","v":{"v":34.76,"d":"$34.76"}},null,"Purple","Purple",{"$nulls":3},"No","No","N","Shelf - Wall",{"$f":"AL744","v":{"v":34.76,"d":"$34.76"}},{"$f":"ROUNDUP(AS744,2)","v":34.76},{"v":19,"d":"$19.00"},1.1,"Plywood",17,10,{"$f":"(AP744*AQ744)/144","v":1.1805555555555556},{"$f":"(AR744*12.5)+20","v":{"v":34.75694444444444,"d":"34.76"}},{"$error":"#N/A"}]
["W1812","Wall 18\" x 12\"",{"v":235,"d":"$235.00"},3,null,null,{"$f":"$C745*$G$1*'Order Form'!$Q$18*(Color!$D$6+'Door Style'!$G$6+Species!$C$6+'Custom Finish'!$C$6)","v":{"$error":"#VALUE!"}},null,"SC/PC",{"$f":"'Order Type'!$C$6","v":"01-"},{"$f":"CONCAT!$D$8","v":""},null,1,"01-W1812","11-W1812",1,"12-W1812","12-W1812",1,{"$nulls":6},{"$f":"$C745*$G$1*1*(Color!$D$8+'Door Style'!$G$6+Species!$C$6+'Custom Finish'!$C$6)","v":{"$error":"#VALUE!"}},null,"Black","Dark Gray",null,"1","WSKIN30",75,25,"Y","Wall Cabinet - 12\" Wall",{"$f":"ROUNDUP(AM745*AN745,0)","v":{"v":235,"d":"$235.00"}},"Price change for fall 2019",{"v":166,"d":"$166.00"},1.41,"G1",{"$nulls":4},{"$error":"#N/A"}]
["W1815","Wall 18\" x 15\"",{"v":257,"d":"$257.00"},3,null,null,{"$f":"$C746*$G$1*'Order Form'!$Q$18*(Color!$D$6+'Door Style'!$G$6+Species!$C$6+'Custom Finish'!$C$6)","v":{"$error":"#VALUE!"}},null,"SC/PC",{"$f":"'Order Type'!$C$6","v":"01-"},{"$f":"CONCAT!$D$8","v":""},null,1,"01-W1815","11-W1815",1,"12-W1815","12-W1815",1,{"$nulls":6},{"$f":"$C746*$G$1*1*(Color!$D$8+'Door Style'!$G$6+Species!$C$6+'Custom Finish'!$C$6)","v":{"$error":"#VALUE!"}},null,"Black","Dark Gray",null,"1","WSKIN30",75,25,"Y","Wall Cabinet - 15\" Wall",{"v":257,"d":"$257.00"},"Price change for fall 2019",{"v":182,"d":"$182.00"},1.41,"G1",{"$nulls":4},{"$error":"#N/A"}]
["W1818","Wall 18\" x 18\"",{"v":278,"d":"$278.00"},3,null,null,{"$f":"$C747*$G$1*'Order Form'!$Q$18*(Color!$D$6+'Door Style'!$G$6+Species!$C$6+'Custom Finish'!$C$6)","v":{"$error":"#VALUE!"}},null,"SC/PC",{"$f":"'Order Type'!$C$6","v":"01-"},{"$f":"CONCAT!$D$8","v":""},null,1,"01-W1818","11-W1818",1,"12-W1818","12-W1818",1,{"$nulls":6},{"$f":"$C747*$G$1*1*(Color!$D$8+'Door Style'!$G$6+Species!$C$6+'Custom Finish'!$C$6)","v":{"$error":"#VALUE!"}},null,"Black","Dark Gray",null,"1","WSKIN30",75,25,"Y","Wall Cabinet - 18\" Wall",{"v":278,"d":"$278.00"},"Price change for fall 2019",{"v":197,"d":"$197.00"},1.41,"G1",{"$nulls":4},{"$error":"#N/A"}]
["W1821","Wall 18\" x 21\"",{"v":301,"d":"$301.00"},3,null,null,{"$f":"$C748*$G$1*'Order Form'!$Q$18*(Color!$D$6+'Door Style'!$G$6+Species!$C$6+'Custom Finish'!$C$6)","v":{"$error":"#VALUE!"}},null,"SC/PC",{"$f":"'Order Type'!$C$6","v":"01-"},{"$f":"CONCAT!$D$8","v":""},null,1,"01-W1821","11-W1821",1,"12-W1821","12-W1821",1,{"$nulls":6},{"$f":"$C748*$G$1*1*(Color!$D$8+'Door Style'!$G$6+Species!$C$6+'Custom Finish'!$C$6)","v":{"$error":"#VALUE!"}},null,"Black","Dark Gray",null,"1","WSKIN30",75,25,"Y","Wall Cabinet - 21\" Wall",{"v":301,"d":"$301.00"},"Price change for fall 2019",{"v":213,"d":"$213.00"},1.41,"G1",{"$nulls":4},{"$error":"#N/A"}]
["W1824","Wall 18\" x 24\"",{"v":323,"d":"$323.00"},3,null,null,{"$f":"$C749*$G$1*'Order Form'!$Q$18*(Color!$D$6+'Door Style'!$G$6+Species!$C$6+'Custom Finish'!$C$6)","v":{"$error":"#VALUE!"}},null,"SC/PC",{"$f":"'Order Type'!$C$6","v":"01-"},{"$f":"CONCAT!$D$8","v":""},null,1,"01-W1824","11-W1824",1,"12-W1824","12-W1824",1,{"$nulls":6},{"$f":"$C749*$G$1*1*(Color!$D$8+'Door Style'!$G$6+Species!$C$6+'Custom Finish'!$C$6)","v":{"$error":"#VALUE!"}},null,"Black","Dark Gray",null,"1","WSKIN30",75,25,"Y","Wall Cabinet - 24\" Wall",{"v":323,"d":"$323.00"},"Price change for fall 2019",{"v":229,"d":"$229.00"},1.41,"G1",{"$nulls":4},{"$error":"#N/A"}]
["W1827","Wall 18\" x 27\"",{"v":346,"d":"$346.00"},3,null,null,{"$f":"$C750*$G$1*'Order Form'!$Q$18*(Color!$D$6+'Door Style'!$G$6+Species!$C$6+'Custom Finish'!$C$6)","v":{"$error":"#VALUE!"}},null,"SC/PC",{"$f":"'Order Type'!$C$6","v":"01-"},{"$f":"CONCAT!$D$8","v":""},null,1,"01-W1827","11-W1827",1,"12-W1827","12-W1827",1,{"$nulls":6},{"$f":"$C750*$G$1*1*(Color!$D$8+'Door Style'!$G$6+Species!$C$6+'Custom Finish'!$C$6)","v":{"$error":"#VALUE!"}},null,"Black","Dark Gray",null,"1","WSKIN30",75,25,"Y","Wall Cabinet - 27\" Wall",{"v":346,"d":"$346.00"},"Price change for fall 2019",{"v":245,"d":"$245.00"},1.41,"G1",{"$nulls":4},{"$error":"#N/A"}]
["W1830","Wall 18\" x 30\"",{"v":366,"d":"$366.00"},2,"PB",{"$f":"$C751*$F$1*'Order Form'!$Q$18*(Color!$C$6+'Door Style'!$H$6)","v":{"$error":"#VALUE!"}},{"$f":"$C751*$G$1*'Order Form'!$Q$18*(Color!$D$6+'Door Style'!$G$6+Species!$C$6+'Custom Finish'!$C$6)","v":{"$error":"#VALUE!"}},null,{"$f":"'Order Type'!$C$6","v":"01-"},{"$f":"'Order Type'!$C$6","v":"01-"},{"$f":"CONCAT!$D$2","v":""},null,1,"01-W1830","11-W1830",1,"12-W1830","12-W1830",1,{"$nulls":5},{"$f":"$C751*$F$1*(Color!$C$8+'Door Style'!$H$6)","v":{"v":314.028,"d":"$314.03"}},{"$f":"$C751*$G$1*1*(Color!$D$8+'Door Style'!$G$6+Species!$C$6+'Custom Finish'!$C$6)","v":{"$error":"#VALUE!"}},null,"Light Blue","Dark Gray",null,"1","WSKIN30",75,25,"Y","Wall Cabinet - 30\" Wall",{"v":366,"d":"$366.00"},"Price change for fall 2019",{"v":259,"d":"$259.00"},1.41,"G1",{"$nulls":4},{"$error":"#N/A"}]
["W1836","Wall 18\" x 36\"",{"v":428,"d":"$428.00"},2,null,{"$f":"$C752*$F$1*'Order Form'!$Q$18*(Color!$C$6+'Door Style'!$H$6)","v":{"$error":"#VALUE!"}},{"$f":"$C752*$G$1*'Order Form'!$Q$18*(Color!$D$6+'Door Style'!$G$6+Species!$C$6+'Custom Finish'!$C$6)","v":{"$error":"#VALUE!"}},null,{"$f":"'Order Type'!$C$6","v":"01-"},{"$f":"'Order Type'!$C$6","v":"01-"},{"$f":"CONCAT!$D$2","v":""},null,1,"01-W1836","11-W1836",1,"12-W1836","12-W1836",1,{"$nulls":5},{"$f":"$C752*$F$1*(Color!$C$8+'Door Style'!$H$6)","v":{"v":367.22400000000005,"d":"$367.22"}},{"$f":"$C752*$G$1*1*(Color!$D$8+'Door Style'!$G$6+Species!$C$6+'Custom Finish'!$C$6)","v":{"$error":"#VALUE!"}},null,"Light Blue","Dark Gray",null,"1","WSKIN36",75,25,"Y","Wall Cabinet - 36\" Wall",{"v":428,"d":"$428.00"},"Price change for fall 2019",{"v":303,"d":"$303.00"},1.41,"G1",{"$nulls":4},{"$error":"#N/A"}]
["W1842","Wall 18\" x 42\"",{"v":495,"d":"$495.00"},2,null,{"$f":"$C753*$F$1*'Order Form'!$Q$18*(Color!$C$6+'Door Style'!$H$6)","v":{"$error":"#VALUE!"}},{"$f":"$C753*$G$1*'Order Form'!$Q$18*(Color!$D$6+'Door Style'!$G$6+Species!$C$6+'Custom Finish'!$C$6)","v":{"$error":"#VALUE!"}},null,{"$f":"'Order Type'!$C$6","v":"01-"},{"$f":"'Order Type'!$C$6","v":"01-"},{"$f":"CONCAT!$D$2","v":""},null,1,"01-W1842","11-W1842",1,"12-W1842","12-W1842",1,{"$nulls":5},{"$f":"$C753*$F$1*(Color!$C$8+'Door Style'!$H$6)","v":{"v":424.71000000000004,"d":"$424.71"}},{"$f":"$C753*$G$1*1*(Color!$D$8+'Door Style'!$G$6+Species!$C$6+'Custom Finish'!$C$6)","v":{"$error":"#VALUE!"}},null,"Light Blue","Dark Gray",null,"1","WSKIN42",75,25,"Y","Wall Cabinet - 42\" Wall",{"v":495,"d":"$495.00"},"Price change for fall 2019",{"v":351,"d":"$351.00"},1.41,"G1",{"$nulls":4},{"$error":"#N/A"}]
["W18-SHELF","Wall Shelf For 18\"",{"v":35.629999999999995,"d":"$35.63"},2,null,{"$f":"$C754*'Order Form'!$Q$18","v":{"v":35.629999999999995,"d":"$35.63"}},{"$f":"$C754*'Order Form'!$Q$18","v":{"v":35.629999999999995,"d":"$35.63"}},null,"14-","14-","",null,0,"14-W18-SHELF",{"$nulls":3},"",null,{"$f":"N754","v":"14-W18-SHELF"},1,{"$nulls":3},{"$f":"$C754*1","v":{"v":35.629999999999995,"d":"$35.63"}},{"$f":"$C754*1","v":{"v":35.629999999999995,"d":"$35.63"}},null,"Purple","Purple",{"$nulls":3},"No","No","N","Shelf - Wall",{"$f":"AL754","v":{"v":35.629999999999995,"d":"$35.63"}},{"$f":"ROUNDUP(AS754,2)","v":{"v":35.629999999999995,"d":"35.63"}},{"v":20,"d":"$20.00"},1.1,"Plywood",18,10,{"$f":"(AP754*AQ754)/144","v":1.25},{"$f":"(AR754*12.5)+20","v":{"v":35.625,"d":"35.63"}},{"$error":"#N/A"}]
["W19.512","Wall 19.5\" x 12\"",{"v":275,"d":"$275.00"},3,null,null,{"$f":"$C755*$G$1*'Order Form'!$Q$18*(Color!$D$6+'Door Style'!$G$6+Species!$C$6+'Custom Finish'!$C$6)","v":{"$error":"#VALUE!"}},null,"SC/PC",{"$f":"'Order Type'!$C$6","v":"01-"},{"$f":"CONCAT!$D$8","v":""},null,1,"01-W19.512","11-W19.512",1,"12-W19.512","12-W19.512",1,{"$nulls":6},{"$f":"$C755*$G$1*1*(Color!$D$8+'Door Style'!$G$6+Species!$C$6+'Custom Finish'!$C$6)","v":{"$error":"#VALUE!"}},null,"Black","Dark Gray",null,"1","WSKIN30",75,25,"Y","Wall Cabinet - 12\" Wall",{"$f":"ROUNDUP(AM755*AN755,0)","v":{"v":275,"d":"$275.00"}},"Price change for fall 2019",{"v":195,"d":"$195.00"},1.41,"G1",{"$nulls":4},{"$error":"#N/A"}]
["W19.515","Wall 19.5\" x 15\"",{"v":298,"d":"$298.00"},3,null,null,{"$f":"$C756*$G$1*'Order Form'!$Q$18*(Color!$D$6+'Door Style'!$G$6+Species!$C$6+'Custom Finish'!$C$6)","v":{"$error":"#VALUE!"}},null,"SC/PC",{"$f":"'Order Type'!$C$6","v":"01-"},{"$f":"CONCAT!$D$8","v":""},null,1,"01-W19.515","11-W19.515",1,"12-W19.515","12-W19.515",1,{"$nulls":6},{"$f":"$C756*$G$1*1*(Color!$D$8+'Door Style'!$G$6+Species!$C$6+'Custom Finish'!$C$6)","v":{"$error":"#VALUE!"}},null,"Black","Dark Gray",null,"1","WSKIN30",75,25,"Y","Wall Cabinet - 15\" Wall",{"v":298,"d":"$298.00"},"Price change for fall 2019",{"v":211,"d":"$211.00"},1.41,"G1",{"$nulls":4},{"$error":"#N/A"}]
["W19.518","Wall 19.5\" x 18\"",{"v":321,"d":"$321.00"},3,null,null,{"$f":"$C757*$G$1*'Order Form'!$Q$18*(Color!$D$6+'Door Style'!$G$6+Species!$C$6+'Custom Finish'!$C$6)","v":{"$error":"#VALUE!"}},null,"SC/PC",{"$f":"'Order Type'!$C$6","v":"01-"},{"$f":"CONCAT!$D$8","v":""},null,1,"01-W19.518","11-W19.518",1,"12-W19.518","12-W19.518",1,{"$nulls":6},{"$f":"$C757*$G$1*1*(Color!$D$8+'Door Style'!$G$6+Species!$C$6+'Custom Finish'!$C$6)","v":{"$error":"#VALUE!"}},null,"Black","Dark Gray",null,"1","WSKIN30",75,25,"Y","Wall Cabinet - 18\" Wall",{"v":321,"d":"$321.00"},"Price change for fall 2019",{"v":227,"d":"$227.00"},1.41,"G1",{"$nulls":4},{"$error":"#N/A"}]
["W19.521","Wall 19.5\" x 21\"",{"v":342,"d":"$342.00"},3,null,null,{"$f":"$C758*$G$1*'Order Form'!$Q$18*(Color!$D$6+'Door Style'!$G$6+Species!$C$6+'Custom Finish'!$C$6)","v":{"$error":"#VALUE!"}},null,"SC/PC",{"$f":"'Order Type'!$C$6","v":"01-"},{"$f":"CONCAT!$D$8","v":""},null,1,"01-W19.521","11-W19.521",1,"12-W19.521","12-W19.521",1,{"$nulls":6},{"$f":"$C758*$G$1*1*(Color!$D$8+'Door Style'!$G$6+Species!$C$6+'Custom Finish'!$C$6)","v":{"$error":"#VALUE!"}},null,"Black","Dark Gray",null,"1","WSKIN30",75,25,"Y","Wall Cabinet - 21\" Wall",{"v":342,"d":"$342.00"},"Price change for fall 2019",{"v":242,"d":"$242.00"},1.41,"G1",{"$nulls":4},{"$error":"#N/A"}]
["W19.524","Wall 19.5\" x 24\"",{"v":364,"d":"$364.00"},3,null,null,{"$f":"$C759*$G$1*'Order Form'!$Q$18*(Color!$D$6+'Door Style'!$G$6+Species!$C$6+'Custom Finish'!$C$6)","v":{"$error":"#VALUE!"}},null,"SC/PC",{"$f":"'Order Type'!$C$6","v":"01-"},{"$f":"CONCAT!$D$8","v":""},null,1,"01-W19.524","11-W19.524",1,"12-W19.524","12-W19.524",1,{"$nulls":6},{"$f":"$C759*$G$1*1*(Color!$D$8+'Door Style'!$G$6+Species!$C$6+'Custom Finish'!$C$6)","v":{"$error":"#VALUE!"}},null,"Black","Dark Gray",null,"1","WSKIN30",75,25,"Y","Wall Cabinet - 24\" Wall",{"v":364,"d":"$364.00"},"Price change for fall 2019",{"v":258,"d":"$258.00"},1.41,"G1",{"$nulls":4},{"$error":"#N/A"}]
["W19.527","Wall 19.5\" x 27\"",{"v":388,"d":"$388.00"},3,null,null,{"$f":"$C760*$G$1*'Order Form'!$Q$18*(Color!$D$6+'Door Style'!$G$6+Species!$C$6+'Custom Finish'!$C$6)","v":{"$error":"#VALUE!"}},null,"SC/PC",{"$f":"'Order Type'!$C$6","v":"01-"},{"$f":"CONCAT!$D$8","v":""},null,1,"01-W19.527","11-W19.527",1,"12-W19.527","12-W19.527",1,{"$nulls":6},{"$f":"$C760*$G$1*1*(Color!$D$8+'Door Style'!$G$6+Species!$C$6+'Custom Finish'!$C$6)","v":{"$error":"#VALUE!"}},null,"Black","Dark Gray",null,"1","WSKIN30",75,25,"Y","Wall Cabinet - 27\" Wall",{"v":388,"d":"$388.00"},"Price change for fall 2019",{"v":275,"d":"$275.00"},1.41,"G1",{"$nulls":4},{"$error":"#N/A"}]
["W19.530","Wall 19.5\" x 30\"",{"v":409,"d":"$409.00"},3,null,null,{"$f":"$C761*$G$1*'Order Form'!$Q$18*(Color!$D$6+'Door Style'!$G$6+Species!$C$6+'Custom Finish'!$C$6)","v":{"$error":"#VALUE!"}},null,"SC/PC",{"$f":"'Order Type'!$C$6","v":"01-"},{"$f":"CONCAT!$D$8","v":""},null,1,"01-W19.530","11-W19.530",1,"12-W19.530","12-W19.530",1,{"$nulls":6},{"$f":"$C761*$G$1*1*(Color!$D$8+'Door Style'!$G$6+Species!$C$6+'Custom Finish'!$C$6)","v":{"$error":"#VALUE!"}},null,"Black","Dark Gray",null,"1","WSKIN30",75,25,"Y","Wall Cabinet - 30\" Wall",{"v":409,"d":"$409.00"},"Price change for fall 2019",{"v":290,"d":"$290.00"},1.41,"G1",{"$nulls":4},{"$error":"#N/A"}]
["W19.536","Wall 19.5\" x 36\"",{"v":477,"d":"$477.00"},3,null,null,{"$f":"$C762*$G$1*'Order Form'!$Q$18*(Color!$D$6+'Door Style'!$G$6+Species!$C$6+'Custom Finish'!$C$6)","v":{"$error":"#VALUE!"}},null,"SC/PC",{"$f":"'Order Type'!$C$6","v":"01-"},{"$f":"CONCAT!$D$8","v":""},null,1,"01-W19.536","11-W19.536",1,"12-W19.536","12-W19.536",1,{"$nulls":6},{"$f":"$C762*$G$1*1*(Color!$D$8+'Door Style'!$G$6+Species!$C$6+'Custom Finish'!$C$6)","v":{"$error":"#VALUE!"}},null,"Black","Dark Gray",null,"1","WSKIN36",75,25,"Y","Wall Cabinet - 36\" Wall",{"v":477,"d":"$477.00"},"Price change for fall 2019",{"v":338,"d":"$338.00"},1.41,"G1",{"$nulls":4},{"$error":"#N/A"}]
["W19.542","Wall 19.5\" x 42\"",{"v":553,"d":"$553.00"},3,null,null,{"$f":"$C763*$G$1*'Order Form'!$Q$18*(Color!$D$6+'Door Style'!$G$6+Species!$C$6+'Custom Finish'!$C$6)","v":{"$error":"#VALUE!"}},null,"SC/PC",{"$f":"'Order Type'!$C$6","v":"01-"},{"$f":"CONCAT!$D$8","v":""},null,1,"01-W19.542","11-W19.542",1,"12-W19.542","12-W19.542",1,{"$nulls":6},{"$f":"$C763*$G$1*1*(Color!$D$8+'Door Style'!$G$6+Species!$C$6+'Custom Finish'!$C$6)","v":{"$error":"#VALUE!"}},null,"Black","Dark Gray",null,"1","WSKIN42",75,25,"Y","Wall Cabinet - 42\" Wall",{"v":553,"d":"$553.00"},"Price change for fall 2019",{"v":392,"d":"$392.00"},1.41,"G1",{"$nulls":4},{"$error":"#N/A"}]
["W19.5-SHELF","Wall Shelf For 19.5\"",{"v":37.37,"d":"$37.37"},2,null,{"$f":"$C764*'Order Form'!$Q$18","v":{"v":37.37,"d":"$37.37"}},{"$f":"$C764*'Order Form'!$Q$18","v":{"v":37.37,"d":"$37.37"}},null,"14-","14-","",null,0,"14-W19.5-SHELF",{"$nulls":3},"",null,{"$f":"N764","v":"14-W19.5-SHELF"},1,{"$nulls":3},{"$f":"$C764*1","v":{"v":37.37,"d":"$37.37"}},{"$f":"$C764*1","v":{"v":37.37,"d":"$37.37"}},null,"Purple","Purple",{"$nulls":3},"No","No","N","Shelf - Wall",{"$f":"AL764","v":{"v":37.37,"d":"$37.37"}},{"$f":"ROUNDUP(AS764,2)","v":37.37},{"v":22,"d":"$22.00"},1.1,"Plywood",20,10,{"$f":"(AP764*AQ764)/144","v":1.3888888888888888},{"$f":"(AR764*12.5)+20","v":{"v":37.361111111111114,"d":"37.36"}},{"$error":"#N/A"}]
["W2112","Wall 21\" x 12\"",{"v":275,"d":"$275.00"},3,null,null,{"$f":"$C765*$G$1*'Order Form'!$Q$18*(Color!$D$6+'Door Style'!$G$6+Species!$C$6+'Custom Finish'!$C$6)","v":{"$error":"#VALUE!"}},null,"SC/PC",{"$f":"'Order Type'!$C$6","v":"01-"},{"$f":"CONCAT!$D$8","v":""},null,1,"01-W2112","11-W2112",1,"12-W2112","12-W2112",1,{"$nulls":6},{"$f":"$C765*$G$1*1*(Color!$D$8+'Door Style'!$G$6+Species!$C$6+'Custom Finish'!$C$6)","v":{"$error":"#VALUE!"}},null,"Black","Dark Gray",null,"1","WSKIN30",75,25,"Y","Wall Cabinet - 12\" Wall",{"$f":"ROUNDUP(AM765*AN765,0)","v":{"v":275,"d":"$275.00"}},"Price change for fall 2019",{"v":195,"d":"$195.00"},1.41,"G1",{"$nulls":4},{"$error":"#N/A"}]
["W2115","Wall 21\" x 15\"",{"v":298,"d":"$298.00"},3,null,null,{"$f":"$C766*$G$1*'Order Form'!$Q$18*(Color!$D$6+'Door Style'!$G$6+Species!$C$6+'Custom Finish'!$C$6)","v":{"$error":"#VALUE!"}},null,"SC/PC",{"$f":"'Order Type'!$C$6","v":"01-"},{"$f":"CONCAT!$D$8","v":""},null,1,"01-W2115","11-W2115",1,"12-W2115","12-W2115",1,{"$nulls":6},{"$f":"$C766*$G$1*1*(Color!$D$8+'Door Style'!$G$6+Species!$C$6+'Custom Finish'!$C$6)","v":{"$error":"#VALUE!"}},null,"Black","Dark Gray",null,"1","WSKIN30",75,25,"Y","Wall Cabinet - 15\" Wall",{"v":298,"d":"$298.00"},"Price change for fall 2019",{"v":211,"d":"$211.00"},1.41,"G1",{"$nulls":4},{"$error":"#N/A"}]
["W2118","Wall 21\" x 18\"",{"v":321,"d":"$321.00"},3,null,null,{"$f":"$C767*$G$1*'Order Form'!$Q$18*(Color!$D$6+'Door Style'!$G$6+Species!$C$6+'Custom Finish'!$C$6)","v":{"$error":"#VALUE!"}},null,"SC/PC",{"$f":"'Order Type'!$C$6","v":"01-"},{"$f":"CONCAT!$D$8","v":""},null,1,"01-W2118","11-W2118",1,"12-W2118","12-W2118",1,{"$nulls":6},{"$f":"$C767*$G$1*1*(Color!$D$8+'Door Style'!$G$6+Species!$C$6+'Custom Finish'!$C$6)","v":{"$error":"#VALUE!"}},null,"Black","Dark Gray",null,"1","WSKIN30",75,25,"Y","Wall Cabinet - 18\" Wall",{"v":321,"d":"$321.00"},"Price change for fall 2019",{"v":227,"d":"$227.00"},1.41,"G1",{"$nulls":4},{"$error":"#N/A"}]
["W2121","Wall 21\" x 21\"",{"v":342,"d":"$342.00"},3,null,null,{"$f":"$C768*$G$1*'Order Form'!$Q$18*(Color!$D$6+'Door Style'!$G$6+Species!$C$6+'Custom Finish'!$C$6)","v":{"$error":"#VALUE!"}},null,"SC/PC",{"$f":"'Order Type'!$C$6","v":"01-"},{"$f":"CONCAT!$D$8","v":""},null,1,"01-W2121","11-W2121",1,"12-W2121","12-W2121",1,{"$nulls":6},{"$f":"$C768*$G$1*1*(Color!$D$8+'Door Style'!$G$6+Species!$C$6+'Custom Finish'!$C$6)","v":{"$error":"#VALUE!"}},null,"Black","Dark Gray",null,"1","WSKIN30",75,25,"Y","Wall Cabinet - 21\" Wall",{"v":342,"d":"$342.00"},"Price change for fall 2019",{"v":242,"d":"$242.00"},1.41,"G1",{"$nulls":4},{"$error":"#N/A"}]
["W2124","Wall 21\" x 24\"",{"v":364,"d":"$364.00"},3,null,null,{"$f":"$C769*$G$1*'Order Form'!$Q$18*(Color!$D$6+'Door Style'!$G$6+Species!$C$6+'Custom Finish'!$C$6)","v":{"$error":"#VALUE!"}},null,"PROJECT",{"$f":"'Order Type'!$C$6","v":"01-"},{"$f":"CONCAT!$E$2","v":""},null,1,"01-W2124","11-W2124",1,"12-W2124","12-W2124",1,{"$nulls":6},{"$f":"$C769*$G$1*1*(Color!$D$8+'Door Style'!$G$6+Species!$C$6+'Custom Finish'!$C$6)","v":{"$error":"#VALUE!"}},null,"Black","Dark Gray",null,"1","WSKIN30",75,25,"Y","Wall Cabinet - 24\" Wall",{"v":364,"d":"$364.00"},"Price change for fall 2019",{"v":258,"d":"$258.00"},1.41,"G1",{"$nulls":4},{"$error":"#N/A"}]
["W2127","Wall 21\" x 27\"",{"v":388,"d":"$388.00"},3,null,null,{"$f":"$C770*$G$1*'Order Form'!$Q$18*(Color!$D$6+'Door Style'!$G$6+Species!$C$6+'Custom Finish'!$C$6)","v":{"$error":"#VALUE!"}},null,"SC/PC",{"$f":"'Order Type'!$C$6","v":"01-"},{"$f":"CONCAT!$D$8","v":""},null,1,"01-W2127","11-W2127",1,"12-W2127","12-W2127",1,{"$nulls":6},{"$f":"$C770*$G$1*1*(Color!$D$8+'Door Style'!$G$6+Species!$C$6+'Custom Finish'!$C$6)","v":{"$error":"#VALUE!"}},null,"Black","Dark Gray",null,"1","WSKIN30",75,25,"Y","Wall Cabinet - 27\" Wall",{"v":388,"d":"$388.00"},"Price change for fall 2019",{"v":275,"d":"$275.00"},1.41,"G1",{"$nulls":4},{"$error":"#N/A"}]
["W2130","Wall 21\" x 30\"",{"v":408,"d":"$408.00"},2,"PB",{"$f":"$C771*$F$1*'Order Form'!$Q$18*(Color!$C$6+'Door Style'!$H$6)","v":{"$error":"#VALUE!"}},{"$f":"$C771*$G$1*'Order Form'!$Q$18*(Color!$D$6+'Door Style'!$G$6+Species!$C$6+'Custom Finish'!$C$6)","v":{"$error":"#VALUE!"}},null,{"$f":"'Order Type'!$C$6","v":"01-"},{"$f":"'Order Type'!$C$6","v":"01-"},{"$f":"CONCAT!$D$2","v":""},null,1,"01-W2130","11-W2130",1,"12-W2130","12-W2130",1,{"$nulls":5},{"$f":"$C771*$F$1*(Color!$C$8+'Door Style'!$H$6)","v":{"v":350.064,"d":"$350.06"}},{"$f":"$C771*$G$1*1*(Color!$D$8+'Door Style'!$G$6+Species!$C$6+'Custom Finish'!$C$6)","v":{"$error":"#VALUE!"}},null,"Light Blue","Dark Gray",null,"1","WSKIN30",75,25,"Y","Wall Cabinet - 30\" Wall",{"v":408,"d":"$408.00"},"Price change for fall 2019",{"v":289,"d":"$289.00"},1.41,"G1",{"$nulls":4},{"$error":"#N/A"}]
["W2136","Wall 21\" x 36\"",{"v":476,"d":"$476.00"},2,null,{"$f":"$C772*$F$1*'Order Form'!$Q$18*(Color!$C$6+'Door Style'!$H$6)","v":{"$error":"#VALUE!"}},{"$f":"$C772*$G$1*'Order Form'!$Q$18*(Color!$D$6+'Door Style'!$G$6+Species!$C$6+'Custom Finish'!$C$6)","v":{"$error":"#VALUE!"}},null,{"$f":"'Order Type'!$C$6","v":"01-"},{"$f":"'Order Type'!$C$6","v":"01-"},{"$f":"CONCAT!$D$2","v":""},null,1,"01-W2136","11-W2136",1,"12-W2136","12-W2136",1,{"$nulls":5},{"$f":"$C772*$F$1*(Color!$C$8+'Door Style'!$H$6)","v":{"v":408.4080000000001,"d":"$408.41"}},{"$f":"$C772*$G$1*1*(Color!$D$8+'Door Style'!$G$6+Species!$C$6+'Custom Finish'!$C$6)","v":{"$error":"#VALUE!"}},null,"Light Blue","Dark Gray",null,"1","WSKIN36",75,25,"Y","Wall Cabinet - 36\" Wall",{"v":476,"d":"$476.00"},"Price change for fall 2019",{"v":337,"d":"$337.00"},1.41,"G1",{"$nulls":4},{"$error":"#N/A"}]
["W2142","Wall 21\" x 42\"",{"v":552,"d":"$552.00"},2,null,{"$f":"$C773*$F$1*'Order Form'!$Q$18*(Color!$C$6+'Door Style'!$H$6)","v":{"$error":"#VALUE!"}},{"$f":"$C773*$G$1*'Order Form'!$Q$18*(Color!$D$6+'Door Style'!$G$6+Species!$C$6+'Custom Finish'!$C$6)","v":{"$error":"#VALUE!"}},null,{"$f":"'Order Type'!$C$6","v":"01-"},{"$f":"'Order Type'!$C$6","v":"01-"},{"$f":"CONCAT!$D$2","v":""},null,1,"01-W2142","11-W2142",1,"12-W2142","12-W2142",1,{"$nulls":5},{"$f":"$C773*$F$1*(Color!$C$8+'Door Style'!$H$6)","v":{"v":473.61600000000004,"d":"$473.62"}},{"$f":"$C773*$G$1*1*(Color!$D$8+'Door Style'!$G$6+Species!$C$6+'Custom Finish'!$C$6)","v":{"$error":"#VALUE!"}},null,"Light Blue","Dark Gray",null,"1","WSKIN42",75,25,"Y","Wall Cabinet - 42\" Wall",{"v":552,"d":"$552.00"},"Price change for fall 2019",{"v":391,"d":"$391.00"},1.41,"G1",{"$nulls":4},{"$error":"#N/A"}]
["W21-SHELF","Wall Shelf For 21\"",{"v":38.23,"d":"$38.23"},2,null,{"$f":"$C774*'Order Form'!$Q$18","v":{"v":38.23,"d":"$38.23"}},{"$f":"$C774*'Order Form'!$Q$18","v":{"v":38.23,"d":"$38.23"}},null,"14-","14-","",null,0,"14-W21-SHELF",{"$nulls":3},"",null,{"$f":"N774","v":"14-W21-SHELF"},1,{"$nulls":3},{"$f":"$C774*1","v":{"v":38.23,"d":"$38.23"}},{"$f":"$C774*1","v":{"v":38.23,"d":"$38.23"}},null,"Purple","Purple",{"$nulls":3},"No","No","N","Shelf - Wall",{"$f":"AL774","v":{"v":38.23,"d":"$38.23"}},{"$f":"ROUNDUP(AS774,2)","v":38.23},{"v":23,"d":"$23.00"},1.1,"Plywood",21,10,{"$f":"(AP774*AQ774)/144","v":1.4583333333333333},{"$f":"(AR774*12.5)+20","v":{"v":38.229166666666664,"d":"38.23"}},{"$error":"#N/A"}]
["W22.512","Wall 22.5\" x 12\"",{"v":322,"d":"$322.00"},3,null,null,{"$f":"$C775*$G$1*'Order Form'!$Q$18*(Color!$D$6+'Door Style'!$G$6+Species!$C$6+'Custom Finish'!$C$6)","v":{"$error":"#VALUE!"}},null,"SC/PC",{"$f":"'Order Type'!$C$6","v":"01-"},{"$f":"CONCAT!$D$8","v":""},null,1,"01-W22.512","11-W22.512",1,"12-W22.512","12-W22.512",1,{"$nulls":6},{"$f":"$C775*$G$1*1*(Color!$D$8+'Door Style'!$G$6+Species!$C$6+'Custom Finish'!$C$6)","v":{"$error":"#VALUE!"}},null,"Black","Dark Gray",null,"1","WSKIN30",75,25,"Y","Wall Cabinet - 12\" Wall",{"$f":"ROUNDUP(AM775*AN775,0)","v":{"v":322,"d":"$322.00"}},"Price change for fall 2019",{"v":228,"d":"$228.00"},1.41,"G1",{"$nulls":4},{"$error":"#N/A"}]
["W22.515","Wall 22.5\" x 15\"",{"v":345,"d":"$345.00"},3,null,null,{"$f":"$C776*$G$1*'Order Form'!$Q$18*(Color!$D$6+'Door Style'!$G$6+Species!$C$6+'Custom Finish'!$C$6)","v":{"$error":"#VALUE!"}},null,"SC/PC",{"$f":"'Order Type'!$C$6","v":"01-"},{"$f":"CONCAT!$D$8","v":""},null,1,"01-W22.515","11-W22.515",1,"12-W22.515","12-W22.515",1,{"$nulls":6},{"$f":"$C776*$G$1*1*(Color!$D$8+'Door Style'!$G$6+Species!$C$6+'Custom Finish'!$C$6)","v":{"$error":"#VALUE!"}},null,"Black","Dark Gray",null,"1","WSKIN30",75,25,"Y","Wall Cabinet - 15\" Wall",{"v":345,"d":"$345.00"},"Price change for fall 2019",{"v":244,"d":"$244.00"},1.41,"G1",{"$nulls":4},{"$error":"#N/A"}]
["W22.518","Wall 22.5\" x 18\"",{"v":366,"d":"$366.00"},3,null,null,{"$f":"$C777*$G$1*'Order Form'!$Q$18*(Color!$D$6+'Door Style'!$G$6+Species!$C$6+'Custom Finish'!$C$6)","v":{"$error":"#VALUE!"}},null,"SC/PC",{"$f":"'Order Type'!$C$6","v":"01-"},{"$f":"CONCAT!$D$8","v":""},null,1,"01-W22.518","11-W22.518",1,"12-W22.518",{"$f":"Q777&K777","v":"12-W22.518"},1,{"$nulls":6},{"$f":"$C777*$G$1*1*(Color!$D$8+'Door Style'!$G$6+Species!$C$6+'Custom Finish'!$C$6)","v":{"$error":"#VALUE!"}},null,"Black","Dark Gray",null,"1","WSKIN30",75,25,"Y","Wall Cabinet - 18\" Wall",{"v":366,"d":"$366.00"},"Price change for fall 2019",{"v":259,"d":"$259.00"},1.41,"G1",{"$nulls":4},{"$error":"#N/A"}]
["W22.521","Wall 22.5\" x 21\"",{"v":390,"d":"$390.00"},3,null,null,{"$f":"$C778*$G$1*'Order Form'!$Q$18*(Color!$D$6+'Door Style'!$G$6+Species!$C$6+'Custom Finish'!$C$6)","v":{"$error":"#VALUE!"}},null,"SC/PC",{"$f":"'Order Type'!$C$6","v":"01-"},{"$f":"CONCAT!$D$8","v":""},null,1,"01-W22.521","11-W22.521",1,"12-W22.521","12-W22.521",1,{"$nulls":6},{"$f":"$C778*$G$1*1*(Color!$D$8+'Door Style'!$G$6+Species!$C$6+'Custom Finish'!$C$6)","v":{"$error":"#VALUE!"}},null,"Black","Dark Gray",null,"1","WSKIN30",75,25,"Y","Wall Cabinet - 21\" Wall",{"v":390,"d":"$390.00"},"Price change for fall 2019",{"v":276,"d":"$276.00"},1.41,"G1",{"$nulls":4},{"$error":"#N/A"}]
["W22.524","Wall 22.5\" x 24\"",{"v":412,"d":"$412.00"},3,null,null,{"$f":"$C779*$G$1*'Order Form'!$Q$18*(Color!$D$6+'Door Style'!$G$6+Species!$C$6+'Custom Finish'!$C$6)","v":{"$error":"#VALUE!"}},null,"SC/PC",{"$f":"'Order Type'!$C$6","v":"01-"},{"$f":"CONCAT!$D$8","v":""},null,1,"01-W22.524","11-W22.524",1,"12-W22.524","12-W22.524",1,{"$nulls":6},{"$f":"$C779*$G$1*1*(Color!$D$8+'Door Style'!$G$6+Species!$C$6+'Custom Finish'!$C$6)","v":{"$error":"#VALUE!"}},null,"Black","Dark Gray",null,"1","WSKIN30",75,25,"Y","Wall Cabinet - 24\" Wall",{"v":412,"d":"$412.00"},"Price change for fall 2019",{"v":292,"d":"$292.00"},1.41,"G1",{"$nulls":4},{"$error":"#N/A"}]
["W22.527","Wall 22.5\" x 27\"",{"v":435,"d":"$435.00"},3,null,null,{"$f":"$C780*$G$1*'Order Form'!$Q$18*(Color!$D$6+'Door Style'!$G$6+Species!$C$6+'Custom Finish'!$C$6)","v":{"$error":"#VALUE!"}},null,"SC/PC",{"$f":"'Order Type'!$C$6","v":"01-"},{"$f":"CONCAT!$D$8","v":""},null,1,"01-W22.527","11-W22.527",1,"12-W22.527","12-W22.527",1,{"$nulls":6},{"$f":"$C780*$G$1*1*(Color!$D$8+'Door Style'!$G$6+Species!$C$6+'Custom Finish'!$C$6)","v":{"$error":"#VALUE!"}},null,"Black","Dark Gray",null,"1","WSKIN30",75,25,"Y","Wall Cabinet - 27\" Wall",{"v":435,"d":"$435.00"},"Price change for fall 2019",{"v":308,"d":"$308.00"},1.41,"G1",{"$nulls":4},{"$error":"#N/A"}]
["W22.530","Wall 22.5\" x 30\"",{"v":456,"d":"$456.00"},3,null,null,{"$f":"$C781*$G$1*'Order Form'!$Q$18*(Color!$D$6+'Door Style'!$G$6+Species!$C$6+'Custom Finish'!$C$6)","v":{"$error":"#VALUE!"}},null,"SC/PC",{"$f":"'Order Type'!$C$6","v":"01-"},{"$f":"CONCAT!$D$8","v":""},null,1,"01-W22.530","11-W22.530",1,"12-W22.530","12-W22.530",1,{"$nulls":6},{"$f":"$C781*$G$1*1*(Color!$D$8+'Door Style'!$G$6+Species!$C$6+'Custom Finish'!$C$6)","v":{"$error":"#VALUE!"}},null,"Black","Dark Gray",null,"1","WSKIN30",75,25,"Y","Wall Cabinet - 30\" Wall",{"v":456,"d":"$456.00"},"Price change for fall 2019",{"v":323,"d":"$323.00"},1.41,"G1",{"$nulls":4},{"$error":"#N/A"}]
["W22.536","Wall 22.5\" x 36\"",{"v":532,"d":"$532.00"},3,null,null,{"$f":"$C782*$G$1*'Order Form'!$Q$18*(Color!$D$6+'Door Style'!$G$6+Species!$C$6+'Custom Finish'!$C$6)","v":{"$error":"#VALUE!"}},null,"SC/PC",{"$f":"'Order Type'!$C$6","v":"01-"},{"$f":"CONCAT!$D$8","v":""},null,1,"01-W22.536","11-W22.536",1,"12-W22.536","12-W22.536",1,{"$nulls":6},{"$f":"$C782*$G$1*1*(Color!$D$8+'Door Style'!$G$6+Species!$C$6+'Custom Finish'!$C$6)","v":{"$error":"#VALUE!"}},null,"Black","Dark Gray",null,"1","WSKIN36",75,25,"Y","Wall Cabinet - 36\" Wall",{"v":532,"d":"$532.00"},"Price change for fall 2019",{"v":377,"d":"$377.00"},1.41,"G1",{"$nulls":4},{"$error":"#N/A"}]
["W22.542","Wall 22.5\" x 42\"",{"v":628,"d":"$628.00"},3,null,null,{"$f":"$C783*$G$1*'Order Form'!$Q$18*(Color!$D$6+'Door Style'!$G$6+Species!$C$6+'Custom Finish'!$C$6)","v":{"$error":"#VALUE!"}},null,"SC/PC",{"$f":"'Order Type'!$C$6","v":"01-"},{"$f":"CONCAT!$D$8","v":""},null,1,"01-W22.542","11-W22.542",1,"12-W22.542","12-W22.542",1,{"$nulls":6},{"$f":"$C783*$G$1*1*(Color!$D$8+'Door Style'!$G$6+Species!$C$6+'Custom Finish'!$C$6)","v":{"$error":"#VALUE!"}},null,"Black","Dark Gray",null,"1","WSKIN42",75,25,"Y","Wall Cabinet - 42\" Wall",{"v":628,"d":"$628.00"},"Price change for fall 2019",{"v":445,"d":"$445.00"},1.41,"G1",{"$nulls":4},{"$error":"#N/A"}]
["W22.5-SHELF","Wall Shelf For 25.5\"",{"v":39.97,"d":"$39.97"},2,null,{"$f":"$C784*'Order Form'!$Q$18","v":{"v":39.97,"d":"$39.97"}},{"$f":"$C784*'Order Form'!$Q$18","v":{"v":39.97,"d":"$39.97"}},null,"14-","14-","",null,0,"14-W22.5-SHELF",{"$nulls":3},"",null,{"$f":"N784","v":"14-W22.5-SHELF"},1,{"$nulls":3},{"$f":"$C784*1","v":{"v":39.97,"d":"$39.97"}},{"$f":"$C784*1","v":{"v":39.97,"d":"$39.97"}},null,"Purple","Purple",{"$nulls":3},"No","No","N","Shelf - Wall",{"$f":"AL784","v":{"v":39.97,"d":"$39.97"}},{"$f":"ROUNDUP(AS784,2)","v":39.97},{"v":25,"d":"$25.00"},1.1,"Plywood",23,10,{"$f":"(AP784*AQ784)/144","v":1.5972222222222223},{"$f":"(AR784*12.5)+20","v":{"v":39.96527777777778,"d":"39.97"}},{"$error":"#N/A"}]
["W2412","Wall 24\" x 12\"",{"v":322,"d":"$322.00"},3,null,null,{"$f":"$C785*$G$1*'Order Form'!$Q$18*(Color!$D$6+'Door Style'!$G$6+Species!$C$6+'Custom Finish'!$C$6)","v":{"$error":"#VALUE!"}},null,"SC/PC",{"$f":"'Order Type'!$C$6","v":"01-"},{"$f":"CONCAT!$D$8","v":""},null,1,"01-W2412","11-W2412",1,"12-W2412","12-W2412",1,{"$nulls":6},{"$f":"$C785*$G$1*1*(Color!$D$8+'Door Style'!$G$6+Species!$C$6+'Custom Finish'!$C$6)","v":{"$error":"#VALUE!"}},null,"Black","Dark Gray",null,"1","WSKIN30",75,25,"N","Wall Cabinet - 12\" Wall",{"$f":"ROUNDUP(AM785*AN785,0)","v":{"v":322,"d":"$322.00"}},"Price change for fall 2019",{"v":228,"d":"$228.00"},1.41,"G1",{"$nulls":4},{"$error":"#N/A"}]
["W2415","Wall 24\" x 15\"",{"v":345,"d":"$345.00"},3,null,null,{"$f":"$C786*$G$1*'Order Form'!$Q$18*(Color!$D$6+'Door Style'!$G$6+Species!$C$6+'Custom Finish'!$C$6)","v":{"$error":"#VALUE!"}},null,"SC/PC",{"$f":"'Order Type'!$C$6","v":"01-"},{"$f":"CONCAT!$D$8","v":""},null,1,"01-W2415","11-W2415",1,"12-W2415","12-W2415",1,{"$nulls":6},{"$f":"$C786*$G$1*1*(Color!$D$8+'Door Style'!$G$6+Species!$C$6+'Custom Finish'!$C$6)","v":{"$error":"#VALUE!"}},null,"Black","Dark Gray",null,"1","WSKIN30",75,25,"N","Wall Cabinet - 15\" Wall",{"v":345,"d":"$345.00"},"Price change for fall 2019",{"v":244,"d":"$244.00"},1.41,"G1",{"$nulls":4},{"$error":"#N/A"}]
["W2418","Wall 24\" x 18\"",{"v":366,"d":"$366.00"},3,null,null,{"$f":"$C787*$G$1*'Order Form'!$Q$18*(Color!$D$6+'Door Style'!$G$6+Species!$C$6+'Custom Finish'!$C$6)","v":{"$error":"#VALUE!"}},null,"SC/PC",{"$f":"'Order Type'!$C$6","v":"01-"},{"$f":"CONCAT!$D$8","v":""},null,1,"01-W2418","11-W2418",1,"12-W2418","12-W2418",1,{"$nulls":6},{"$f":"$C787*$G$1*1*(Color!$D$8+'Door Style'!$G$6+Species!$C$6+'Custom Finish'!$C$6)","v":{"$error":"#VALUE!"}},null,"Black","Dark Gray",null,"1","WSKIN30",75,25,"N","Wall Cabinet - 18\" Wall",{"v":366,"d":"$366.00"},"Price change for fall 2019",{"v":259,"d":"$259.00"},1.41,"G1",{"$nulls":4},{"$error":"#N/A"}]
["W2421","Wall 24\" x 21\"",{"v":390,"d":"$390.00"},3,null,null,{"$f":"$C788*$G$1*'Order Form'!$Q$18*(Color!$D$6+'Door Style'!$G$6+Species!$C$6+'Custom Finish'!$C$6)","v":{"$error":"#VALUE!"}},null,"PROJECT",{"$f":"'Order Type'!$C$6","v":"01-"},{"$f":"CONCAT!$E$2","v":""},null,1,"01-W2421","11-W2421",1,"12-W2421","12-W2421",1,{"$nulls":6},{"$f":"$C788*$G$1*1*(Color!$D$8+'Door Style'!$G$6+Species!$C$6+'Custom Finish'!$C$6)","v":{"$error":"#VALUE!"}},null,"Black","Dark Gray",null,"1","WSKIN30",75,25,"N","Wall Cabinet - 21\" Wall",{"v":390,"d":"$390.00"},"Price change for fall 2019",{"v":276,"d":"$276.00"},1.41,"G1",{"$nulls":4},{"$error":"#N/A"}]
["W2424","Wall 24\" x 24\"",{"v":412,"d":"$412.00"},3,null,null,{"$f":"$C789*$G$1*'Order Form'!$Q$18*(Color!$D$6+'Door Style'!$G$6+Species!$C$6+'Custom Finish'!$C$6)","v":{"$error":"#VALUE!"}},null,"SC/PC",{"$f":"'Order Type'!$C$6","v":"01-"},{"$f":"CONCAT!$D$8","v":""},null,1,"01-W2424","11-W2424",1,"12-W2424","12-W2424",1,{"$nulls":6},{"$f":"$C789*$G$1*1*(Color!$D$8+'Door Style'!$G$6+Species!$C$6+'Custom Finish'!$C$6)","v":{"$error":"#VALUE!"}},null,"Black","Dark Gray",null,"1","WSKIN30",75,25,"N","Wall Cabinet - 24\" Wall",{"v":412,"d":"$412.00"},"Price change for fall 2019",{"v":292,"d":"$292.00"},1.41,"G1",{"$nulls":4},{"$error":"#N/A"}]
["W2427","Wall 24\" x 27\"",{"v":435,"d":"$435.00"},3,null,null,{"$f":"$C790*$G$1*'Order Form'!$Q$18*(Color!$D$6+'Door Style'!$G$6+Species!$C$6+'Custom Finish'!$C$6)","v":{"$error":"#VALUE!"}},null,"SC/PC",{"$f":"'Order Type'!$C$6","v":"01-"},{"$f":"CONCAT!$D$8","v":""},null,1,"01-W2427","11-W2427",1,"12-W2427","12-W2427",1,{"$nulls":6},{"$f":"$C790*$G$1*1*(Color!$D$8+'Door Style'!$G$6+Species!$C$6+'Custom Finish'!$C$6)","v":{"$error":"#VALUE!"}},null,"Black","Dark Gray",null,"1","WSKIN30",75,25,"N","Wall Cabinet - 27\" Wall",{"v":435,"d":"$435.00"},"Price change for fall 2019",{"v":308,"d":"$308.00"},1.41,"G1",{"$nulls":4},{"$error":"#N/A"}]
["W2430","Wall 24\" x 30\"",{"v":453,"d":"$453.00"},2,"PB",{"$f":"$C791*$F$1*'Order Form'!$Q$18*(Color!$C$6+'Door Style'!$H$6)","v":{"$error":"#VALUE!"}},{"$f":"$C791*$G$1*'Order Form'!$Q$18*(Color!$D$6+'Door Style'!$G$6+Species!$C$6+'Custom Finish'!$C$6)","v":{"$error":"#VALUE!"}},null,{"$f":"'Order Type'!$C$6","v":"01-"},{"$f":"'Order Type'!$C$6","v":"01-"},{"$f":"CONCAT!$D$2","v":""},null,1,"01-W2430","11-W2430",1,"12-W2430","12-W2430",1,{"$nulls":5},{"$f":"$C791*$F$1*(Color!$C$8+'Door Style'!$H$6)","v":{"v":388.6740000000001,"d":"$388.67"}},{"$f":"$C791*$G$1*1*(Color!$D$8+'Door Style'!$G$6+Species!$C$6+'Custom Finish'!$C$6)","v":{"$error":"#VALUE!"}},null,"Light Blue","Dark Gray",null,"1","WSKIN30",75,25,"N","Wall Cabinet - 30\" Wall",{"v":453,"d":"$453.00"},"Price change for fall 2019",{"v":321,"d":"$321.00"},1.41,"G1",{"$nulls":4},{"$error":"#N/A"}]
["W2436","Wall 24\" x 36\"",{"v":531,"d":"$531.00"},2,null,{"$f":"$C792*$F$1*'Order Form'!$Q$18*(Color!$C$6+'Door Style'!$H$6)","v":{"$error":"#VALUE!"}},{"$f":"$C792*$G$1*'Order Form'!$Q$18*(Color!$D$6+'Door Style'!$G$6+Species!$C$6+'Custom Finish'!$C$6)","v":{"$error":"#VALUE!"}},null,{"$f":"'Order Type'!$C$6","v":"01-"},{"$f":"'Order Type'!$C$6","v":"01-"},{"$f":"CONCAT!$D$2","v":""},null,1,"01-W2436","11-W2436",1,"12-W2436","12-W2436",1,{"$nulls":5},{"$f":"$C792*$F$1*(Color!$C$8+'Door Style'!$H$6)","v":{"v":455.59800000000007,"d":"$455.60"}},{"$f":"$C792*$G$1*1*(Color!$D$8+'Door Style'!$G$6+Species!$C$6+'Custom Finish'!$C$6)","v":{"$error":"#VALUE!"}},null,"Light Blue","Dark Gray",null,"1","WSKIN36",75,25,"N","Wall Cabinet - 36\" Wall",{"v":531,"d":"$531.00"},"Price change for fall 2019",{"v":376,"d":"$376.00"},1.41,"G1",{"$nulls":4},{"$error":"#N/A"}]
["W2442","Wall 24\" x 42\"",{"v":627,"d":"$627.00"},2,null,{"$f":"$C793*$F$1*'Order Form'!$Q$18*(Color!$C$6+'Door Style'!$H$6)","v":{"$error":"#VALUE!"}},{"$f":"$C793*$G$1*'Order Form'!$Q$18*(Color!$D$6+'Door Style'!$G$6+Species!$C$6+'Custom Finish'!$C$6)","v":{"$error":"#VALUE!"}},null,{"$f":"'Order Type'!$C$6","v":"01-"},{"$f":"'Order Type'!$C$6","v":"01-"},{"$f":"CONCAT!$D$2","v":""},null,1,"01-W2442","11-W2442",1,"12-W2442","12-W2442",1,{"$nulls":5},{"$f":"$C793*$F$1*(Color!$C$8+'Door Style'!$H$6)","v":{"v":537.966,"d":"$537.97"}},{"$f":"$C793*$G$1*1*(Color!$D$8+'Door Style'!$G$6+Species!$C$6+'Custom Finish'!$C$6)","v":{"$error":"#VALUE!"}},null,"Light Blue","Dark Gray",null,"1","WSKIN42",75,25,"N","Wall Cabinet - 42\" Wall",{"v":627,"d":"$627.00"},"Price change for fall 2019",{"v":444,"d":"$444.00"},1.41,"G1",{"$nulls":4},{"$error":"#N/A"}]
["W24-SHELF","Wall Shelf For 24\"",{"v":40.839999999999996,"d":"$40.84"},2,null,{"$f":"$C794*'Order Form'!$Q$18","v":{"v":40.839999999999996,"d":"$40.84"}},{"$f":"$C794*'Order Form'!$Q$18","v":{"v":40.839999999999996,"d":"$40.84"}},null,"14-","14-","",null,0,"14-W24-SHELF",{"$nulls":3},"",null,{"$f":"N794","v":"14-W24-SHELF"},1,{"$nulls":3},{"$f":"$C794*1","v":{"v":40.839999999999996,"d":"$40.84"}},{"$f":"$C794*1","v":{"v":40.839999999999996,"d":"$40.84"}},null,"Purple","Purple",{"$nulls":3},"No","No","N","Shelf - Wall",{"$f":"AL794","v":{"v":40.839999999999996,"d":"$40.84"}},{"$f":"ROUNDUP(AS794,2)","v":{"v":40.839999999999996,"d":"40.84"}},{"v":26,"d":"$26.00"},1.1,"Plywood",24,10,{"$f":"(AP794*AQ794)/144","v":1.6666666666666667},{"$f":"(AR794*12.5)+20","v":{"v":40.833333333333336,"d":"40.83"}},{"$error":"#N/A"}]
["W25.512","Wall 25.5\" x 12\"",{"v":377,"d":"$377.00"},3,null,null,{"$f":"$C795*$G$1*'Order Form'!$Q$18*(Color!$D$6+'Door Style'!$G$6+Species!$C$6+'Custom Finish'!$C$6)","v":{"$error":"#VALUE!"}},null,"SC/PC",{"$f":"'Order Type'!$C$6","v":"01-"},{"$f":"CONCAT!$D$8","v":""},null,1,"01-W25.512","11-W25.512",1,"12-W25.512","12-W25.512",1,{"$nulls":6},{"$f":"$C795*$G$1*1*(Color!$D$8+'Door Style'!$G$6+Species!$C$6+'Custom Finish'!$C$6)","v":{"$error":"#VALUE!"}},null,"Black","Dark Gray",null,"1","WSKIN30",75,25,"N","Wall Cabinet - 12\" Wall",{"$f":"ROUNDUP(AM795*AN795,0)","v":{"v":377,"d":"$377.00"}},"Price change for fall 2019",{"v":267,"d":"$267.00"},1.41,"G1",{"$nulls":4},{"$error":"#N/A"}]
["W25.515","Wall 25.5\" x 15\"",{"v":401,"d":"$401.00"},3,null,null,{"$f":"$C796*$G$1*'Order Form'!$Q$18*(Color!$D$6+'Door Style'!$G$6+Species!$C$6+'Custom Finish'!$C$6)","v":{"$error":"#VALUE!"}},null,"SC/PC",{"$f":"'Order Type'!$C$6","v":"01-"},{"$f":"CONCAT!$D$8","v":""},null,1,"01-W25.515","11-W25.515",1,"12-W25.515","12-W25.515",1,{"$nulls":6},{"$f":"$C796*$G$1*1*(Color!$D$8+'Door Style'!$G$6+Species!$C$6+'Custom Finish'!$C$6)","v":{"$error":"#VALUE!"}},null,"Black","Dark Gray",null,"1","WSKIN30",75,25,"N","Wall Cabinet - 15\" Wall",{"v":401,"d":"$401.00"},"Price change for fall 2019",{"v":284,"d":"$284.00"},1.41,"G1",{"$nulls":4},{"$error":"#N/A"}]
["W25.518","Wall 25.5\" x 18\"",{"v":422,"d":"$422.00"},3,null,null,{"$f":"$C797*$G$1*'Order Form'!$Q$18*(Color!$D$6+'Door Style'!$G$6+Species!$C$6+'Custom Finish'!$C$6)","v":{"$error":"#VALUE!"}},null,"SC/PC",{"$f":"'Order Type'!$C$6","v":"01-"},{"$f":"CONCAT!$D$8","v":""},null,1,"01-W25.518","11-W25.518",1,"12-W25.518","12-W25.518",1,{"$nulls":6},{"$f":"$C797*$G$1*1*(Color!$D$8+'Door Style'!$G$6+Species!$C$6+'Custom Finish'!$C$6)","v":{"$error":"#VALUE!"}},null,"Black","Dark Gray",null,"1","WSKIN30",75,25,"N","Wall Cabinet - 18\" Wall",{"v":422,"d":"$422.00"},"Price change for fall 2019",{"v":299,"d":"$299.00"},1.41,"G1",{"$nulls":4},{"$error":"#N/A"}]
["W25.521","Wall 25.5\" x 21\"",{"v":445,"d":"$445.00"},3,null,null,{"$f":"$C798*$G$1*'Order Form'!$Q$18*(Color!$D$6+'Door Style'!$G$6+Species!$C$6+'Custom Finish'!$C$6)","v":{"$error":"#VALUE!"}},null,"SC/PC",{"$f":"'Order Type'!$C$6","v":"01-"},{"$f":"CONCAT!$D$8","v":""},null,1,"01-W25.521","11-W25.521",1,"12-W25.521","12-W25.521",1,{"$nulls":6},{"$f":"$C798*$G$1*1*(Color!$D$8+'Door Style'!$G$6+Species!$C$6+'Custom Finish'!$C$6)","v":{"$error":"#VALUE!"}},null,"Black","Dark Gray",null,"1","WSKIN30",75,25,"N","Wall Cabinet - 21\" Wall",{"v":445,"d":"$445.00"},"Price change for fall 2019",{"v":315,"d":"$315.00"},1.41,"G1",{"$nulls":4},{"$error":"#N/A"}]
["W25.524","Wall 25.5\" x 24\"",{"v":469,"d":"$469.00"},3,null,null,{"$f":"$C799*$G$1*'Order Form'!$Q$18*(Color!$D$6+'Door Style'!$G$6+Species!$C$6+'Custom Finish'!$C$6)","v":{"$error":"#VALUE!"}},null,"SC/PC",{"$f":"'Order Type'!$C$6","v":"01-"},{"$f":"CONCAT!$D$8","v":""},null,1,"01-W25.524","11-W25.524",1,"12-W25.524","12-W25.524",1,{"$nulls":6},{"$f":"$C799*$G$1*1*(Color!$D$8+'Door Style'!$G$6+Species!$C$6+'Custom Finish'!$C$6)","v":{"$error":"#VALUE!"}},null,"Black","Dark Gray",null,"1","WSKIN30",75,25,"N","Wall Cabinet - 24\" Wall",{"v":469,"d":"$469.00"},"Price change for fall 2019",{"v":332,"d":"$332.00"},1.41,"G1",{"$nulls":4},{"$error":"#N/A"}]
["W25.527","Wall 25.5\" x 27\"",{"v":491,"d":"$491.00"},3,null,null,{"$f":"$C800*$G$1*'Order Form'!$Q$18*(Color!$D$6+'Door Style'!$G$6+Species!$C$6+'Custom Finish'!$C$6)","v":{"$error":"#VALUE!"}},null,"SC/PC",{"$f":"'Order Type'!$C$6","v":"01-"},{"$f":"CONCAT!$D$8","v":""},null,1,"01-W25.527","11-W25.527",1,"12-W25.527","12-W25.527",1,{"$nulls":6},{"$f":"$C800*$G$1*1*(Color!$D$8+'Door Style'!$G$6+Species!$C$6+'Custom Finish'!$C$6)","v":{"$error":"#VALUE!"}},null,"Black","Dark Gray",null,"1","WSKIN30",75,25,"N","Wall Cabinet - 27\" Wall",{"v":491,"d":"$491.00"},"Price change for fall 2019",{"v":348,"d":"$348.00"},1.41,"G1",{"$nulls":4},{"$error":"#N/A"}]
["W25.530","Wall 25.5\" x 30\"",{"v":514,"d":"$514.00"},3,null,null,{"$f":"$C801*$G$1*'Order Form'!$Q$18*(Color!$D$6+'Door Style'!$G$6+Species!$C$6+'Custom Finish'!$C$6)","v":{"$error":"#VALUE!"}},null,"SC/PC",{"$f":"'Order Type'!$C$6","v":"01-"},{"$f":"CONCAT!$D$8","v":""},null,1,"01-W25.530","11-W25.530",1,"12-W25.530","12-W25.530",1,{"$nulls":6},{"$f":"$C801*$G$1*1*(Color!$D$8+'Door Style'!$G$6+Species!$C$6+'Custom Finish'!$C$6)","v":{"$error":"#VALUE!"}},null,"Black","Dark Gray",null,"1","WSKIN30",75,25,"N","Wall Cabinet - 30\" Wall",{"v":514,"d":"$514.00"},"Price change for fall 2019",{"v":364,"d":"$364.00"},1.41,"G1",{"$nulls":4},{"$error":"#N/A"}]
["W25.536","Wall 25.5\" x 36\"",{"v":579,"d":"$579.00"},3,null,null,{"$f":"$C802*$G$1*'Order Form'!$Q$18*(Color!$D$6+'Door Style'!$G$6+Species!$C$6+'Custom Finish'!$C$6)","v":{"$error":"#VALUE!"}},null,"SC/PC",{"$f":"'Order Type'!$C$6","v":"01-"},{"$f":"CONCAT!$D$8","v":""},null,1,"01-W25.536","11-W25.536",1,"12-W25.536","12-W25.536",1,{"$nulls":6},{"$f":"$C802*$G$1*1*(Color!$D$8+'Door Style'!$G$6+Species!$C$6+'Custom Finish'!$C$6)","v":{"$error":"#VALUE!"}},null,"Black","Dark Gray",null,"1","WSKIN36",75,25,"N","Wall Cabinet - 36\" Wall",{"v":579,"d":"$579.00"},"Price change for fall 2019",{"v":410,"d":"$410.00"},1.41,"G1",{"$nulls":4},{"$error":"#N/A"}]
["W25.542","Wall 25.5\" x 42\"",{"v":683,"d":"$683.00"},3,null,null,{"$f":"$C803*$G$1*'Order Form'!$Q$18*(Color!$D$6+'Door Style'!$G$6+Species!$C$6+'Custom Finish'!$C$6)","v":{"$error":"#VALUE!"}},null,"SC/PC",{"$f":"'Order Type'!$C$6","v":"01-"},{"$f":"CONCAT!$D$8","v":""},null,1,"01-W25.542","11-W25.542",1,"12-W25.542","12-W25.542",1,{"$nulls":6},{"$f":"$C803*$G$1*1*(Color!$D$8+'Door Style'!$G$6+Species!$C$6+'Custom Finish'!$C$6)","v":{"$error":"#VALUE!"}},null,"Black","Dark Gray",null,"1","WSKIN42",75,25,"N","Wall Cabinet - 42\" Wall",{"v":683,"d":"$683.00"},"Price change for fall 2019",{"v":484,"d":"$484.00"},1.41,"G1",{"$nulls":4},{"$error":"#N/A"}]
["W25.5-SHELF","Wall Shelf For 25.5\"",{"v":42.57,"d":"$42.57"},2,null,{"$f":"$C804*'Order Form'!$Q$18","v":{"v":42.57,"d":"$42.57"}},{"$f":"$C804*'Order Form'!$Q$18","v":{"v":42.57,"d":"$42.57"}},null,"14-","14-","",null,0,{"$f":"J804&A804&K804","v":"14-W25.5-SHELF"},{"$nulls":3},"",null,{"$f":"N804","v":"14-W25.5-SHELF"},1,{"$nulls":3},{"$f":"$C804*1","v":{"v":42.57,"d":"$42.57"}},{"$f":"$C804*1","v":{"v":42.57,"d":"$42.57"}},null,"Purple","Purple",{"$nulls":3},"No","No","N","Shelf - Wall",{"$f":"AL804","v":{"v":42.57,"d":"$42.57"}},{"$f":"ROUNDUP(AS804,2)","v":42.57},{"v":28,"d":"$28.00"},1.1,"Plywood",26,10,{"$f":"(AP804*AQ804)/144","v":1.8055555555555556},{"$f":"(AR804*12.5)+20","v":{"v":42.56944444444444,"d":"42.57"}},{"$error":"#N/A"}]
["W2712","Wall 27\" x 12\"",{"v":377,"d":"$377.00"},3,null,null,{"$f":"$C805*$G$1*'Order Form'!$Q$18*(Color!$D$6+'Door Style'!$G$6+Species!$C$6+'Custom Finish'!$C$6)","v":{"$error":"#VALUE!"}},null,"SC/PC",{"$f":"'Order Type'!$C$6","v":"01-"},{"$f":"CONCAT!$D$8","v":""},null,1,"01-W2712","11-W2712",1,"12-W2712","12-W2712",1,{"$nulls":6},{"$f":"$C805*$G$1*1*(Color!$D$8+'Door Style'!$G$6+Species!$C$6+'Custom Finish'!$C$6)","v":{"$error":"#VALUE!"}},null,"Black","Dark Gray",null,"1","WSKIN30",75,25,"N","Wall Cabinet - 12\" Wall",{"$f":"ROUNDUP(AM805*AN805,0)","v":{"v":377,"d":"$377.00"}},"Price change for fall 2019",{"v":267,"d":"$267.00"},1.41,"G1",{"$nulls":4},{"$error":"#N/A"}]
["W2715","Wall 27\" x 15\"",{"v":401,"d":"$401.00"},3,null,null,{"$f":"$C806*$G$1*'Order Form'!$Q$18*(Color!$D$6+'Door Style'!$G$6+Species!$C$6+'Custom Finish'!$C$6)","v":{"$error":"#VALUE!"}},null,"SC/PC",{"$f":"'Order Type'!$C$6","v":"01-"},{"$f":"CONCAT!$D$8","v":""},null,1,"01-W2715","11-W2715",1,"12-W2715","12-W2715",1,{"$nulls":6},{"$f":"$C806*$G$1*1*(Color!$D$8+'Door Style'!$G$6+Species!$C$6+'Custom Finish'!$C$6)","v":{"$error":"#VALUE!"}},null,"Black","Dark Gray",null,"1","WSKIN30",75,25,"N","Wall Cabinet - 15\" Wall",{"v":401,"d":"$401.00"},"Price change for fall 2019",{"v":284,"d":"$284.00"},1.41,"G1",{"$nulls":4},{"$error":"#N/A"}]
["W2718","Wall 27\" x 18\"",{"v":422,"d":"$422.00"},3,null,null,{"$f":"$C807*$G$1*'Order Form'!$Q$18*(Color!$D$6+'Door Style'!$G$6+Species!$C$6+'Custom Finish'!$C$6)","v":{"$error":"#VALUE!"}},null,"SC/PC",{"$f":"'Order Type'!$C$6","v":"01-"},{"$f":"CONCAT!$D$8","v":""},null,1,"01-W2718","11-W2718",1,"12-W2718","12-W2718",1,{"$nulls":6},{"$f":"$C807*$G$1*1*(Color!$D$8+'Door Style'!$G$6+Species!$C$6+'Custom Finish'!$C$6)","v":{"$error":"#VALUE!"}},null,"Black","Dark Gray",null,"1","WSKIN30",75,25,"N","Wall Cabinet - 18\" Wall",{"v":422,"d":"$422.00"},"Price change for fall 2019",{"v":299,"d":"$299.00"},1.41,"G1",{"$nulls":4},{"$error":"#N/A"}]
["W2721","Wall 27\" x 21\"",{"v":445,"d":"$445.00"},3,null,null,{"$f":"$C808*$G$1*'Order Form'!$Q$18*(Color!$D$6+'Door Style'!$G$6+Species!$C$6+'Custom Finish'!$C$6)","v":{"$error":"#VALUE!"}},null,"SC/PC",{"$f":"'Order Type'!$C$6","v":"01-"},{"$f":"CONCAT!$D$8","v":""},null,1,"01-W2721","11-W2721",1,"12-W2721","12-W2721",1,{"$nulls":6},{"$f":"$C808*$G$1*1*(Color!$D$8+'Door Style'!$G$6+Species!$C$6+'Custom Finish'!$C$6)","v":{"$error":"#VALUE!"}},null,"Black","Dark Gray",null,"1","WSKIN30",75,25,"N","Wall Cabinet - 21\" Wall",{"v":445,"d":"$445.00"},"Price change for fall 2019",{"v":315,"d":"$315.00"},1.41,"G1",{"$nulls":4},{"$error":"#N/A"}]
["W2724","Wall 27\" x 24\"",{"v":469,"d":"$469.00"},3,null,null,{"$f":"$C809*$G$1*'Order Form'!$Q$18*(Color!$D$6+'Door Style'!$G$6+Species!$C$6+'Custom Finish'!$C$6)","v":{"$error":"#VALUE!"}},null,"SC/PC",{"$f":"'Order Type'!$C$6","v":"01-"},{"$f":"CONCAT!$D$8","v":""},null,1,"01-W2724","11-W2724",1,"12-W2724","12-W2724",1,{"$nulls":6},{"$f":"$C809*$G$1*1*(Color!$D$8+'Door Style'!$G$6+Species!$C$6+'Custom Finish'!$C$6)","v":{"$error":"#VALUE!"}},null,"Black","Dark Gray",null,"1","WSKIN30",75,25,"N","Wall Cabinet - 24\" Wall",{"v":469,"d":"$469.00"},"Price change for fall 2019",{"v":332,"d":"$332.00"},1.41,"G1",{"$nulls":4},{"$error":"#N/A"}]
["W2727","Wall 27\" x 27\"",{"v":491,"d":"$491.00"},3,null,null,{"$f":"$C810*$G$1*'Order Form'!$Q$18*(Color!$D$6+'Door Style'!$G$6+Species!$C$6+'Custom Finish'!$C$6)","v":{"$error":"#VALUE!"}},null,"SC/PC",{"$f":"'Order Type'!$C$6","v":"01-"},{"$f":"CONCAT!$D$8","v":""},null,1,"01-W2727","11-W2727",1,"12-W2727","12-W2727",1,{"$nulls":6},{"$f":"$C810*$G$1*1*(Color!$D$8+'Door Style'!$G$6+Species!$C$6+'Custom Finish'!$C$6)","v":{"$error":"#VALUE!"}},null,"Black","Dark Gray",null,"1","WSKIN30",75,25,"N","Wall Cabinet - 27\" Wall",{"v":491,"d":"$491.00"},"Price change for fall 2019",{"v":348,"d":"$348.00"},1.41,"G1",{"$nulls":4},{"$error":"#N/A"}]
["W2730","Wall 27\" x 30\"",{"v":510,"d":"$510.00"},2,"PB",{"$f":"$C811*$F$1*'Order Form'!$Q$18*(Color!$C$6+'Door Style'!$H$6)","v":{"$error":"#VALUE!"}},{"$f":"$C811*$G$1*'Order Form'!$Q$18*(Color!$D$6+'Door Style'!$G$6+Species!$C$6+'Custom Finish'!$C$6)","v":{"$error":"#VALUE!"}},null,{"$f":"'Order Type'!$C$6","v":"01-"},{"$f":"'Order Type'!$C$6","v":"01-"},{"$f":"CONCAT!$D$2","v":""},null,1,"01-W2730","11-W2730",1,"12-W2730","12-W2730",1,{"$nulls":5},{"$f":"$C811*$F$1*(Color!$C$8+'Door Style'!$H$6)","v":{"v":437.58000000000004,"d":"$437.58"}},{"$f":"$C811*$G$1*1*(Color!$D$8+'Door Style'!$G$6+Species!$C$6+'Custom Finish'!$C$6)","v":{"$error":"#VALUE!"}},null,"Light Blue","Dark Gray",null,"1","WSKIN30",75,25,"N","Wall Cabinet - 30\" Wall",{"v":510,"d":"$510.00"},"Price change for fall 2019",{"v":361,"d":"$361.00"},1.41,"G1",{"$nulls":4},{"$error":"#N/A"}]
["W2736","Wall 27\" x 36\"",{"v":576,"d":"$576.00"},2,null,{"$f":"$C812*$F$1*'Order Form'!$Q$18*(Color!$C$6+'Door Style'!$H$6)","v":{"$error":"#VALUE!"}},{"$f":"$C812*$G$1*'Order Form'!$Q$18*(Color!$D$6+'Door Style'!$G$6+Species!$C$6+'Custom Finish'!$C$6)","v":{"$error":"#VALUE!"}},null,{"$f":"'Order Type'!$C$6","v":"01-"},{"$f":"'Order Type'!$C$6","v":"01-"},{"$f":"CONCAT!$D$2","v":""},null,1,"01-W2736","11-W2736",1,"12-W2736","12-W2736",1,{"$nulls":5},{"$f":"$C812*$F$1*(Color!$C$8+'Door Style'!$H$6)","v":{"v":494.2080000000001,"d":"$494.21"}},{"$f":"$C812*$G$1*1*(Color!$D$8+'Door Style'!$G$6+Species!$C$6+'Custom Finish'!$C$6)","v":{"$error":"#VALUE!"}},null,"Light Blue","Dark Gray",null,"1","WSKIN36",75,25,"N","Wall Cabinet - 36\" Wall",{"v":576,"d":"$576.00"},"Price change for fall 2019",{"v":408,"d":"$408.00"},1.41,"G1",{"$nulls":4},{"$error":"#N/A"}]
["W2742","Wall 27\" x 42\"",{"v":680,"d":"$680.00"},2,null,{"$f":"$C813*$F$1*'Order Form'!$Q$18*(Color!$C$6+'Door Style'!$H$6)","v":{"$error":"#VALUE!"}},{"$f":"$C813*$G$1*'Order Form'!$Q$18*(Color!$D$6+'Door Style'!$G$6+Species!$C$6+'Custom Finish'!$C$6)","v":{"$error":"#VALUE!"}},null,{"$f":"'Order Type'!$C$6","v":"01-"},{"$f":"'Order Type'!$C$6","v":"01-"},{"$f":"CONCAT!$D$2","v":""},null,1,"01-W2742","11-W2742",1,"12-W2742","12-W2742",1,{"$nulls":5},{"$f":"$C813*$F$1*(Color!$C$8+'Door Style'!$H$6)","v":{"v":583.44,"d":"$583.44"}},{"$f":"$C813*$G$1*1*(Color!$D$8+'Door Style'!$G$6+Species!$C$6+'Custom Finish'!$C$6)","v":{"$error":"#VALUE!"}},null,"Light Blue","Dark Gray",null,"1","WSKIN42",75,25,"N","Wall Cabinet - 42\" Wall",{"v":680,"d":"$680.00"},"Price change for fall 2019",{"v":482,"d":"$482.00"},1.41,"G1",{"$nulls":4},{"$error":"#N/A"}]
["W27-SHELF","Wall Shelf For 27\"",{"v":43.44,"d":"$43.44"},2,null,{"$f":"$C814*'Order Form'!$Q$18","v":{"v":43.44,"d":"$43.44"}},{"$f":"$C814*'Order Form'!$Q$18","v":{"v":43.44,"d":"$43.44"}},null,"14-","14-","",null,0,"14-W27-SHELF",{"$nulls":3},"",null,{"$f":"N814","v":"14-W27-SHELF"},1,{"$nulls":3},{"$f":"$C814*1","v":{"v":43.44,"d":"$43.44"}},{"$f":"$C814*1","v":{"v":43.44,"d":"$43.44"}},null,"Purple","Purple",{"$nulls":3},"No","No","N","Shelf - Wall",{"$f":"AL814","v":{"v":43.44,"d":"$43.44"}},{"$f":"ROUNDUP(AS814,2)","v":43.44},{"v":30,"d":"$30.00"},1.1,"Plywood",27,10,{"$f":"(AP814*AQ814)/144","v":1.875},{"$f":"(AR814*12.5)+20","v":{"v":43.4375,"d":"43.44"}},{"$error":"#N/A"}]
["W3012","Wall 30\" x 12\"",{"v":267,"d":"$267.00"},2,"PB",{"$f":"$C815*$F$1*'Order Form'!$Q$18*(Color!$C$6+'Door Style'!$H$6)","v":{"$error":"#VALUE!"}},{"$f":"$C815*$G$1*'Order Form'!$Q$18*(Color!$D$6+'Door Style'!$G$6+Species!$C$6+'Custom Finish'!$C$6)","v":{"$error":"#VALUE!"}},null,{"$f":"'Order Type'!$C$6","v":"01-"},{"$f":"'Order Type'!$C$6","v":"01-"},{"$f":"CONCAT!$D$2","v":""},null,1,"01-W3012","11-W3012",1,"12-W3012","12-W3012",1,{"$nulls":5},{"$f":"$C815*$F$1*(Color!$C$8+'Door Style'!$H$6)","v":{"v":229.08600000000004,"d":"$229.09"}},{"$f":"$C815*$G$1*1*(Color!$D$8+'Door Style'!$G$6+Species!$C$6+'Custom Finish'!$C$6)","v":{"$error":"#VALUE!"}},null,"Light Blue","Dark Gray",null,"1","WSKIN30",75,25,"N","Wall Cabinet - 12\" Wall",{"$f":"ROUNDUP(AM815*AN815,0)","v":{"v":267,"d":"$267.00"}},"Price change for fall 2019",{"v":189,"d":"$189.00"},1.41,"G1",{"$nulls":4},{"$error":"#N/A"}]
["W3015","Wall 30\" x 15\"",{"v":306,"d":"$306.00"},2,"PB",{"$f":"$C816*$F$1*'Order Form'!$Q$18*(Color!$C$6+'Door Style'!$H$6)","v":{"$error":"#VALUE!"}},{"$f":"$C816*$G$1*'Order Form'!$Q$18*(Color!$D$6+'Door Style'!$G$6+Species!$C$6+'Custom Finish'!$C$6)","v":{"$error":"#VALUE!"}},null,{"$f":"'Order Type'!$C$6","v":"01-"},{"$f":"'Order Type'!$C$6","v":"01-"},{"$f":"CONCAT!$D$2","v":""},null,1,"01-W3015","11-W3015",1,"12-W3015","12-W3015",1,{"$nulls":5},{"$f":"$C816*$F$1*(Color!$C$8+'Door Style'!$H$6)","v":{"v":262.548,"d":"$262.55"}},{"$f":"$C816*$G$1*1*(Color!$D$8+'Door Style'!$G$6+Species!$C$6+'Custom Finish'!$C$6)","v":{"$error":"#VALUE!"}},null,"Light Blue","Dark Gray",null,"1","WSKIN30",75,25,"N","Wall Cabinet - 15\" Wall",{"v":306,"d":"$306.00"},"Price change for fall 2019",{"v":217,"d":"$217.00"},1.41,"G1",{"$nulls":4},{"$error":"#N/A"}]
["W3018","Wall 30\" x 18\"",{"v":346,"d":"$346.00"},2,"PB",{"$f":"$C817*$F$1*'Order Form'!$Q$18*(Color!$C$6+'Door Style'!$H$6)","v":{"$error":"#VALUE!"}},{"$f":"$C817*$G$1*'Order Form'!$Q$18*(Color!$D$6+'Door Style'!$G$6+Species!$C$6+'Custom Finish'!$C$6)","v":{"$error":"#VALUE!"}},null,{"$f":"'Order Type'!$C$6","v":"01-"},{"$f":"'Order Type'!$C$6","v":"01-"},{"$f":"CONCAT!$D$2","v":""},null,1,"01-W3018","11-W3018",1,"12-W3018","12-W3018",1,{"$nulls":5},{"$f":"$C817*$F$1*(Color!$C$8+'Door Style'!$H$6)","v":{"v":296.868,"d":"$296.87"}},{"$f":"$C817*$G$1*1*(Color!$D$8+'Door Style'!$G$6+Species!$C$6+'Custom Finish'!$C$6)","v":{"$error":"#VALUE!"}},null,"Light Blue","Dark Gray",null,"1","WSKIN30",75,25,"N","Wall Cabinet - 18\" Wall",{"v":346,"d":"$346.00"},"Price change for fall 2019",{"v":245,"d":"$245.00"},1.41,"G1",{"$nulls":4},{"$error":"#N/A"}]
["W3021","Wall 30\" x 21\"",{"v":415,"d":"$415.00"},2,null,{"$f":"$C818*$F$1*'Order Form'!$Q$18*(Color!$C$6+'Door Style'!$H$6)","v":{"$error":"#VALUE!"}},{"$f":"$C818*$G$1*'Order Form'!$Q$18*(Color!$D$6+'Door Style'!$G$6+Species!$C$6+'Custom Finish'!$C$6)","v":{"$error":"#VALUE!"}},null,{"$f":"'Order Type'!$C$6","v":"01-"},{"$f":"'Order Type'!$C$6","v":"01-"},{"$f":"CONCAT!$D$2","v":""},null,1,"01-W3021","11-W3021",1,"12-W3021","12-W3021",1,{"$nulls":5},{"$f":"$C818*$F$1*(Color!$C$8+'Door Style'!$H$6)","v":{"v":356.07,"d":"$356.07"}},{"$f":"$C818*$G$1*1*(Color!$D$8+'Door Style'!$G$6+Species!$C$6+'Custom Finish'!$C$6)","v":{"$error":"#VALUE!"}},null,"Light Blue","Dark Gray",null,"1","WSKIN30",75,25,"N","Wall Cabinet - 21\" Wall",{"v":415,"d":"$415.00"},"Price change for fall 2019",{"v":294,"d":"$294.00"},1.41,"G1",{"$nulls":4},{"$error":"#N/A"}]
["W3024","Wall 30\" x 24\"",{"v":452,"d":"$452.00"},2,"PB",{"$f":"$C819*$F$1*'Order Form'!$Q$18*(Color!$C$6+'Door Style'!$H$6)","v":{"$error":"#VALUE!"}},{"$f":"$C819*$G$1*'Order Form'!$Q$18*(Color!$D$6+'Door Style'!$G$6+Species!$C$6+'Custom Finish'!$C$6)","v":{"$error":"#VALUE!"}},null,{"$f":"'Order Type'!$C$6","v":"01-"},{"$f":"'Order Type'!$C$6","v":"01-"},{"$f":"CONCAT!$D$2","v":""},null,1,"01-W3024","11-W3024",1,"12-W3024","12-W3024",1,{"$nulls":5},{"$f":"$C819*$F$1*(Color!$C$8+'Door Style'!$H$6)","v":{"v":387.81600000000003,"d":"$387.82"}},{"$f":"$C819*$G$1*1*(Color!$D$8+'Door Style'!$G$6+Species!$C$6+'Custom Finish'!$C$6)","v":{"$error":"#VALUE!"}},null,"Light Blue","Dark Gray",null,"1","WSKIN30",75,25,"N","Wall Cabinet - 24\" Wall",{"v":452,"d":"$452.00"},"Price change for fall 2019",{"v":320,"d":"$320.00"},1.41,"G1",{"$nulls":4},{"$error":"#N/A"}]
["W3027","Wall 30\" x 27\"",{"v":512,"d":"$512.00"},2,null,{"$f":"$C820*$F$1*'Order Form'!$Q$18*(Color!$C$6+'Door Style'!$H$6)","v":{"$error":"#VALUE!"}},{"$f":"$C820*$G$1*'Order Form'!$Q$18*(Color!$D$6+'Door Style'!$G$6+Species!$C$6+'Custom Finish'!$C$6)","v":{"$error":"#VALUE!"}},null,{"$f":"'Order Type'!$C$6","v":"01-"},{"$f":"'Order Type'!$C$6","v":"01-"},{"$f":"CONCAT!$D$2","v":""},null,1,"01-W3027","11-W3027",1,"12-W3027","12-W3027",1,{"$nulls":5},{"$f":"$C820*$F$1*(Color!$C$8+'Door Style'!$H$6)","v":{"v":439.29600000000005,"d":"$439.30"}},{"$f":"$C820*$G$1*1*(Color!$D$8+'Door Style'!$G$6+Species!$C$6+'Custom Finish'!$C$6)","v":{"$error":"#VALUE!"}},null,"Light Blue","Dark Gray",null,"1","WSKIN30",75,25,"N","Wall Cabinet - 27\" Wall",{"v":512,"d":"$512.00"},"Price change for fall 2019",{"v":363,"d":"$363.00"},1.41,"G1",{"$nulls":4},{"$error":"#N/A"}]
["W3030","Wall 30\" x 30\"",{"v":552,"d":"$552.00"},2,"PB",{"$f":"$C821*$F$1*'Order Form'!$Q$18*(Color!$C$6+'Door Style'!$H$6)","v":{"$error":"#VALUE!"}},{"$f":"$C821*$G$1*'Order Form'!$Q$18*(Color!$D$6+'Door Style'!$G$6+Species!$C$6+'Custom Finish'!$C$6)","v":{"$error":"#VALUE!"}},null,{"$f":"'Order Type'!$C$6","v":"01-"},{"$f":"'Order Type'!$C$6","v":"01-"},{"$f":"CONCAT!$D$2","v":""},null,1,"01-W3030","11-W3030",1,"12-W3030","12-W3030",1,{"$nulls":5},{"$f":"$C821*$F$1*(Color!$C$8+'Door Style'!$H$6)","v":{"v":473.61600000000004,"d":"$473.62"}},{"$f":"$C821*$G$1*1*(Color!$D$8+'Door Style'!$G$6+Species!$C$6+'Custom Finish'!$C$6)","v":{"$error":"#VALUE!"}},null,"Light Blue","Dark Gray",null,"1","WSKIN30",75,25,"N","Wall Cabinet - 30\" Wall",{"v":552,"d":"$552.00"},"Price change for fall 2019",{"v":391,"d":"$391.00"},1.41,"G1",{"$nulls":4},{"$error":"#N/A"}]
["W3036","Wall 30\" x 36\"",{"v":625,"d":"$625.00"},2,null,{"$f":"$C822*$F$1*'Order Form'!$Q$18*(Color!$C$6+'Door Style'!$H$6)","v":{"$error":"#VALUE!"}},{"$f":"$C822*$G$1*'Order Form'!$Q$18*(Color!$D$6+'Door Style'!$G$6+Species!$C$6+'Custom Finish'!$C$6)","v":{"$error":"#VALUE!"}},null,{"$f":"'Order Type'!$C$6","v":"01-"},{"$f":"'Order Type'!$C$6","v":"01-"},{"$f":"CONCAT!$D$2","v":""},null,1,"01-W3036","11-W3036",1,"12-W3036","12-W3036",1,{"$nulls":5},{"$f":"$C822*$F$1*(Color!$C$8+'Door Style'!$H$6)","v":{"v":536.25,"d":"$536.25"}},{"$f":"$C822*$G$1*1*(Color!$D$8+'Door Style'!$G$6+Species!$C$6+'Custom Finish'!$C$6)","v":{"$error":"#VALUE!"}},null,"Light Blue","Dark Gray",null,"1","WSKIN36",75,25,"N","Wall Cabinet - 36\" Wall",{"v":625,"d":"$625.00"},"Price change for fall 2019",{"v":443,"d":"$443.00"},1.41,"G1",{"$nulls":4},{"$error":"#N/A"}]
["W3042","Wall 30\" x 42\"",{"v":766,"d":"$766.00"},2,null,{"$f":"$C823*$F$1*'Order Form'!$Q$18*(Color!$C$6+'Door Style'!$H$6)","v":{"$error":"#VALUE!"}},{"$f":"$C823*$G$1*'Order Form'!$Q$18*(Color!$D$6+'Door Style'!$G$6+Species!$C$6+'Custom Finish'!$C$6)","v":{"$error":"#VALUE!"}},null,{"$f":"'Order Type'!$C$6","v":"01-"},{"$f":"'Order Type'!$C$6","v":"01-"},{"$f":"CONCAT!$D$2","v":""},null,1,"01-W3042","11-W3042",1,"12-W3042","12-W3042",1,{"$nulls":5},{"$f":"$C823*$F$1*(Color!$C$8+'Door Style'!$H$6)","v":{"v":657.2280000000001,"d":"$657.23"}},{"$f":"$C823*$G$1*1*(Color!$D$8+'Door Style'!$G$6+Species!$C$6+'Custom Finish'!$C$6)","v":{"$error":"#VALUE!"}},null,"Light Blue","Dark Gray",null,"1","WSKIN42",75,25,"N","Wall Cabinet - 42\" Wall",{"v":766,"d":"$766.00"},"Price change for fall 2019",{"v":543,"d":"$543.00"},1.41,"G1",{"$nulls":4},{"$error":"#N/A"}]
["W30-SHELF","Wall Shelf For 30\"",{"v":46.05,"d":"$46.05"},2,null,{"$f":"$C824*'Order Form'!$Q$18","v":{"v":46.05,"d":"$46.05"}},{"$f":"$C824*'Order Form'!$Q$18","v":{"v":46.05,"d":"$46.05"}},null,"14-","14-","",null,0,"14-W30-SHELF",{"$nulls":3},"",null,{"$f":"N824","v":"14-W30-SHELF"},1,{"$nulls":3},{"$f":"$C824*1","v":{"v":46.05,"d":"$46.05"}},{"$f":"$C824*1","v":{"v":46.05,"d":"$46.05"}},null,"Purple","Purple",{"$nulls":3},"No","No","N","Shelf - Wall",{"$f":"AL824","v":{"v":46.05,"d":"$46.05"}},{"$f":"ROUNDUP(AS824,2)","v":46.05},{"v":34,"d":"$34.00"},1.1,"Plywood",30,10,{"$f":"(AP824*AQ824)/144","v":2.0833333333333335},{"$f":"(AR824*12.5)+20","v":{"v":46.04166666666667,"d":"46.04"}},{"$error":"#N/A"}]
["W3312","Wall 33\" x 12\"",{"v":287,"d":"$287.00"},2,null,{"$f":"$C825*$F$1*'Order Form'!$Q$18*(Color!$C$6+'Door Style'!$H$6)","v":{"$error":"#VALUE!"}},{"$f":"$C825*$G$1*'Order Form'!$Q$18*(Color!$D$6+'Door Style'!$G$6+Species!$C$6+'Custom Finish'!$C$6)","v":{"$error":"#VALUE!"}},null,{"$f":"'Order Type'!$C$6","v":"01-"},{"$f":"'Order Type'!$C$6","v":"01-"},{"$f":"CONCAT!$D$2","v":""},null,1,"01-W3312","11-W3312",1,"12-W3312","12-W3312",1,{"$nulls":5},{"$f":"$C825*$F$1*(Color!$C$8+'Door Style'!$H$6)","v":{"v":246.24600000000004,"d":"$246.25"}},{"$f":"$C825*$G$1*1*(Color!$D$8+'Door Style'!$G$6+Species!$C$6+'Custom Finish'!$C$6)","v":{"$error":"#VALUE!"}},null,"Light Blue","Dark Gray",null,"1","WSKIN30",75,25,"N","Wall Cabinet - 12\" Wall",{"$f":"ROUNDUP(AM825*AN825,0)","v":{"v":287,"d":"$287.00"}},"Price change for fall 2019",{"v":203,"d":"$203.00"},1.41,"G1",{"$nulls":4},{"$error":"#N/A"}]
["W3315","Wall 33\" x 15\"",{"v":336,"d":"$336.00"},2,"PB",{"$f":"$C826*$F$1*'Order Form'!$Q$18*(Color!$C$6+'Door Style'!$H$6)","v":{"$error":"#VALUE!"}},{"$f":"$C826*$G$1*'Order Form'!$Q$18*(Color!$D$6+'Door Style'!$G$6+Species!$C$6+'Custom Finish'!$C$6)","v":{"$error":"#VALUE!"}},null,{"$f":"'Order Type'!$C$6","v":"01-"},{"$f":"'Order Type'!$C$6","v":"01-"},{"$f":"CONCAT!$D$2","v":""},null,1,"01-W3315","11-W3315",1,"12-W3315","12-W3315",1,{"$nulls":5},{"$f":"$C826*$F$1*(Color!$C$8+'Door Style'!$H$6)","v":{"v":288.288,"d":"$288.29"}},{"$f":"$C826*$G$1*1*(Color!$D$8+'Door Style'!$G$6+Species!$C$6+'Custom Finish'!$C$6)","v":{"$error":"#VALUE!"}},null,"Light Blue","Dark Gray",null,"1","WSKIN30",75,25,"N","Wall Cabinet - 15\" Wall",{"v":336,"d":"$336.00"},"Price change for fall 2019",{"v":238,"d":"$238.00"},1.41,"G1",{"$nulls":4},{"$error":"#N/A"}]
["W3318","Wall 33\" x 18\"",{"v":377,"d":"$377.00"},2,null,{"$f":"$C827*$F$1*'Order Form'!$Q$18*(Color!$C$6+'Door Style'!$H$6)","v":{"$error":"#VALUE!"}},{"$f":"$C827*$G$1*'Order Form'!$Q$18*(Color!$D$6+'Door Style'!$G$6+Species!$C$6+'Custom Finish'!$C$6)","v":{"$error":"#VALUE!"}},null,{"$f":"'Order Type'!$C$6","v":"01-"},{"$f":"'Order Type'!$C$6","v":"01-"},{"$f":"CONCAT!$D$2","v":""},null,1,"01-W3318","11-W3318",1,"12-W3318","12-W3318",1,{"$nulls":5},{"$f":"$C827*$F$1*(Color!$C$8+'Door Style'!$H$6)","v":{"v":323.466,"d":"$323.47"}},{"$f":"$C827*$G$1*1*(Color!$D$8+'Door Style'!$G$6+Species!$C$6+'Custom Finish'!$C$6)","v":{"$error":"#VALUE!"}},null,"Light Blue","Dark Gray",null,"1","WSKIN30",75,25,"N","Wall Cabinet - 18\" Wall",{"v":377,"d":"$377.00"},"Price change for fall 2019",{"v":267,"d":"$267.00"},1.41,"G1",{"$nulls":4},{"$error":"#N/A"}]
["W3321","Wall 33\" x 21\" ",{"v":529,"d":"$529.00"},3,null,null,{"$f":"$C828*$G$1*'Order Form'!$Q$18*(Color!$D$6+'Door Style'!$G$6+Species!$C$6+'Custom Finish'!$C$6)","v":{"$error":"#VALUE!"}},null,"SC/PC",{"$f":"'Order Type'!$C$6","v":"01-"},{"$f":"CONCAT!$D$8","v":""},null,1,"01-W3321","11-W3321",1,"12-W3321","12-W3321",1,{"$nulls":6},{"$f":"$C828*$G$1*1*(Color!$D$8+'Door Style'!$G$6+Species!$C$6+'Custom Finish'!$C$6)","v":{"$error":"#VALUE!"}},null,"Black","Dark Gray",null,"1","WSKIN30",75,25,"N","Wall Cabinet - 21\" Wall",{"v":529,"d":"$529.00"},"Price change for fall 2019",{"v":375,"d":"$375.00"},1.41,"G1",{"$nulls":4},{"$error":"#N/A"}]
["W3324","Wall 33\" x 24\"",{"v":553,"d":"$553.00"},3,null,null,{"$f":"$C829*$G$1*'Order Form'!$Q$18*(Color!$D$6+'Door Style'!$G$6+Species!$C$6+'Custom Finish'!$C$6)","v":{"$error":"#VALUE!"}},null,"SC/PC",{"$f":"'Order Type'!$C$6","v":"01-"},{"$f":"CONCAT!$D$8","v":""},null,1,"01-W3324","11-W3324",1,"12-W3324","12-W3324",1,{"$nulls":6},{"$f":"$C829*$G$1*1*(Color!$D$8+'Door Style'!$G$6+Species!$C$6+'Custom Finish'!$C$6)","v":{"$error":"#VALUE!"}},null,"Black","Dark Gray",null,"1","WSKIN30",75,25,"N","Wall Cabinet - 24\" Wall",{"v":553,"d":"$553.00"},"Price change for fall 2019",{"v":392,"d":"$392.00"},1.41,"G1",{"$nulls":4},{"$error":"#N/A"}]
["W3327","Wall 33\" x 27\"",{"v":574,"d":"$574.00"},3,null,null,{"$f":"$C830*$G$1*'Order Form'!$Q$18*(Color!$D$6+'Door Style'!$G$6+Species!$C$6+'Custom Finish'!$C$6)","v":{"$error":"#VALUE!"}},null,"SC/PC",{"$f":"'Order Type'!$C$6","v":"01-"},{"$f":"CONCAT!$D$8","v":""},null,1,"01-W3327","11-W3327",1,"12-W3327","12-W3327",1,{"$nulls":6},{"$f":"$C830*$G$1*1*(Color!$D$8+'Door Style'!$G$6+Species!$C$6+'Custom Finish'!$C$6)","v":{"$error":"#VALUE!"}},null,"Black","Dark Gray",null,"1","WSKIN30",75,25,"N","Wall Cabinet - 27\" Wall",{"v":574,"d":"$574.00"},"Price change for fall 2019",{"v":407,"d":"$407.00"},1.41,"G1",{"$nulls":4},{"$error":"#N/A"}]
["W3330","Wall 33\" x 30\"",{"v":593,"d":"$593.00"},2,null,{"$f":"$C831*$F$1*'Order Form'!$Q$18*(Color!$C$6+'Door Style'!$H$6)","v":{"$error":"#VALUE!"}},{"$f":"$C831*$G$1*'Order Form'!$Q$18*(Color!$D$6+'Door Style'!$G$6+Species!$C$6+'Custom Finish'!$C$6)","v":{"$error":"#VALUE!"}},null,{"$f":"'Order Type'!$C$6","v":"01-"},{"$f":"'Order Type'!$C$6","v":"01-"},{"$f":"CONCAT!$D$2","v":""},null,1,"01-W3330","11-W3330",1,"12-W3330","12-W3330",1,{"$nulls":5},{"$f":"$C831*$F$1*(Color!$C$8+'Door Style'!$H$6)","v":{"v":508.79400000000004,"d":"$508.79"}},{"$f":"$C831*$G$1*1*(Color!$D$8+'Door Style'!$G$6+Species!$C$6+'Custom Finish'!$C$6)","v":{"$error":"#VALUE!"}},null,"Light Blue","Dark Gray",null,"1","WSKIN30",75,25,"N","Wall Cabinet - 30\" Wall",{"v":593,"d":"$593.00"},"Price change for fall 2019",{"v":420,"d":"$420.00"},1.41,"G1",{"$nulls":4},{"$error":"#N/A"}]
["W3336","Wall 33\" x 36\"",{"v":672,"d":"$672.00"},2,null,{"$f":"$C832*$F$1*'Order Form'!$Q$18*(Color!$C$6+'Door Style'!$H$6)","v":{"$error":"#VALUE!"}},{"$f":"$C832*$G$1*'Order Form'!$Q$18*(Color!$D$6+'Door Style'!$G$6+Species!$C$6+'Custom Finish'!$C$6)","v":{"$error":"#VALUE!"}},null,{"$f":"'Order Type'!$C$6","v":"01-"},{"$f":"'Order Type'!$C$6","v":"01-"},{"$f":"CONCAT!$D$2","v":""},null,1,"01-W3336","11-W3336",1,"12-W3336","12-W3336",1,{"$nulls":5},{"$f":"$C832*$F$1*(Color!$C$8+'Door Style'!$H$6)","v":{"v":576.576,"d":"$576.58"}},{"$f":"$C832*$G$1*1*(Color!$D$8+'Door Style'!$G$6+Species!$C$6+'Custom Finish'!$C$6)","v":{"$error":"#VALUE!"}},null,"Light Blue","Dark Gray",null,"1","WSKIN36",75,25,"N","Wall Cabinet - 36\" Wall",{"v":672,"d":"$672.00"},"Price change for fall 2019",{"v":476,"d":"$476.00"},1.41,"G1",{"$nulls":4},{"$error":"#N/A"}]
["W3342","Wall 33\" x 42\"",{"v":827,"d":"$827.00"},2,null,{"$f":"$C833*$F$1*'Order Form'!$Q$18*(Color!$C$6+'Door Style'!$H$6)","v":{"$error":"#VALUE!"}},{"$f":"$C833*$G$1*'Order Form'!$Q$18*(Color!$D$6+'Door Style'!$G$6+Species!$C$6+'Custom Finish'!$C$6)","v":{"$error":"#VALUE!"}},null,{"$f":"'Order Type'!$C$6","v":"01-"},{"$f":"'Order Type'!$C$6","v":"01-"},{"$f":"CONCAT!$D$2","v":""},null,1,"01-W3342","11-W3342",1,"12-W3342","12-W3342",1,{"$nulls":5},{"$f":"$C833*$F$1*(Color!$C$8+'Door Style'!$H$6)","v":{"v":709.5660000000001,"d":"$709.57"}},{"$f":"$C833*$G$1*1*(Color!$D$8+'Door Style'!$G$6+Species!$C$6+'Custom Finish'!$C$6)","v":{"$error":"#VALUE!"}},null,"Light Blue","Dark Gray",null,"1","WSKIN42",75,25,"N","Wall Cabinet - 42\" Wall",{"v":827,"d":"$827.00"},"Price change for fall 2019",{"v":586,"d":"$586.00"},1.41,"G1",{"$nulls":4},{"$error":"#N/A"}]
["W33-SHELF","Wall Shelf For 33\"",{"v":48.65,"d":"$48.65"},2,null,{"$f":"$C834*'Order Form'!$Q$18","v":{"v":48.65,"d":"$48.65"}},{"$f":"$C834*'Order Form'!$Q$18","v":{"v":48.65,"d":"$48.65"}},null,"14-","14-","",null,0,"14-W33-SHELF",{"$nulls":3},"",null,{"$f":"N834","v":"14-W33-SHELF"},1,{"$nulls":3},{"$f":"$C834*1","v":{"v":48.65,"d":"$48.65"}},{"$f":"$C834*1","v":{"v":48.65,"d":"$48.65"}},null,"Purple","Purple",{"$nulls":3},"No","No","N","Shelf - Wall",{"$f":"AL834","v":{"v":48.65,"d":"$48.65"}},{"$f":"ROUNDUP(AS834,2)","v":48.65},{"v":37,"d":"$37.00"},1.1,"Plywood",33,10,{"$f":"(AP834*AQ834)/144","v":2.2916666666666665},{"$f":"(AR834*12.5)+20","v":{"v":48.64583333333333,"d":"48.65"}},{"$error":"#N/A"}]
["W3612","Wall 36\" x 12\"",{"v":302,"d":"$302.00"},2,null,{"$f":"$C835*$F$1*'Order Form'!$Q$18*(Color!$C$6+'Door Style'!$H$6)","v":{"$error":"#VALUE!"}},{"$f":"$C835*$G$1*'Order Form'!$Q$18*(Color!$D$6+'Door Style'!$G$6+Species!$C$6+'Custom Finish'!$C$6)","v":{"$error":"#VALUE!"}},null,{"$f":"'Order Type'!$C$6","v":"01-"},{"$f":"'Order Type'!$C$6","v":"01-"},{"$f":"CONCAT!$D$2","v":""},null,1,"01-W3612","11-W3612",1,"12-W3612","12-W3612",1,{"$nulls":5},{"$f":"$C835*$F$1*(Color!$C$8+'Door Style'!$H$6)","v":{"v":259.11600000000004,"d":"$259.12"}},{"$f":"$C835*$G$1*1*(Color!$D$8+'Door Style'!$G$6+Species!$C$6+'Custom Finish'!$C$6)","v":{"$error":"#VALUE!"}},null,"Light Blue","Dark Gray",null,"1","WSKIN30",75,25,"N","Wall Cabinet - 12\" Wall",{"$f":"ROUNDUP(AM835*AN835,0)","v":{"v":302,"d":"$302.00"}},"Price change for fall 2019",{"v":214,"d":"$214.00"},1.41,"G1",{"$nulls":4},{"$error":"#N/A"}]
["W3615","Wall 36\" x 15\"",{"v":357,"d":"$357.00"},2,null,{"$f":"$C836*$F$1*'Order Form'!$Q$18*(Color!$C$6+'Door Style'!$H$6)","v":{"$error":"#VALUE!"}},{"$f":"$C836*$G$1*'Order Form'!$Q$18*(Color!$D$6+'Door Style'!$G$6+Species!$C$6+'Custom Finish'!$C$6)","v":{"$error":"#VALUE!"}},null,{"$f":"'Order Type'!$C$6","v":"01-"},{"$f":"'Order Type'!$C$6","v":"01-"},{"$f":"CONCAT!$D$2","v":""},null,1,"01-W3615","11-W3615",1,"12-W3615","12-W3615",1,{"$nulls":5},{"$f":"$C836*$F$1*(Color!$C$8+'Door Style'!$H$6)","v":{"v":306.30600000000004,"d":"$306.31"}},{"$f":"$C836*$G$1*1*(Color!$D$8+'Door Style'!$G$6+Species!$C$6+'Custom Finish'!$C$6)","v":{"$error":"#VALUE!"}},null,"Light Blue","Dark Gray",null,"1","WSKIN30",75,25,"N","Wall Cabinet - 15\" Wall",{"v":357,"d":"$357.00"},"Price change for fall 2019",{"v":253,"d":"$253.00"},1.41,"G1",{"$nulls":4},{"$error":"#N/A"}]
["W3618","Wall 36\" x 18\"",{"v":404,"d":"$404.00"},2,null,{"$f":"$C837*$F$1*'Order Form'!$Q$18*(Color!$C$6+'Door Style'!$H$6)","v":{"$error":"#VALUE!"}},{"$f":"$C837*$G$1*'Order Form'!$Q$18*(Color!$D$6+'Door Style'!$G$6+Species!$C$6+'Custom Finish'!$C$6)","v":{"$error":"#VALUE!"}},null,{"$f":"'Order Type'!$C$6","v":"01-"},{"$f":"'Order Type'!$C$6","v":"01-"},{"$f":"CONCAT!$D$2","v":""},null,1,"01-W3618","11-W3618",1,"12-W3618","12-W3618",1,{"$nulls":5},{"$f":"$C837*$F$1*(Color!$C$8+'Door Style'!$H$6)","v":{"v":346.632,"d":"$346.63"}},{"$f":"$C837*$G$1*1*(Color!$D$8+'Door Style'!$G$6+Species!$C$6+'Custom Finish'!$C$6)","v":{"$error":"#VALUE!"}},null,"Light Blue","Dark Gray",null,"1","WSKIN30",75,25,"N","Wall Cabinet - 18\" Wall",{"v":404,"d":"$404.00"},"Price change for fall 2019",{"v":286,"d":"$286.00"},1.41,"G1",{"$nulls":4},{"$error":"#N/A"}]
["W3621","Wall 36\" x 21\"",{"v":483,"d":"$483.00"},2,null,{"$f":"$C838*$F$1*'Order Form'!$Q$18*(Color!$C$6+'Door Style'!$H$6)","v":{"$error":"#VALUE!"}},{"$f":"$C838*$G$1*'Order Form'!$Q$18*(Color!$D$6+'Door Style'!$G$6+Species!$C$6+'Custom Finish'!$C$6)","v":{"$error":"#VALUE!"}},null,{"$f":"'Order Type'!$C$6","v":"01-"},{"$f":"'Order Type'!$C$6","v":"01-"},{"$f":"CONCAT!$D$2","v":""},null,1,"01-W3621","11-W3621",1,"12-W3621","12-W3621",1,{"$nulls":5},{"$f":"$C838*$F$1*(Color!$C$8+'Door Style'!$H$6)","v":{"v":414.41400000000004,"d":"$414.41"}},{"$f":"$C838*$G$1*1*(Color!$D$8+'Door Style'!$G$6+Species!$C$6+'Custom Finish'!$C$6)","v":{"$error":"#VALUE!"}},null,"Light Blue","Dark Gray",null,"1","WSKIN30",75,25,"N","Wall Cabinet - 21\" Wall",{"v":483,"d":"$483.00"},"Price change for fall 2019",{"v":342,"d":"$342.00"},1.41,"G1",{"$nulls":4},{"$error":"#N/A"}]
["W3624","Wall 36\" x 24\"",{"v":517,"d":"$517.00"},2,null,{"$f":"$C839*$F$1*'Order Form'!$Q$18*(Color!$C$6+'Door Style'!$H$6)","v":{"$error":"#VALUE!"}},{"$f":"$C839*$G$1*'Order Form'!$Q$18*(Color!$D$6+'Door Style'!$G$6+Species!$C$6+'Custom Finish'!$C$6)","v":{"$error":"#VALUE!"}},null,{"$f":"'Order Type'!$C$6","v":"01-"},{"$f":"'Order Type'!$C$6","v":"01-"},{"$f":"CONCAT!$D$2","v":""},null,1,"01-W3624","11-W3624",1,"12-W3624","12-W3624",1,{"$nulls":5},{"$f":"$C839*$F$1*(Color!$C$8+'Door Style'!$H$6)","v":{"v":443.586,"d":"$443.59"}},{"$f":"$C839*$G$1*1*(Color!$D$8+'Door Style'!$G$6+Species!$C$6+'Custom Finish'!$C$6)","v":{"$error":"#VALUE!"}},null,"Light Blue","Dark Gray",null,"1","WSKIN30",75,25,"N","Wall Cabinet - 24\" Wall",{"v":517,"d":"$517.00"},"Price change for fall 2019",{"v":366,"d":"$366.00"},1.41,"G1",{"$nulls":4},{"$error":"#N/A"}]
["W3627","Wall 36\" x 27\"",{"v":621,"d":"$621.00"},3,null,null,{"$f":"$C840*$G$1*'Order Form'!$Q$18*(Color!$D$6+'Door Style'!$G$6+Species!$C$6+'Custom Finish'!$C$6)","v":{"$error":"#VALUE!"}},null,"SC/PC",{"$f":"'Order Type'!$C$6","v":"01-"},{"$f":"CONCAT!$D$8","v":""},null,1,"01-W3627","11-W3627",1,"12-W3627","12-W3627",1,{"$nulls":6},{"$f":"$C840*$G$1*1*(Color!$D$8+'Door Style'!$G$6+Species!$C$6+'Custom Finish'!$C$6)","v":{"$error":"#VALUE!"}},null,"Black","Dark Gray",null,"1","WSKIN30",75,25,"N","Wall Cabinet - 27\" Wall",{"v":621,"d":"$621.00"},"Price change for fall 2019",{"v":440,"d":"$440.00"},1.41,"G1",{"$nulls":4},{"$error":"#N/A"}]
["W3630","Wall 36\" x 30\"",{"v":632,"d":"$632.00"},2,"PB",{"$f":"$C841*$F$1*'Order Form'!$Q$18*(Color!$C$6+'Door Style'!$H$6)","v":{"$error":"#VALUE!"}},{"$f":"$C841*$G$1*'Order Form'!$Q$18*(Color!$D$6+'Door Style'!$G$6+Species!$C$6+'Custom Finish'!$C$6)","v":{"$error":"#VALUE!"}},null,{"$f":"'Order Type'!$C$6","v":"01-"},{"$f":"'Order Type'!$C$6","v":"01-"},{"$f":"CONCAT!$D$2","v":""},null,1,"01-W3630","11-W3630",1,"12-W3630",{"$f":"Q841&K841","v":"12-W3630"},1,{"$nulls":5},{"$f":"$C841*$F$1*(Color!$C$8+'Door Style'!$H$6)","v":{"v":542.2560000000001,"d":"$542.26"}},{"$f":"$C841*$G$1*1*(Color!$D$8+'Door Style'!$G$6+Species!$C$6+'Custom Finish'!$C$6)","v":{"$error":"#VALUE!"}},null,"Light Blue","Dark Gray",null,"1","WSKIN30",75,25,"N","Wall Cabinet - 30\" Wall",{"v":632,"d":"$632.00"},"Price change for fall 2019",{"v":448,"d":"$448.00"},1.41,"G1",{"$nulls":4},{"$error":"#N/A"}]
["W3636","Wall 36\" x 36\"",{"v":721,"d":"$721.00"},2,null,{"$f":"$C842*$F$1*'Order Form'!$Q$18*(Color!$C$6+'Door Style'!$H$6)","v":{"$error":"#VALUE!"}},{"$f":"$C842*$G$1*'Order Form'!$Q$18*(Color!$D$6+'Door Style'!$G$6+Species!$C$6+'Custom Finish'!$C$6)","v":{"$error":"#VALUE!"}},null,{"$f":"'Order Type'!$C$6","v":"01-"},{"$f":"'Order Type'!$C$6","v":"01-"},{"$f":"CONCAT!$D$2","v":""},null,1,"01-W3636","11-W3636",1,"12-W3636","12-W3636",1,{"$nulls":5},{"$f":"$C842*$F$1*(Color!$C$8+'Door Style'!$H$6)","v":{"v":618.618,"d":"$618.62"}},{"$f":"$C842*$G$1*1*(Color!$D$8+'Door Style'!$G$6+Species!$C$6+'Custom Finish'!$C$6)","v":{"$error":"#VALUE!"}},null,"Light Blue","Dark Gray",null,"1","WSKIN36",75,25,"N","Wall Cabinet - 36\" Wall",{"v":721,"d":"$721.00"},"Price change for fall 2019",{"v":511,"d":"$511.00"},1.41,"G1",{"$nulls":4},{"$error":"#N/A"}]
["W3642","Wall 36\" x 42\"",{"v":883,"d":"$883.00"},2,null,{"$f":"$C843*$F$1*'Order Form'!$Q$18*(Color!$C$6+'Door Style'!$H$6)","v":{"$error":"#VALUE!"}},{"$f":"$C843*$G$1*'Order Form'!$Q$18*(Color!$D$6+'Door Style'!$G$6+Species!$C$6+'Custom Finish'!$C$6)","v":{"$error":"#VALUE!"}},null,{"$f":"'Order Type'!$C$6","v":"01-"},{"$f":"'Order Type'!$C$6","v":"01-"},{"$f":"CONCAT!$D$2","v":""},null,1,"01-W3642","11-W3642",1,"12-W3642","12-W3642",1,{"$nulls":5},{"$f":"$C843*$F$1*(Color!$C$8+'Door Style'!$H$6)","v":{"v":757.614,"d":"$757.61"}},{"$f":"$C843*$G$1*1*(Color!$D$8+'Door Style'!$G$6+Species!$C$6+'Custom Finish'!$C$6)","v":{"$error":"#VALUE!"}},null,"Light Blue","Dark Gray",null,"1","WSKIN42",75,25,"N","Wall Cabinet - 42\" Wall",{"v":883,"d":"$883.00"},"Price change for fall 2019",{"v":626,"d":"$626.00"},1.41,"G1",{"$nulls":4},{"$error":"#N/A"}]
["W36-SHELF","Wall Shelf For 36\"",{"v":51.25,"d":"$51.25"},2,null,{"$f":"$C844*'Order Form'!$Q$18","v":{"v":51.25,"d":"$51.25"}},{"$f":"$C844*'Order Form'!$Q$18","v":{"v":51.25,"d":"$51.25"}},null,"14-","14-","",null,0,"14-W36-SHELF",{"$nulls":3},"",null,{"$f":"N844","v":"14-W36-SHELF"},1,{"$nulls":3},{"$f":"$C844*1","v":{"v":51.25,"d":"$51.25"}},{"$f":"$C844*1","v":{"v":51.25,"d":"$51.25"}},null,"Purple","Purple",{"$nulls":3},"No","No","N","Shelf - Wall",{"$f":"AL844","v":{"v":51.25,"d":"$51.25"}},{"$f":"ROUNDUP(AS844,2)","v":51.25},{"v":40,"d":"$40.00"},1.1,"Plywood",36,10,{"$f":"(AP844*AQ844)/144","v":2.5},{"$f":"(AR844*12.5)+20","v":51.25},{"$error":"#N/A"}]
["W3912","Wall 39\" x 12\"",{"v":374,"d":"$374.00"},2,null,{"$f":"$C845*$F$1*'Order Form'!$Q$18*(Color!$C$6+'Door Style'!$H$6)","v":{"$error":"#VALUE!"}},{"$f":"$C845*$G$1*'Order Form'!$Q$18*(Color!$D$6+'Door Style'!$G$6+Species!$C$6+'Custom Finish'!$C$6)","v":{"$error":"#VALUE!"}},null,{"$f":"'Order Type'!$C$6","v":"01-"},{"$f":"'Order Type'!$C$6","v":"01-"},{"$f":"CONCAT!$D$2","v":""},null,1,"01-W3912","11-W3912",1,"12-W3912","12-W3912",1,{"$nulls":5},{"$f":"$C845*$F$1*(Color!$C$8+'Door Style'!$H$6)","v":{"v":320.89200000000005,"d":"$320.89"}},{"$f":"$C845*$G$1*1*(Color!$D$8+'Door Style'!$G$6+Species!$C$6+'Custom Finish'!$C$6)","v":{"$error":"#VALUE!"}},null,"Light Blue","Dark Gray",null,"1","WSKIN30",75,25,"N","Wall Cabinet - 12\" Wall",{"$f":"ROUNDUP(AM845*AN845,0)","v":{"v":374,"d":"$374.00"}},"Price change for fall 2019",{"v":265,"d":"$265.00"},1.41,"G1",{"$nulls":4},{"$error":"#N/A"}]
["W3915","Wall 39\" x 15\"",{"v":456,"d":"$456.00"},2,null,{"$f":"$C846*$F$1*'Order Form'!$Q$18*(Color!$C$6+'Door Style'!$H$6)","v":{"$error":"#VALUE!"}},{"$f":"$C846*$G$1*'Order Form'!$Q$18*(Color!$D$6+'Door Style'!$G$6+Species!$C$6+'Custom Finish'!$C$6)","v":{"$error":"#VALUE!"}},null,{"$f":"'Order Type'!$C$6","v":"01-"},{"$f":"'Order Type'!$C$6","v":"01-"},{"$f":"CONCAT!$D$2","v":""},null,1,"01-W3915","11-W3915",1,"12-W3915","12-W3915",1,{"$nulls":5},{"$f":"$C846*$F$1*(Color!$C$8+'Door Style'!$H$6)","v":{"v":391.24800000000005,"d":"$391.25"}},{"$f":"$C846*$G$1*1*(Color!$D$8+'Door Style'!$G$6+Species!$C$6+'Custom Finish'!$C$6)","v":{"$error":"#VALUE!"}},null,"Light Blue","Dark Gray",null,"1","WSKIN30",75,25,"N","Wall Cabinet - 15\" Wall",{"v":456,"d":"$456.00"},"Price change for fall 2019",{"v":323,"d":"$323.00"},1.41,"G1",{"$nulls":4},{"$error":"#N/A"}]
["W3918","Wall 39\" x 18\"",{"v":519,"d":"$519.00"},2,null,{"$f":"$C847*$F$1*'Order Form'!$Q$18*(Color!$C$6+'Door Style'!$H$6)","v":{"$error":"#VALUE!"}},{"$f":"$C847*$G$1*'Order Form'!$Q$18*(Color!$D$6+'Door Style'!$G$6+Species!$C$6+'Custom Finish'!$C$6)","v":{"$error":"#VALUE!"}},null,{"$f":"'Order Type'!$C$6","v":"01-"},{"$f":"'Order Type'!$C$6","v":"01-"},{"$f":"CONCAT!$D$2","v":""},null,1,"01-W3918","11-W3918",1,"12-W3918","12-W3918",1,{"$nulls":5},{"$f":"$C847*$F$1*(Color!$C$8+'Door Style'!$H$6)","v":{"v":445.302,"d":"$445.30"}},{"$f":"$C847*$G$1*1*(Color!$D$8+'Door Style'!$G$6+Species!$C$6+'Custom Finish'!$C$6)","v":{"$error":"#VALUE!"}},null,"Light Blue","Dark Gray",null,"1","WSKIN30",75,25,"N","Wall Cabinet - 18\" Wall",{"v":519,"d":"$519.00"},"Price change for fall 2019",{"v":368,"d":"$368.00"},1.41,"G1",{"$nulls":4},{"$error":"#N/A"}]
["W3930","Wall 39\" x 30\"",{"v":670,"d":"$670.00"},2,null,{"$f":"$C848*$F$1*'Order Form'!$Q$18*(Color!$C$6+'Door Style'!$H$6)","v":{"$error":"#VALUE!"}},{"$f":"$C848*$G$1*'Order Form'!$Q$18*(Color!$D$6+'Door Style'!$G$6+Species!$C$6+'Custom Finish'!$C$6)","v":{"$error":"#VALUE!"}},null,{"$f":"'Order Type'!$C$6","v":"01-"},{"$f":"'Order Type'!$C$6","v":"01-"},{"$f":"CONCAT!$D$2","v":""},null,1,"01-W3930","11-W3930",1,"12-W3930","12-W3930",1,{"$nulls":5},{"$f":"$C848*$F$1*(Color!$C$8+'Door Style'!$H$6)","v":{"v":574.8600000000001,"d":"$574.86"}},{"$f":"$C848*$G$1*1*(Color!$D$8+'Door Style'!$G$6+Species!$C$6+'Custom Finish'!$C$6)","v":{"$error":"#VALUE!"}},null,"Light Blue","Dark Gray",null,"1","WSKIN30",75,25,"N","Wall Cabinet - 30\" Wall",{"v":670,"d":"$670.00"},"Price change for fall 2019",{"v":475,"d":"$475.00"},1.41,"G1",{"$nulls":4},{"$error":"#N/A"}]
["W3936","Wall 39\" x 36\"",{"v":768,"d":"$768.00"},2,null,{"$f":"$C849*$F$1*'Order Form'!$Q$18*(Color!$C$6+'Door Style'!$H$6)","v":{"$error":"#VALUE!"}},{"$f":"$C849*$G$1*'Order Form'!$Q$18*(Color!$D$6+'Door Style'!$G$6+Species!$C$6+'Custom Finish'!$C$6)","v":{"$error":"#VALUE!"}},null,{"$f":"'Order Type'!$C$6","v":"01-"},{"$f":"'Order Type'!$C$6","v":"01-"},{"$f":"CONCAT!$D$2","v":""},null,1,"01-W3936","11-W3936",1,"12-W3936","12-W3936",1,{"$nulls":5},{"$f":"$C849*$F$1*(Color!$C$8+'Door Style'!$H$6)","v":{"v":658.944,"d":"$658.94"}},{"$f":"$C849*$G$1*1*(Color!$D$8+'Door Style'!$G$6+Species!$C$6+'Custom Finish'!$C$6)","v":{"$error":"#VALUE!"}},null,"Light Blue","Dark Gray",null,"1","WSKIN36",75,25,"N","Wall Cabinet - 36\" Wall",{"v":768,"d":"$768.00"},"Price change for fall 2019",{"v":544,"d":"$544.00"},1.41,"G1",{"$nulls":4},{"$error":"#N/A"}]
["W3942","Wall 39\" x 42\"",{"v":944,"d":"$944.00"},2,null,{"$f":"$C850*$F$1*'Order Form'!$Q$18*(Color!$C$6+'Door Style'!$H$6)","v":{"$error":"#VALUE!"}},{"$f":"$C850*$G$1*'Order Form'!$Q$18*(Color!$D$6+'Door Style'!$G$6+Species!$C$6+'Custom Finish'!$C$6)","v":{"$error":"#VALUE!"}},null,{"$f":"'Order Type'!$C$6","v":"01-"},{"$f":"'Order Type'!$C$6","v":"01-"},{"$f":"CONCAT!$D$2","v":""},null,1,"01-W3942","11-W3942",1,"12-W3942","12-W3942",1,{"$nulls":5},{"$f":"$C850*$F$1*(Color!$C$8+'Door Style'!$H$6)","v":{"v":809.9520000000001,"d":"$809.95"}},{"$f":"$C850*$G$1*1*(Color!$D$8+'Door Style'!$G$6+Species!$C$6+'Custom Finish'!$C$6)","v":{"$error":"#VALUE!"}},null,"Light Blue","Dark Gray",null,"1","WSKIN42",75,25,"N","Wall Cabinet - 42\" Wall",{"v":944,"d":"$944.00"},"Price change for fall 2019",{"v":669,"d":"$669.00"},1.41,"G1",{"$nulls":4},{"$error":"#N/A"}]
["W9-SHELF","Wall Shelf For 9\"",{"v":27.82,"d":"$27.82"},2,null,{"$f":"$C851*'Order Form'!$Q$18","v":{"v":27.82,"d":"$27.82"}},{"$f":"$C851*'Order Form'!$Q$18","v":{"v":27.82,"d":"$27.82"}},null,"14-","14-","",null,0,"14-W9-SHELF",{"$nulls":3},"",null,{"$f":"N851","v":"14-W9-SHELF"},1,{"$nulls":3},{"$f":"$C851*1","v":{"v":27.82,"d":"$27.82"}},{"$f":"$C851*1","v":{"v":27.82,"d":"$27.82"}},null,"Purple","Purple",{"$nulls":3},"No","No","N","Shelf - Wall",{"$f":"AL851","v":{"v":27.82,"d":"$27.82"}},{"$f":"ROUNDUP(AS851,2)","v":27.82},{"v":11,"d":"$11.00"},1.1,"Plywood",9,10,{"$f":"(AP851*AQ851)/144","v":0.625},{"$f":"(AR851*12.5)+20","v":{"v":27.8125,"d":"27.81"}},{"$error":"#N/A"}]
["WEZR2430","Wall Easy Reach 24\" x 30\"",{"v":711,"d":"$711.00"},2,"PB",{"$f":"$C852*$F$1*'Order Form'!$Q$18*(Color!$C$6+'Door Style'!$H$6)","v":{"$error":"#VALUE!"}},{"$f":"$C852*$G$1*'Order Form'!$Q$18*(Color!$D$6+'Door Style'!$G$6+Species!$C$6+'Custom Finish'!$C$6)","v":{"$error":"#VALUE!"}},null,{"$f":"'Order Type'!$C$6","v":"01-"},{"$f":"'Order Type'!$C$6","v":"01-"},{"$f":"CONCAT!$D$2","v":""},null,1,"01-WEZR2430","11-WEZR2430",1,"12-WEZR2430","12-WEZR2430",1,{"$nulls":5},{"$f":"$C852*$F$1*(Color!$C$8+'Door Style'!$H$6)","v":{"v":610.0380000000001,"d":"$610.04"}},{"$f":"$C852*$G$1*1*(Color!$D$8+'Door Style'!$G$6+Species!$C$6+'Custom Finish'!$C$6)","v":{"$error":"#VALUE!"}},null,"Light Blue","Dark Gray",null,"1","WSKIN30",200,100,"Y","Wall Cabinet - Corner - Easy Reach",{"$f":"ROUNDUP(AM852*AN852,0)","v":{"v":711,"d":"$711.00"}},"Price change for fall 2019",{"v":504,"d":"$504.00"},1.41,"G1",{"$nulls":4},{"$error":"#N/A"}]
["WEZR2436","Wall Easy Reach 24\" x 36\"",{"v":775,"d":"$775.00"},2,null,{"$f":"$C853*$F$1*'Order Form'!$Q$18*(Color!$C$6+'Door Style'!$H$6)","v":{"$error":"#VALUE!"}},{"$f":"$C853*$G$1*'Order Form'!$Q$18*(Color!$D$6+'Door Style'!$G$6+Species!$C$6+'Custom Finish'!$C$6)","v":{"$error":"#VALUE!"}},null,{"$f":"'Order Type'!$C$6","v":"01-"},{"$f":"'Order Type'!$C$6","v":"01-"},{"$f":"CONCAT!$D$2","v":""},null,1,"01-WEZR2436","11-WEZR2436",1,"12-WEZR2436","12-WEZR2436",1,{"$nulls":5},{"$f":"$C853*$F$1*(Color!$C$8+'Door Style'!$H$6)","v":{"v":664.95,"d":"$664.95"}},{"$f":"$C853*$G$1*1*(Color!$D$8+'Door Style'!$G$6+Species!$C$6+'Custom Finish'!$C$6)","v":{"$error":"#VALUE!"}},null,"Light Blue","Dark Gray",null,"1","WSKIN36",200,100,"Y","Wall Cabinet - Corner - Easy Reach",{"v":775,"d":"$775.00"},"Price change for fall 2019",{"v":549,"d":"$549.00"},1.41,"G1",{"$nulls":4},{"$error":"#N/A"}]
["WEZR2442","Wall Easy Reach 24\" x 42\"",{"v":928,"d":"$928.00"},2,null,{"$f":"$C854*$F$1*'Order Form'!$Q$18*(Color!$C$6+'Door Style'!$H$6)","v":{"$error":"#VALUE!"}},{"$f":"$C854*$G$1*'Order Form'!$Q$18*(Color!$D$6+'Door Style'!$G$6+Species!$C$6+'Custom Finish'!$C$6)","v":{"$error":"#VALUE!"}},null,{"$f":"'Order Type'!$C$6","v":"01-"},{"$f":"'Order Type'!$C$6","v":"01-"},{"$f":"CONCAT!$D$2","v":""},null,1,"01-WEZR2442","11-WEZR2442",1,"12-WEZR2442","12-WEZR2442",1,{"$nulls":5},{"$f":"$C854*$F$1*(Color!$C$8+'Door Style'!$H$6)","v":{"v":796.224,"d":"$796.22"}},{"$f":"$C854*$G$1*1*(Color!$D$8+'Door Style'!$G$6+Species!$C$6+'Custom Finish'!$C$6)","v":{"$error":"#VALUE!"}},null,"Light Blue","Dark Gray",null,"1","WSKIN42",200,100,"Y","Wall Cabinet - Corner - Easy Reach",{"v":928,"d":"$928.00"},"Price change for fall 2019",{"v":658,"d":"$658.00"},1.41,"G1",{"$nulls":4},{"$error":"#N/A"}]
["WINDOW CLINGS","Window Cling",{"v":1,"d":"$1.00"},2,null,{"$f":"$C855","v":{"v":1,"d":"$1.00"}},{"v":1,"d":"$1.00"},null,"/","/",null,null,0,"/WINDOW CLINGS",{"$nulls":3},"",null,{"$f":"N855","v":"/WINDOW CLINGS"},1,{"$nulls":3},{"$f":"$C855","v":{"v":1,"d":"$1.00"}},{"v":1,"d":"$1.00"},null,"Tan","Tan","Dealer",null,null,"No","No","N","Dealer support item",{"v":1,"d":"$1.00"},null,{"v":1,"d":"$1.00"},1,"ACC",{"$nulls":4},{"$error":"#N/A"}]
["WINE BOTTLE-BRASS","Wine Bottle Organizer-Brass",{"v":18,"d":"$18.00"},2,null,{"v":18,"d":"$18.00"},{"v":18,"d":"$18.00"},null,"/","","",null,0,"WINE BOTTLE-BRASS",{"$nulls":3},"",null,"WINE BOTTLE-BRASS",1,{"$nulls":3},{"v":18,"d":"$18.00"},{"v":18,"d":"$18.00"},null,"Tan","Tan",{"$nulls":3},"No","No","N","Accessory - Beverages",{"v":18,"d":"$18.00"},null,{"v":18,"d":"$18.00"},1,"ACC",{"$nulls":4},{"$error":"#N/A"}]
["WINE BOTTLE-BRONZE","Wine Bottle Organizer-Bronze",{"v":22,"d":"$22.00"},2,null,{"v":22,"d":"$22.00"},{"v":22,"d":"$22.00"},null,"/","","",null,0,"WINE BOTTLE-BRONZE",{"$nulls":3},"",null,"WINE BOTTLE-BRONZE",1,{"$nulls":3},{"v":22,"d":"$22.00"},{"v":22,"d":"$22.00"},null,"Tan","Tan",{"$nulls":3},"No","No","N","Accessory - Beverages",{"v":22,"d":"$22.00"},null,{"v":22,"d":"$22.00"},1,"ACC",{"$nulls":4},{"$error":"#N/A"}]
["WINE BOTTLE-CHROME","Wine Bottle Organizer-Chrome",{"v":15,"d":"$15.00"},2,null,{"v":15,"d":"$15.00"},{"v":15,"d":"$15.00"},null,"/","","",null,0,"WINE BOTTLE-CHROME",{"$nulls":3},"",null,"WINE BOTTLE-CHROME",1,{"$nulls":3},{"v":15,"d":"$15.00"},{"v":15,"d":"$15.00"},null,"Tan","Tan",{"$nulls":3},"No","No","N","Accessory - Beverages",{"v":15,"d":"$15.00"},null,{"v":15,"d":"$15.00"},1,"ACC",{"$nulls":4},{"$error":"#N/A"}]
["WINE BOTTLE-NICKLE","Wine Bottle Organizer-Nickle",{"v":17,"d":"$17.00"},2,null,{"v":17,"d":"$17.00"},{"v":17,"d":"$17.00"},null,"/","","",null,0,"WINE BOTTLE-NICKLE",{"$nulls":3},"",null,"WINE BOTTLE-NICKLE",1,{"$nulls":3},{"v":17,"d":"$17.00"},{"v":17,"d":"$17.00"},null,"Tan","Tan",{"$nulls":3},"No","No","N","Accessory - Beverages",{"v":17,"d":"$17.00"},null,{"v":17,"d":"$17.00"},1,"ACC",{"$nulls":4},{"$error":"#N/A"}]
["WOOD TRAY DIVIDER","Wood Tray Divider",{"v":135,"d":"$135.00"},2,null,{"v":135,"d":"$135.00"},{"v":135,"d":"$135.00"},null,"/","","",null,0,"WOOD TRAY DIVIDER",{"$nulls":3},"",null,"WOOD TRAY DIVIDER",1,{"$nulls":3},{"v":135,"d":"$135.00"},{"v":135,"d":"$135.00"},null,"Tan","Tan",{"$nulls":3},"No","No","N","Accessory - Wall - Refrigerator/ Oven Cabinet",{"v":135,"d":"$135.00"},null,{"v":135,"d":"$135.00"},1,"ACC",{"$nulls":4},{"$error":"#N/A"}]
["WOS0630","Wall Open Shelf 6\" x 30\"",{"v":173,"d":"$173.00"},2,null,{"$f":"($C861*$F$1*Color!$G$6*'Order Form'!$Q$18)","v":{"$error":"#VALUE!"}},{"$f":"$C861*$G$1*'Order Form'!$Q$18*(Color!$D$6+Species!$C$6)","v":{"$error":"#VALUE!"}},null,"13-","13-",{"$f":"CONCAT!$D$3","v":""},null,1,"13-WOS0630",{"$nulls":3},"",null,"13-WOS0630",1,{"$nulls":3},{"$f":"($C861*$F$1*Color!$G$8*1)","v":{"v":148.434,"d":"$148.43"}},{"$f":"$C861*$G$1*1*(Color!$D$8+Species!$C$6)","v":{"$error":"#VALUE!"}},null,"Orange","Fuchsia",null,"1","WSKIN30",75,25,"N","Wall Cabinet - Open Shelf",{"v":173,"d":"$173.00"},"Price change for fall 2019",{"v":112,"d":"$112.00"},1.54,"G2",{"$nulls":4},{"$error":"#N/A"}]
["WOS0636","Wall Open Shelf 6\" x 36\"",{"v":216,"d":"$216.00"},2,null,{"$f":"($C862*$F$1*Color!$G$6*'Order Form'!$Q$18)","v":{"$error":"#VALUE!"}},{"$f":"$C862*$G$1*'Order Form'!$Q$18*(Color!$D$6+Species!$C$6)","v":{"$error":"#VALUE!"}},null,"13-","13-",{"$f":"CONCAT!$D$3","v":""},null,1,"13-WOS0636",{"$nulls":3},"",null,"13-WOS0636",1,{"$nulls":3},{"$f":"($C862*$F$1*Color!$G$8*1)","v":{"v":185.32800000000003,"d":"$185.33"}},{"$f":"$C862*$G$1*1*(Color!$D$8+Species!$C$6)","v":{"$error":"#VALUE!"}},null,"Orange","Fuchsia",null,"1","WSKIN36",75,25,"N","Wall Cabinet - Open Shelf",{"v":216,"d":"$216.00"},"Price change for fall 2019",{"v":140,"d":"$140.00"},1.54,"G2",{"$nulls":4},{"$error":"#N/A"}]
["WOS0642","Wall Open Shelf 6\" x 42\"",{"v":248,"d":"$248.00"},2,null,{"$f":"($C863*$F$1*Color!$G$6*'Order Form'!$Q$18)","v":{"$error":"#VALUE!"}},{"$f":"$C863*$G$1*'Order Form'!$Q$18*(Color!$D$6+Species!$C$6)","v":{"$error":"#VALUE!"}},null,"13-","13-",{"$f":"CONCAT!$D$3","v":""},null,1,"13-WOS0642",{"$nulls":3},"",null,"13-WOS0642",1,{"$nulls":3},{"$f":"($C863*$F$1*Color!$G$8*1)","v":{"v":212.78400000000002,"d":"$212.78"}},{"$f":"$C863*$G$1*1*(Color!$D$8+Species!$C$6)","v":{"$error":"#VALUE!"}},null,"Orange","Fuchsia",null,"1","WSKIN42",75,25,"N","Wall Cabinet - Open Shelf",{"v":248,"d":"$248.00"},"Price change for fall 2019",{"v":161,"d":"$161.00"},1.54,"G2",{"$nulls":4},{"$error":"#N/A"}]
["WR1530","Wine Rack Cabinet 15\" x 30\"",{"v":390,"d":"$390.00"},3,null,null,{"$f":"$C864*$G$1*'Order Form'!$Q$18*(Color!$D$6+'Door Style'!$G$6+Species!$C$6+'Custom Finish'!$C$6)","v":{"$error":"#VALUE!"}},null,"SC/PC",{"$f":"'Order Type'!$C$6","v":"01-"},{"$f":"Color!$M$6","v":""},null,1,"01-WR1530","11-WR3015",1,"12-WR3015","12-WR3015",1,{"$nulls":6},{"$f":"$C864*$G$1*1*(Color!$D$8+'Door Style'!$G$6+Species!$C$6+'Custom Finish'!$C$6)","v":{"$error":"#VALUE!"}},null,"Black","Dark Gray",null,"1","WSKIN30",75,25,"N","Wall Cabinet - Wine Rack",{"v":390,"d":"$390.00"},"Price change for fall 2019",{"v":276,"d":"$276.00"},1.41,"G1",{"$nulls":4},{"$error":"#N/A"}]
["WR3015","Wine Rack Cabinet 30\" x 15\"",{"v":390,"d":"$390.00"},3,null,null,{"$f":"$C865*$G$1*'Order Form'!$Q$18*(Color!$D$6+'Door Style'!$G$6+Species!$C$6+'Custom Finish'!$C$6)","v":{"$error":"#VALUE!"}},null,"SC/PC",{"$f":"'Order Type'!$C$6","v":"01-"},{"$f":"Color!$M$6","v":""},null,1,"01-WR3015","11-WR3015",1,"12-WR3015","12-WR3015",1,{"$nulls":6},{"$f":"$C865*$G$1*1*(Color!$D$8+'Door Style'!$G$6+Species!$C$6+'Custom Finish'!$C$6)","v":{"$error":"#VALUE!"}},null,"Black","Dark Gray",null,"1","WSKIN30",100,40,"N","Wall Cabinet - Wine Rack",{"v":390,"d":"$390.00"},"Price change for fall 2019",{"v":276,"d":"$276.00"},1.41,"G1",{"$nulls":4},{"$error":"#N/A"}]
["WR3030","Wine Rack Cabinet 30\" x 30 \"",{"v":697,"d":"$697.00"},3,null,null,{"$f":"$C866*$G$1*'Order Form'!$Q$18*(Color!$D$6+'Door Style'!$G$6+Species!$C$6+'Custom Finish'!$C$6)","v":{"$error":"#VALUE!"}},null,"SC/PC",{"$f":"'Order Type'!$C$6","v":"01-"},{"$f":"CONCAT!$D$8","v":""},null,1,"01-WR3030","11-WR3030",1,"12-WR3015","12-WR3015",1,{"$nulls":6},{"$f":"$C866*$G$1*1*(Color!$D$8+'Door Style'!$G$6+Species!$C$6+'Custom Finish'!$C$6)","v":{"$error":"#VALUE!"}},null,"Black","Dark Gray",null,"1","WSKIN30",100,40,"N","Wall Cabinet - Wine Rack",{"v":697,"d":"$697.00"},"Price change for fall 2019",{"v":494,"d":"$494.00"},1.41,"G1",{"$nulls":4},{"$error":"#N/A"}]
["WR3036","Wine Rack Cabinet 30\" x 36\"",{"v":803,"d":"$803.00"},3,null,null,{"$f":"$C867*$G$1*'Order Form'!$Q$18*(Color!$D$6+'Door Style'!$G$6+Species!$C$6+'Custom Finish'!$C$6)","v":{"$error":"#VALUE!"}},null,"SC/PC",{"$f":"'Order Type'!$C$6","v":"01-"},{"$f":"CONCAT!$D$8","v":""},null,1,"01-WR3036","11-WR3036",1,"12-WR3015","12-WR3015",1,{"$nulls":6},{"$f":"$C867*$G$1*1*(Color!$D$8+'Door Style'!$G$6+Species!$C$6+'Custom Finish'!$C$6)","v":{"$error":"#VALUE!"}},null,"Black","Dark Gray",null,"1","WSKIN36",100,40,"N","Wall Cabinet - Wine Rack",{"v":803,"d":"$803.00"},"Price change for fall 2019",{"v":569,"d":"$569.00"},1.41,"G1",{"$nulls":4},{"$error":"#N/A"}]
["WR3042","Wine Rack Cabinet 30\" x 42\"",{"v":900,"d":"$900.00"},3,null,null,{"$f":"$C868*$G$1*'Order Form'!$Q$18*(Color!$D$6+'Door Style'!$G$6+Species!$C$6+'Custom Finish'!$C$6)","v":{"$error":"#VALUE!"}},null,"SC/PC",{"$f":"'Order Type'!$C$6","v":"01-"},{"$f":"CONCAT!$D$8","v":""},null,1,{"$f":"J868&A868&K868","v":"01-WR3042"},"11-WR3042",1,"12-WR3015","12-WR3015",1,{"$nulls":6},{"$f":"$C868*$G$1*1*(Color!$D$8+'Door Style'!$G$6+Species!$C$6+'Custom Finish'!$C$6)","v":{"$error":"#VALUE!"}},null,"Black","Dark Gray",null,"1","WSKIN42",100,40,"N","Wall Cabinet - Wine Rack",{"v":900,"d":"$900.00"},"Price change for fall 2019",{"v":638,"d":"$638.00"},1.41,"G1",{"$nulls":4},{"$error":"#N/A"}]
["WRB15","Wine Rack Base 15\"",{"v":495,"d":"$495.00"},3,null,null,{"$f":"$C869*$G$1*'Order Form'!$Q$18*(Color!$D$6+'Door Style'!$G$6+Species!$C$6+'Custom Finish'!$C$6)","v":{"$error":"#VALUE!"}},null,"SC/PC",{"$f":"'Order Type'!$C$6","v":"01-"},{"$f":"CONCAT!$D$8","v":""},null,1,"01-WRB15","11-WRB15",1,"12-WRB15","12-WRB15",1,{"$nulls":6},{"$f":"$C869*$G$1*1*(Color!$D$8+'Door Style'!$G$6+Species!$C$6+'Custom Finish'!$C$6)","v":{"$error":"#VALUE!"}},null,"Black","Dark Gray",null,"1","BSKIN",75,50,"N","Base Cabinet - Wine Rack",{"v":495,"d":"$495.00"},"Price change for fall 2019",{"v":351,"d":"$351.00"},1.41,"G1",{"$nulls":4},{"$error":"#N/A"}]
["WRC09","Wine Rack Cubby 9\"",{"v":297,"d":"$297.00"},3,null,{"$f":"($C870*$F$1*Color!$G$6*'Order Form'!$Q$18)","v":{"$error":"#VALUE!"}},{"$f":"$C870*$G$1*'Order Form'!$Q$18*(Color!$D$6+Species!$C$6)","v":{"$error":"#VALUE!"}},null,"13-","13-",{"$f":"CONCAT!$D$8","v":""},null,1,"13-WRC09",{"$nulls":3},"",null,{"$f":"N870","v":"13-WRC09"},1,{"$nulls":4},{"$f":"$C870*$G$1*1*(Color!$D$8+'Door Style'!$G$6+Species!$C$6+'Custom Finish'!$C$6)","v":{"$error":"#VALUE!"}},null,"Black","Dark Gray",null,"1","BSKIN",75,50,"N","Base Cabinet - Wine Rack",null,"New Item for fall 2019",null,null,"New",{"$nulls":4},{"$error":"#N/A"}]
["WSHELF","Wall Shelf 8FT Length",{"v":103.34,"d":"$103.34"},2,null,{"$f":"$C871*'Order Form'!$Q$18","v":{"v":103.34,"d":"$103.34"}},{"$f":"$C871*'Order Form'!$Q$18","v":{"v":103.34,"d":"$103.34"}},null,"14-","13-","",null,0,"13-WSHELF",{"$nulls":3},"",null,{"$f":"N871","v":"13-WSHELF"},1,{"$nulls":3},{"$f":"$C871*1","v":{"v":103.34,"d":"$103.34"}},{"$f":"$C871*1","v":{"v":103.34,"d":"$103.34"}},null,"Purple","Purple",{"$nulls":3},"No","No","N","Shelf - Wall",{"$f":"AL871","v":{"v":103.34,"d":"$103.34"}},{"$f":"ROUNDUP(AS871,2)","v":103.34},{"v":93,"d":"$93.00"},1.1,"Plywood",96,10,{"$f":"(AP871*AQ871)/144","v":6.666666666666667},{"$f":"(AR871*12.5)+20","v":{"v":103.33333333333334,"d":"103.33"}},{"$error":"#N/A"}]
["WSKIN30","Wall Skin 30\"",{"v":46,"d":"$46.00"},2,"PB",{"$f":"($C872*$F$1*Color!$G$6*'Order Form'!$Q$18)","v":{"$error":"#VALUE!"}},{"$f":"$C872*$G$1*'Order Form'!$Q$18*(Color!$D$6+Species!$C$6)","v":{"$error":"#VALUE!"}},null,"13-","13-",{"$f":"CONCAT!$D$3","v":""},null,0,"13-WSKIN30",{"$nulls":3},"",null,{"$f":"N872","v":"13-WSKIN30"},1,{"$nulls":3},{"$f":"($C872*$F$1*Color!$G$8*1)","v":{"v":39.468,"d":"$39.47"}},{"$f":"$C872*$G$1*1*(Color!$D$8+Species!$C$6)","v":{"$error":"#VALUE!"}},null,"Orange","Pink",{"$nulls":3},"No","No","N","Skin - Wall",{"$f":"ROUNDUP(AM872*AN872,0)","v":{"v":46,"d":"$46.00"}},"Price change for fall 2019",{"v":32,"d":"$32.00"},1.41,"G1",{"$nulls":4},{"$error":"#N/A"}]
["WSKIN36","Wall Skin 36\"",{"v":54,"d":"$54.00"},2,null,{"$f":"($C873*$F$1*Color!$G$6*'Order Form'!$Q$18)","v":{"$error":"#VALUE!"}},{"$f":"$C873*$G$1*'Order Form'!$Q$18*(Color!$D$6+Species!$C$6)","v":{"$error":"#VALUE!"}},null,"13-","13-",{"$f":"CONCAT!$D$3","v":""},null,0,"13-WSKIN36",{"$nulls":3},"",null,{"$f":"N873","v":"13-WSKIN36"},1,{"$nulls":3},{"$f":"($C873*$F$1*Color!$G$8*1)","v":{"v":46.33200000000001,"d":"$46.33"}},{"$f":"$C873*$G$1*1*(Color!$D$8+Species!$C$6)","v":{"$error":"#VALUE!"}},null,"Orange","Pink",{"$nulls":3},"No","No","N","Skin - Wall",{"$f":"ROUNDUP(AM873*AN873,0)","v":{"v":54,"d":"$54.00"}},"Price change for fall 2019",{"v":38,"d":"$38.00"},1.41,"G1",{"$nulls":4},{"$error":"#N/A"}]
["WSKIN42","Wall Skin 42\" ",{"v":63,"d":"$63.00"},2,null,{"$f":"($C874*$F$1*Color!$G$6*'Order Form'!$Q$18)","v":{"$error":"#VALUE!"}},{"$f":"$C874*$G$1*'Order Form'!$Q$18*(Color!$D$6+Species!$C$6)","v":{"$error":"#VALUE!"}},null,"13-","13-",{"$f":"CONCAT!$D$3","v":""},null,0,"13-WSKIN42",{"$nulls":3},"",null,{"$f":"N874","v":"13-WSKIN42"},1,{"$nulls":3},{"$f":"($C874*$F$1*Color!$G$8*1)","v":{"v":54.054,"d":"$54.05"}},{"$f":"$C874*$G$1*1*(Color!$D$8+Species!$C$6)","v":{"$error":"#VALUE!"}},null,"Orange","Pink",{"$nulls":3},"No","No","N","Skin - Wall",{"$f":"ROUNDUP(AM874*AN874,0)","v":{"v":63,"d":"$63.00"}},"Price change for fall 2019",{"v":44,"d":"$44.00"},1.41,"G1",{"$nulls":4},{"$error":"#N/A"}]

{"sheet":"Modifications and Fees","index":11,"n_rows":58,"n_cols":8,"rows_kept":58,"merged":[[1,1,1,7],[2,1,2,7],[3,1,3,7],[4,1,4,7],[5,1,5,6],[6,1,6,6],[7,1,7,6],[8,1,8,6],[9,1,9,6],[10,1,10,6],[11,1,11,6],[12,1,12,6],[13,1,13,6],[14,1,14,6],[15,1,15,6],[33,2,34,2],[33,4,34,6],[36,4,36,6],[37,4,37,6],[42,1,48,2],[49,3,49,6],[50,1,51,2],[50,3,50,6],[51,3,51,6],[54,1,54,7],[55,1,56,2],[56,3,56,6]]}
[]
[]
[null,"Modifications and Fees"]
[null,"The following is a list of the approved modifications that Founder's Choice offers. Add the Item Code listed in the left column on the Order Form. The quantity field must still be used to specify the number of modifications. If the order type is CR, please make sure the cabinet with this modification has a Craftsman (CR) order type. This can be modified on the right hand column on the Order Form Sheet. If the column is blank this mod can be used for Select or Craftsman "]
[null,"These charges have been built into the Modify Depth Column in the order form. Use the column for modifying depth. Enter in a comment for the sizing you want it to be, if you want a Base cabinet modified to 21 inch depth. Mark the Depth Column with DD, and in the notes say, modify depth to 21 inches. This will account for the box change as well as the drawer changes. This is only aplicable to rectangle shape cabinets. "]
[null,"Charge to Decrease Wall Depth - Per Box ",{"$nulls":5},{"v":25,"d":"$25"}]
[null,"Charge to Increase Wall Depth - 24\" max depth ",{"$nulls":5},{"v":75,"d":"$75"}]
[null,"Charge to Decrease Base Depth",{"$nulls":5},{"v":50,"d":"$50"}]
[null,"Charge to Increase Base Depth ",{"$nulls":5},{"v":75,"d":"$75"}]
[null,"Charge to Change Base Drawer Box Size - 9\" min depth and 30\" max depth per drawer",{"$nulls":5},{"v":50,"d":"$50"}]
[null,"Charge to Decrease Vanity Depth",{"$nulls":5},{"v":50,"d":"$50"}]
[null,"Charge to Increase Vanity Depth ",{"$nulls":5},{"v":75,"d":"$75"}]
[null,"Charge to Change Vanity Drawer Box Size - 9\" min depth and 30\" max depth per drawer",{"$nulls":5},{"v":50,"d":"$50"}]
[null,"Charge to Reduce Roll Out Shelf to Vanity Depth",{"$nulls":5},{"v":25,"d":"$25"}]
[null,"Charge to Decrease Tall Depth",{"$nulls":5},{"v":75,"d":"$75"}]
[null,"Charge to Increase Tall Depth",{"$nulls":5},{"v":100,"d":"$100"}]
[null,"Enter in Sales Order Sheet",null,"Cabinet Modification Charges",{"$nulls":3},"Price"]
[null,"Double click and highlight the text in these cells before copying","Order Form Type\n","Wall"]
[null,"MOD-W-STILE","CR",null,"Charge for Extended Wall Stile",null,null,{"v":50,"d":"$50"}]
[{"$nulls":3},"Base"]
[null,"MOD-B-STILE","CR",null,"Charge for Extended Base Stile",null,null,{"v":50,"d":"$50"}]
[null,"MOD-NOTOE",null,null,"Charge for Toe Kick Removal Per Box",null,null,"No Charge "]
[null,"MOD-TOE",null,null,"Charge for Toe Kick Modification Per Box",null,null,{"v":50,"d":"$50"}]
[null,"MOD-B-COOKTOP",null,null,"Charge for Cooktop cutout to cabinet",null,null,"No Charge "]
[{"$nulls":3},"Vanity"]
[null,"MOD-V-STILE","CR",null,"Charge for Extended Vanity Stile",null,null,{"v":50,"d":"$50"}]
[null,"MOD-V-INV",null,null,"Charge for Modify a Vanity Base to a Vanity Sink Base Inverted",null,null,{"v":50,"d":"$50"}]
[{"$nulls":3},"Tall"]
[null,"MOD-T-STILE","CR",null,"Charge for Extended Tall Stile",null,null,{"v":120,"d":"$120"}]
[{"$nulls":3},"Fees"]
[null,"RESTOCKING FEE","SEL",null,"Only on Select items, with written approval from Order Desk",null,null,"25% of Cabinet"]
[{"$nulls":3},"Other Modifications"]
[null,"MOD-FURNITURE BOTTOM","CR",null,"Charge for stretch the face of the cabinet towards the bottom to eliminate the toe kick",null,null,{"v":150,"d":"$150"}]
[null,"MOD-FURNITURE TOEKICK","CR",null,"Charge for make the face frame of the cabinet is extended to flush with the bottom of the cabinet",null,null,{"v":150,"d":"$150"}]
[]
[null,"MOD-LS TO SHELF",null,null,"Charge for Switch Lazy Susan to a fixed shelf",null,null,{"v":0,"d":"$0"}]
[null,"MOD-SINGLE DOUBLE DRAWER","CR",null,"Change cabinet from double drawer to a single drawer.\n- Applies to cabinet widths 33\", 36\", 39\".",null,null,{"v":75,"d":"$75"}]
[null,"MOD-SINGLE DOUBLE DOOR","CR",null,"Change cabinet from a double door to a single door. \n- Applies to 24\" wide cabinets (No warping warranty).",null,null,{"v":75,"d":"$75"}]
[null,"MOD-MISC","CR"]
[]
[{"$nulls":3},"Delivery Fee",{"$nulls":3},"Price"]
[{"$nulls":3},"Founder's Choice delivers to first threshold - Inside the front door or the garage. "]
[null,"Delivery fees are calculated using one way, road miles, using Google Maps and taking the shortest road distance. \n\nStarting location: \n6002 McKinley Ave E. \nTacoma, WA 98404",null,"TACOMA AREA - UP TO 7 ROAD MILES",{"$nulls":3},{"v":50,"d":"$50"}]
[{"$nulls":3},"UP TO 12 ROAD MILES",{"$nulls":3},{"v":75,"d":"$75"}]
[{"$nulls":3},"UP TO 18 ROAD MILES",{"$nulls":3},{"v":100,"d":"$100"}]
[{"$nulls":3},"UP TO 24 ROAD MILES",{"$nulls":3},{"v":125,"d":"$125"}]
[{"$nulls":3},"UP TO 30 ROAD MILES",{"$nulls":3},{"v":150,"d":"$150"}]
[{"$nulls":3},"UP TO 40 ROAD MILES",{"$nulls":3},{"v":200,"d":"$200"}]
[{"$nulls":3},"OVER 40 MILES: $200 + ($5 FOR EVERY ADDITIONAL MILE), Up to 120 miles"]
[{"$nulls":3},"Other Delivery charges: "]
[null,"Two Man Delivery:",null,"This applies to deliveries with Tall Cabinets (OC, LC, and UC), Sink Bases Diagonal (SBD), 3DB33&36, VA48, VA60, or orders with greater than 30 cabinets.",{"$nulls":3},"Multiply delivery fee by 1.5"]
[{"$nulls":3},"Ferries",{"$nulls":3},"Quote Required"]
[]
[{"$nulls":3},"Freight",{"$nulls":3},"Price"]
[null,"Founder's Choice estimates freight cost to western Washington or western Oregon at 10% of order cost, with a minimum fee of $200. "]
[{"$nulls":3},"Lift gate fee (for destinations without a loading dock - Residential)                  ",{"$nulls":3},"Add $300"]
[{"$nulls":3},"If outside of western Washington and Oregon, request a freight quote."]
[null,{"$f":"'Order Form'!K142","v":"Revision Date: 1-8-2020"}]

{"sheet":"Accessories","index":12,"n_rows":83,"n_cols":17,"rows_kept":83,"merged":[[1,2,1,3],[1,4,1,6],[2,1,3,3],[2,4,2,6],[2,10,2,11],[3,4,3,6],[69,4,69,6],[79,1,81,1],[79,2,81,3],[79,4,81,6]]}
[]
[null,null,"Accessories",null,"Accessories below will be installed free of charge, provided that they are available from our suppliers prior to order ship date (excludes exterior mounted (EM) accessories). "]
[null,"The following is a list of the approved accessories that Founder's Choice offers. Add the Item Code listed in the left column on the Order Form. The quantity field must still be used to specify the number of accessories. ",null,null,"*Founder's Choice reserves the right to correct miscalculated accessory charges.",{"$nulls":5},"Confirm Costs"]
[{"$nulls":4},"* We will provide, but not install, other accessories. Use ACCESSORY for this purpose, please make notes in the comment section, Part Number, Vendor, and add custom price."]
[null,"Enter in Sales Order Sheet","Cabinet Accessories",null,null,"Fits","Price",null,null,"Vendor Part","Vendor ","Founders Choice Cost",null,"Secondary Vendor Part","Vendor ","Founders Choice Cost"]
[null,null,"Sink Base Tip Out Tray - Stainless"]
[null,"TIP OUT TRAY SB24",null,"Tip-Out Tray Sink Base 24 - Soft Close","Website","SB24",{"v":20,"d":"$20.00"},null,null,"RV6581-19SS","Wurth",{"v":7.11,"d":"$7.11"},null,"RVLD-0220-50SC","Wurth",{"v":7.96,"d":"$7.96"}]
[null,"TIP OUT TRAY SB30",null,"Tip-Out Tray Sink Base 30 - Soft Close","Website","SB30",{"v":24,"d":"$24.00"},null,null,"RV6581-25SS","Wurth",{"v":8.31,"d":"$8.31"},null,"RVLD-0220-50SC","Wurth",{"v":7.96,"d":"$7.96"}]
[null,"TIP OUT TRAY SB33",null,"Tip-Out Tray Sink Base 33 Kit - Soft Close","Website","SB33",{"v":39,"d":"$39.00"},null,null,"RV6581-11SS","Wurth",{"v":6.03,"d":"$6.03"},null,"RVLD-0220-50SC","Wurth",{"v":7.96,"d":"$7.96"}]
[null,"TIP OUT TRAY SB36",null,"Tip-Out Tray Sink Base 36 Kit - Soft Close","Website","SB36",{"v":45,"d":"$45.00"},null,null,"RV6581-13SS","Wurth",{"v":6.16,"d":"$6.16"},null,"RVLD-0220-50SC","Wurth",{"v":7.96,"d":"$7.96"}]
[null,"TIP OUT TRAY SB39",null,"Tip-Out Tray Sink Base 39 Kit - Soft Close","Website","SB39",{"v":45,"d":"$45.00"},null,null,"RV6581-19SS","Wurth",{"v":7.11,"d":"$7.11"},null,"RVLD-0220-50SC","Wurth",{"v":7.96,"d":"$7.96"}]
[null,null,"Recycle Centers"]
[null,"RECYCLE SINGLE-WOOD REV",null,"Single 35 QT can -w/ Wood System","Website","B15",{"v":250,"d":"$250.00"},null,null,"RV4WCSC-1535DM","Wurth",{"v":172.22,"d":"$172.22"}]
[null,"RECYCLE SINGLE-WOOD REV-TALL",null,"Single 50 QT can -w/ Wood System","Website","FHB15",{"v":275,"d":"$275.00"},null,null,"RV4WCSC-1550DM","Wurth",{"v":175.51,"d":"$175.51"}]
[null,"COMPOST BIN-SINGLE",null,"Single Bin Compost","Website","B18",{"v":415,"d":"$415.00"},null,null,"RV4WCSC-CP-1","Wurth",{"v":230.64,"d":"$230.64"}]
[null,"RECYCLE CENTER-CHROME SALICE",null,"Two 35 QT cans -w/ Chrome System","Website","B18",{"v":250,"d":"$250.00"},null,null,23215100,"Richelieu",{"v":87.81,"d":"$87.81"}]
[null,"RECYCLE CENTER-WOOD REV",null,"Two 35 QT cans -w/ Wood System","Website","B18",{"v":370,"d":"$370.00"},null,null,"RV4WCSC-1835DM","Wurth",{"v":187.22,"d":"$187.22"}]
[null,"RECYCLE CENTER-FHB21",null,"Two 50 QT cans","Website","FHB21",{"v":415,"d":"$415.00"},null,null,"RV4WCSC-2150DM","Wurth",{"v":208.97,"d":"$208.97"}]
[null,"COMPOST BIN-DOUBLE",null,"Two Bin Compost","Website","FHB21",{"v":465,"d":"$465.00"},null,null,"RV4WCSC-1835CP-2","Wurth",{"v":262.82,"d":"$262.82"}]
[null,null,"Cutting Boards"]
[null,"BREAD BOARD 16",null,"Bread Board 16 x 22","Website","B12-B18",{"v":90,"d":"$90.00"},null,null,"MRBB1622","Wurth",{"v":28.44,"d":"$28.44"},null,"HKBB","Wurth",{"v":15.17,"d":"$15.17"}]
[null,"BREAD BOARD 18",null,"Bread Board 18 x 22","Website","B21",{"v":105,"d":"$105.00"},null,null,"MRBB1822","Wurth",{"v":35.99,"d":"$35.99"},null,"HKBB","Wurth",{"v":15.17,"d":"$15.17"}]
[null,"BREAD BOARD 24",null,"Bread Board 24 x 22","Website","B24-B27",{"v":120,"d":"$120.00"},null,null,"MRBB2422","Wurth",{"v":48.42,"d":"$48.42"},null,"HKBB","Wurth",{"v":15.17,"d":"$15.17"}]
[null,"BUTCHER BLOCK",null,"Butcher Block ","Website","B15-B24",{"v":300,"d":"$300"},null,null,"MMC24X25","Wurth",{"v":88.17,"d":"$88.17"},null,"T3402G20","Richelieu",{"v":64.93,"d":"$64.93"}]
[null,null,"Tray Dividers"]
[null,"TRAY DIVIDER-REV",null,"Chrome Tray Divider 3\" U shape","Website","FHB09",{"v":35,"d":"$35.00"},null,null,"RV596-10CH","Wurth",{"v":9.85,"d":"$9.85"}]
[null,"WOOD TRAY DIVIDER",null,"Wood 4 Divider System","Website","RW, OC and similar",{"v":135,"d":"$135.00"},null,null,"OMTS2424","Wurth",{"v":96.15,"d":"$96.15"}]
[null,null,"Filler Pull Outs (Includes Fillers for easy install)"]
[null,"FILLER PULLOUT (3)",null,"3\" filler pull out","Website","N/A",{"v":334,"d":"$334.00"},null,null,"RV432-BFSC-3C","Wurth",{"v":148.13,"d":"$148.13"},"Added $40 for the two fillers needed"]
[null,"FILLER PULLOUT (6)",null,"6\" filler pull out","Website","N/A",{"v":383,"d":"$383.00"},null,null,"RV432-BFSC-6C","Wurth",{"v":173.08,"d":"$173.08"}]
[null,"FILLER PULLOUT (9)",null,"9\" filler pull out","Website","N/A",{"v":462,"d":"$462.00"},null,null,"RV432-BFSC-9C","Wurth",{"v":218.47,"d":"$218.47"}]
[null,null,"Cabinet Pull Out"]
[null,"BASE PULLOUT (5)",null,"Base Pull Out 5","Website","FHB09",{"v":275,"d":"$275.00"},null,null,2663155,"Richelieu",{"v":145,"d":"$145.00"},null,25476155140,"Richelieu",{"v":56.58,"d":"$56.58"}]
[null,"BASE PULLOUT BASKET (5) ",null,"Base Pull Out 5 Metal Basket","Website","FHB09",{"v":95,"d":"$95.00"},null,null,25476155140,"Richelieu",{"v":56.58,"d":"$56.58"}]
[null,"BASE PULLOUT (8)",null,"Base Pull Out 8","Website","FHB12",{"v":295,"d":"$295.00"},null,null,2663155,"Richelieu",{"v":145,"d":"$145.00"},null,25155150,"Richelieu",{"v":84.72,"d":"$84.72"}]
[null,"BASE PULLOUT BASKET (8) ",null,"Base Pull Out 8 Metal Basket","Website","FHB12",{"v":130,"d":"$130.00"},null,null,25155150,"Richelieu",{"v":62.7,"d":"$62.70"}]
[null,"BASE PULLOUT (11)",null,"Base Pull Out 11","Website","FHB15",{"v":340,"d":"$340.00"},null,null,2663155,"Richelieu",{"v":145,"d":"$145.00"},null,26155150,"Richelieu",{"v":91.35,"d":"$91.35"}]
[null,"BASE PULLOUT (14)",null,"Base Pull Out 14","Website","FHB18",{"v":400,"d":"$400.00"},null,null,2663155,"Richelieu",{"v":145,"d":"$145.00"},null,27155150,"Richelieu",{"v":95.58,"d":"$95.58"}]
[null,"TALL PULLOUT (8)",null,"Frame and 8\" Wide Baskets","Website","UC12",{"v":720,"d":"$720.00"},null,null,24260155,"Richelieu",{"v":335,"d":"$335.00"},null,25155150,"Richelieu",{"v":84.72,"d":"$84.72"},"Qty 2"]
[null,"TALL PULLOUT (14)",null,"Frame and 14\" Wide Baskets","Website","UC18",{"v":760,"d":"$760.00"},null,null,24260155,"Richelieu",{"v":335,"d":"$335.00"},null,27155150,"Richelieu",{"v":95.58,"d":"$95.58"},"Qty 2"]
[null,"TALL PULLOUT (20)",null,"Frame and 20\" Wide Baskets","Website","UC24",{"v":795,"d":"$795.00"},null,null,24260155,"Richelieu",{"v":335,"d":"$335.00"},null,39155150,"Richelieu",{"v":142,"d":"$142.00"},"Qty 2"]
[null,"TALL PULLOUT (22)",null,"Frame and 22\" Wide Baskets","Website","UC30",{"v":835,"d":"$835.00"},null,null,24260155,"Richelieu",{"v":335,"d":"$335.00"},null,40155150,"Richelieu",{"v":145.2,"d":"$145.20"},"Qty 2"]
[null,null,"Blind Corner Base Pull Outs "]
[null,"BCB PULLOUT-HALF MOON45",null,"Blind Corner Half-Moon ","Website","BCB45",{"v":270,"d":"$270.00"},null,null,"RV6842-31-11-570","Wurth",{"v":97.5,"d":"$97.50"}]
[null,"BCB PULLOUT-BEAN48",null,"Bean (Specify Finish)","Website","BCB48",{"v":525,"d":"$525.00"},null,null,6930140100,"Richelieu",{"v":240,"d":"$240.00"}]
[null,"FHBCB PULLOUT-PREMIER45",null,"Premier Corner Pull Out","Website","FHBCB45",{"v":885,"d":"$885.00"},null,null,"RV5707-15CR","Wurth",{"v":468.43,"d":"$468.43"}]
[null,"FHBCB PULLOUT-PREMIER48",null,"Premier Corner Pull Out","Website","FHBCB48",{"v":930,"d":"$930.00"},null,null,"RV5707-18CR","Wurth",{"v":481.74,"d":"$481.74"}]
[null,"FHBCB PULLOUT-OPTIMIZER45",null,"'Optimizer' ","Website","FHBCB45",{"v":625,"d":"$625.00"},null,null,"5PSP15SCCR","Richelieu",{"v":282.38,"d":"$282.38"}]
[null,"FHBCB PULLOUT-OPTIMIZER48",null,"'Optimizer' ","Website","FHBCB48",{"v":655,"d":"$655.00"},null,null,"5PSP18SCCR","Richelieu",{"v":305.47,"d":"$305.47"}]
[null,null,"Organizers"]
[null,"STEMWARE-BRASS",null,"Stemware Organizer-Brass","Website","EM",{"v":38,"d":"$38.00"},null,null,"RV3450-11BR","Wurth",{"v":20.36,"d":"$20.36"}]
[null,"STEMWARE-CHROME",null,"Stemware Organizer-Chrome","Website","EM",{"v":32,"d":"$32.00"},null,null,"RV3450-11CR","Wurth",{"v":16.63,"d":"$16.63"}]
[null,"STEMWARE-BRONZE",null,"Stemware Organizer-Bronze","Website","EM",{"v":42,"d":"$42.00"},null,null,"RV3450-11ORB","Wurth",{"v":21.76,"d":"$21.76"}]
[null,"STEMWARE-NICKLE",null,"Stemware Organizer-Satin Nickle","Website","EM",{"v":37,"d":"$37.00"},null,null,"RV3450-11SN","Wurth",{"v":19.43,"d":"$19.43"}]
[null,"WINE BOTTLE-BRASS",null,"Wine Bottle Organizer-Brass","Website","EM",{"v":18,"d":"$18.00"},null,null,"RV3250BR","Wurth",{"v":9.02,"d":"$9.02"}]
[null,"WINE BOTTLE-CHROME",null,"Wine Bottle Organizer-Chrome","Website","EM",{"v":15,"d":"$15.00"},null,null,"RV3250CR","Wurth",{"v":7.69,"d":"$7.69"}]
[null,"WINE BOTTLE-BRONZE",null,"Wine Bottle Organizer-Bronze","Website","EM",{"v":22,"d":"$22.00"},null,null,"RV3250ORB","Wurth",{"v":10.8,"d":"$10.80"}]
[null,"WINE BOTTLE-NICKLE",null,"Wine Bottle Organizer-Satin Nickle","Website","EM",{"v":17,"d":"$17.00"},null,null,"RV3250SN","Wurth",{"v":8.63,"d":"$8.63"}]
[null,null,"Drawer Organizers"]
[null,"NESTED CUTLERY DRAWER 15",null,"Nested Cutlery Drawer 15","Website","B15",{"v":200,"d":"$200.00"},null,null,"RV4WTCD-15","Wurth",{"v":81.14,"d":"$81.14"}]
[null,"NESTED CUTLERY DRAWER 18",null,"Nested Cutlery Drawer 18","Website","B18",{"v":215,"d":"$215.00"},null,null,"RV4WTCD-18","Wurth",{"v":97.77,"d":"$97.77"}]
[null,"NESTED CUTLERY DRAWER 21",null,"Nested Cutlery Drawer 21","Website","B21",{"v":230,"d":"$230.00"},null,null,"RV4WTCD-21","Wurth",{"v":107.72,"d":"$107.72"}]
[null,"NESTED CUTLERY DRAWER 24",null,"Nested Cutlery Drawer 24","Website","B24",{"v":240,"d":"$240.00"},null,null,"RV4WTCD-24","Wurth",{"v":114.33,"d":"$114.33"}]
[null,null,"Miscellaneous Accessories and Paint/Stain"]
[null,"MIXER LIFT",null,"Mixer Lift  (Includes plywood shelf)","Website","FHB18-FHB21",{"v":250,"d":"$250.00"},null,null,"RVRAS-ML-HDSC","Wurth",{"v":141.54,"d":"$141.54"}]
[null,"CUSTOM-HOOD",null,"Custom Hood - Please provide dimensions","Website"]
[null,"CUSTOM-FLOATING SHELF",null,"Floating Shelf - Please provide dimensions, species, and color","Website","See website for available options"]
[null,"ADHESIVE200",null,"Company Approved Adhesive for Applying Skins","Website","All SKINS",{"v":15,"d":"$15.00"}]
[null,"BUILD UP STRIP",null,"3/4\" Plywood 1.5\" x 96\"","Website",null,{"v":11,"d":"$11.00"}]
[null,"ACCESSORY",null,"Use this item for accessories not listed","* We will provide, but not install, other accessories."]
[null,"STAIN-5 GALLON",null,"Stain to Spray, Not Brush - 5 Gallons - 50% more if Custom Color","Website",null,{"v":320,"d":"$320.00"}]
[null,"STAIN-GALLON",null,"Stain to Spray, Not Brush - Gallon - 50% more if Custom Color","Website",null,{"v":80,"d":"$80.00"}]
[null,"STAIN-QUART",null,"Stain to Spray, Not Brush - Quart - 50% more if Custom Color","Website",null,{"v":20,"d":"$20.00"}]
[null,"PAINT-5 GALLON",null,"Paint to Spray, Not Brush - 5 Gallons - 50% more if Custom Color","Website",null,{"v":400,"d":"$400.00"}]
[null,"PAINT-GALLON",null,"Paint to Spray, Not Brush - Gallon - 50% more if Custom Color","Website",null,{"v":100,"d":"$100.00"}]
[null,"PAINT-QUART",null,"Paint to Spray, Not Brush - Quart - 50% more if Custom Color","Website",null,{"v":25,"d":"$25.00"}]
[null,"Glass Pane Inserts"]
[null,"Glass inserts will need to be purchased directly from a glass supplier in your area."]
[null,"Other Hardware",null,null,"Definitive Hardware Collection",null,"Website"]
[null,"PULL-NONSTOCK","Use this item for other hardware that isn't in the Definitive Collection, Please enter in the note section: Vendor & Part Number, and add custom price",null,"To order hardware, type the name exactly as it appears next to the piece on the Founder's Choice Definitive Collection hardware board. "]
[]
[]
[null,{"$f":"'Order Form'!K142","v":"Revision Date: 1-8-2020"}]

{"sheet":"Color","index":13,"n_rows":139,"n_cols":27,"rows_kept":139,"hidden":true,"merged":[[1,0,1,1]]}
[]
["Calculations"]
["Finish Selected",{"$f":"IFERROR(VLOOKUP('Order Form'!J17,Color!A7:B600,2,FALSE),1)","v":1}]
[null,null,2,3,4,5,6,7,8,9,10,11,12,13,14,15,16,17]
[null,null,"Select Pricing","Craftsman Pricing","01- and 12- Piece","13 Piece","13- Factor","Touch up kit","Touch up Kit Price","Touch Up Kit","Outputs for Proposal","Outputs for Upload","Custom","Order From","Delivery Weeks","Paint/Stain Mark up","For Comment","Custom Color?",{"$nulls":8},"Flat Pack/Single Pack"]
[null,null,{"$f":"VLOOKUP($B$3,$B7:$R$200,C4,FALSE)","v":""},{"$f":"VLOOKUP($B$3,$B7:$R$200,D4,FALSE)","v":0},{"$f":"VLOOKUP($B$3,$B7:$R$200,E4,FALSE)","v":""},{"$f":"VLOOKUP($B$3,$B7:$R$200,F4,FALSE)","v":""},{"$f":"VLOOKUP($B$3,$B7:$R$200,G4,FALSE)","v":""},{"$f":"VLOOKUP($B$3,$B7:$R$200,H4,FALSE)","v":""},{"$f":"VLOOKUP($B$3,$B7:$R$200,I4,FALSE)","v":0},{"$f":"VLOOKUP($B$3,$B7:$R$200,J4,FALSE)","v":""},{"$f":"VLOOKUP($B$3,$B7:$R$200,K4,FALSE)","v":""},{"$f":"VLOOKUP($B$3,$B7:$R$200,L4,FALSE)","v":""},{"$f":"VLOOKUP($B$3,$B7:$R$200,M4,FALSE)","v":""},{"$f":"VLOOKUP($B$3,$B7:$R$200,N4,FALSE)","v":0},{"$f":"VLOOKUP($B$3,$B7:$R$200,O4,FALSE)","v":0},{"$f":"VLOOKUP($B$3,$B7:$R$200,P4,FALSE)","v":0},{"$f":"VLOOKUP($B$3,$B7:$R$200,Q4,FALSE)","v":0},{"$f":"VLOOKUP($B$3,$B7:$R$200,R4,FALSE)","v":0},{"$nulls":8},"Please Select a Color (more info on the Job Options tab)"]
["Please Select a Color (more info on the Job Options tab)",1,"",null,"","","","",null,"","","","",0,0,0,null,null,1,{"$nulls":7},"Espresso"]
["Amber",2,{"$f":"IF('Door Style'!$B$3=3,D8,1.1)","v":1.1},1,{"$f":"IF(CONCAT!$G$5=\"Grandview\",Color!M8,\"-S1\")","v":"-S1"},"-S",1.1,"-AB",14.4," Stain",", Amber Stain","Amber","-SC",2,4,1,"/AMBER",null,5,null,{"$f":"LEN(Q8)","v":6},{"$nulls":5},"Mocha"]
["Ash",3,{"$f":"IF('Door Style'!$B$3=3,D9,1.1)","v":1.1},1,{"$f":"IF(CONCAT!$G$5=\"Grandview\",Color!M9,\"-S1\")","v":"-S1"},"-S",1.1,"-A",14.4," Stain",", Ash Stain","Ash","-SC",2,4,1,"/ASH",null,10,null,{"$f":"LEN(Q9)","v":4},{"$nulls":5},"Pearl"]
["Biscuit",4,{"$f":"IF('Door Style'!$B$3=3,D10,1.1)","v":1.1},1,{"$f":"IF(CONCAT!$G$5=\"Grandview\",Color!M10,\"-P1\")","v":"-P1"},"-P",1.1,"-B",14.4," Paint",", Biscuit Paint","Biscuit","-PC",2,4,1,"/BISC",null,16,null,{"$f":"LEN(Q10)","v":5},{"$nulls":5},"Raw"]
["Black",5,1,1,{"$f":"IF(CONCAT!$G$5=\"Grandview\",Color!M27,\"-S1\")","v":"-S1"},"-S",1," CUSTOM",14.4," Stain",", Black Stain","Black","-SC",2,3,1,"/BLACK",null,18,null,6]
["Cappuccino",6,{"$f":"IF('Door Style'!$B$3=3,D12,1.1)","v":1.1},1,{"$f":"IF(CONCAT!$G$5=\"Grandview\",Color!M11,\"-P1\")","v":"-P1"},"-P",1.1,"-C",14.4," Paint",", Cappuccino Paint","Cappuccino","-PC",2,4,1,"/CAP",null,7,null,4]
["Chestnut",7,{"$f":"IF('Door Style'!$B$3=3,D13,1.1)","v":1.1},1,{"$f":"IF(CONCAT!$G$5=\"Grandview\",Color!M12,\"-S1\")","v":"-S1"},"-S",1.1,"-CN",14.4," Stain",", Chestnut Stain","Chestnut","-SC",2,4,1,"/CHST",null,19,null,5]
["Cranberry",8,{"$f":"IF('Door Style'!$B$3=3,D14,1.1)","v":1.1},1,{"$f":"IF(CONCAT!$G$5=\"Grandview\",Color!M13,\"-P1\")","v":"-P1"},"-P",1.1,"-CR",14.4," Paint",", Cranberry Paint","Cranberry","-PC",2,4,1,"/CRAN",null,11,null,5]
["Espresso",9,{"$f":"IF('Door Style'!$B$3=3,D15,1.1)","v":1.1},1,{"$f":"IF(CONCAT!$G$5=\"Grandview\",Color!M14,\"-E1\")","v":"-E1"},"-E",1.1,"-E",12,"Espresso",", Espresso Stain","Espresso","-SC",2,3,1,"/ESP",null,6,null,4]
["Java",10,{"$f":"IF('Door Style'!$B$3=3,D16,1.1)","v":1.1},1,{"$f":"IF(CONCAT!$G$5=\"Grandview\",Color!M15,\"-S1\")","v":"-S1"},"-S",1.1,"-J",14.4," Stain",", Java Stain","Java","-SC",2,4,1,"/JAVA",null,15,null,5]
["Linen",11,{"$f":"IF('Door Style'!$B$3=3,D17,1.1)","v":1.1},1,{"$f":"IF(CONCAT!$G$5=\"Grandview\",Color!M16,\"-P1\")","v":"-P1"},"-P",1.1,"-L",14.4," Paint",", Linen Paint","Linen","-PC",2,4,1,"/LINEN",null,9,null,6]
["Merlot",12,{"$f":"IF('Door Style'!$B$3=3,D18,1.1)","v":1.1},1,{"$f":"IF(CONCAT!$G$5=\"Grandview\",Color!M17,\"-S1\")","v":"-S1"},"-S",1.1,"-MR",14.4," Stain",", Merlot Stain","Merlot","-SC",2,4,1,"/MERL",null,3,null,5]
["Mocha",13,{"$f":"IF('Door Style'!$B$3=3,D19,1)","v":1},1,{"$f":"IF(CONCAT!$G$5=\"Grandview\",Color!M18,\"-M1\")","v":"-M1"},"-M",1,"-M",12," Mocha",", Mocha Stain","Mocha","-SC",2,3,1,"/MOCHA",null,8,null,6]
["Natural",14,{"$f":"IF('Door Style'!$B$3=3,D20,1.1)","v":1.1},1,{"$f":"IF(CONCAT!$G$5=\"Grandview\",Color!M19,\"-S1\")","v":"-S1"},"-S",1.1," NOT NEEDED",0," Stain",", Natural Stain","Natural","-SC",2,3,1,"/NAT",null,20,null,4]
["Paint Catalog",15,{"$f":"IF('Door Style'!$B$3=3,D21,1.25)","v":1.25},1.05,{"$f":"IF(CONCAT!$G$5=\"Grandview\",Color!M20,\"-P1\")","v":"-P1"},"-P",1.25," CUSTOM",15," Paint",{"$f":"\", \"&IF('Order Form'!L17=\"Replace this text with Stain/Paint Name and/or Number.\",\"\",'Order Form'!L17&\" \")& \"Catalog Paint\"","v":", Catalog Paint"},"Pnt Catlg","-PC",2,4,1.5,"/PCTLG","Y",21,null,6]
["Paint Match",16,{"$f":"IF('Door Style'!$B$3=3,1.1,1.35)","v":1.35},1.15,{"$f":"IF(CONCAT!$G$5=\"Grandview\",Color!M21,\"-P1\")","v":"-P1"},"-P",1.35," CUSTOM",16.2," Paint",{"$f":"\", \"&IF('Order Form'!L17=\"Replace this text with Stain/Paint Name and/or Number.\",\"\",'Order Form'!L17&\" \")& \"Paint Match\"","v":", Paint Match"},"Pnt Match","-PC",2,4,1.5,"/PMTCH","Y",14,null,6]
["Pearl",17,{"$f":"IF('Door Style'!$B$3=3,D23,1.1)","v":1.1},1,{"$f":"IF(CONCAT!$G$5=\"Grandview\",Color!M22,\"-WP1\")","v":"-WP1"},"-WP",1.1,"-WP",14.4," White Pearl",", Pearl Paint","Pearl","-PC",2,3,1,"/PEARL",null,2,null,6]
["Raw",18,{"$f":"IF('Door Style'!$B$3=3,D24,1)","v":1},1,{"$f":"IF(CONCAT!$G$5=\"Grandview\",Color!M23,\"-R1\")","v":"-R1"},"-R",1," NOT NEEDED",0,"Raw",", Unfinished","Raw","-SC",2,3,0,"/RAW",null,17,null,4]
["Slate",19,{"$f":"IF('Door Style'!$B$3=3,D25,1.1)","v":1.1},1,{"$f":"IF(CONCAT!$G$5=\"Grandview\",Color!M24,\"-P1\")","v":"-P1"},"-P",1.1,"-SL",14.4," Paint",", Slate Paint","Slate","-PC",2,4,1,"/SLATE",null,12,null,6]
["Stain Catalog",20,{"$f":"IF('Door Style'!$B$3=3,D26,1.25)","v":1.25},1.05,{"$f":"IF(CONCAT!$G$5=\"Grandview\",Color!M25,\"-S1\")","v":"-S1"},"-S",1.25," CUSTOM",15," Stain",{"$f":"\", \"&IF('Order Form'!L17=\"Replace this text with Stain/Paint Name and/or Number.\",\"\",'Order Form'!L17)&\" \"& \"Catalog Stain\"","v":",  Catalog Stain"},"Stn Catlg","-SC",2,4,1.5,"/SCTLG","Y",13,null,6]
["Stain Match",21,{"$f":"IF('Door Style'!$B$3=3,1.1,1.35)","v":1.35},1.15,{"$f":"IF(CONCAT!$G$5=\"Grandview\",Color!M26,\"-S1\")","v":"-S1"},"-S",1.35," CUSTOM",16.2," Stain",{"$f":"\", \"&IF('Order Form'!L17=\"Replace this text with Stain/Paint Name and/or Number.\",\"\",'Order Form'!L17&\" \")& \"Stain Match\"","v":", Stain Match"},"Stn Match","-SC",2,4,1.5,"/SMTCH","Y",null,null,6]
{"$rows_empty":21}
["Discontinued colors"]
["Wheat",21,{"$f":"IF('Door Style'!$B$3=3,D50,1.1)","v":1.1},1,{"$f":"IF(CONCAT!$G$5=\"Grandview\",Color!M50,\"-S1\")","v":"-S1"},"-S",1.1,"-W",12," Wheat",", Wheat Stain","Wheat","-SC",1,4,1,"/WHEAT",null,4]
{"$rows_empty":88}
[null,null,{"$f":"IF(OR(Color!$B$3=1,$B$3=8,$B$3=1,$B$3=1),0,1)","v":0}]

{"sheet":"Species","index":14,"n_rows":26,"n_cols":15,"rows_kept":26,"hidden":true,"merged":[[1,0,1,1]]}
[]
["Calculations"]
["Species Selected",{"$f":"IFERROR(VLOOKUP('Order Form'!D17,Species!A7:B22,2,FALSE),1)","v":1}]
[]
[null,null,"Factoring","Upload Name","Outputs for Proposal","Order Type","Comment",{"$nulls":7},"Flat Pack/Single Pack"]
[null,null,{"$f":"VLOOKUP(B3,B7:C199,2,FALSE)","v":""},{"$f":"VLOOKUP(B3,B7:D199,3,FALSE)","v":""},{"$f":"VLOOKUP(B3,B7:E20,4,FALSE)","v":""},{"$f":"VLOOKUP(B3,B7:F199,5,FALSE)","v":0},{"$f":"VLOOKUP(B3,B7:G20,6,FALSE)","v":0},{"$nulls":7},"White Birch"]
["Please Select a Wood Species",1,"","","",0]
["Alder",2,{"$f":"$C$26+0.2","v":0.2},"Alder",{"$f":"\", \"&A8","v":", Alder"},3,"/ALD"]
["Beech",3,{"$f":"$C$26+0","v":0},"Beech",", Beech",3,"/BEE"]
["Cherry",4,{"$f":"$C$26+0.2","v":0.2},"Cherry",", Cherry",3,"/CHRY"]
["Maple",5,{"$f":"$C$26+0.1","v":0.1},"Maple",", Maple",3,"/MAP"]
["Paint Grade Maple",6,{"$f":"0.1","v":0.1},"PG Maple",", Paint Grade Maple",3,"/PGM"]
["Paint Grade MDF",7,{"$f":"0.1","v":0.1},"PG MDF",", Paint Grade MDF",2,"/MDF"]
["Red Oak",8,{"$f":"$C$26+0.1","v":0.1},"Red Oak",", Red Oak",3,"/ROAK"]
["Rustic Alder",9,{"$f":"$C$26+0.3","v":0.3},"Rstc Alder",", Rustic Alder",3,"/R ALD"]
["Rustic Beech",10,{"$f":"$C$26+0.1","v":0.1},"Rstc Beech",", Rustic Beech",3,"/R BEE"]
["Rustic Cherry",11,{"$f":"$C$26+0.3","v":0.3},"Rstc Cherry",", Rustic Cherry",3,"/RCHRY"]
["Rustic Hickory",12,{"$f":"$C$26+0.2","v":0.2},"Rstc Hckry",", Rustic Hickory",3,"/RHICK"]
["White Birch",13,{"$f":"0.1","v":0.1},"WhiteBirch",", White Birch",2,"/WB"]
["White Oak",14,{"$f":"$C$26+0.2","v":0.2},"White Oak",", White Oak",3,"/WOAK"]
["Walnut",15,0.3,"Walnut",", Walnut",3,"/WAL"]
["Pecan",16,0.2,"Pecan",", Pecan",3,"/PEC"]
[]
[]
[null,null,"For Temporary, Add 10% to non PG species if not painted"]
[null,null,{"$f":"IF(Color!M6=\"-PC\",0.1,0)","v":0}]

{"sheet":"Door Style","index":15,"n_rows":37,"n_cols":30,"rows_kept":37,"hidden":true,"merged":[[1,0,1,1],[38,1,38,4],[39,1,39,4],[40,1,40,4]]}
[]
["Calculations"]
["Door Style Selected",{"$f":"IFERROR(VLOOKUP('Order Form'!J19,'Door Style'!A7:B32,2,FALSE),1)","v":1}]
[]
[null,null,"Cost","Upload Name","Outputs for Proposal","Order Type","Factor bump Craftsman","Select Bump","Comment","Custom Door Style",{"$nulls":4},"Flat Pack/Single Pack","Cost","Upload Name","Outputs for Proposal","Order Type","Factor bump Craftsman","Select Bump","Comment","Custom Door Style"]
[null,null,{"$f":"VLOOKUP(B3,B7:C238,2,FALSE)","v":""},{"$f":"VLOOKUP(B3,B7:D238,3,FALSE)","v":""},{"$f":"VLOOKUP(B3,B7:E238,4,FALSE)","v":""},{"$f":"VLOOKUP(B3,B7:F238,5,FALSE)","v":0},{"$f":"VLOOKUP(B3,B7:G238,6,FALSE)","v":0},{"$f":"VLOOKUP(B3,B7:H238,7,FALSE)","v":0},{"$f":"VLOOKUP(B3,B7:I238,8,FALSE)","v":0},{"$f":"VLOOKUP(B3,B7:J238,9,FALSE)","v":0},{"$nulls":4},"Select Shaker"]
["Please Select a Door Style",1,"","","",0]
["Bridgeport(Slab)",2,20,"Bridgeport","Bridgeport",3,0.25,null,"/BRPT",null,8,{"$nulls":13},{"$f":"LEN(D8)","v":10},{"$f":"LEN(E8)","v":10},1,4,0,5]
["Grandview",3,20,"Grandview","Grandview",3,0.25,null,"/GV",null,4,{"$nulls":13},{"$f":"LEN(D9)","v":9},9,1,4,0,3]
["Grandview FS",4,20,"GrandviewFS","Grandview Finger Scoop",3,0.28,null,"/GV FS",null,4,{"$nulls":13},11,22,1,4,0,6]
["Lexington",5,0,"Lexington","Lexington",3,null,null,"/LEX",null,10,{"$nulls":13},9,9,1,0,0,4]
["McCormick",6,20,"McCormick","McCormick",3,0.25,null,"/MC",null,5,{"$nulls":13},9,9,1,4,0,3]
["OldTown",7,0,"Old Town","Old Town",3,null,null,"/OLDT",null,11,{"$nulls":13},8,8,1,0,0,5]
["OldTown FS",8,0,"Old TownFS","Old Town Finger Scoops",3,0.03,null,"/OLDT FS",null,11,{"$nulls":13},{"$f":"LEN(D14)","v":10},{"$f":"LEN(E14)","v":22},{"$f":"LEN(F14)","v":1},{"$f":"LEN(G14)","v":4},{"$f":"LEN(H14)","v":0},{"$f":"LEN(I14)","v":8}]
["Orchard (Beaded)",9,40,"Orchard","Orchard",3,0.3,null,"/ORCH",null,7,{"$nulls":13},7,7,1,3,0,5]
["Pacific",10,0,"Pacific","Pacific",3,null,null,"/PAC",null,15,{"$nulls":13},{"$f":"LEN(D16)","v":7},{"$f":"LEN(E16)","v":7},{"$f":"LEN(F16)","v":1},{"$f":"LEN(G16)","v":0},{"$f":"LEN(H16)","v":0},{"$f":"LEN(I16)","v":4}]
["Pacific FS",11,0,"PacificFS","Pacific Finger Scoop",3,0.03,null,"/PAC FS",null,15,{"$nulls":13},9,20,1,4,0,7]
["Pioneer",12,0,"Pioneer","Pioneer",3,null,null,"/PION",null,13,{"$nulls":13},{"$f":"LEN(D18)","v":7},{"$f":"LEN(E18)","v":7},{"$f":"LEN(F18)","v":1},{"$f":"LEN(G18)","v":0},{"$f":"LEN(H18)","v":0},{"$f":"LEN(I18)","v":5}]
["Pioneer FS",13,0,"PioneerFS","Pioneer Finger Scoop",3,0.03,null,"/PION FS",null,13,{"$nulls":13},9,20,1,4,0,8]
["Proctor",14,0,"Proctor","Proctor",3,null,null,"/PROCT",null,16,{"$nulls":13},7,7,1,0,0,6]
["Raised Panel - Custom",15,40,"RsdPanCust",{"$f":"IF('Order Form'!L19=\"Replace this text with door style specification.\",\"\",'Order Form'!L19&\" \")&\"Raised Panel Custom\"","v":"Raised Panel Custom"},3,0.3,null,"/RSD C","Y",2,{"$nulls":13},10,19,1,3,0,6]
["Recessed Panel - Custom",16,20,"RecPanCust",{"$f":"IF('Order Form'!L19=\"Replace this text with door style specification.\",\"\",'Order Form'!L19&\" \")&\"Recessed Panel Custom\"","v":"Recessed Panel Custom"},3,0.25,null,"/REC C","Y",9,{"$nulls":13},10,21,1,4,0,6]
["Regent",17,20,"Regent","Regent",3,0.25,null,"/REG",null,3,{"$nulls":13},6,6,1,4,0,4]
["Ruston",18,20,"Ruston","Ruston",3,0.25,null,"/RUST",null,6,{"$nulls":13},6,6,1,4,0,5]
["Ruston FS",19,20,"RustonFS","Ruston Finger Scoop",3,0.28,null,"/RUST FS",null,6,{"$nulls":13},{"$f":"LEN(D25)","v":8},{"$f":"LEN(E25)","v":19},{"$f":"LEN(F25)","v":1},{"$f":"LEN(G25)","v":4},{"$f":"LEN(H25)","v":0},{"$f":"LEN(I25)","v":8}]
["Shaker",20,0,"Shaker","Shaker",3,0,null,"/SHKR NOFS",null,17,{"$nulls":13},6,6,1,1,0,10]
["Shaker FS",21,0,"ShakerFS","Shaker Finger Scoop",2,0.03,null,"/SHKR FS",null,17,{"$nulls":13},8,19,1,4,0,8]
["Union",22,0,"Union","Union",3,null,null,"/UNION",null,14,{"$nulls":13},{"$f":"LEN(D28)","v":5},{"$f":"LEN(E28)","v":5},{"$f":"LEN(F28)","v":1},{"$f":"LEN(G28)","v":0},{"$f":"LEN(H28)","v":0},{"$f":"LEN(I28)","v":6}]
["Union FS",23,0,"UnionFS","Union Finger Scoop",3,0.03,null,"/UNION FS",null,14,{"$nulls":13},7,18,1,4,0,9]
["Whitman",24,0,"Whitman","Whitman",3,null,null,"/WHIT",null,12,{"$nulls":13},7,{"$f":"LEN(E30)","v":7},{"$f":"LEN(F30)","v":1},{"$f":"LEN(G30)","v":0},{"$f":"LEN(H30)","v":0},{"$f":"LEN(I30)","v":5}]
["Please Select a Door Style",25,{"$nulls":22},0,0,0,0,0,0]
["Mt Adams",26,0,"Mt Conner","Mt Conner",2,0,null,"/MDF ADM",{"$nulls":15},9,9,1,1,0,8]
["Mt Baker",27,null,"Mt Baker","Mt Baker",2,null,null,"/MDF BAKR",{"$nulls":15},{"$f":"LEN(D33)","v":8},{"$f":"LEN(E33)","v":8},{"$f":"LEN(F33)","v":1},{"$f":"LEN(G33)","v":0},{"$f":"LEN(H33)","v":0},9]
["Mt Hood",28,null,"Mt Hood","Mt Hood",2,null,null,"/MDF HOOD",{"$nulls":15},7,7,1,0,0,9]
["Mt Tahoma",29,null,"Mt Tahoma","Mt Tahoma",2,null,null,"/MDF TAMA",{"$nulls":15},9,9,1,0,0,9]
["Mt Shasta",30,null,"Mt Shasta","Mt Shasta",2,null,null,"/MDF SATA",{"$nulls":15},9,9,1,0,0,9]
["Mt Olympus",31,null,"Mt Olympus","Mt Olympus",2,null,null,"/MDF OLY",{"$nulls":15},10,10,1,0,0,8]

{"sheet":"Dealer Support Items","index":16,"n_rows":22,"n_cols":6,"rows_kept":22,"merged":[[1,1,3,5],[4,1,4,5],[5,2,5,3],[6,2,6,3],[7,1,8,1],[7,2,7,3],[7,4,8,4],[14,2,14,3],[15,2,15,3],[16,2,16,3],[19,2,19,3],[21,2,21,3]]}
[]
[]
[]
[]
[null,"Dealer Support Materials"]
[null,"Dealer Support Item","Description",null,"Price","Example"]
[null,"FCC SALES CENTER","Designed to be used as an in-showroom sales tool to introduce the features and benefits of Founder's Choice Cabinetry. Care was taken to ensure that all  of the door styles, finished and species could be displayed. Any door may be ordered in any combination. Each door sample will be properly labeled with Door Style, Species, Color and Finish for ease of reference.",null,{"v":2495,"d":"$2,495.00"}]
[null,"CRAFTSMAN DOOR SET","Dealer Craftsman Doors Includes- 2 Bags for easy traveling and storage, 14 doors with a variety of door styles, colors and species",null,{"v":1000,"d":"$1,000.00"}]
[null,null,"-Orchard/PG Maple/Cranberry\n-Lexington/PG Maple/Cappuccino\n-Union/PG Maple/Linen\n-Pacific/PG Maple/Pearl\n-Proctor/Maple/Chestnut\n-Whitman/Beech/Java\n-Pioneer/Beech/Mocha","-Bridgeport/Birch/Espresso\n-Regent/PG Maple/Biscuit\n-Ruston/Alder/Amber\n-Grandview/Rustic Cherry/Natural\n-Grandview/Rustic Alder/Natural\n-Grandview/Rustic Beech/Natural\n-McCormick/Red Oak/Ash"]
[null,"SELECT DOOR SET","Dealer Select Door includes- 5 shaker style doors in Colors and Bag for easy travel and storage.","-Shaker/Birch/Wheat\n-Shaker/Birch/Mocha\n-Shaker/Birch/Pearl\n-Shaker/Birch/Espresso\n-Shaker/Birch/Slate",{"v":250,"d":"$250.00"}]
[null,"KNOB PULL-V1","Founder's Choice Definitive Hardware Collection Display board. ","A selection of 16 Knobs and Pulls that will complement any kitchen well",{"v":50,"d":"$50.00"}]
[null,"CROWN RING","Founder's Choice Crown options","-CROWN1            -CROWNA\n-CROWN2             -CROWNB\n-CROWNS             -CROWNC    \n                                 -CROWND",{"v":10,"d":"$10.00"}]
[null,"SAMPLE CHIPS 4 X 6","Single Sample Chip","-Mocha       -Wheat              -Chestnut\n-Amber        -Java                   -Espresso         \n-Merlot        -Ash                    -Biscuit    \n-Pearl           -Linen                 -Cranberry     \n-Slate           -Cappuccino       ",{"v":1,"d":"$1.00"}]
[null,"SAMPLE CHIPS 4 X 6 Set","Includes 5 of each of the 14 colorways","-Mocha       -Wheat              -Chestnut\n-Amber        -Java                   -Espresso         \n-Merlot        -Ash                    -Biscuit    \n-Pearl           -Linen                 -Cranberry     \n-Slate           -Cappuccino       ",{"v":50,"d":"$50.00"}]
[null,"SAMPLE DOOR","12\" x 16\" Sample door to match order specifications",null,{"v":50,"d":"$50.00"}]
[null,"DEALER BOOK","This book helps explain each of the items Founder's Choice sells, along with information about how to fill out orders. Dealers should have one dealer book per designer. Additional copies are available for $25 each.",null,0]
[null,"DEALER PLACARD","Tent Style \"Authorized Dealer\" sign",null,{"v":20,"d":"$20.00"}]
[null,"KITCHEN PLANNING GUIDE","Provided to dealers per each copy","Use this tool to help customers partner with you on their kitchen design.",{"v":2.5,"d":"$2.50"}]
[null,"NEW PROJECT WORKSHEET","New Project Work Sheets (50 Pack)","Use as a notes template for a design consultation, or send it home with a customer",{"v":5,"d":"$5.00"}]
[null,"VANITY POSTER BOARD","Use this poster as a visual aid when discussing vanities. Sized at 24\" x 36\" and ready to mount to your wall.",null,{"v":25,"d":"$25.00"}]
[null,"WINDOW CLINGS","Window Cling for advertising you are an authorized Founder's Choice Dealer.",null,{"v":5,"d":"$5.00"}]
[null,"DEALER SUPPORT MATERIAL","Please use this item code only after instruction to do so. The only intention is future compatibility.",null,0]

{"sheet":"Drawer Head","index":17,"n_rows":13,"n_cols":14,"rows_kept":13,"hidden":true,"merged":[[1,0,1,1]]}
[]
["Calculations"]
["Drawer Head Selected",{"$f":"IFERROR(VLOOKUP('Order Form'!D18,'Drawer Head'!A7:B13,2,FALSE),1)","v":1}]
[]
[null,null,"Cost","Upload Name","Add percentage to Cabinet","Proposal Name","Select","Comment",{"$nulls":5},"Flat Pack/Single Pack"]
[null,null,{"$f":"VLOOKUP(B3,B7:C218,2,FALSE)","v":""},{"$f":"VLOOKUP(B3,B7:D218,3,FALSE)","v":""},{"$f":"VLOOKUP(B3,B7:G101,4,FALSE)","v":0},{"$f":"VLOOKUP(B3,B7:F101,5,FALSE)","v":""},{"$f":"VLOOKUP(B3,B7:G218,6,FALSE)","v":0},{"$f":"VLOOKUP(B3,B7:H100,7,FALSE)","v":""},{"$nulls":5},"5 Piece"]
["Please Select a Drawer Head ",1,"","",0,"",0,""]
["5 Piece",2,null,"5 PCS",0.05,{"$f":"\", \"&A8","v":", 5 Piece"},2,"/5PC"]
["5 Piece Top Row Only",3,null,"5 PCS Top",0.03,{"$f":"\", \"&A9","v":", 5 Piece Top Row Only"},3,"/5PCT"]
["Slab",4,null,"Slab",0,{"$f":"\", \"&A10","v":", Slab"},3,"/SLB"]
["Slab Top Row Only",5,null,"Slab Top",0.03,", Slab Top Row Only",3,"/SLBT"]
["Please Select a Drawer Head ",6,"","",0,"",0,""]
["Slab ",7,null,"Slab",0,{"$f":"\", \"&A13","v":", Slab "},2,"/SLB"]

{"sheet":"Custom Finish","index":18,"n_rows":14,"n_cols":12,"rows_kept":14,"hidden":true,"merged":[[1,0,1,1]]}
[]
["Calculations"]
["Custom Finish Selected",{"$f":"IFERROR(VLOOKUP('Order Form'!D19,'Custom Finish'!A7:B9,2,FALSE),1)","v":1}]
[]
[null,null,"Price","Upload","Proposal ","Select","Comment",{"$nulls":4},"Flat Pack/Single Pack"]
[null,null,{"$f":"VLOOKUP(B3,B7:F90,2,FALSE)","v":""},{"$f":"VLOOKUP(B3,B7:F90,3,FALSE)","v":""},{"$f":"VLOOKUP(B3,B7:E9,4,FALSE)","v":""},{"$f":"VLOOKUP(B3,B7:F90,5,FALSE)","v":0},{"$f":"VLOOKUP(B3,B7:G9,6,FALSE)","v":0},{"$nulls":4},"None"]
["Please Select Custom Finish",1,"","","",0]
["Glaze",2,0.2,"Glaze",", Glaze ",3,"/GLZ"]
["None",3,0,"N/A","",2,""]
[]
[]
[]
[]
["*CUSTOM_FINISH_MDF_FRAMED area is only the cell 'None'"]

{"sheet":"Misc Dropdowns","index":19,"n_rows":56,"n_cols":26,"rows_kept":56,"hidden":true,"merged":[[0,2,2,2],[1,0,1,1],[1,9,1,10],[1,12,1,13],[1,17,1,19],[1,23,1,25],[6,9,6,10],[6,12,6,13],[9,17,9,19],[14,17,14,19],[19,17,19,19]]}
[null,null,"Be extremely careful when editing this sheet, most formulas are run from this page"]
["Calculations",{"$nulls":8},"Calculations",null,null,"Tax Rate",{"$nulls":4},"Enough Skins",{"$nulls":5},"Discount Name Menu"]
["Shipping Method Selected:",1,{"$nulls":7},"Same as Ship to?",false,null,"If Less than .01 or reseller ",{"$f":"IF(OR('Order Form'!D13>0.02,'Order Form'!D13=\"Reseller\",'Order Form'!D13=\"OOS\",'Order Form'!D13=\"Out of State\",'Order Form'!D13=\"NONTAX\"),\"OK\",\"Error\")","v":"Error"},{"$nulls":3},{"$f":"IF(AND(T4>=S4,T5>=S5,T6>=S6,T7>=S7,T8>=S8),TRUE,FALSE)","v":true},"Min Number of skins","number on order",{"$nulls":3},{"$f":"IF('Order Form'!$Q$18>0.625,1,IF('Order Form'!$Q$18>0.525,2,3))","v":1}]
[{"$nulls":17},"TSKIN",{"$f":"SUMIF('Order Form'!$AL$24:$AL$600,R4,'Order Form'!$AM$24:$AM$600)","v":0},{"$f":"SUMIF('Order Form'!C:C,R4,'Order Form'!D:D)","v":0},{"$nulls":3},0,"Retail_Level"]
[null,null,"Upload",{"$nulls":14},"BSKIN",{"$f":"SUMIF('Order Form'!$AL$24:$AL$600,R5,'Order Form'!$AM$24:$AM$600)","v":0},{"$f":"SUMIF('Order Form'!C:C,R5,'Order Form'!D:D)","v":0},{"$nulls":3},1,"Contractor_Level"]
[null,null,{"$f":"VLOOKUP(B3,B7:C182,2,FALSE)","v":""},{"$nulls":14},"Wskin30",{"$f":"SUMIF('Order Form'!$AL$24:$AL$600,R6,'Order Form'!$AM$24:$AM$600)","v":0},{"$f":"SUMIF('Order Form'!C:C,R6,'Order Form'!D:D)","v":0},{"$nulls":3},2,"Dealer_Builder"]
["Please Select Ship Method",1,"",{"$nulls":6},"Calculations:",null,null,"Waver for initials on Measurements",{"$nulls":4},"Wskin36",{"$f":"SUMIF('Order Form'!$AL$24:$AL$600,R7,'Order Form'!$AM$24:$AM$600)","v":0},{"$f":"SUMIF('Order Form'!C:C,R7,'Order Form'!D:D)","v":0},{"$nulls":3},"Contractor Discount","Contractor Discount","Builder Discount "]
["Delivery by Founder's Choice",2,"DELIVERY",{"$nulls":6}," Proposal Tab",{"$f":"'Door Style'!E6&Species!E6&Color!K6&'Drawer Head'!F6&'Custom Finish'!E6&L11&L22","v":""},null,"Proposal Tab:",true,{"$nulls":3},"Wskin42",{"$f":"SUMIF('Order Form'!$AL$24:$AL$600,R8,'Order Form'!$AM$24:$AM$600)","v":0},{"$f":"SUMIF('Order Form'!C:C,R8,'Order Form'!D:D)","v":0},{"$nulls":3},"Factory Showroom Discount","Dealer Discount","Contractor Discount"]
["Will Call at McKinley Ave E",3,"WILL CALL",{"$nulls":20},"Fall Discount","Factory Showroom Discount","Dealer Discount"]
["Freight - Common Carrier",4,"COMMON CARRIER",{"$nulls":7},"Cut for Glass options","Proposal Tab","Factor Increase","Name for Comments",{"$nulls":3},"Enough PDs",{"$nulls":5},"First Responder Discount","Fall Discount","Factory Showroom Discount"]
["Freight - AML",5,"AML",{"$nulls":8},{"$f":"CONCATENATE(L12,L13,L14,L15,L16)","v":""},{"$nulls":11},"Holiday Discount ","First Responder Discount","First Responder Discount"]
["Freight - NW Shippers",6,"NWSHIPPER",{"$nulls":6},"CFG-Clear",{"$f":"COUNTIF('Order Form'!$E$24:$E$97,'Misc Dropdowns'!J12)","v":0},{"$f":"IF(K12>0,\", Cut for Glass - Clear\",\"\")","v":""},0,"CUT FOR GLASS",{"$nulls":3},"Applied PDs",{"$f":"'Order Form'!AN22","v":0},{"$nulls":4},"Military Discount","Holiday Discount ","Holiday Discount"]
["Freight - Samson Tug",7,"SAMSON TUG",{"$nulls":6},"CFG-Divided",{"$f":"COUNTIF('Order Form'!$E$24:$E$97,'Misc Dropdowns'!J13)","v":0},{"$f":"IF(K13>0,\", Cut for Glass - Divided\",\"\")","v":""},0.35,"FRENCH LIGHT 4",{"$nulls":3},"Number of PDs on Order",{"$f":"SUMIF('Order Form'!C:C,\"*PD*\",'Order Form'!D:D)","v":0},{"$nulls":4},"Promo Discount ","Military Discount","Military Discount"]
["Freight - Span Alaska",8,"SPAN",{"$nulls":6},"CFG-Framed",{"$f":"COUNTIF('Order Form'!$E$24:$E$97,'Misc Dropdowns'!J14)","v":0},{"$f":"IF(K14>0,\", Cut for Glass - Framed \",\"\")","v":""},0.4,"FRENCH LIGHT 6",{"$nulls":9},"Spring Discount ","Promo Discount ","Promotional Discount "]
["Parcel - FedEx",9,"FEDEX",{"$nulls":6},"MOD-NO DOORS",null,null,-0.2,"MOD-NO DOORS",{"$nulls":3},"Install - Countertop Order",{"$nulls":5},"Winter Discount","Spring Discount ","Friend or Family Discount"]
["Parcel - UPS",10,"UPS",{"$nulls":21},"Winter Discount"]
["Parcel - USPS",11,"USPS",{"$nulls":14},"Retail Install Calc",false]
["Freight - Oak Harbor",12,"OAK",{"$nulls":14},"Dealer Install Calc",false]
["Drop Ship -Capitol Blvd",13,"DROP SHIP"]
["Drop Ship - Andresen Rd",14,"DROP SHIP",{"$nulls":14},"Order Form to Upload compare"]
[{"$nulls":10},"Count of Custom Finish","Proposal Tab","Factor Increase","Name for Comments",{"$nulls":3},"Order form Non tax total",{"$f":"SUM('Order Form'!M25:M127)+SUM('Order Form'!K25:K127)+'Order Form'!D129","v":0}]
[{"$nulls":11},{"$f":"CONCATENATE(L23,L24,L25,L26,L27)","v":""},{"$nulls":5},"Upload total",{"$f":"'Sage Upload'!P1","v":0}]
[{"$nulls":9},"SMI",{"$f":"COUNTIF('Order Form'!$F$24:$F$97,'Misc Dropdowns'!J23)","v":0},{"$f":"IF(K23>0,\", Species Matched Interior\",\"\")","v":""},0.6,"SPECIES MATCH INTERIOR"]
[{"$nulls":9},"CMI",{"$f":"COUNTIF('Order Form'!$F$24:$F$97,'Misc Dropdowns'!J24)","v":0},{"$f":"IF(K24>0,\", Color Matched Interior\",\"\")","v":""},0.4,"COLOR MATCH INTERIOR"]
["Order Type By Item","Qty of each order type","Order Type by Item",{"$nulls":6},"Dual Tone",{"$f":"COUNTIF('Order Form'!$F$24:$F$97,'Misc Dropdowns'!J25)","v":0},{"$f":"IF(K25>0,\", Duel Tone\",\"\")","v":""},0.15,"DUAL TONE"]
[null,null,{"$f":"C27&C28&C29","v":"1"},{"$nulls":6},"CMI and DT",{"$f":"COUNTIF('Order Form'!$F$24:$F$97,'Misc Dropdowns'!J26)","v":0},{"$f":"IF(K26>0,\", Color Match Interior and Duel Tone\",\"\")","v":""},0.45]
["PB",{"$f":"COUNTIF('Order Form'!J:J,'Misc Dropdowns'!A27)","v":0},{"$f":"IF(SUM(B28:B29)=0,1,\"\")","v":1},{"$nulls":6},"SMI and DT",{"$f":"COUNTIF('Order Form'!$F$24:$F$97,'Misc Dropdowns'!J27)","v":0},{"$f":"IF(K27>0,\", Species Match Interior Duel Tone\",\"\")","v":""},0.65]
["SEL",{"$f":"COUNTIF('Order Form'!J:J,'Misc Dropdowns'!A28)","v":0},{"$f":"IF(C27=C29=\"\",2,\"\")","v":""}]
["CR",{"$f":"COUNTIF('Order Form'!J:J,'Misc Dropdowns'!A29)","v":0},{"$f":"IF(B29>0,3,\"\")","v":""}]
[]
[]
[]
[" Order Type by SO UDFS","Selections","Order Form Number By SO UDFS"]
[null,null,{"$f":"IFERROR(IF(Color!B3=1,0,MIN(C36:C41)),0)","v":0},"Min",{"$nulls":5},"Order Form Completely filled out?",null,{"$f":"IF(SUM(K36:K42,K54:K55)=0,\"Welcome to the Order Form Sheet\",IF(K56=0,\"Please Edit: \"&L35&L36&L37&L38&L39&L40&L41&L42&L43&L46&L47&L48&L49&L50&L51&L52&L53&L44&L54&L55&L45,\"Thank you for providing complete order information.\"))","v":"Welcome to the Order Form Sheet"}]
[null,null,{"$f":"MAX(C36:C41)","v":3},"Max",{"$nulls":5},"Factor",{"$f":"IF(OR('Order Form'!Q18=0.76,(ISERROR(CONCAT!O1)=FALSE)),1,0)","v":1},{"$f":"IF(K35=0,\"- Approved Factor\",\"\")","v":""}]
["Color",{"$f":"Color!L6","v":""},{"$f":"Color!N6","v":0},{"$nulls":6},"Contact Info",{"$f":"IF(OR(ISBLANK('Order Form'!J2),ISBLANK('Order Form'!J3),ISBLANK('Order Form'!J4),ISBLANK('Order Form'!J5),ISBLANK('Order Form'!J6)),0,1)","v":0},{"$f":"IF(K36=0,\" - Contact Information\",\"\")","v":" - Contact Information"}]
["Wood Species",{"$f":"Species!D6","v":""},{"$f":"Species!F6","v":0},{"$nulls":6},"Ship to Method",{"$f":"IF('Misc Dropdowns'!B3=1,0,1)","v":0},{"$f":"IF(K37=0,\" - Ship to Method\",\"\")","v":" - Ship to Method"}]
["Door Style",{"$f":"'Door Style'!D6","v":""},{"$f":"'Door Style'!F6","v":0},{"$nulls":6},"Ship to Address",{"$f":"IF(OR(B3=3,B3=13,B3=14,AND(K3=TRUE,K55+K54>0)),1,IF(OR(B3=3,ISBLANK('Order Form'!L8),ISBLANK('Order Form'!L9),ISBLANK('Order Form'!L10),ISBLANK('Order Form'!L11),ISBLANK('Order Form'!L12)),0,1))","v":0},{"$f":"IF(K38=0,\" - Ship to Address\",\"\")","v":" - Ship to Address"}]
["Drawer Heads",{"$f":"'Drawer Head'!D6","v":""},{"$f":"'Drawer Head'!G6","v":0},{"$nulls":6},"Requested Date",{"$f":"IF(OR('Order Form'!M5=\"\",'Order Form'!M5=\"ASAP\"),0,0)","v":0},null,"IF(K39=0,\" - Requested Work Date\",\"\")"]
["Custom Finish",{"$f":"'Custom Finish'!D6","v":""},{"$f":"'Custom Finish'!F6","v":0},{"$nulls":6},"Tax Rate",{"$f":"IF('Order Form'!D13=\"\",0,1)","v":0},{"$f":"IF(K40=0,\" - Tax Rate\",\"\")","v":" - Tax Rate"}]
["Factor",0.5,{"$f":"IF(B41>='Order Form'!$Q$18,2,3)","v":3},{"$nulls":6},"Delivery Cost",{"$f":"IF(AND(AND(B3<>3,B3<>13,B3<>0),'Order Form'!L13=\"\"),0,1)","v":0},{"$f":"IF(K41=0,\" - Delivery Cost\",\"\")","v":" - Delivery Cost"}]
[{"$nulls":9},"Order Specifications",{"$f":"IF('Order Form'!C21=\"\",0,1)","v":0},{"$f":"IF(K42=0,\" - Order Specifications\",\"\")","v":" - Order Specifications"}]
[{"$nulls":9},"Custom Color",{"$f":"IFERROR(IF(Color!R6<>\"Y\",1,IF(OR('Order Form'!L17=\"\",'Order Form'!L17=\"Replace this text with Stain/Paint Name and/or Number.\"),0,1)),0)","v":1},{"$f":"IF(K43=0,\" - Custom Color\",\"\")","v":""}]
["Order Numbering ","Order Type","Lead Times",{"$nulls":6},"Contractor Info",{"$f":"IF(OR('Order Form'!Q18<0.49,'Order Form'!Q18>0.63),1,IF(AND('Order Form'!Q18>0.49,'Order Form'!Q18<0.63,OR('Order Form'!D137=\"\",'Order Form'!D138=\"\")),0,1))","v":1},{"$f":"IF(K44=0,\" - Contractor Information\",\"\")","v":""}]
[1,"Pre Built","PreBuilt Order: Lead Time After Approved Order: Approximately 7 Business Days",{"$nulls":6},"Override w/ CR Price",{"$f":"IF('Order Form'!AV22<>'Order Form'!AW22,0,1)","v":1},{"$f":"IF(K45=0,\" - Craftsman Price Override Totals don’t Match\",\"\")","v":""}]
[2,"SEL",{"$f":"\"Select Order: Lead Time After Approved Order Approximately: \"&Color!O8&\" Weeks\"","v":"Select Order: Lead Time After Approved Order Approximately: 4 Weeks"},{"$nulls":6},"Custom Doorstyle",{"$f":"IF('Door Style'!J6<>\"Y\",1,IF(OR('Order Form'!L19=\"\",'Order Form'!L19=\"Replace this text with door style specification.\"),0,1))","v":1},{"$f":"IF(K46=0,\" - Custom Door Style\",\"\")","v":""}]
[3,"CR","Craftsman Order: Lead Time After Approved Order Approximately: 5 Weeks",{"$nulls":6},"PD Count",{"$f":"IF(S13>=S12,1,0)","v":1},{"$f":"IF(K47=0,\" - Applied  PD Count is Less than Number of PDs Ordered\",\"\")","v":""}]
[{"$nulls":9},"Skin Count",{"$f":"IF(R3=FALSE,0,1)","v":1},{"$f":"IF(K48=0,\" - Applied Skin Count is Less than Number of Skins Ordered\",\"\")","v":""}]
[{"$nulls":9},"Finished Interior or Duel Tone",{"$f":"IF('Order Form'!BA22>0,0,1)","v":1},{"$f":"IF(K49=0,\" - Please Select Finished Interior\",\"\")","v":""}]
[{"$nulls":9},"Hinge Swing",{"$f":"IF('Order Form'!AZ22>0,0,1)","v":1},{"$f":"IF(K50=0,\" - Hinge Swing Information\",\"\")","v":""}]
[{"$nulls":9},"General Contractor info",{"$f":"IF('Dealer Install Calc'!E9<>\"Reseller\",1,IF(OR(ISBLANK('Dealer Install Calc'!M5),ISBLANK('Dealer Install Calc'!M6)*ISBLANK('Dealer Install Calc'!M7)),0,1))","v":1},{"$f":"IF(K51=0,\" - General Contractor Information (Dealer Install Tab)\",\"\")","v":""}]
[{"$nulls":9},"Craftsman Cabinet on Pack Order"]
[{"$nulls":9},"Install tax Rate",{"$f":"IF(SUM('Order Form'!AR22:AS22)=0,1,IF(AND('Install Calc'!G11<>\"\",'Order Form'!AR22>0),1,IF(AND('Dealer Install Calc'!E9<>\"\",'Order Form'!AS22>0),1,0)))","v":1},{"$f":"IF(K53=0,\" - Install Tax Rate (On install Calc)\",\"\")","v":""}]
[{"$nulls":9},"Customer Number",{"$f":"IF('Order Form'!M4=\"\",0,1)","v":0},{"$f":"IF(K54=0,\" - Customer Number\",\"\")","v":" - Customer Number"}]
[{"$nulls":9},"Bill to Address",{"$f":"IF(AND('Order Form'!M4<>\"\",'Order Form'!M4<>\"New\",'Order Form'!M4<>\"Existing Cust-New Info\"),1,IF(OR(ISBLANK('Order Form'!D8),ISBLANK('Order Form'!D9),ISBLANK('Order Form'!D10),ISBLANK('Order Form'!D11),ISBLANK('Order Form'!D12)),0,1))","v":0},{"$f":"IF(K55=0,\" - Bill to Address\",\"\")","v":" - Bill to Address"}]
[{"$nulls":9},"Total:",{"$f":"IF((K35+K36+K37+K38+K39+K40+K41+K42+K45+K44+K43+K46+K47+K48+K49+K50+K51+K52+K53+K54+K55=19),1,0)","v":0}]

{"sheet":"CONCAT","index":20,"n_rows":115,"n_cols":16,"rows_kept":115,"hidden":true}
[null,"Order Desk:","Prefix","Select Suffix","Craftsman Suffix","Job Options Upload",{"$f":"IF(G2=\"SELECT\",\"SEL\",\"CR\")","v":"CR"},{"$nulls":6},"Price Level",{"$f":"VLOOKUP('Order Form'!Q18,CONCAT!N2:O336,2,FALSE)","v":9},{"$f":"VLOOKUP(O1,O2:P556,2,FALSE)","v":"Factory Showroom"}]
[null,"For Cabinets",{"$f":"VLOOKUP('Order Type'!B3,'Order Type'!B7:C15,2,FALSE)","v":"01-"},{"$f":"Color!E6","v":""},{"$f":"Color!$M$6","v":""},"Order Type",{"$f":"IF('Misc Dropdowns'!C35=2,\"SELECT\",\"CRAFTSMAN\")","v":"CRAFTSMAN"},null,"Factor",{"$f":"'Order Form'!Q18","v":1},{"$nulls":3},0.28,"A","Showroom Displays"]
[null,"For Accessories","13-",{"$f":"Color!F6","v":""},{"$f":"Color!$M$6","v":""},"Color",{"$f":"Color!L6","v":""},null,"Multiplier",{"$f":"Color!C8","v":1.1},{"$nulls":3},0.32,"B","Container"]
[null,"For touch up kits","13-",{"$f":"Color!H6","v":""},{"$f":"Color!H6","v":""},"Wood Species",{"$f":"Species!D6","v":""},{"$nulls":6},0.35,"C","Container"]
[null,"For Parts","14-","","","Door Style",{"$f":"'Door Style'!D6","v":""},{"$nulls":6},0.39,"D","Container"]
[null,"For Mods","/","","","Drawer Heads",{"$f":"'Drawer Head'!D6","v":""},{"$nulls":6},{"v":0.4,"d":"0.40"},"E","Dealer"]
[null,"Accessories with no color","","","","Custom Finish",{"$f":"'Custom Finish'!D6","v":""},{"$nulls":6},0.42,7,"Dealer"]
[null,"SC/PC","SC/PC",{"$f":"Color!M6","v":""},{"$f":"Color!$M$6","v":""},"Cabinet Count",{"$f":"SUM(K12:K102)","v":0},{"$nulls":6},0.43,8,"Dealer"]
[null,"For Craftsman Items that need color ","PROJECT",{"$f":"Color!E6","v":""},{"$f":"IF(G2=\"Select\",Color!E6,E2)","v":""},{"$nulls":8},0.45,"F","Dealer"]
[{"$nulls":13},0.48,0,"Dealer"]
["Order Form","Prefix","ProductNumberBase","color code","ProductQuantity",{"$nulls":4},"Check is cabinet","* Qty",null,null,{"v":0.5,"d":"0.50"},"G","Dealer"]
[{"$f":"'Order Form'!O24","v":""},{"$f":"VLOOKUP(C12,Items!A:J,10,FALSE)","v":{"$error":"#N/A"}},{"$f":"'Order Form'!C24","v":""},{"$f":"IF(A12=\"SEL\",VLOOKUP(VLOOKUP(C12,Items!A:I,9,FALSE),$C$2:$D$9,2,FALSE),IF(A12=\"CR\",VLOOKUP(VLOOKUP(C12,Items!A:I,9,FALSE),$C$2:$E$9,3,FALSE),\"\"))","v":""},{"$f":"'Order Form'!D24","v":0},{"$nulls":4},{"$f":"VLOOKUP(C12,Items!A:M,13,FALSE)","v":{"$error":"#N/A"}},{"$f":"IFERROR(J12*E12,0)","v":0},null,null,0.51,"H","Project"]
[{"$f":"'Order Form'!O25","v":""},{"$f":"VLOOKUP(C13,Items!A:J,10,FALSE)","v":"13-"},{"$f":"'Order Form'!C25","v":"TOUCH UP"},{"$f":"IF(A13=\"SEL\",VLOOKUP(VLOOKUP(C13,Items!A:I,9,FALSE),$C$4:$D$9,2,FALSE),IF(A13=\"CR\",VLOOKUP(VLOOKUP(C13,Items!A:I,9,FALSE),$C$4:$E$9,3,FALSE),\"\"))","v":""},{"$f":"'Order Form'!D25","v":1},{"$nulls":4},{"$f":"VLOOKUP(C13,Items!A:M,13,FALSE)","v":0},0,null,null,0.52,"I","Project"]
[{"$f":"'Order Form'!O26","v":""},{"$f":"VLOOKUP(C14,Items!A:J,10,FALSE)","v":{"$error":"#N/A"}},{"$f":"'Order Form'!C26","v":0},{"$f":"IF(A14=\"SEL\",VLOOKUP(VLOOKUP(C14,Items!A:I,9,FALSE),$C$2:$D$9,2,FALSE),IF(A14=\"CR\",VLOOKUP(VLOOKUP(C14,Items!A:I,9,FALSE),$C$2:$E$9,3,FALSE),\"\"))","v":""},{"$f":"'Order Form'!D26","v":0},{"$nulls":4},{"$f":"VLOOKUP(C14,Items!A:M,13,FALSE)","v":{"$error":"#N/A"}},0,null,null,0.53,"J","Project"]
[{"$f":"'Order Form'!O27","v":""},{"$f":"VLOOKUP(C15,Items!A:J,10,FALSE)","v":{"$error":"#N/A"}},{"$f":"'Order Form'!C27","v":0},{"$f":"IF(A15=\"SEL\",VLOOKUP(VLOOKUP(C15,Items!A:I,9,FALSE),$C$2:$D$9,2,FALSE),IF(A15=\"CR\",VLOOKUP(VLOOKUP(C15,Items!A:I,9,FALSE),$C$2:$E$9,3,FALSE),\"\"))","v":""},{"$f":"'Order Form'!D27","v":0},{"$nulls":4},{"$f":"VLOOKUP(C15,Items!A:M,13,FALSE)","v":{"$error":"#N/A"}},0,null,null,0.54,"K","General Contractor"]
[{"$f":"'Order Form'!O28","v":""},{"$f":"VLOOKUP(C16,Items!A:J,10,FALSE)","v":{"$error":"#N/A"}},{"$f":"'Order Form'!C28","v":0},{"$f":"IF(A16=\"SEL\",VLOOKUP(VLOOKUP(C16,Items!A:I,9,FALSE),$C$2:$D$9,2,FALSE),IF(A16=\"CR\",VLOOKUP(VLOOKUP(C16,Items!A:I,9,FALSE),$C$2:$E$9,3,FALSE),\"\"))","v":""},{"$f":"'Order Form'!D28","v":0},{"$nulls":4},{"$f":"VLOOKUP(C16,Items!A:M,13,FALSE)","v":{"$error":"#N/A"}},0,null,null,0.55,"L","General Contractor"]
[{"$f":"'Order Form'!O29","v":""},{"$f":"VLOOKUP(C17,Items!A:J,10,FALSE)","v":{"$error":"#N/A"}},{"$f":"'Order Form'!C29","v":0},{"$f":"IF(A17=\"SEL\",VLOOKUP(VLOOKUP(C17,Items!A:I,9,FALSE),$C$2:$D$9,2,FALSE),IF(A17=\"CR\",VLOOKUP(VLOOKUP(C17,Items!A:I,9,FALSE),$C$2:$E$9,3,FALSE),\"\"))","v":""},{"$f":"'Order Form'!D29","v":0},{"$nulls":4},{"$f":"VLOOKUP(C17,Items!A:M,13,FALSE)","v":{"$error":"#N/A"}},0,null,null,0.56,"M","General Contractor"]
[{"$f":"'Order Form'!O30","v":""},{"$f":"VLOOKUP(C18,Items!A:J,10,FALSE)","v":{"$error":"#N/A"}},{"$f":"'Order Form'!C30","v":0},{"$f":"IF(A18=\"SEL\",VLOOKUP(VLOOKUP(C18,Items!A:I,9,FALSE),$C$2:$D$9,2,FALSE),IF(A18=\"CR\",VLOOKUP(VLOOKUP(C18,Items!A:I,9,FALSE),$C$2:$E$9,3,FALSE),\"\"))","v":""},{"$f":"'Order Form'!D30","v":0},{"$nulls":4},{"$f":"VLOOKUP(C18,Items!A:M,13,FALSE)","v":{"$error":"#N/A"}},0,null,null,0.57,"N","General Contractor"]
[{"$f":"'Order Form'!O31","v":""},{"$f":"VLOOKUP(C19,Items!A:J,10,FALSE)","v":{"$error":"#N/A"}},{"$f":"'Order Form'!C31","v":0},{"$f":"IF(A19=\"SEL\",VLOOKUP(VLOOKUP(C19,Items!A:I,9,FALSE),$C$2:$D$9,2,FALSE),IF(A19=\"CR\",VLOOKUP(VLOOKUP(C19,Items!A:I,9,FALSE),$C$2:$E$9,3,FALSE),\"\"))","v":""},{"$f":"'Order Form'!D31","v":0},{"$nulls":4},{"$f":"VLOOKUP(C19,Items!A:M,13,FALSE)","v":{"$error":"#N/A"}},0,null,null,0.58,"O","Contractor"]
[{"$f":"'Order Form'!O32","v":""},{"$f":"VLOOKUP(C20,Items!A:J,10,FALSE)","v":{"$error":"#N/A"}},{"$f":"'Order Form'!C32","v":0},{"$f":"IF(A20=\"SEL\",VLOOKUP(VLOOKUP(C20,Items!A:I,9,FALSE),$C$2:$D$9,2,FALSE),IF(A20=\"CR\",VLOOKUP(VLOOKUP(C20,Items!A:I,9,FALSE),$C$2:$E$9,3,FALSE),\"\"))","v":""},{"$f":"'Order Form'!D32","v":0},{"$nulls":4},{"$f":"VLOOKUP(C20,Items!A:M,13,FALSE)","v":{"$error":"#N/A"}},0,null,null,0.59,"P","Contractor"]
[{"$f":"'Order Form'!O33","v":""},{"$f":"VLOOKUP(C21,Items!A:J,10,FALSE)","v":{"$error":"#N/A"}},{"$f":"'Order Form'!C33","v":0},{"$f":"IF(A21=\"SEL\",VLOOKUP(VLOOKUP(C21,Items!A:I,9,FALSE),$C$2:$D$9,2,FALSE),IF(A21=\"CR\",VLOOKUP(VLOOKUP(C21,Items!A:I,9,FALSE),$C$2:$E$9,3,FALSE),\"\"))","v":""},{"$f":"'Order Form'!D33","v":0},{"$nulls":4},{"$f":"VLOOKUP(C21,Items!A:M,13,FALSE)","v":{"$error":"#N/A"}},0,null,null,{"v":0.6,"d":"0.60"},"Q","Contractor"]
[{"$f":"'Order Form'!O34","v":""},{"$f":"VLOOKUP(C22,Items!A:J,10,FALSE)","v":{"$error":"#N/A"}},{"$f":"'Order Form'!C34","v":0},{"$f":"IF(A22=\"SEL\",VLOOKUP(VLOOKUP(C22,Items!A:I,9,FALSE),$C$2:$D$9,2,FALSE),IF(A22=\"CR\",VLOOKUP(VLOOKUP(C22,Items!A:I,9,FALSE),$C$2:$E$9,3,FALSE),\"\"))","v":""},{"$f":"'Order Form'!D34","v":0},{"$nulls":4},{"$f":"VLOOKUP(C22,Items!A:M,13,FALSE)","v":{"$error":"#N/A"}},0,null,null,0.61,"R","Contractor"]
[{"$f":"'Order Form'!O35","v":""},{"$f":"VLOOKUP(C23,Items!A:J,10,FALSE)","v":{"$error":"#N/A"}},{"$f":"'Order Form'!C35","v":0},{"$f":"IF(A23=\"SEL\",VLOOKUP(VLOOKUP(C23,Items!A:I,9,FALSE),$C$2:$D$9,2,FALSE),IF(A23=\"CR\",VLOOKUP(VLOOKUP(C23,Items!A:I,9,FALSE),$C$2:$E$9,3,FALSE),\"\"))","v":""},{"$f":"'Order Form'!D35","v":0},{"$nulls":4},{"$f":"VLOOKUP(C23,Items!A:M,13,FALSE)","v":{"$error":"#N/A"}},0,null,null,0.62,"S","Contractor"]
[{"$f":"'Order Form'!O36","v":""},{"$f":"VLOOKUP(C24,Items!A:J,10,FALSE)","v":{"$error":"#N/A"}},{"$f":"'Order Form'!C36","v":0},{"$f":"IF(A24=\"SEL\",VLOOKUP(VLOOKUP(C24,Items!A:I,9,FALSE),$C$2:$D$9,2,FALSE),IF(A24=\"CR\",VLOOKUP(VLOOKUP(C24,Items!A:I,9,FALSE),$C$2:$E$9,3,FALSE),\"\"))","v":""},{"$f":"'Order Form'!D36","v":0},{"$nulls":4},{"$f":"VLOOKUP(C24,Items!A:M,13,FALSE)","v":{"$error":"#N/A"}},0,null,null,0.63,"T","Factory Showroom"]
[{"$f":"'Order Form'!O37","v":""},{"$f":"VLOOKUP(C25,Items!A:J,10,FALSE)","v":{"$error":"#N/A"}},{"$f":"'Order Form'!C37","v":0},{"$f":"IF(A25=\"SEL\",VLOOKUP(VLOOKUP(C25,Items!A:I,9,FALSE),$C$2:$D$9,2,FALSE),IF(A25=\"CR\",VLOOKUP(VLOOKUP(C25,Items!A:I,9,FALSE),$C$2:$E$9,3,FALSE),\"\"))","v":""},{"$f":"'Order Form'!D37","v":0},{"$nulls":4},{"$f":"VLOOKUP(C25,Items!A:M,13,FALSE)","v":{"$error":"#N/A"}},0,null,null,0.64,"U","Factory Showroom"]
[{"$f":"'Order Form'!O38","v":""},{"$f":"VLOOKUP(C26,Items!A:J,10,FALSE)","v":{"$error":"#N/A"}},{"$f":"'Order Form'!C38","v":0},{"$f":"IF(A26=\"SEL\",VLOOKUP(VLOOKUP(C26,Items!A:I,9,FALSE),$C$2:$D$9,2,FALSE),IF(A26=\"CR\",VLOOKUP(VLOOKUP(C26,Items!A:I,9,FALSE),$C$2:$E$9,3,FALSE),\"\"))","v":""},{"$f":"'Order Form'!D38","v":0},{"$nulls":4},{"$f":"VLOOKUP(C26,Items!A:M,13,FALSE)","v":{"$error":"#N/A"}},0,null,null,0.65,"V","Factory Showroom"]
[{"$f":"'Order Form'!O39","v":""},{"$f":"VLOOKUP(C27,Items!A:J,10,FALSE)","v":{"$error":"#N/A"}},{"$f":"'Order Form'!C39","v":0},{"$f":"IF(A27=\"SEL\",VLOOKUP(VLOOKUP(C27,Items!A:I,9,FALSE),$C$2:$D$9,2,FALSE),IF(A27=\"CR\",VLOOKUP(VLOOKUP(C27,Items!A:I,9,FALSE),$C$2:$E$9,3,FALSE),\"\"))","v":""},{"$f":"'Order Form'!D39","v":0},{"$nulls":4},{"$f":"VLOOKUP(C27,Items!A:M,13,FALSE)","v":{"$error":"#N/A"}},0,null,null,0.66,"W","Factory Showroom"]
[{"$f":"'Order Form'!O40","v":""},{"$f":"VLOOKUP(C28,Items!A:J,10,FALSE)","v":{"$error":"#N/A"}},{"$f":"'Order Form'!C40","v":0},{"$f":"IF(A28=\"SEL\",VLOOKUP(VLOOKUP(C28,Items!A:I,9,FALSE),$C$2:$D$9,2,FALSE),IF(A28=\"CR\",VLOOKUP(VLOOKUP(C28,Items!A:I,9,FALSE),$C$2:$E$9,3,FALSE),\"\"))","v":""},{"$f":"'Order Form'!D40","v":0},{"$nulls":4},{"$f":"VLOOKUP(C28,Items!A:M,13,FALSE)","v":{"$error":"#N/A"}},0,null,null,0.67,"X","Factory Showroom"]
[{"$f":"'Order Form'!O41","v":""},{"$f":"VLOOKUP(C29,Items!A:J,10,FALSE)","v":{"$error":"#N/A"}},{"$f":"'Order Form'!C41","v":0},{"$f":"IF(A29=\"SEL\",VLOOKUP(VLOOKUP(C29,Items!A:I,9,FALSE),$C$2:$D$9,2,FALSE),IF(A29=\"CR\",VLOOKUP(VLOOKUP(C29,Items!A:I,9,FALSE),$C$2:$E$9,3,FALSE),\"\"))","v":""},{"$f":"'Order Form'!D41","v":0},{"$nulls":4},{"$f":"VLOOKUP(C29,Items!A:M,13,FALSE)","v":{"$error":"#N/A"}},0,null,null,0.68,"Y","Factory Showroom"]
[{"$f":"'Order Form'!O42","v":""},{"$f":"VLOOKUP(C30,Items!A:J,10,FALSE)","v":{"$error":"#N/A"}},{"$f":"'Order Form'!C42","v":0},{"$f":"IF(A30=\"SEL\",VLOOKUP(VLOOKUP(C30,Items!A:I,9,FALSE),$C$2:$D$9,2,FALSE),IF(A30=\"CR\",VLOOKUP(VLOOKUP(C30,Items!A:I,9,FALSE),$C$2:$E$9,3,FALSE),\"\"))","v":""},{"$f":"'Order Form'!D42","v":0},{"$nulls":4},{"$f":"VLOOKUP(C30,Items!A:M,13,FALSE)","v":{"$error":"#N/A"}},0,null,null,0.69,"Z","Factory Showroom"]
[{"$f":"'Order Form'!O43","v":""},{"$f":"VLOOKUP(C31,Items!A:J,10,FALSE)","v":{"$error":"#N/A"}},{"$f":"'Order Form'!C43","v":0},{"$f":"IF(A31=\"SEL\",VLOOKUP(VLOOKUP(C31,Items!A:I,9,FALSE),$C$2:$D$9,2,FALSE),IF(A31=\"CR\",VLOOKUP(VLOOKUP(C31,Items!A:I,9,FALSE),$C$2:$E$9,3,FALSE),\"\"))","v":""},{"$f":"'Order Form'!D43","v":0},{"$nulls":4},{"$f":"VLOOKUP(C31,Items!A:M,13,FALSE)","v":{"$error":"#N/A"}},0,null,null,{"v":0.7,"d":"0.70"},1,"Factory Showroom"]
[{"$f":"'Order Form'!O44","v":""},{"$f":"VLOOKUP(C32,Items!A:J,10,FALSE)","v":{"$error":"#N/A"}},{"$f":"'Order Form'!C44","v":0},{"$f":"IF(A32=\"SEL\",VLOOKUP(VLOOKUP(C32,Items!A:I,9,FALSE),$C$2:$D$9,2,FALSE),IF(A32=\"CR\",VLOOKUP(VLOOKUP(C32,Items!A:I,9,FALSE),$C$2:$E$9,3,FALSE),\"\"))","v":""},{"$f":"'Order Form'!D44","v":0},{"$nulls":4},{"$f":"VLOOKUP(C32,Items!A:M,13,FALSE)","v":{"$error":"#N/A"}},0,null,null,0.72,2,"Factory Showroom"]
[{"$f":"'Order Form'!O45","v":""},{"$f":"VLOOKUP(C33,Items!A:J,10,FALSE)","v":{"$error":"#N/A"}},{"$f":"'Order Form'!C45","v":0},{"$f":"IF(A33=\"SEL\",VLOOKUP(VLOOKUP(C33,Items!A:I,9,FALSE),$C$2:$D$9,2,FALSE),IF(A33=\"CR\",VLOOKUP(VLOOKUP(C33,Items!A:I,9,FALSE),$C$2:$E$9,3,FALSE),\"\"))","v":""},{"$f":"'Order Form'!D45","v":0},{"$nulls":4},{"$f":"VLOOKUP(C33,Items!A:M,13,FALSE)","v":{"$error":"#N/A"}},0,null,null,0.74,3,"Factory Showroom"]
[{"$f":"'Order Form'!O46","v":""},{"$f":"VLOOKUP(C34,Items!A:J,10,FALSE)","v":{"$error":"#N/A"}},{"$f":"'Order Form'!C46","v":0},{"$f":"IF(A34=\"SEL\",VLOOKUP(VLOOKUP(C34,Items!A:I,9,FALSE),$C$2:$D$9,2,FALSE),IF(A34=\"CR\",VLOOKUP(VLOOKUP(C34,Items!A:I,9,FALSE),$C$2:$E$9,3,FALSE),\"\"))","v":""},{"$f":"'Order Form'!D46","v":0},{"$nulls":4},{"$f":"VLOOKUP(C34,Items!A:M,13,FALSE)","v":{"$error":"#N/A"}},0,null,null,0.76,4,"Factory Showroom"]
[{"$f":"'Order Form'!O47","v":""},{"$f":"VLOOKUP(C35,Items!A:J,10,FALSE)","v":{"$error":"#N/A"}},{"$f":"'Order Form'!C47","v":0},{"$f":"IF(A35=\"SEL\",VLOOKUP(VLOOKUP(C35,Items!A:I,9,FALSE),$C$2:$D$9,2,FALSE),IF(A35=\"CR\",VLOOKUP(VLOOKUP(C35,Items!A:I,9,FALSE),$C$2:$E$9,3,FALSE),\"\"))","v":""},{"$f":"'Order Form'!D47","v":0},{"$nulls":4},{"$f":"VLOOKUP(C35,Items!A:M,13,FALSE)","v":{"$error":"#N/A"}},0,null,null,0.78,5,"Factory Showroom"]
[{"$f":"'Order Form'!O48","v":""},{"$f":"VLOOKUP(C36,Items!A:J,10,FALSE)","v":{"$error":"#N/A"}},{"$f":"'Order Form'!C48","v":0},{"$f":"IF(A36=\"SEL\",VLOOKUP(VLOOKUP(C36,Items!A:I,9,FALSE),$C$2:$D$9,2,FALSE),IF(A36=\"CR\",VLOOKUP(VLOOKUP(C36,Items!A:I,9,FALSE),$C$2:$E$9,3,FALSE),\"\"))","v":""},{"$f":"'Order Form'!D48","v":0},{"$nulls":4},{"$f":"VLOOKUP(C36,Items!A:M,13,FALSE)","v":{"$error":"#N/A"}},0,null,null,{"v":0.8,"d":"0.80"},6,"Factory Showroom"]
[{"$f":"'Order Form'!O49","v":""},{"$f":"VLOOKUP(C37,Items!A:J,10,FALSE)","v":{"$error":"#N/A"}},{"$f":"'Order Form'!C49","v":0},{"$f":"IF(A37=\"SEL\",VLOOKUP(VLOOKUP(C37,Items!A:I,9,FALSE),$C$2:$D$9,2,FALSE),IF(A37=\"CR\",VLOOKUP(VLOOKUP(C37,Items!A:I,9,FALSE),$C$2:$E$9,3,FALSE),\"\"))","v":""},{"$f":"'Order Form'!D49","v":0},{"$nulls":4},{"$f":"VLOOKUP(C37,Items!A:M,13,FALSE)","v":{"$error":"#N/A"}},0,null,null,{"v":1,"d":"1.00"},9,"Factory Showroom"]
[{"$f":"'Order Form'!O50","v":""},{"$f":"VLOOKUP(C38,Items!A:J,10,FALSE)","v":{"$error":"#N/A"}},{"$f":"'Order Form'!C50","v":0},{"$f":"IF(A38=\"SEL\",VLOOKUP(VLOOKUP(C38,Items!A:I,9,FALSE),$C$2:$D$9,2,FALSE),IF(A38=\"CR\",VLOOKUP(VLOOKUP(C38,Items!A:I,9,FALSE),$C$2:$E$9,3,FALSE),\"\"))","v":""},{"$f":"'Order Form'!D50","v":0},{"$nulls":4},{"$f":"VLOOKUP(C38,Items!A:M,13,FALSE)","v":{"$error":"#N/A"}},0]
[{"$f":"'Order Form'!O51","v":""},{"$f":"VLOOKUP(C39,Items!A:J,10,FALSE)","v":{"$error":"#N/A"}},{"$f":"'Order Form'!C51","v":0},{"$f":"IF(A39=\"SEL\",VLOOKUP(VLOOKUP(C39,Items!A:I,9,FALSE),$C$2:$D$9,2,FALSE),IF(A39=\"CR\",VLOOKUP(VLOOKUP(C39,Items!A:I,9,FALSE),$C$2:$E$9,3,FALSE),\"\"))","v":""},{"$f":"'Order Form'!D51","v":0},{"$nulls":4},{"$f":"VLOOKUP(C39,Items!A:M,13,FALSE)","v":{"$error":"#N/A"}},0]
[{"$f":"'Order Form'!O52","v":""},{"$f":"VLOOKUP(C40,Items!A:J,10,FALSE)","v":{"$error":"#N/A"}},{"$f":"'Order Form'!C52","v":0},{"$f":"IF(A40=\"SEL\",VLOOKUP(VLOOKUP(C40,Items!A:I,9,FALSE),$C$2:$D$9,2,FALSE),IF(A40=\"CR\",VLOOKUP(VLOOKUP(C40,Items!A:I,9,FALSE),$C$2:$E$9,3,FALSE),\"\"))","v":""},{"$f":"'Order Form'!D52","v":0},{"$nulls":4},{"$f":"VLOOKUP(C40,Items!A:M,13,FALSE)","v":{"$error":"#N/A"}},0]
[{"$f":"'Order Form'!O53","v":""},{"$f":"VLOOKUP(C41,Items!A:J,10,FALSE)","v":{"$error":"#N/A"}},{"$f":"'Order Form'!C53","v":0},{"$f":"IF(A41=\"SEL\",VLOOKUP(VLOOKUP(C41,Items!A:I,9,FALSE),$C$2:$D$9,2,FALSE),IF(A41=\"CR\",VLOOKUP(VLOOKUP(C41,Items!A:I,9,FALSE),$C$2:$E$9,3,FALSE),\"\"))","v":""},{"$f":"'Order Form'!D53","v":0},{"$nulls":4},{"$f":"VLOOKUP(C41,Items!A:M,13,FALSE)","v":{"$error":"#N/A"}},0]
[{"$f":"'Order Form'!O54","v":""},{"$f":"VLOOKUP(C42,Items!A:J,10,FALSE)","v":{"$error":"#N/A"}},{"$f":"'Order Form'!C54","v":0},{"$f":"IF(A42=\"SEL\",VLOOKUP(VLOOKUP(C42,Items!A:I,9,FALSE),$C$2:$D$9,2,FALSE),IF(A42=\"CR\",VLOOKUP(VLOOKUP(C42,Items!A:I,9,FALSE),$C$2:$E$9,3,FALSE),\"\"))","v":""},{"$f":"'Order Form'!D54","v":0},{"$nulls":4},{"$f":"VLOOKUP(C42,Items!A:M,13,FALSE)","v":{"$error":"#N/A"}},0]
[{"$f":"'Order Form'!O55","v":""},{"$f":"VLOOKUP(C43,Items!A:J,10,FALSE)","v":{"$error":"#N/A"}},{"$f":"'Order Form'!C55","v":0},{"$f":"IF(A43=\"SEL\",VLOOKUP(VLOOKUP(C43,Items!A:I,9,FALSE),$C$2:$D$9,2,FALSE),IF(A43=\"CR\",VLOOKUP(VLOOKUP(C43,Items!A:I,9,FALSE),$C$2:$E$9,3,FALSE),\"\"))","v":""},{"$f":"'Order Form'!D55","v":0},{"$nulls":4},{"$f":"VLOOKUP(C43,Items!A:M,13,FALSE)","v":{"$error":"#N/A"}},0]
[{"$f":"'Order Form'!O56","v":""},{"$f":"VLOOKUP(C44,Items!A:J,10,FALSE)","v":{"$error":"#N/A"}},{"$f":"'Order Form'!C56","v":0},{"$f":"IF(A44=\"SEL\",VLOOKUP(VLOOKUP(C44,Items!A:I,9,FALSE),$C$2:$D$9,2,FALSE),IF(A44=\"CR\",VLOOKUP(VLOOKUP(C44,Items!A:I,9,FALSE),$C$2:$E$9,3,FALSE),\"\"))","v":""},{"$f":"'Order Form'!D56","v":0},{"$nulls":4},{"$f":"VLOOKUP(C44,Items!A:M,13,FALSE)","v":{"$error":"#N/A"}},{"$f":"IFERROR(J44*E44,0)","v":0}]
[{"$f":"'Order Form'!O57","v":""},{"$f":"VLOOKUP(C45,Items!A:J,10,FALSE)","v":{"$error":"#N/A"}},{"$f":"'Order Form'!C57","v":0},{"$f":"IF(A45=\"SEL\",VLOOKUP(VLOOKUP(C45,Items!A:I,9,FALSE),$C$2:$D$9,2,FALSE),IF(A45=\"CR\",VLOOKUP(VLOOKUP(C45,Items!A:I,9,FALSE),$C$2:$E$9,3,FALSE),\"\"))","v":""},{"$f":"'Order Form'!D57","v":0},{"$nulls":4},{"$f":"VLOOKUP(C45,Items!A:M,13,FALSE)","v":{"$error":"#N/A"}},0]
[{"$f":"'Order Form'!O58","v":""},{"$f":"VLOOKUP(C46,Items!A:J,10,FALSE)","v":{"$error":"#N/A"}},{"$f":"'Order Form'!C58","v":0},{"$f":"IF(A46=\"SEL\",VLOOKUP(VLOOKUP(C46,Items!A:I,9,FALSE),$C$2:$D$9,2,FALSE),IF(A46=\"CR\",VLOOKUP(VLOOKUP(C46,Items!A:I,9,FALSE),$C$2:$E$9,3,FALSE),\"\"))","v":""},{"$f":"'Order Form'!D58","v":0},{"$nulls":4},{"$f":"VLOOKUP(C46,Items!A:M,13,FALSE)","v":{"$error":"#N/A"}},0]
[{"$f":"'Order Form'!O59","v":""},{"$f":"VLOOKUP(C47,Items!A:J,10,FALSE)","v":{"$error":"#N/A"}},{"$f":"'Order Form'!C59","v":0},{"$f":"IF(A47=\"SEL\",VLOOKUP(VLOOKUP(C47,Items!A:I,9,FALSE),$C$2:$D$9,2,FALSE),IF(A47=\"CR\",VLOOKUP(VLOOKUP(C47,Items!A:I,9,FALSE),$C$2:$E$9,3,FALSE),\"\"))","v":""},{"$f":"'Order Form'!D59","v":0},{"$nulls":4},{"$f":"VLOOKUP(C47,Items!A:M,13,FALSE)","v":{"$error":"#N/A"}},0]
[{"$f":"'Order Form'!O60","v":""},{"$f":"VLOOKUP(C48,Items!A:J,10,FALSE)","v":{"$error":"#N/A"}},{"$f":"'Order Form'!C60","v":0},{"$f":"IF(A48=\"SEL\",VLOOKUP(VLOOKUP(C48,Items!A:I,9,FALSE),$C$2:$D$9,2,FALSE),IF(A48=\"CR\",VLOOKUP(VLOOKUP(C48,Items!A:I,9,FALSE),$C$2:$E$9,3,FALSE),\"\"))","v":""},{"$f":"'Order Form'!D60","v":0},{"$nulls":4},{"$f":"VLOOKUP(C48,Items!A:M,13,FALSE)","v":{"$error":"#N/A"}},0]
[{"$f":"'Order Form'!O61","v":""},{"$f":"VLOOKUP(C49,Items!A:J,10,FALSE)","v":{"$error":"#N/A"}},{"$f":"'Order Form'!C61","v":0},{"$f":"IF(A49=\"SEL\",VLOOKUP(VLOOKUP(C49,Items!A:I,9,FALSE),$C$2:$D$9,2,FALSE),IF(A49=\"CR\",VLOOKUP(VLOOKUP(C49,Items!A:I,9,FALSE),$C$2:$E$9,3,FALSE),\"\"))","v":""},{"$f":"'Order Form'!D61","v":0},{"$nulls":4},{"$f":"VLOOKUP(C49,Items!A:M,13,FALSE)","v":{"$error":"#N/A"}},0]
[{"$f":"'Order Form'!O62","v":""},{"$f":"VLOOKUP(C50,Items!A:J,10,FALSE)","v":{"$error":"#N/A"}},{"$f":"'Order Form'!C62","v":0},{"$f":"IF(A50=\"SEL\",VLOOKUP(VLOOKUP(C50,Items!A:I,9,FALSE),$C$2:$D$9,2,FALSE),IF(A50=\"CR\",VLOOKUP(VLOOKUP(C50,Items!A:I,9,FALSE),$C$2:$E$9,3,FALSE),\"\"))","v":""},{"$f":"'Order Form'!D62","v":0},{"$nulls":4},{"$f":"VLOOKUP(C50,Items!A:M,13,FALSE)","v":{"$error":"#N/A"}},0]
[{"$f":"'Order Form'!O63","v":""},{"$f":"VLOOKUP(C51,Items!A:J,10,FALSE)","v":{"$error":"#N/A"}},{"$f":"'Order Form'!C63","v":0},{"$f":"IF(A51=\"SEL\",VLOOKUP(VLOOKUP(C51,Items!A:I,9,FALSE),$C$2:$D$9,2,FALSE),IF(A51=\"CR\",VLOOKUP(VLOOKUP(C51,Items!A:I,9,FALSE),$C$2:$E$9,3,FALSE),\"\"))","v":""},{"$f":"'Order Form'!D63","v":0},{"$nulls":4},{"$f":"VLOOKUP(C51,Items!A:M,13,FALSE)","v":{"$error":"#N/A"}},0]
[{"$f":"'Order Form'!O64","v":""},{"$f":"VLOOKUP(C52,Items!A:J,10,FALSE)","v":{"$error":"#N/A"}},{"$f":"'Order Form'!C64","v":0},{"$f":"IF(A52=\"SEL\",VLOOKUP(VLOOKUP(C52,Items!A:I,9,FALSE),$C$2:$D$9,2,FALSE),IF(A52=\"CR\",VLOOKUP(VLOOKUP(C52,Items!A:I,9,FALSE),$C$2:$E$9,3,FALSE),\"\"))","v":""},{"$f":"'Order Form'!D64","v":0},{"$nulls":4},{"$f":"VLOOKUP(C52,Items!A:M,13,FALSE)","v":{"$error":"#N/A"}},0]
[{"$f":"'Order Form'!O65","v":""},{"$f":"VLOOKUP(C53,Items!A:J,10,FALSE)","v":{"$error":"#N/A"}},{"$f":"'Order Form'!C65","v":0},{"$f":"IF(A53=\"SEL\",VLOOKUP(VLOOKUP(C53,Items!A:I,9,FALSE),$C$2:$D$9,2,FALSE),IF(A53=\"CR\",VLOOKUP(VLOOKUP(C53,Items!A:I,9,FALSE),$C$2:$E$9,3,FALSE),\"\"))","v":""},{"$f":"'Order Form'!D65","v":0},{"$nulls":4},{"$f":"VLOOKUP(C53,Items!A:M,13,FALSE)","v":{"$error":"#N/A"}},0]
[{"$f":"'Order Form'!O66","v":""},{"$f":"VLOOKUP(C54,Items!A:J,10,FALSE)","v":{"$error":"#N/A"}},{"$f":"'Order Form'!C66","v":0},{"$f":"IF(A54=\"SEL\",VLOOKUP(VLOOKUP(C54,Items!A:I,9,FALSE),$C$2:$D$9,2,FALSE),IF(A54=\"CR\",VLOOKUP(VLOOKUP(C54,Items!A:I,9,FALSE),$C$2:$E$9,3,FALSE),\"\"))","v":""},{"$f":"'Order Form'!D66","v":0},{"$nulls":4},{"$f":"VLOOKUP(C54,Items!A:M,13,FALSE)","v":{"$error":"#N/A"}},0]
[{"$f":"'Order Form'!O67","v":""},{"$f":"VLOOKUP(C55,Items!A:J,10,FALSE)","v":{"$error":"#N/A"}},{"$f":"'Order Form'!C67","v":0},{"$f":"IF(A55=\"SEL\",VLOOKUP(VLOOKUP(C55,Items!A:I,9,FALSE),$C$2:$D$9,2,FALSE),IF(A55=\"CR\",VLOOKUP(VLOOKUP(C55,Items!A:I,9,FALSE),$C$2:$E$9,3,FALSE),\"\"))","v":""},{"$f":"'Order Form'!D67","v":0},{"$nulls":4},{"$f":"VLOOKUP(C55,Items!A:M,13,FALSE)","v":{"$error":"#N/A"}},0]
[{"$f":"'Order Form'!O68","v":""},{"$f":"VLOOKUP(C56,Items!A:J,10,FALSE)","v":{"$error":"#N/A"}},{"$f":"'Order Form'!C68","v":0},{"$f":"IF(A56=\"SEL\",VLOOKUP(VLOOKUP(C56,Items!A:I,9,FALSE),$C$2:$D$9,2,FALSE),IF(A56=\"CR\",VLOOKUP(VLOOKUP(C56,Items!A:I,9,FALSE),$C$2:$E$9,3,FALSE),\"\"))","v":""},{"$f":"'Order Form'!D68","v":0},{"$nulls":4},{"$f":"VLOOKUP(C56,Items!A:M,13,FALSE)","v":{"$error":"#N/A"}},0]
[{"$f":"'Order Form'!O69","v":""},{"$f":"VLOOKUP(C57,Items!A:J,10,FALSE)","v":{"$error":"#N/A"}},{"$f":"'Order Form'!C69","v":0},{"$f":"IF(A57=\"SEL\",VLOOKUP(VLOOKUP(C57,Items!A:I,9,FALSE),$C$2:$D$9,2,FALSE),IF(A57=\"CR\",VLOOKUP(VLOOKUP(C57,Items!A:I,9,FALSE),$C$2:$E$9,3,FALSE),\"\"))","v":""},{"$f":"'Order Form'!D69","v":0},{"$nulls":4},{"$f":"VLOOKUP(C57,Items!A:M,13,FALSE)","v":{"$error":"#N/A"}},0]
[{"$f":"'Order Form'!O70","v":""},{"$f":"VLOOKUP(C58,Items!A:J,10,FALSE)","v":{"$error":"#N/A"}},{"$f":"'Order Form'!C70","v":0},{"$f":"IF(A58=\"SEL\",VLOOKUP(VLOOKUP(C58,Items!A:I,9,FALSE),$C$2:$D$9,2,FALSE),IF(A58=\"CR\",VLOOKUP(VLOOKUP(C58,Items!A:I,9,FALSE),$C$2:$E$9,3,FALSE),\"\"))","v":""},{"$f":"'Order Form'!D70","v":0},{"$nulls":4},{"$f":"VLOOKUP(C58,Items!A:M,13,FALSE)","v":{"$error":"#N/A"}},0]
[{"$f":"'Order Form'!O71","v":""},{"$f":"VLOOKUP(C59,Items!A:J,10,FALSE)","v":{"$error":"#N/A"}},{"$f":"'Order Form'!C71","v":0},{"$f":"IF(A59=\"SEL\",VLOOKUP(VLOOKUP(C59,Items!A:I,9,FALSE),$C$2:$D$9,2,FALSE),IF(A59=\"CR\",VLOOKUP(VLOOKUP(C59,Items!A:I,9,FALSE),$C$2:$E$9,3,FALSE),\"\"))","v":""},{"$f":"'Order Form'!D71","v":0},{"$nulls":4},{"$f":"VLOOKUP(C59,Items!A:M,13,FALSE)","v":{"$error":"#N/A"}},0]
[{"$f":"'Order Form'!O72","v":""},{"$f":"VLOOKUP(C60,Items!A:J,10,FALSE)","v":{"$error":"#N/A"}},{"$f":"'Order Form'!C72","v":0},{"$f":"IF(A60=\"SEL\",VLOOKUP(VLOOKUP(C60,Items!A:I,9,FALSE),$C$2:$D$9,2,FALSE),IF(A60=\"CR\",VLOOKUP(VLOOKUP(C60,Items!A:I,9,FALSE),$C$2:$E$9,3,FALSE),\"\"))","v":""},{"$f":"'Order Form'!D72","v":0},{"$nulls":4},{"$f":"VLOOKUP(C60,Items!A:M,13,FALSE)","v":{"$error":"#N/A"}},0]
[{"$f":"'Order Form'!O73","v":""},{"$f":"VLOOKUP(C61,Items!A:J,10,FALSE)","v":{"$error":"#N/A"}},{"$f":"'Order Form'!C73","v":0},{"$f":"IF(A61=\"SEL\",VLOOKUP(VLOOKUP(C61,Items!A:I,9,FALSE),$C$2:$D$9,2,FALSE),IF(A61=\"CR\",VLOOKUP(VLOOKUP(C61,Items!A:I,9,FALSE),$C$2:$E$9,3,FALSE),\"\"))","v":""},{"$f":"'Order Form'!D73","v":0},{"$nulls":4},{"$f":"VLOOKUP(C61,Items!A:M,13,FALSE)","v":{"$error":"#N/A"}},0]
[{"$f":"'Order Form'!O74","v":""},{"$f":"VLOOKUP(C62,Items!A:J,10,FALSE)","v":{"$error":"#N/A"}},{"$f":"'Order Form'!C74","v":0},{"$f":"IF(A62=\"SEL\",VLOOKUP(VLOOKUP(C62,Items!A:I,9,FALSE),$C$2:$D$9,2,FALSE),IF(A62=\"CR\",VLOOKUP(VLOOKUP(C62,Items!A:I,9,FALSE),$C$2:$E$9,3,FALSE),\"\"))","v":""},{"$f":"'Order Form'!D74","v":0},{"$nulls":4},{"$f":"VLOOKUP(C62,Items!A:M,13,FALSE)","v":{"$error":"#N/A"}},0]
[{"$f":"'Order Form'!O75","v":""},{"$f":"VLOOKUP(C63,Items!A:J,10,FALSE)","v":{"$error":"#N/A"}},{"$f":"'Order Form'!C75","v":0},{"$f":"IF(A63=\"SEL\",VLOOKUP(VLOOKUP(C63,Items!A:I,9,FALSE),$C$2:$D$9,2,FALSE),IF(A63=\"CR\",VLOOKUP(VLOOKUP(C63,Items!A:I,9,FALSE),$C$2:$E$9,3,FALSE),\"\"))","v":""},{"$f":"'Order Form'!D75","v":0},{"$nulls":4},{"$f":"VLOOKUP(C63,Items!A:M,13,FALSE)","v":{"$error":"#N/A"}},0]
[{"$f":"'Order Form'!O76","v":""},{"$f":"VLOOKUP(C64,Items!A:J,10,FALSE)","v":{"$error":"#N/A"}},{"$f":"'Order Form'!C76","v":0},{"$f":"IF(A64=\"SEL\",VLOOKUP(VLOOKUP(C64,Items!A:I,9,FALSE),$C$2:$D$9,2,FALSE),IF(A64=\"CR\",VLOOKUP(VLOOKUP(C64,Items!A:I,9,FALSE),$C$2:$E$9,3,FALSE),\"\"))","v":""},{"$f":"'Order Form'!D76","v":0},{"$nulls":4},{"$f":"VLOOKUP(C64,Items!A:M,13,FALSE)","v":{"$error":"#N/A"}},0]
[{"$f":"'Order Form'!O77","v":""},{"$f":"VLOOKUP(C65,Items!A:J,10,FALSE)","v":{"$error":"#N/A"}},{"$f":"'Order Form'!C77","v":0},{"$f":"IF(A65=\"SEL\",VLOOKUP(VLOOKUP(C65,Items!A:I,9,FALSE),$C$2:$D$9,2,FALSE),IF(A65=\"CR\",VLOOKUP(VLOOKUP(C65,Items!A:I,9,FALSE),$C$2:$E$9,3,FALSE),\"\"))","v":""},{"$f":"'Order Form'!D77","v":0},{"$nulls":4},{"$f":"VLOOKUP(C65,Items!A:M,13,FALSE)","v":{"$error":"#N/A"}},0]
[{"$f":"'Order Form'!O78","v":""},{"$f":"VLOOKUP(C66,Items!A:J,10,FALSE)","v":{"$error":"#N/A"}},{"$f":"'Order Form'!C78","v":0},{"$f":"IF(A66=\"SEL\",VLOOKUP(VLOOKUP(C66,Items!A:I,9,FALSE),$C$2:$D$9,2,FALSE),IF(A66=\"CR\",VLOOKUP(VLOOKUP(C66,Items!A:I,9,FALSE),$C$2:$E$9,3,FALSE),\"\"))","v":""},{"$f":"'Order Form'!D78","v":0},{"$nulls":4},{"$f":"VLOOKUP(C66,Items!A:M,13,FALSE)","v":{"$error":"#N/A"}},0]
[{"$f":"'Order Form'!O79","v":""},{"$f":"VLOOKUP(C67,Items!A:J,10,FALSE)","v":{"$error":"#N/A"}},{"$f":"'Order Form'!C79","v":0},{"$f":"IF(A67=\"SEL\",VLOOKUP(VLOOKUP(C67,Items!A:I,9,FALSE),$C$2:$D$9,2,FALSE),IF(A67=\"CR\",VLOOKUP(VLOOKUP(C67,Items!A:I,9,FALSE),$C$2:$E$9,3,FALSE),\"\"))","v":""},{"$f":"'Order Form'!D79","v":0},{"$nulls":4},{"$f":"VLOOKUP(C67,Items!A:M,13,FALSE)","v":{"$error":"#N/A"}},0]
[{"$f":"'Order Form'!O80","v":""},{"$f":"VLOOKUP(C68,Items!A:J,10,FALSE)","v":{"$error":"#N/A"}},{"$f":"'Order Form'!C80","v":0},{"$f":"IF(A68=\"SEL\",VLOOKUP(VLOOKUP(C68,Items!A:I,9,FALSE),$C$2:$D$9,2,FALSE),IF(A68=\"CR\",VLOOKUP(VLOOKUP(C68,Items!A:I,9,FALSE),$C$2:$E$9,3,FALSE),\"\"))","v":""},{"$f":"'Order Form'!D80","v":0},{"$nulls":4},{"$f":"VLOOKUP(C68,Items!A:M,13,FALSE)","v":{"$error":"#N/A"}},0]
[{"$f":"'Order Form'!O81","v":""},{"$f":"VLOOKUP(C69,Items!A:J,10,FALSE)","v":{"$error":"#N/A"}},{"$f":"'Order Form'!C81","v":0},{"$f":"IF(A69=\"SEL\",VLOOKUP(VLOOKUP(C69,Items!A:I,9,FALSE),$C$2:$D$9,2,FALSE),IF(A69=\"CR\",VLOOKUP(VLOOKUP(C69,Items!A:I,9,FALSE),$C$2:$E$9,3,FALSE),\"\"))","v":""},{"$f":"'Order Form'!D81","v":0},{"$nulls":4},{"$f":"VLOOKUP(C69,Items!A:M,13,FALSE)","v":{"$error":"#N/A"}},0]
[{"$f":"'Order Form'!O82","v":""},{"$f":"VLOOKUP(C70,Items!A:J,10,FALSE)","v":{"$error":"#N/A"}},{"$f":"'Order Form'!C82","v":0},{"$f":"IF(A70=\"SEL\",VLOOKUP(VLOOKUP(C70,Items!A:I,9,FALSE),$C$2:$D$9,2,FALSE),IF(A70=\"CR\",VLOOKUP(VLOOKUP(C70,Items!A:I,9,FALSE),$C$2:$E$9,3,FALSE),\"\"))","v":""},{"$f":"'Order Form'!D82","v":0},{"$nulls":4},{"$f":"VLOOKUP(C70,Items!A:M,13,FALSE)","v":{"$error":"#N/A"}},0]
[{"$f":"'Order Form'!O83","v":""},{"$f":"VLOOKUP(C71,Items!A:J,10,FALSE)","v":{"$error":"#N/A"}},{"$f":"'Order Form'!C83","v":0},{"$f":"IF(A71=\"SEL\",VLOOKUP(VLOOKUP(C71,Items!A:I,9,FALSE),$C$2:$D$9,2,FALSE),IF(A71=\"CR\",VLOOKUP(VLOOKUP(C71,Items!A:I,9,FALSE),$C$2:$E$9,3,FALSE),\"\"))","v":""},{"$f":"'Order Form'!D83","v":0},{"$nulls":4},{"$f":"VLOOKUP(C71,Items!A:M,13,FALSE)","v":{"$error":"#N/A"}},0]
[{"$f":"'Order Form'!O84","v":""},{"$f":"VLOOKUP(C72,Items!A:J,10,FALSE)","v":{"$error":"#N/A"}},{"$f":"'Order Form'!C84","v":0},{"$f":"IF(A72=\"SEL\",VLOOKUP(VLOOKUP(C72,Items!A:I,9,FALSE),$C$2:$D$9,2,FALSE),IF(A72=\"CR\",VLOOKUP(VLOOKUP(C72,Items!A:I,9,FALSE),$C$2:$E$9,3,FALSE),\"\"))","v":""},{"$f":"'Order Form'!D84","v":0},{"$nulls":4},{"$f":"VLOOKUP(C72,Items!A:M,13,FALSE)","v":{"$error":"#N/A"}},0]
[{"$f":"'Order Form'!O85","v":""},{"$f":"VLOOKUP(C73,Items!A:J,10,FALSE)","v":{"$error":"#N/A"}},{"$f":"'Order Form'!C85","v":0},{"$f":"IF(A73=\"SEL\",VLOOKUP(VLOOKUP(C73,Items!A:I,9,FALSE),$C$2:$D$9,2,FALSE),IF(A73=\"CR\",VLOOKUP(VLOOKUP(C73,Items!A:I,9,FALSE),$C$2:$E$9,3,FALSE),\"\"))","v":""},{"$f":"'Order Form'!D85","v":0},{"$nulls":4},{"$f":"VLOOKUP(C73,Items!A:M,13,FALSE)","v":{"$error":"#N/A"}},0]
[{"$f":"'Order Form'!O86","v":""},{"$f":"VLOOKUP(C74,Items!A:J,10,FALSE)","v":{"$error":"#N/A"}},{"$f":"'Order Form'!C86","v":0},{"$f":"IF(A74=\"SEL\",VLOOKUP(VLOOKUP(C74,Items!A:I,9,FALSE),$C$2:$D$9,2,FALSE),IF(A74=\"CR\",VLOOKUP(VLOOKUP(C74,Items!A:I,9,FALSE),$C$2:$E$9,3,FALSE),\"\"))","v":""},{"$f":"'Order Form'!D86","v":0},{"$nulls":4},{"$f":"VLOOKUP(C74,Items!A:M,13,FALSE)","v":{"$error":"#N/A"}},0]
[{"$f":"'Order Form'!O87","v":""},{"$f":"VLOOKUP(C75,Items!A:J,10,FALSE)","v":{"$error":"#N/A"}},{"$f":"'Order Form'!C87","v":0},{"$f":"IF(A75=\"SEL\",VLOOKUP(VLOOKUP(C75,Items!A:I,9,FALSE),$C$2:$D$9,2,FALSE),IF(A75=\"CR\",VLOOKUP(VLOOKUP(C75,Items!A:I,9,FALSE),$C$2:$E$9,3,FALSE),\"\"))","v":""},{"$f":"'Order Form'!D87","v":0},{"$nulls":4},{"$f":"VLOOKUP(C75,Items!A:M,13,FALSE)","v":{"$error":"#N/A"}},0]
[{"$f":"'Order Form'!O88","v":""},{"$f":"VLOOKUP(C76,Items!A:J,10,FALSE)","v":{"$error":"#N/A"}},{"$f":"'Order Form'!C88","v":0},{"$f":"IF(A76=\"SEL\",VLOOKUP(VLOOKUP(C76,Items!A:I,9,FALSE),$C$2:$D$9,2,FALSE),IF(A76=\"CR\",VLOOKUP(VLOOKUP(C76,Items!A:I,9,FALSE),$C$2:$E$9,3,FALSE),\"\"))","v":""},{"$f":"'Order Form'!D88","v":0},{"$nulls":4},{"$f":"VLOOKUP(C76,Items!A:M,13,FALSE)","v":{"$error":"#N/A"}},{"$f":"IFERROR(J76*E76,0)","v":0}]
[{"$f":"'Order Form'!O89","v":""},{"$f":"VLOOKUP(C77,Items!A:J,10,FALSE)","v":{"$error":"#N/A"}},{"$f":"'Order Form'!C89","v":0},{"$f":"IF(A77=\"SEL\",VLOOKUP(VLOOKUP(C77,Items!A:I,9,FALSE),$C$2:$D$9,2,FALSE),IF(A77=\"CR\",VLOOKUP(VLOOKUP(C77,Items!A:I,9,FALSE),$C$2:$E$9,3,FALSE),\"\"))","v":""},{"$f":"'Order Form'!D89","v":0},{"$nulls":4},{"$f":"VLOOKUP(C77,Items!A:M,13,FALSE)","v":{"$error":"#N/A"}},0]
[{"$f":"'Order Form'!O90","v":""},{"$f":"VLOOKUP(C78,Items!A:J,10,FALSE)","v":{"$error":"#N/A"}},{"$f":"'Order Form'!C90","v":0},{"$f":"IF(A78=\"SEL\",VLOOKUP(VLOOKUP(C78,Items!A:I,9,FALSE),$C$2:$D$9,2,FALSE),IF(A78=\"CR\",VLOOKUP(VLOOKUP(C78,Items!A:I,9,FALSE),$C$2:$E$9,3,FALSE),\"\"))","v":""},{"$f":"'Order Form'!D90","v":0},{"$nulls":4},{"$f":"VLOOKUP(C78,Items!A:M,13,FALSE)","v":{"$error":"#N/A"}},0]
[{"$f":"'Order Form'!O91","v":""},{"$f":"VLOOKUP(C79,Items!A:J,10,FALSE)","v":{"$error":"#N/A"}},{"$f":"'Order Form'!C91","v":0},{"$f":"IF(A79=\"SEL\",VLOOKUP(VLOOKUP(C79,Items!A:I,9,FALSE),$C$2:$D$9,2,FALSE),IF(A79=\"CR\",VLOOKUP(VLOOKUP(C79,Items!A:I,9,FALSE),$C$2:$E$9,3,FALSE),\"\"))","v":""},{"$f":"'Order Form'!D91","v":0},{"$nulls":4},{"$f":"VLOOKUP(C79,Items!A:M,13,FALSE)","v":{"$error":"#N/A"}},0]
[{"$f":"'Order Form'!O92","v":""},{"$f":"VLOOKUP(C80,Items!A:J,10,FALSE)","v":{"$error":"#N/A"}},{"$f":"'Order Form'!C92","v":0},{"$f":"IF(A80=\"SEL\",VLOOKUP(VLOOKUP(C80,Items!A:I,9,FALSE),$C$2:$D$9,2,FALSE),IF(A80=\"CR\",VLOOKUP(VLOOKUP(C80,Items!A:I,9,FALSE),$C$2:$E$9,3,FALSE),\"\"))","v":""},{"$f":"'Order Form'!D92","v":0},{"$nulls":4},{"$f":"VLOOKUP(C80,Items!A:M,13,FALSE)","v":{"$error":"#N/A"}},0]
[{"$f":"'Order Form'!O93","v":""},{"$f":"VLOOKUP(C81,Items!A:J,10,FALSE)","v":{"$error":"#N/A"}},{"$f":"'Order Form'!C93","v":0},{"$f":"IF(A81=\"SEL\",VLOOKUP(VLOOKUP(C81,Items!A:I,9,FALSE),$C$2:$D$9,2,FALSE),IF(A81=\"CR\",VLOOKUP(VLOOKUP(C81,Items!A:I,9,FALSE),$C$2:$E$9,3,FALSE),\"\"))","v":""},{"$f":"'Order Form'!D93","v":0},{"$nulls":4},{"$f":"VLOOKUP(C81,Items!A:M,13,FALSE)","v":{"$error":"#N/A"}},0]
[{"$f":"'Order Form'!O94","v":""},{"$f":"VLOOKUP(C82,Items!A:J,10,FALSE)","v":{"$error":"#N/A"}},{"$f":"'Order Form'!C94","v":0},{"$f":"IF(A82=\"SEL\",VLOOKUP(VLOOKUP(C82,Items!A:I,9,FALSE),$C$2:$D$9,2,FALSE),IF(A82=\"CR\",VLOOKUP(VLOOKUP(C82,Items!A:I,9,FALSE),$C$2:$E$9,3,FALSE),\"\"))","v":""},{"$f":"'Order Form'!D94","v":0},{"$nulls":4},{"$f":"VLOOKUP(C82,Items!A:M,13,FALSE)","v":{"$error":"#N/A"}},0]
[{"$f":"'Order Form'!O95","v":""},{"$f":"VLOOKUP(C83,Items!A:J,10,FALSE)","v":{"$error":"#N/A"}},{"$f":"'Order Form'!C95","v":0},{"$f":"IF(A83=\"SEL\",VLOOKUP(VLOOKUP(C83,Items!A:I,9,FALSE),$C$2:$D$9,2,FALSE),IF(A83=\"CR\",VLOOKUP(VLOOKUP(C83,Items!A:I,9,FALSE),$C$2:$E$9,3,FALSE),\"\"))","v":""},{"$f":"'Order Form'!D95","v":0},{"$nulls":4},{"$f":"VLOOKUP(C83,Items!A:M,13,FALSE)","v":{"$error":"#N/A"}},0]
[{"$f":"'Order Form'!O96","v":""},{"$f":"VLOOKUP(C84,Items!A:J,10,FALSE)","v":{"$error":"#N/A"}},{"$f":"'Order Form'!C96","v":0},{"$f":"IF(A84=\"SEL\",VLOOKUP(VLOOKUP(C84,Items!A:I,9,FALSE),$C$2:$D$9,2,FALSE),IF(A84=\"CR\",VLOOKUP(VLOOKUP(C84,Items!A:I,9,FALSE),$C$2:$E$9,3,FALSE),\"\"))","v":""},{"$f":"'Order Form'!D96","v":0},{"$nulls":4},{"$f":"VLOOKUP(C84,Items!A:M,13,FALSE)","v":{"$error":"#N/A"}},0]
[{"$f":"'Order Form'!O97","v":""},{"$f":"VLOOKUP(C85,Items!A:J,10,FALSE)","v":{"$error":"#N/A"}},{"$f":"'Order Form'!C97","v":0},{"$f":"IF(A85=\"SEL\",VLOOKUP(VLOOKUP(C85,Items!A:I,9,FALSE),$C$2:$D$9,2,FALSE),IF(A85=\"CR\",VLOOKUP(VLOOKUP(C85,Items!A:I,9,FALSE),$C$2:$E$9,3,FALSE),\"\"))","v":""},{"$f":"'Order Form'!D97","v":0},{"$nulls":4},{"$f":"VLOOKUP(C85,Items!A:M,13,FALSE)","v":{"$error":"#N/A"}},0]
[{"$f":"'Order Form'!O98","v":""},{"$f":"VLOOKUP(C86,Items!A:J,10,FALSE)","v":{"$error":"#N/A"}},{"$f":"'Order Form'!C98","v":0},{"$f":"IF(A86=\"SEL\",VLOOKUP(VLOOKUP(C86,Items!A:I,9,FALSE),$C$2:$D$9,2,FALSE),IF(A86=\"CR\",VLOOKUP(VLOOKUP(C86,Items!A:I,9,FALSE),$C$2:$E$9,3,FALSE),\"\"))","v":""},{"$f":"'Order Form'!D98","v":0},{"$nulls":4},{"$f":"VLOOKUP(C86,Items!A:M,13,FALSE)","v":{"$error":"#N/A"}},0]
[{"$f":"'Order Form'!O99","v":""},{"$f":"VLOOKUP(C87,Items!A:J,10,FALSE)","v":{"$error":"#N/A"}},{"$f":"'Order Form'!C99","v":0},{"$f":"IF(A87=\"SEL\",VLOOKUP(VLOOKUP(C87,Items!A:I,9,FALSE),$C$2:$D$9,2,FALSE),IF(A87=\"CR\",VLOOKUP(VLOOKUP(C87,Items!A:I,9,FALSE),$C$2:$E$9,3,FALSE),\"\"))","v":""},{"$f":"'Order Form'!D99","v":0},{"$nulls":4},{"$f":"VLOOKUP(C87,Items!A:M,13,FALSE)","v":{"$error":"#N/A"}},0]
[{"$f":"'Order Form'!O100","v":""},{"$f":"VLOOKUP(C88,Items!A:J,10,FALSE)","v":{"$error":"#N/A"}},{"$f":"'Order Form'!C100","v":0},{"$f":"IF(A88=\"SEL\",VLOOKUP(VLOOKUP(C88,Items!A:I,9,FALSE),$C$2:$D$9,2,FALSE),IF(A88=\"CR\",VLOOKUP(VLOOKUP(C88,Items!A:I,9,FALSE),$C$2:$E$9,3,FALSE),\"\"))","v":""},{"$f":"'Order Form'!D100","v":0},{"$nulls":4},{"$f":"VLOOKUP(C88,Items!A:M,13,FALSE)","v":{"$error":"#N/A"}},0]
[{"$f":"'Order Form'!O101","v":""},{"$f":"VLOOKUP(C89,Items!A:J,10,FALSE)","v":{"$error":"#N/A"}},{"$f":"'Order Form'!C101","v":0},{"$f":"IF(A89=\"SEL\",VLOOKUP(VLOOKUP(C89,Items!A:I,9,FALSE),$C$2:$D$9,2,FALSE),IF(A89=\"CR\",VLOOKUP(VLOOKUP(C89,Items!A:I,9,FALSE),$C$2:$E$9,3,FALSE),\"\"))","v":""},{"$f":"'Order Form'!D101","v":0},{"$nulls":4},{"$f":"VLOOKUP(C89,Items!A:M,13,FALSE)","v":{"$error":"#N/A"}},0]
[{"$f":"'Order Form'!O102","v":""},{"$f":"VLOOKUP(C90,Items!A:J,10,FALSE)","v":{"$error":"#N/A"}},{"$f":"'Order Form'!C102","v":0},{"$f":"IF(A90=\"SEL\",VLOOKUP(VLOOKUP(C90,Items!A:I,9,FALSE),$C$2:$D$9,2,FALSE),IF(A90=\"CR\",VLOOKUP(VLOOKUP(C90,Items!A:I,9,FALSE),$C$2:$E$9,3,FALSE),\"\"))","v":""},{"$f":"'Order Form'!D102","v":0},{"$nulls":4},{"$f":"VLOOKUP(C90,Items!A:M,13,FALSE)","v":{"$error":"#N/A"}},0]
[{"$f":"'Order Form'!O103","v":""},{"$f":"VLOOKUP(C91,Items!A:J,10,FALSE)","v":{"$error":"#N/A"}},{"$f":"'Order Form'!C103","v":0},{"$f":"IF(A91=\"SEL\",VLOOKUP(VLOOKUP(C91,Items!A:I,9,FALSE),$C$2:$D$9,2,FALSE),IF(A91=\"CR\",VLOOKUP(VLOOKUP(C91,Items!A:I,9,FALSE),$C$2:$E$9,3,FALSE),\"\"))","v":""},{"$f":"'Order Form'!D103","v":0},{"$nulls":4},{"$f":"VLOOKUP(C91,Items!A:M,13,FALSE)","v":{"$error":"#N/A"}},0]
[{"$f":"'Order Form'!O104","v":""},{"$f":"VLOOKUP(C92,Items!A:J,10,FALSE)","v":{"$error":"#N/A"}},{"$f":"'Order Form'!C104","v":0},{"$f":"IF(A92=\"SEL\",VLOOKUP(VLOOKUP(C92,Items!A:I,9,FALSE),$C$2:$D$9,2,FALSE),IF(A92=\"CR\",VLOOKUP(VLOOKUP(C92,Items!A:I,9,FALSE),$C$2:$E$9,3,FALSE),\"\"))","v":""},{"$f":"'Order Form'!D104","v":0},{"$nulls":4},{"$f":"VLOOKUP(C92,Items!A:M,13,FALSE)","v":{"$error":"#N/A"}},0]
[{"$f":"'Order Form'!O105","v":""},{"$f":"VLOOKUP(C93,Items!A:J,10,FALSE)","v":{"$error":"#N/A"}},{"$f":"'Order Form'!C105","v":0},{"$f":"IF(A93=\"SEL\",VLOOKUP(VLOOKUP(C93,Items!A:I,9,FALSE),$C$2:$D$9,2,FALSE),IF(A93=\"CR\",VLOOKUP(VLOOKUP(C93,Items!A:I,9,FALSE),$C$2:$E$9,3,FALSE),\"\"))","v":""},{"$f":"'Order Form'!D105","v":0},{"$nulls":4},{"$f":"VLOOKUP(C93,Items!A:M,13,FALSE)","v":{"$error":"#N/A"}},0]
[{"$f":"'Order Form'!O106","v":""},{"$f":"VLOOKUP(C94,Items!A:J,10,FALSE)","v":{"$error":"#N/A"}},{"$f":"'Order Form'!C106","v":0},{"$f":"IF(A94=\"SEL\",VLOOKUP(VLOOKUP(C94,Items!A:I,9,FALSE),$C$2:$D$9,2,FALSE),IF(A94=\"CR\",VLOOKUP(VLOOKUP(C94,Items!A:I,9,FALSE),$C$2:$E$9,3,FALSE),\"\"))","v":""},{"$f":"'Order Form'!D106","v":0},{"$nulls":4},{"$f":"VLOOKUP(C94,Items!A:M,13,FALSE)","v":{"$error":"#N/A"}},0]
[{"$f":"'Order Form'!O107","v":""},{"$f":"VLOOKUP(C95,Items!A:J,10,FALSE)","v":{"$error":"#N/A"}},{"$f":"'Order Form'!C107","v":0},{"$f":"IF(A95=\"SEL\",VLOOKUP(VLOOKUP(C95,Items!A:I,9,FALSE),$C$2:$D$9,2,FALSE),IF(A95=\"CR\",VLOOKUP(VLOOKUP(C95,Items!A:I,9,FALSE),$C$2:$E$9,3,FALSE),\"\"))","v":""},{"$f":"'Order Form'!D107","v":0},{"$nulls":4},{"$f":"VLOOKUP(C95,Items!A:M,13,FALSE)","v":{"$error":"#N/A"}},0]
[{"$f":"'Order Form'!O108","v":""},{"$f":"VLOOKUP(C96,Items!A:J,10,FALSE)","v":{"$error":"#N/A"}},{"$f":"'Order Form'!C108","v":0},{"$f":"IF(A96=\"SEL\",VLOOKUP(VLOOKUP(C96,Items!A:I,9,FALSE),$C$2:$D$9,2,FALSE),IF(A96=\"CR\",VLOOKUP(VLOOKUP(C96,Items!A:I,9,FALSE),$C$2:$E$9,3,FALSE),\"\"))","v":""},{"$f":"'Order Form'!D108","v":0},{"$nulls":4},{"$f":"VLOOKUP(C96,Items!A:M,13,FALSE)","v":{"$error":"#N/A"}},0]
[{"$f":"'Order Form'!O109","v":""},{"$f":"VLOOKUP(C97,Items!A:J,10,FALSE)","v":{"$error":"#N/A"}},{"$f":"'Order Form'!C109","v":0},{"$f":"IF(A97=\"SEL\",VLOOKUP(VLOOKUP(C97,Items!A:I,9,FALSE),$C$2:$D$9,2,FALSE),IF(A97=\"CR\",VLOOKUP(VLOOKUP(C97,Items!A:I,9,FALSE),$C$2:$E$9,3,FALSE),\"\"))","v":""},{"$f":"'Order Form'!D109","v":0},{"$nulls":4},{"$f":"VLOOKUP(C97,Items!A:M,13,FALSE)","v":{"$error":"#N/A"}},0]
[{"$f":"'Order Form'!O110","v":""},{"$f":"VLOOKUP(C98,Items!A:J,10,FALSE)","v":{"$error":"#N/A"}},{"$f":"'Order Form'!C110","v":0},{"$f":"IF(A98=\"SEL\",VLOOKUP(VLOOKUP(C98,Items!A:I,9,FALSE),$C$2:$D$9,2,FALSE),IF(A98=\"CR\",VLOOKUP(VLOOKUP(C98,Items!A:I,9,FALSE),$C$2:$E$9,3,FALSE),\"\"))","v":""},{"$f":"'Order Form'!D110","v":0},{"$nulls":4},{"$f":"VLOOKUP(C98,Items!A:M,13,FALSE)","v":{"$error":"#N/A"}},0]
[{"$f":"'Order Form'!O111","v":""},{"$f":"VLOOKUP(C99,Items!A:J,10,FALSE)","v":{"$error":"#N/A"}},{"$f":"'Order Form'!C111","v":0},{"$f":"IF(A99=\"SEL\",VLOOKUP(VLOOKUP(C99,Items!A:I,9,FALSE),$C$2:$D$9,2,FALSE),IF(A99=\"CR\",VLOOKUP(VLOOKUP(C99,Items!A:I,9,FALSE),$C$2:$E$9,3,FALSE),\"\"))","v":""},{"$f":"'Order Form'!D111","v":0},{"$nulls":4},{"$f":"VLOOKUP(C99,Items!A:M,13,FALSE)","v":{"$error":"#N/A"}},0]
[{"$f":"'Order Form'!O112","v":""},{"$f":"VLOOKUP(C100,Items!A:J,10,FALSE)","v":{"$error":"#N/A"}},{"$f":"'Order Form'!C112","v":0},{"$f":"IF(A100=\"SEL\",VLOOKUP(VLOOKUP(C100,Items!A:I,9,FALSE),$C$2:$D$9,2,FALSE),IF(A100=\"CR\",VLOOKUP(VLOOKUP(C100,Items!A:I,9,FALSE),$C$2:$E$9,3,FALSE),\"\"))","v":""},{"$f":"'Order Form'!D112","v":0},{"$nulls":4},{"$f":"VLOOKUP(C100,Items!A:M,13,FALSE)","v":{"$error":"#N/A"}},0]
[{"$f":"'Order Form'!O113","v":""},{"$f":"VLOOKUP(C101,Items!A:J,10,FALSE)","v":{"$error":"#N/A"}},{"$f":"'Order Form'!C113","v":0},{"$f":"IF(A101=\"SEL\",VLOOKUP(VLOOKUP(C101,Items!A:I,9,FALSE),$C$2:$D$9,2,FALSE),IF(A101=\"CR\",VLOOKUP(VLOOKUP(C101,Items!A:I,9,FALSE),$C$2:$E$9,3,FALSE),\"\"))","v":""},{"$f":"'Order Form'!D113","v":0},{"$nulls":4},{"$f":"VLOOKUP(C101,Items!A:M,13,FALSE)","v":{"$error":"#N/A"}},0]
[{"$f":"'Order Form'!O114","v":""},{"$f":"VLOOKUP(C102,Items!A:J,10,FALSE)","v":{"$error":"#N/A"}},{"$f":"'Order Form'!C114","v":0},{"$f":"IF(A102=\"SEL\",VLOOKUP(VLOOKUP(C102,Items!A:I,9,FALSE),$C$2:$D$9,2,FALSE),IF(A102=\"CR\",VLOOKUP(VLOOKUP(C102,Items!A:I,9,FALSE),$C$2:$E$9,3,FALSE),\"\"))","v":""},{"$f":"'Order Form'!D114","v":0},{"$nulls":4},{"$f":"VLOOKUP(C102,Items!A:M,13,FALSE)","v":{"$error":"#N/A"}},0]
[{"$f":"'Order Form'!O115","v":""},{"$f":"VLOOKUP(C103,Items!A:J,10,FALSE)","v":{"$error":"#N/A"}},{"$f":"'Order Form'!C115","v":0},{"$f":"IF(A103=\"SEL\",VLOOKUP(VLOOKUP(C103,Items!A:I,9,FALSE),$C$2:$D$9,2,FALSE),IF(A103=\"CR\",VLOOKUP(VLOOKUP(C103,Items!A:I,9,FALSE),$C$2:$E$9,3,FALSE),\"\"))","v":""},{"$f":"'Order Form'!D115","v":0},{"$nulls":4},{"$f":"VLOOKUP(C103,Items!A:M,13,FALSE)","v":{"$error":"#N/A"}},{"$f":"IFERROR(J103*E103,0)","v":0}]
[{"$f":"'Order Form'!O116","v":""},{"$f":"VLOOKUP(C104,Items!A:J,10,FALSE)","v":{"$error":"#N/A"}},{"$f":"'Order Form'!C116","v":0},{"$f":"IF(A104=\"SEL\",VLOOKUP(VLOOKUP(C104,Items!A:I,9,FALSE),$C$2:$D$9,2,FALSE),IF(A104=\"CR\",VLOOKUP(VLOOKUP(C104,Items!A:I,9,FALSE),$C$2:$E$9,3,FALSE),\"\"))","v":""},{"$f":"'Order Form'!D116","v":0},{"$nulls":4},{"$f":"VLOOKUP(C104,Items!A:M,13,FALSE)","v":{"$error":"#N/A"}},0]
[{"$f":"'Order Form'!O117","v":""},{"$f":"VLOOKUP(C105,Items!A:J,10,FALSE)","v":{"$error":"#N/A"}},{"$f":"'Order Form'!C117","v":0},{"$f":"IF(A105=\"SEL\",VLOOKUP(VLOOKUP(C105,Items!A:I,9,FALSE),$C$2:$D$9,2,FALSE),IF(A105=\"CR\",VLOOKUP(VLOOKUP(C105,Items!A:I,9,FALSE),$C$2:$E$9,3,FALSE),\"\"))","v":""},{"$f":"'Order Form'!D117","v":0},{"$nulls":4},{"$f":"VLOOKUP(C105,Items!A:M,13,FALSE)","v":{"$error":"#N/A"}},0]
[{"$f":"'Order Form'!O118","v":""},{"$f":"VLOOKUP(C106,Items!A:J,10,FALSE)","v":{"$error":"#N/A"}},{"$f":"'Order Form'!C118","v":0},{"$f":"IF(A106=\"SEL\",VLOOKUP(VLOOKUP(C106,Items!A:I,9,FALSE),$C$2:$D$9,2,FALSE),IF(A106=\"CR\",VLOOKUP(VLOOKUP(C106,Items!A:I,9,FALSE),$C$2:$E$9,3,FALSE),\"\"))","v":""},{"$f":"'Order Form'!D118","v":0},{"$nulls":4},{"$f":"VLOOKUP(C106,Items!A:M,13,FALSE)","v":{"$error":"#N/A"}},0]
[{"$f":"'Order Form'!O119","v":""},{"$f":"VLOOKUP(C107,Items!A:J,10,FALSE)","v":{"$error":"#N/A"}},{"$f":"'Order Form'!C119","v":0},{"$f":"IF(A107=\"SEL\",VLOOKUP(VLOOKUP(C107,Items!A:I,9,FALSE),$C$2:$D$9,2,FALSE),IF(A107=\"CR\",VLOOKUP(VLOOKUP(C107,Items!A:I,9,FALSE),$C$2:$E$9,3,FALSE),\"\"))","v":""},{"$f":"'Order Form'!D119","v":0},{"$nulls":4},{"$f":"VLOOKUP(C107,Items!A:M,13,FALSE)","v":{"$error":"#N/A"}},0]
[{"$f":"'Order Form'!O120","v":""},{"$f":"VLOOKUP(C108,Items!A:J,10,FALSE)","v":{"$error":"#N/A"}},{"$f":"'Order Form'!C120","v":0},{"$f":"IF(A108=\"SEL\",VLOOKUP(VLOOKUP(C108,Items!A:I,9,FALSE),$C$2:$D$9,2,FALSE),IF(A108=\"CR\",VLOOKUP(VLOOKUP(C108,Items!A:I,9,FALSE),$C$2:$E$9,3,FALSE),\"\"))","v":""},{"$f":"'Order Form'!D120","v":0},{"$nulls":4},{"$f":"VLOOKUP(C108,Items!A:M,13,FALSE)","v":{"$error":"#N/A"}},0]
[{"$f":"'Order Form'!O121","v":""},{"$f":"VLOOKUP(C109,Items!A:J,10,FALSE)","v":{"$error":"#N/A"}},{"$f":"'Order Form'!C121","v":0},{"$f":"IF(A109=\"SEL\",VLOOKUP(VLOOKUP(C109,Items!A:I,9,FALSE),$C$2:$D$9,2,FALSE),IF(A109=\"CR\",VLOOKUP(VLOOKUP(C109,Items!A:I,9,FALSE),$C$2:$E$9,3,FALSE),\"\"))","v":""},{"$f":"'Order Form'!D121","v":0},{"$nulls":4},{"$f":"VLOOKUP(C109,Items!A:M,13,FALSE)","v":{"$error":"#N/A"}},0]
[{"$f":"'Order Form'!O122","v":""},{"$f":"VLOOKUP(C110,Items!A:J,10,FALSE)","v":{"$error":"#N/A"}},{"$f":"'Order Form'!C122","v":0},{"$f":"IF(A110=\"SEL\",VLOOKUP(VLOOKUP(C110,Items!A:I,9,FALSE),$C$2:$D$9,2,FALSE),IF(A110=\"CR\",VLOOKUP(VLOOKUP(C110,Items!A:I,9,FALSE),$C$2:$E$9,3,FALSE),\"\"))","v":""},{"$f":"'Order Form'!D122","v":0},{"$nulls":4},{"$f":"VLOOKUP(C110,Items!A:M,13,FALSE)","v":{"$error":"#N/A"}},0]
[{"$f":"'Order Form'!O123","v":""},{"$f":"VLOOKUP(C111,Items!A:J,10,FALSE)","v":{"$error":"#N/A"}},{"$f":"'Order Form'!C123","v":0},{"$f":"IF(A111=\"SEL\",VLOOKUP(VLOOKUP(C111,Items!A:I,9,FALSE),$C$2:$D$9,2,FALSE),IF(A111=\"CR\",VLOOKUP(VLOOKUP(C111,Items!A:I,9,FALSE),$C$2:$E$9,3,FALSE),\"\"))","v":""},{"$f":"'Order Form'!D123","v":0},{"$nulls":4},{"$f":"VLOOKUP(C111,Items!A:M,13,FALSE)","v":{"$error":"#N/A"}},0]
[{"$f":"'Order Form'!O124","v":""},{"$f":"VLOOKUP(C112,Items!A:J,10,FALSE)","v":{"$error":"#N/A"}},{"$f":"'Order Form'!C124","v":0},{"$f":"IF(A112=\"SEL\",VLOOKUP(VLOOKUP(C112,Items!A:I,9,FALSE),$C$2:$D$9,2,FALSE),IF(A112=\"CR\",VLOOKUP(VLOOKUP(C112,Items!A:I,9,FALSE),$C$2:$E$9,3,FALSE),\"\"))","v":""},{"$f":"'Order Form'!D124","v":0},{"$nulls":4},{"$f":"VLOOKUP(C112,Items!A:M,13,FALSE)","v":{"$error":"#N/A"}},0]
[{"$f":"'Order Form'!O125","v":""},{"$f":"VLOOKUP(C113,Items!A:J,10,FALSE)","v":{"$error":"#N/A"}},{"$f":"'Order Form'!C125","v":0},{"$f":"IF(A113=\"SEL\",VLOOKUP(VLOOKUP(C113,Items!A:I,9,FALSE),$C$2:$D$9,2,FALSE),IF(A113=\"CR\",VLOOKUP(VLOOKUP(C113,Items!A:I,9,FALSE),$C$2:$E$9,3,FALSE),\"\"))","v":""},{"$f":"'Order Form'!D125","v":0},{"$nulls":4},{"$f":"VLOOKUP(C113,Items!A:M,13,FALSE)","v":{"$error":"#N/A"}},0]
[{"$f":"'Order Form'!O126","v":""},{"$f":"VLOOKUP(C114,Items!A:J,10,FALSE)","v":{"$error":"#N/A"}},{"$f":"'Order Form'!C126","v":0},{"$f":"IF(A114=\"SEL\",VLOOKUP(VLOOKUP(C114,Items!A:I,9,FALSE),$C$2:$D$9,2,FALSE),IF(A114=\"CR\",VLOOKUP(VLOOKUP(C114,Items!A:I,9,FALSE),$C$2:$E$9,3,FALSE),\"\"))","v":""},{"$f":"'Order Form'!D126","v":0},{"$nulls":4},{"$f":"VLOOKUP(C114,Items!A:M,13,FALSE)","v":{"$error":"#N/A"}},0]
[{"$f":"'Order Form'!O127","v":""},{"$f":"VLOOKUP(C115,Items!A:J,10,FALSE)","v":{"$error":"#N/A"}},{"$f":"'Order Form'!C127","v":0},{"$f":"IF(A115=\"SEL\",VLOOKUP(VLOOKUP(C115,Items!A:I,9,FALSE),$C$2:$D$9,2,FALSE),IF(A115=\"CR\",VLOOKUP(VLOOKUP(C115,Items!A:I,9,FALSE),$C$2:$E$9,3,FALSE),\"\"))","v":""},{"$f":"'Order Form'!D127","v":0},{"$nulls":4},{"$f":"VLOOKUP(C115,Items!A:M,13,FALSE)","v":{"$error":"#N/A"}},0]